Workbook

Sheet Аналитика по типу замечания
B1: не удалять/ не добавлять столбцы!
A2: Порядковый номер вкладки | B2: Наименование комплекта | C2: Дисциплина | D2: Марка комплекта/ по строке ИТОГО - количество комплектов | E2: ФИО проверяющего | F2: Дата выдачи замечаний (первая проверка) | G2: Статус комплекта | H2: Дата согласования комплекта | I2: Количество итераций проверок 0-первичная 1 - повторная 2 и т.д. - повторные Указываем итоговое число повторных проверок | J2: Всего замечаний | K2: 1 - Несоответствие продуктовым требованиям | L2: 1 - Несоответствие продуктовым требованиям ПИК-Стандарт | M2: 2 - Несоответствие Бренд-листам ПИК | N2: 3 - Несоответствие Каталогу отделки | O2: 4 - Несоответствие Каталогу оборудования | P2: 5 - Ошибка в применении СТМ | Q2: 6 - Ошибка в применении сборных ЛМ | R2: 7 - Ошибка в применении шкаф-пакетов | S2: 8 - Ошибка в применении шахт-пакетов | T2: 2 - Несоответствие типологическим требованиям ПИК-Стандарт | U2: 9 - Несоответствие типологическим требованиям ПИК-Стандарт | V2: 3 - Несоответствие ИРД, АПР, ПД | W2: 10 - Несоответствие НТД РФ | X2: 11 - Несоответствие ИРД (кроме ТУ, СТУ), АПР, ПД | Y2: 12 - Несоответствие требованиям ТУ, СТУ | Z2: 4 - Технические ошибки и нерациональные решения в проекте | AA2: 13 - Ошибка в технических решениях | AB2: 14 - Неувязка м/у собой комплектов РД | AC2: 15 - Недостаточность информации влияющей на СМР | AD2: 16 - Нерациональное решение | AE2: 5 - Оформление | AF2: 17 - Оформление | AG2: Общее количество листов в комплекте (без СО, Приложений и т.п.) | AH2: Количество листов в комплекте с замечаниями | AI2: коэффициент возврата Кв | AJ2: замечания к=0,2 | AK2: замечания к=0,5 | AL2: замечания к=1 | AM2: общий коэф критичности замечаний | AN2: Количество замечаний к=0,2 | AO2: Количество замечаний к=0,5 | AP2: Количество замечаний к=1
A3: ВСЕГО на объект | D3: =D6 -> 61 | G3: =G6 -> 59 | J3: =J6 -> 1212 | K3: =K6 -> 277 | L3: =L6 -> 243 | M3: =M6 -> 0 | N3: =N6 -> 32 | O3: =O6 -> 2 | P3: =P6 -> 0 | Q3: =Q6 -> 0 | ... AM3: =AM6 -> 0.61715798 | AN3: =AN6+AN44 -> 62.5 | AO3: =AO6+AO44 -> 891 | AP3: =AP6+AP44 -> 264.7
F4: Согласовано | G4: =G7 -> 38
F5: Проверено | G5: =G8 -> 21
A6: ИТОГО на объект 2023 | B6: Х | C6: Х | D6: =COUNTA(D11:D90) -> 61 | E6: Х | F6: Х | G6: =SUM(G7:G8) -> 59 | H6: Х | I6: Х | J6: =SUM(J11:J90) -> 1212 | K6: =SUM(K11:K90) -> 277 | L6: =SUM(L11:L90) -> 243 | M6: =SUM(M11:M90) -> 0 | N6: =SUM(N11:N90) -> 32 | O6: =SUM(O11:O90) -> 2 | P6: =SUM(P11:P90) -> 0 | Q6: =SUM(Q11:Q90) -> 0 | ... AH6: =SUM(AH11:AH90) -> 333 | AI6: =AVERAGE(AI11:AI90) -> 0.83277189 | AJ6: =AVERAGE(AJ11:AJ90) -> 0.013057001 | AK6: =AVERAGE(AK11:AK90) -> 0.9782857 | AL6: =AVERAGE(AL11:AL90) -> 0.53537631 | AM6: =AVERAGE(AM11:AM90) -> 0.61715798 | AN6: =SUM(AN11:AN90) -> 62.5 | AO6: =SUM(AO11:AO90) -> 891 | AP6: =SUM(AP11:AP90) -> 264.7
F7: Согласовано | G7: =COUNTIF(G11:G90,"согласовано")+COUNTIF(G11:G90,"без замечаний") -> 38
F8: Проверено | G8: =COUNTIF(G11:G90,"выданы замечания")+COUNTIF(G11:G90,"повторные замечания")+COUNTIF(G11:G90,"на повторной проверке") -> 21
A9: Номер листа дополнить ссылкой на вкладку | B9: Наименование комплекта - в соответствии с титульным листом | C9: ввод из списка | D9: ручной ввод | E9: ручной ввод | F9: ручной ввод | G9: ввод из списка | H9: ручной ввод | I9: ввод из списка | J9: формула | K9: формула | L9: ссылка на ячейку | M9: ссылка на ячейку | N9: ссылка на ячейку | O9: ссылка на ячейку | P9: ссылка на ячейку | Q9: ссылка на ячейку | R9: ссылка на ячейку | S9: ссылка на ячейку | T9: формула | U9: ссылка на ячейку | V9: формула | W9: ссылка на ячейку | X9: ссылка на ячейку | Y9: ссылка на ячейку | Z9: формула | AA9: ссылка на ячейку | AB9: ссылка на ячейку | AC9: ссылка на ячейку | AD9: ссылка на ячейку | AE9: формула | AF9: ссылка на ячейку | AG9: ссылка на ячейку | AH9: ссылка на ячейку | AI9: ссылка на ячейку | AJ9: ссылка на ячейку | AK9: ссылка на ячейку | AL9: ссылка на ячейку | AM9: ссылка на ячейку | AN9: ссылка на ячейку | AO9: ссылка на ячейку | AP9: ссылка на ячейку
A10: Шаблон | B10: Архитектурные решения. Подземный этаж | C10: АР | D10: 9-0118-ОК-1-АР | E10: ='ШАБЛОН!'!I10 -> Петров И.И. | F10: ='ШАБЛОН!'!J10 -> 43903 | G10: в плане | H10: 43913 | I10: 5 | J10: =K10+T10+V10+Z10+AE10 -> 20 | K10: =SUM(L10:S10) -> 8 | L10: ='ШАБЛОН!'!H3 -> 1 | M10: ='ШАБЛОН!'!I3 -> 2 | N10: ='ШАБЛОН!'!J3 -> 1 | O10: ='ШАБЛОН!'!L3 -> 0 | P10: ='ШАБЛОН!'!K3 -> 1 | Q10: ='ШАБЛОН!'!M3 -> 1 | R10: ='ШАБЛОН!'!N3 -> 1 | S10: ='ШАБЛОН!'!O3 -> 1 | T10: =U10 -> 1 | U10: ='ШАБЛОН!'!P3 -> 1 | V10: =SUM(W10:Y10) -> 4 | W10: ='ШАБЛОН!'!Q3 -> 2 | X10: ='ШАБЛОН!'!R3 -> 1 | Y10: ='ШАБЛОН!'!S3 -> 1 | Z10: =SUM(AA10:AD10) -> 5 | AA10: ='ШАБЛОН!'!T3 -> 2 | AB10: ='ШАБЛОН!'!U3 -> 1 | AC10: ='ШАБЛОН!'!V3 -> 1 | AD10: ='ШАБЛОН!'!W3 -> 1 | AE10: =AF10 -> 2 | AF10: ='ШАБЛОН!'!X3 -> 2 | AG10: ='ШАБЛОН!'!B4 -> 25 | AH10: ='ШАБЛОН!'!C4 -> 10 | AI10: ='ШАБЛОН!'!D4 -> 0.4 | AJ10: ='ШАБЛОН!'!A7 -> 0.056 | AK10: ='ШАБЛОН!'!B7 -> 0.1 | AL10: ='ШАБЛОН!'!C7 -> 0.04 | AM10: ='ШАБЛОН!'!D7 -> 0.37692308 | AN10: ='ШАБЛОН!'!G6 -> 7 | AO10: ='ШАБЛОН!'!G7 -> 5 | AP10: ='ШАБЛОН!'!G8 -> 1
A11: 1 | B11: Корпус 1. Секции 1-9. Фасады | C11: АР | D11: 1190-01-1-9-АР9.5 Ревизия С 148-0721-ОК-1-0-1-1..9-АР9.5 | E11: Шалаева О. Милявская А. | F11: 24.04.23 15.02.24 10.04.24 | G11: повторные замечания | I11: 2 | J11: =K11+T11+V11+Z11+AE11 -> 27 | K11: =SUM(L11:S11) -> 0 | L11: ='1'!H3 -> 0 | M11: ='1'!I3 -> 0 | N11: ='1'!J3 -> 0 | O11: ='1'!L3 -> 0 | P11: ='1'!K3 -> 0 | Q11: ='1'!M3 -> 0 | R11: ='1'!N3 -> 0 | S11: ='1'!O3 -> 0 | T11: =U11 -> 0 | U11: ='1'!P3 -> 0 | V11: =SUM(W11:Y11) -> 0 | W11: ='1'!Q3 -> 0 | X11: ='1'!R3 -> 0 | Y11: ='1'!S3 -> 0 | Z11: =SUM(AA11:AD11) -> 27 | AA11: ='1'!T3 -> 0 | AB11: ='1'!U3 -> 1 | AC11: ='1'!V3 -> 26 | AD11: ='1'!W3 -> 0 | AE11: =AF11 -> 0 | AF11: ='1'!X3 -> 0 | AG11: ='1'!B4 -> 15 | AH11: ='1'!C4 -> 7 | AI11: ='1'!D4 -> 0.46666667 | AJ11: ='1'!A7 -> 0.013333333 | AK11: ='1'!B7 -> 0.83333333 | AL11: ='1'!C7 -> 0.066666667 | AM11: ='1'!D7 -> 0.50740741 | AN11: ='1'!G6 -> 1 | AO11: ='1'!G7 -> 25 | AP11: ='1'!G8 -> 1
A12: 2 | B12: Корпус 2. Секции 10-19. Фасады | C12: АР | D12: 1190-02-10-09-АР9.5 Ревизия D 148-0721-ОК-1-0-2-10..19-АР9.5 | E12: Шалаева О. Милявская А. | F12: 24.04.23 15.02.24 10.04.24 | G12: повторные замечания | I12: 2 | J12: =K12+T12+V12+Z12+AE12 -> 25 | K12: =SUM(L12:S12) -> 0 | L12: ='2'!H3 -> 0 | M12: ='2'!I3 -> 0 | N12: ='2'!J3 -> 0 | O12: ='2'!L3 -> 0 | P12: ='2'!K3 -> 0 | Q12: ='2'!M3 -> 0 | R12: ='2'!N3 -> 0 | S12: ='2'!O3 -> 0 | T12: =U12 -> 0 | U12: ='2'!P3 -> 0 | V12: =SUM(W12:Y12) -> 0 | W12: ='2'!Q3 -> 0 | X12: ='2'!R3 -> 0 | Y12: ='2'!S3 -> 0 | Z12: =SUM(AA12:AD12) -> 25 | AA12: ='2'!T3 -> 0 | AB12: ='2'!U3 -> 0 | AC12: ='2'!V3 -> 25 | AD12: ='2'!W3 -> 0 | AE12: =AF12 -> 0 | AF12: ='2'!X3 -> 0 | AG12: ='2'!B4 -> 15 | AH12: ='2'!C4 -> 7 | AI12: ='2'!D4 -> 0.46666667 | AJ12: ='2'!A7 -> 0.013333333 | AK12: ='2'!B7 -> 0.8 | AL12: ='2'!C7 -> 0 | AM12: ='2'!D7 -> 0.488 | AN12: ='2'!G6 -> 1 | AO12: ='2'!G7 -> 24 | AP12: ='2'!G8 -> 0
A13: 3 | B13: Корпус 1. Секции 1-9. Элементы заполнения проемов типового этажа. Светопрозрачные конструкции | C13: АР | D13: 1190-01-1-9-АР4.2 Рев.А, Рев.В | E13: Шалаева О. Милявская А. | F13: 26.04.23 03.08.23 | G13: согласовано | H13: 45275 | I13: 2 | J13: =K13+T13+V13+Z13+AE13 -> 14 | K13: =SUM(L13:S13) -> 4 | L13: ='3'!H3 -> 4 | M13: ='3'!I3 -> 0 | N13: ='3'!J3 -> 0 | O13: ='3'!L3 -> 0 | P13: ='3'!K3 -> 0 | Q13: ='3'!M3 -> 0 | R13: ='3'!N3 -> 0 | S13: ='3'!O3 -> 0 | T13: =U13 -> 1 | U13: ='3'!S3 -> 1 | V13: =SUM(W13:Y13) -> 1 | W13: ='3'!T3 -> 1 | X13: ='3'!U3 -> 0 | Y13: ='3'!V3 -> 0 | Z13: =SUM(AA13:AD13) -> 8 | AA13: ='3'!W3 -> 0 | AB13: ='3'!X3 -> 3 | AC13: ='3'!Y3 -> 5 | AD13: ='3'!Z3 -> 0 | AE13: =AF13 -> 0 | AF13: ='3'!AA3 -> 0 | AG13: ='3'!B4 -> 19 | AH13: ='3'!C4 -> 19 | AI13: ='3'!D4 -> 1 | AJ13: ='3'!A7 -> 0.021052632 | AK13: ='3'!B7 -> 0.26315789 | AL13: ='3'!C7 -> 0.10526316 | AM13: ='3'!D7 -> 0.52857143 | AN13: ='3'!G6 -> 2 | AO13: ='3'!G7 -> 10 | AP13: ='3'!G8 -> 2
A14: 4 | B14: Корпус 1. Секции 1-9. Элементы заполнения проемов 1 этажа. Светопрозрачные конструкции | C14: АР | D14: 1190-01-1-9-АР4.1 Рев. А, рев. С, рев.D, рев.Е, рев.F | E14: Шалаева О.В. | F14: 26.04.23 30.06.23 01.08.73 21.08.23 05.09.23 07.12.23 14.12.23 18.12.23 21.12.23 | G14: согласовано | H14: 45289 | J14: =K14+T14+V14+Z14+AE14 -> 29 | K14: =SUM(L14:S14) -> 4 | L14: ='4'!H3 -> 4 | M14: ='4'!I3 -> 0 | N14: ='4'!J3 -> 0 | O14: ='4'!L3 -> 0 | P14: ='4'!K3 -> 0 | Q14: ='4'!M3 -> 0 | R14: ='4'!O3 -> 0 | S14: ='4'!P3 -> 0 | T14: =U14 -> 7 | U14: ='4'!Q3 -> 7 | V14: =SUM(W14:Y14) -> 3 | W14: ='4'!R3 -> 1 | X14: ='4'!S3 -> 2 | Y14: ='4'!T3 -> 0 | Z14: =SUM(AA14:AD14) -> 15 | AA14: ='4'!U3 -> 0 | AB14: ='4'!V3 -> 2 | AC14: ='4'!W3 -> 13 | AD14: ='4'!X3 -> 0 | AE14: =AF14 -> 0 | AF14: ='4'!Y3 -> 0 | AG14: ='4'!B4 -> 52 | AH14: ='4'!C4 -> 52 | AI14: ='4'!D4 -> 1 | AJ14: ='4'!A7 -> 0 | AK14: ='4'!B7 -> 0.13461538 | AL14: ='4'!C7 -> 0.28846154 | AM14: ='4'!D7 -> 0.75862069 | AN14: ='4'!G6 -> 0 | AO14: ='4'!G7 -> 14 | AP14: ='4'!G8 -> 15
A15: 5 | B15: Подземная часть. Архитектурные планы | C15: АР | D15: 1190-01-02-АР0.1 рев.В, 148-0721-ОК-1-0-1,2-1..19-АР0.1 | E15: Милявская А. | F15: 03.05.23 03.11.23 23.11.23 26.12.23 | G15: согласовано | H15: 45289 | I15: 4 | J15: =K15+T15+V15+Z15+AE15 -> 12 | K15: =SUM(L15:S15) -> 2 | L15: ='5'!H3 -> 2 | M15: ='5'!I3 -> 0 | N15: ='5'!J3 -> 0 | O15: ='5'!L3 -> 0 | P15: ='5'!K3 -> 0 | Q15: ='5'!M3 -> 0 | R15: ='5'!N3 -> 0 | S15: ='5'!O3 -> 0 | T15: =U15 -> 0 | U15: ='5'!P3 -> 0 | V15: =SUM(W15:Y15) -> 1 | W15: ='5'!Q3 -> 1 | X15: ='5'!R3 -> 0 | Y15: ='5'!S3 -> 0 | Z15: =SUM(AA15:AD15) -> 8 | AA15: ='5'!T3 -> 0 | AB15: ='5'!U3 -> 1 | AC15: ='5'!V3 -> 7 | AD15: ='5'!W3 -> 0 | AE15: =AF15 -> 1 | AF15: ='5'!X3 -> 1 | AG15: ='5'!B4 -> 9 | AH15: ='5'!C4 -> 9 | AI15: ='5'!D4 -> 1 | AJ15: ='5'!A7 -> 0.022222222 | AK15: ='5'!B7 -> 0.44444444 | AL15: ='5'!C7 -> 0.33333333 | AM15: ='5'!D7 -> 0.6 | AN15: ='5'!G6 -> 1 | AO15: ='5'!G7 -> 8 | AP15: ='5'!G8 -> 3
A16: 6 | B16: Подземная часть. Кладочные планы | C16: АР | D16: 1190-01-02-АР0.2 рев.В, рев С, рев D 148-0721-ОК-1-0-1,2-1..19-АР0.2 | E16: Милявская А. | F16: 03.05.23 19.07.23 26.09.23 | G16: согласовано | H16: 45233 | I16: 3 | J16: =K16+T16+V16+Z16+AE16 -> 5 | K16: =SUM(L16:S16) -> 0 | L16: ='6'!H3 -> 0 | M16: ='6'!I3 -> 0 | N16: ='6'!J3 -> 0 | O16: ='6'!L3 -> 0 | P16: ='6'!K3 -> 0 | Q16: ='6'!M3 -> 0 | R16: ='6'!N3 -> 0 | S16: ='6'!O3 -> 0 | T16: =U16 -> 0 | U16: ='6'!P3 -> 0 | V16: =SUM(W16:Y16) -> 0 | W16: ='6'!Q3 -> 0 | X16: ='6'!R3 -> 0 | Y16: ='6'!S3 -> 0 | Z16: =SUM(AA16:AD16) -> 5 | AA16: ='6'!T3 -> 0 | AB16: ='6'!U3 -> 0 | AC16: ='6'!V3 -> 5 | AD16: ='6'!W3 -> 0 | AE16: =AF16 -> 0 | AF16: ='6'!X3 -> 0 | AG16: ='6'!B4 -> 20 | AH16: ='6'!C4 -> 6 | AI16: ='6'!D4 -> 0.3 | AJ16: ='6'!A7 -> 0 | AK16: ='6'!B7 -> 0.1 | AL16: ='6'!C7 -> 0.05 | AM16: ='6'!D7 -> 0.6 | AN16: ='6'!G6 -> 0 | AO16: ='6'!G7 -> 4 | AP16: ='6'!G8 -> 1
A17: 7 | B17: Подземная часть. Отделка помещений | C17: АР | D17: 1190-01-02-АР0.3 Рев.С, Е, К, М | E17: Милявская А. | F17: 03.05.23 16.08.23 18.09.23 21.12.23 25.12.23 | G17: согласовано | H17: 45285 | I17: 4 | J17: =K17+T17+V17+Z17+AE17 -> 60 | K17: =SUM(L17:S17) -> 6 | L17: ='7'!H3 -> 4 | M17: ='7'!I3 -> 0 | N17: ='7'!J3 -> 2 | O17: ='7'!L3 -> 0 | P17: ='7'!K3 -> 0 | Q17: ='7'!M3 -> 0 | R17: ='7'!N3 -> 0 | S17: ='7'!O3 -> 0 | T17: =U17 -> 5 | U17: ='7'!P3 -> 5 | V17: =SUM(W17:Y17) -> 1 | W17: ='7'!Q3 -> 1 | X17: ='7'!R3 -> 0 | Y17: ='7'!S3 -> 0 | Z17: =SUM(AA17:AD17) -> 43 | AA17: ='7'!T3 -> 3 | AB17: ='7'!U3 -> 6 | AC17: ='7'!V3 -> 32 | AD17: ='7'!W3 -> 2 | AE17: =AF17 -> 5 | AF17: ='7'!X3 -> 5 | AG17: ='7'!B4 -> 19 | AH17: ='7'!C4 -> 18 | AI17: ='7'!D4 -> 0.94736842 | AJ17: ='7'!A7 -> 0.042105263 | AK17: ='7'!B7 -> 1.1315789 | AL17: ='7'!C7 -> 0.68421053 | AM17: ='7'!D7 -> 0.58833333 | AN17: ='7'!G6 -> 4 | AO17: ='7'!G7 -> 43 | AP17: ='7'!G8 -> 13
A18: 8 | B18: Подземная часть. Элементы заполнения проемов | C18: АР | D18: 1190-01-02-АР0.4 Рев.А, Рев.В 148-0721-ОК-1-0-1,2-1..19-АР0.4 | E18: Милявская А. | F18: 03.05.23 27.09.23 | G18: согласовано | H18: 45237 | I18: 2 | J18: =K18+T18+V18+Z18+AE18 -> 13 | K18: =SUM(L18:S18) -> 0 | L18: ='8'!H3 -> 0 | M18: ='8'!I3 -> 0 | N18: ='8'!J3 -> 0 | O18: ='8'!L3 -> 0 | P18: ='8'!K3 -> 0 | Q18: ='8'!M3 -> 0 | R18: ='8'!N3 -> 0 | S18: ='8'!O3 -> 0 | T18: =U18 -> 0 | U18: ='8'!P3 -> 0 | V18: =SUM(W18:Y18) -> 0 | W18: ='8'!Q3 -> 0 | X18: ='8'!R3 -> 0 | Y18: ='8'!S3 -> 0 | Z18: =SUM(AA18:AD18) -> 13 | AA18: ='8'!T3 -> 2 | AB18: ='8'!U3 -> 0 | AC18: ='8'!V3 -> 4 | AD18: ='8'!W3 -> 7 | AE18: =AF18 -> 0 | AF18: ='8'!X3 -> 0 | AG18: ='8'!B4 -> 2 | AH18: ='8'!C4 -> 1 | AI18: ='8'!D4 -> 0.5 | AJ18: ='8'!A7 -> 0.2 | AK18: ='8'!B7 -> 1.5 | AL18: ='8'!C7 -> 2.5 | AM18: ='8'!D7 -> 0.64615385 | AN18: ='8'!G6 -> 2 | AO18: ='8'!G7 -> 6 | AP18: ='8'!G8 -> 5
A19: 9 | B19: Подземная часть. Разрезы. Лестницы. Лифты. Ограждения | C19: АР | D19: 1190-01-02-АР0.5 Рев.А, рев.L, рев.М | E19: Милявская А. | F19: 03.05.23 17.08.23 | G19: согласовано | H19: 45216 | I19: 2 | J19: =K19+T19+V19+Z19+AE19 -> 3 | K19: =SUM(L19:S19) -> 2 | L19: ='9'!H3 -> 0 | M19: ='9'!I3 -> 0 | N19: ='9'!J3 -> 2 | O19: ='9'!L3 -> 0 | P19: ='9'!K3 -> 0 | Q19: ='9'!M3 -> 0 | R19: ='9'!N3 -> 0 | S19: ='9'!O3 -> 0 | T19: =U19 -> 0 | U19: ='9'!P3 -> 0 | V19: =SUM(W19:Y19) -> 0 | W19: ='9'!Q3 -> 0 | X19: ='9'!R3 -> 0 | Y19: ='9'!S3 -> 0 | Z19: =SUM(AA19:AD19) -> 0 | AA19: ='9'!T3 -> 0 | AB19: ='9'!U3 -> 0 | AC19: ='9'!V3 -> 0 | AD19: ='9'!W3 -> 0 | AE19: =AF19 -> 1 | AF19: ='9'!X3 -> 1 | AG19: ='9'!B4 -> 8 | AH19: ='9'!C4 -> 1 | AI19: ='9'!D4 -> 0.125 | AJ19: ='9'!A7 -> 0 | AK19: ='9'!B7 -> 0.1875 | AL19: ='9'!C7 -> 0 | AM19: ='9'!D7 -> 0.5 | AN19: ='9'!G6 -> 0 | AO19: ='9'!G7 -> 3 | AP19: ='9'!G8 -> 0
A20: 10 | B20: Подземная часть. Узлы и детали | C20: АР | D20: 1190-01-02-АР0.6 Рев.В, рев.L, рев.М, рев.N | E20: Милявская А. | F20: 45049 | G20: согласовано | H20: 02.10.23 29.12.23 | I20: 3 | J20: =K20+T20+V20+Z20+AE20 -> 13 | K20: =SUM(L20:S20) -> 1 | L20: ='10'!H3 -> 1 | M20: ='10'!I3 -> 0 | N20: ='10'!J3 -> 0 | O20: ='10'!L3 -> 0 | P20: ='10'!K3 -> 0 | Q20: ='10'!M3 -> 0 | R20: ='10'!N3 -> 0 | S20: ='10'!O3 -> 0 | T20: =U20 -> 0 | U20: ='10'!P3 -> 0 | V20: =SUM(W20:Y20) -> 0 | W20: ='10'!Q3 -> 0 | X20: ='10'!R3 -> 0 | Y20: ='10'!S3 -> 0 | Z20: =SUM(AA20:AD20) -> 11 | AA20: ='10'!T3 -> 4 | AB20: ='10'!U3 -> 0 | AC20: ='10'!V3 -> 7 | AD20: ='10'!W3 -> 0 | AE20: =AF20 -> 1 | AF20: ='10'!X3 -> 1 | AG20: ='10'!B4 -> 8 | AH20: ='10'!C4 -> 3 | AI20: ='10'!D4 -> 0.375 | AJ20: ='10'!A7 -> 0 | AK20: ='10'!B7 -> 0.75 | AL20: ='10'!C7 -> 0.125 | AM20: ='10'!D7 -> 0.53846154 | AN20: ='10'!G6 -> 0 | AO20: ='10'!G7 -> 12 | AP20: ='10'!G8 -> 1
A21: 11 | B21: Корпус 2. Секции 10-19. Элементы заполнения проемов 1го этажа. Светопрозрачные конструкции | C21: АР | D21: 1190-02-10-19-АР4.1 от 19.05.23 рев.В от 19.09.23 | E21: Шалаева О. | F21: 30.05.23 05.10.23 29.12.23 | G21: согласовано | H21: 45289 | I21: 4 | J21: =K21+T21+V21+Z21+AE21 -> 41 | K21: =SUM(L21:S21) -> 6 | L21: ='11'!H3 -> 6 | M21: ='11'!I3 -> 0 | N21: ='11'!J3 -> 0 | O21: ='11'!L3 -> 0 | P21: ='11'!K3 -> 0 | Q21: ='11'!M3 -> 0 | R21: ='11'!N3 -> 0 | S21: ='11'!P3 -> 0 | T21: =U21 -> 13 | U21: ='11'!Q3 -> 13 | V21: =SUM(W21:Y21) -> 3 | W21: ='11'!R3 -> 0 | X21: ='11'!S3 -> 3 | Y21: ='11'!T3 -> 0 | Z21: =SUM(AA21:AD21) -> 19 | AA21: ='11'!U3 -> 0 | AB21: ='11'!V3 -> 1 | AC21: ='11'!W3 -> 18 | AD21: ='11'!X3 -> 0 | AE21: =AF21 -> 0 | AF21: ='11'!Y3 -> 0 | AG21: ='11'!B4 -> 56 | AH21: ='11'!C4 -> 56 | AI21: ='11'!D4 -> 1 | AJ21: ='11'!A7 -> 0 | AK21: ='11'!B7 -> 0.1875 | AL21: ='11'!C7 -> 0.35714286 | AM21: ='11'!D7 -> 0.74390244 | AN21: ='11'!G6 -> 0 | AO21: ='11'!G7 -> 21 | AP21: ='11'!G8 -> 20
A22: 12 | B22: Корпус 1. Секции 1-3. Кладочные планы стен и перегородок 1 эт. | C22: АР | D22: 1190-01-1-3-АР2.1 Рев.В, С, D, б/обозначения | E22: Милявская А. | F22: 01.06.23 29.06.23 06.09.23 06.12.23 | G22: повторные замечания | I22: 5 | J22: =K22+T22+V22+Z22+AE22 -> 23 | K22: =SUM(L22:S22) -> 11 | L22: ='12'!H3 -> 11 | M22: ='12'!I3 -> 0 | N22: ='12'!J3 -> 0 | O22: ='12'!L3 -> 0 | P22: ='12'!K3 -> 0 | Q22: ='12'!M3 -> 0 | R22: ='12'!N3 -> 0 | S22: ='12'!O3 -> 0 | T22: =U22 -> 0 | U22: ='12'!P3 -> 0 | V22: =SUM(W22:Y22) -> 0 | W22: ='12'!Q3 -> 0 | X22: ='12'!R3 -> 0 | Y22: ='12'!S3 -> 0 | Z22: =SUM(AA22:AD22) -> 10 | AA22: ='12'!T3 -> 0 | AB22: ='12'!U3 -> 0 | AC22: ='12'!V3 -> 10 | AD22: ='12'!W3 -> 0 | AE22: =AF22 -> 2 | AF22: ='12'!X3 -> 2 | AG22: ='12'!B4 -> 6 | AH22: ='12'!C4 -> 5 | AI22: ='12'!D4 -> 0.83333333 | AJ22: ='12'!A7 -> 0.033333333 | AK22: ='12'!B7 -> 1.0833333 | AL22: ='12'!C7 -> 1.5 | AM22: ='12'!D7 -> 0.6826087 | AN22: ='12'!G6 -> 1 | AO22: ='12'!G7 -> 13 | AP22: ='12'!G8 -> 9
A23: 13 | B23: Корпус 1. Секции 4-6. Кладочные планы стен и перегородок 1 эт. | C23: АР | D23: 1190-01-4-6-АР2.3 рев.D, рев.Е, рев.F, рев.G, рев.Н 148-0721-ОК-1-0-1-4..6-АР2.1 б/рев. | E23: Милявская А. | F23: 01.06.23 13.06.23 07.07.23 20.07.23 15.08.23 08.12.23 | G23: повторные замечания | I23: 7 | J23: =K23+T23+V23+Z23+AE23 -> 25 | K23: =SUM(L23:S23) -> 11 | L23: ='13'!H3 -> 11 | M23: ='13'!I3 -> 0 | N23: ='13'!J3 -> 0 | O23: ='13'!L3 -> 0 | P23: ='13'!K3 -> 0 | Q23: ='13'!M3 -> 0 | R23: ='13'!O3 -> 0 | S23: ='13'!P3 -> 0 | T23: =U23 -> 2 | U23: ='13'!Q3 -> 2 | V23: =SUM(W23:Y23) -> 0 | W23: ='13'!R3 -> 0 | X23: ='13'!S3 -> 0 | Y23: ='13'!T3 -> 0 | Z23: =SUM(AA23:AD23) -> 11 | AA23: ='13'!U3 -> 0 | AB23: ='13'!V3 -> 2 | AC23: ='13'!W3 -> 9 | AD23: ='13'!X3 -> 0 | AE23: =AF23 -> 1 | AF23: ='13'!Y3 -> 1 | AG23: ='13'!B4 -> 6 | AH23: ='13'!C4 -> 5 | AI23: ='13'!D4 -> 0.83333333 | AJ23: ='13'!A7 -> 0 | AK23: ='13'!B7 -> 1.0833333 | AL23: ='13'!C7 -> 2 | AM23: ='13'!D7 -> 0.74 | AN23: ='13'!G6 -> 0 | AO23: ='13'!G7 -> 13 | AP23: ='13'!G8 -> 12
A24: 14 | B24: Корпус 1. Секции 7-9. Кладочные планы стен и перегородок 1эт. | C24: АР | D24: 1190-01-7-9-АР2.5 Рев.В, рев.Е 148-0721-ОК-1-0-1-7..9-АР2.1 б/рев. | E24: Милявская А. | F24: 01.06.23 07.07.23 15.08.23 08.12.23 | G24: повторные замечания | I24: 5 | J24: =K24+T24+V24+Z24+AE24 -> 21 | K24: =SUM(L24:S24) -> 12 | L24: ='14'!H3 -> 12 | M24: ='14'!I3 -> 0 | N24: ='14'!J3 -> 0 | O24: ='14'!L3 -> 0 | P24: ='14'!K3 -> 0 | Q24: ='14'!M3 -> 0 | R24: ='14'!N3 -> 0 | S24: ='14'!O3 -> 0 | T24: =U24 -> 0 | U24: ='14'!P3 -> 0 | V24: =SUM(W24:Y24) -> 0 | W24: ='14'!Q3 -> 0 | X24: ='14'!R3 -> 0 | Y24: ='14'!S3 -> 0 | Z24: =SUM(AA24:AD24) -> 7 | AA24: ='14'!T3 -> 0 | AB24: ='14'!U3 -> 0 | AC24: ='14'!V3 -> 7 | AD24: ='14'!W3 -> 0 | AE24: =AF24 -> 2 | AF24: ='14'!X3 -> 2 | AG24: ='14'!B4 -> 6 | AH24: ='14'!C4 -> 5 | AI24: ='14'!D4 -> 0.83333333 | AJ24: ='14'!A7 -> 0.033333333 | AK24: ='14'!B7 -> 0.91666667 | AL24: ='14'!C7 -> 1.5 | AM24: ='14'!D7 -> 0.7 | AN24: ='14'!G6 -> 1 | AO24: ='14'!G7 -> 11 | AP24: ='14'!G8 -> 9
A25: 15 | B25: Корп.2. Секции 17-19. Кладочные планы стен и перегородок 1-го этажа. | C25: АР | D25: 1190-02-17-19-АР2.5 Рев B АР2.1 Рев.А от24.10.23 | E25: Шалаева О. | F25: 10.07.23 15.11.23 26.12.23 | G25: согласовано | H25: 45289 | I25: 3 | J25: =K25+T25+V25+Z25+AE25 -> 11 | K25: =SUM(L25:S25) -> 0 | L25: ='15'!H3 -> 0 | M25: ='15'!I3 -> 0 | N25: ='15'!J3 -> 0 | O25: ='15'!L3 -> 0 | P25: ='15'!K3 -> 0 | Q25: ='15'!M3 -> 0 | R25: ='15'!N3 -> 0 | S25: ='15'!O3 -> 0 | T25: =U25 -> 8 | U25: ='15'!P3 -> 8 | V25: =SUM(W25:Y25) -> 0 | W25: ='15'!Q3 -> 0 | X25: ='15'!S3 -> 0 | Y25: ='15'!T3 -> 0 | Z25: =SUM(AA25:AD25) -> 3 | AA25: ='15'!U3 -> 1 | AB25: ='15'!V3 -> 0 | AC25: ='15'!W3 -> 2 | AD25: ='15'!X3 -> 0 | AE25: =AF25 -> 0 | AF25: ='13'!X3 -> 0 | AG25: ='15'!B4 -> 10 | AH25: ='15'!C4 -> 10 | AI25: ='15'!D4 -> 1 | AJ25: ='15'!A7 -> 0 | AK25: ='15'!B7 -> 0.15 | AL25: ='15'!C7 -> 0.8 | AM25: ='15'!D7 -> 0.86363636 | AN25: ='15'!G6 -> 0 | AO25: ='15'!G7 -> 3 | AP25: ='15'!G8 -> 8
A26: 16 | B26: Лифты. Корпус 1 | C26: АР | D26: 1190-01-1-9-АР6, рев.В | E26: Милявская А. | F26: 45110 | G26: согласовано | H26: 45225 | I26: 2 | J26: =K26+T26+V26+Z26+AE26 -> 10 | K26: =SUM(L26:S26) -> 0 | L26: ='16'!H3 -> 0 | M26: ='16'!I3 -> 0 | N26: ='16'!J3 -> 0 | O26: ='16'!L3 -> 0 | P26: ='16'!K3 -> 0 | Q26: ='16'!M3 -> 0 | R26: ='16'!N3 -> 0 | S26: ='16'!O3 -> 0 | T26: =U26 -> 0 | U26: ='16'!P3 -> 0 | V26: =SUM(W26:Y26) -> 0 | W26: ='16'!Q3 -> 0 | X26: ='16'!R3 -> 0 | Y26: ='16'!S3 -> 0 | Z26: =SUM(AA26:AD26) -> 10 | AA26: ='16'!T3 -> 0 | AB26: ='16'!U3 -> 2 | AC26: ='16'!V3 -> 7 | AD26: ='16'!W3 -> 1 | AE26: =AF26 -> 0 | AF26: ='16'!X3 -> 0 | AG26: ='16'!B4 -> 10 | AH26: ='16'!C4 -> 10 | AI26: ='16'!D4 -> 1 | AJ26: ='16'!A7 -> 0.02 | AK26: ='16'!B7 -> 0.35 | AL26: ='16'!C7 -> 0.2 | AM26: ='16'!D7 -> 0.57 | AN26: ='16'!G6 -> 1 | AO26: ='16'!G7 -> 7 | AP26: ='16'!G8 -> 2
A27: 17 | B27: Корпус 1. Секции 1-3. Кладочные планы стен и перегородок 2-16 этажа | C27: АР | D27: 1190-01-1-3-АР2.2 рев.С 148-0721-ОК-1-0-1-1..3-АР2.2 б/рев. | E27: Милявская А. | F27: 31.07.23 28.12.23 26.01.24 | G27: согласовано | H27: 45323 | I27: 3 | J27: =K27+T27+V27+Z27+AE27 -> 20 | K27: =SUM(L27:S27) -> 8 | L27: ='17'!H3 -> 8 | M27: ='17'!I3 -> 0 | N27: ='17'!J3 -> 0 | O27: ='17'!L3 -> 0 | P27: ='17'!K3 -> 0 | Q27: ='17'!M3 -> 0 | R27: ='17'!N3 -> 0 | S27: ='17'!O3 -> 0 | T27: =U27 -> 0 | U27: ='17'!P3 -> 0 | V27: =SUM(W27:Y27) -> 0 | W27: ='17'!Q3 -> 0 | X27: ='17'!R3 -> 0 | Y27: ='17'!S3 -> 0 | Z27: =SUM(AA27:AD27) -> 12 | AA27: ='17'!T3 -> 0 | AB27: ='17'!U3 -> 0 | AC27: ='17'!V3 -> 12 | AD27: ='17'!W3 -> 0 | AE27: =AF27 -> 0 | AF27: ='17'!X3 -> 0 | AG27: ='17'!B4 -> 5 | AH27: ='17'!C4 -> 4 | AI27: ='17'!D4 -> 0.8 | AJ27: ='17'!A7 -> 0 | AK27: ='17'!B7 -> 1.9 | AL27: ='17'!C7 -> 0.2 | AM27: ='17'!D7 -> 0.525 | AN27: ='17'!G6 -> 0 | AO27: ='17'!G7 -> 19 | AP27: ='17'!G8 -> 1
A28: 18 | B28: Корпус 1. Секции 4-6. Кладочные планы стен и перегородок 2-16 этажа | C28: АР | D28: 1190-01-4-6-АР2.4 рев.D 148-0721-ОК-1-0-1-4..6-АР2.2 б/рев. | E28: Милявская А. | F28: 02.08.23 09.01.24 26.01.24 | G28: согласовано | H28: 45323 | I28: 3 | J28: =K28+T28+V28+Z28+AE28 -> 23 | K28: =SUM(L28:S28) -> 11 | L28: ='18'!H3 -> 11 | M28: ='18'!I3 -> 0 | N28: ='18'!J3 -> 0 | O28: ='18'!L3 -> 0 | P28: ='18'!K3 -> 0 | Q28: ='18'!M3 -> 0 | R28: ='18'!N3 -> 0 | S28: ='18'!O3 -> 0 | T28: =U28 -> 0 | U28: ='18'!P3 -> 0 | V28: =SUM(W28:Y28) -> 0 | W28: ='18'!Q3 -> 0 | X28: ='18'!R3 -> 0 | Y28: ='18'!S3 -> 0 | Z28: =SUM(AA28:AD28) -> 11 | AA28: ='18'!T3 -> 0 | AB28: ='18'!U3 -> 0 | AC28: ='18'!V3 -> 11 | AD28: ='18'!W3 -> 0 | AE28: =AF28 -> 1 | AF28: ='18'!X3 -> 1 | AG28: ='18'!B4 -> 5 | AH28: ='18'!C4 -> 4 | AI28: ='18'!D4 -> 0.8 | AJ28: ='18'!A7 -> 0 | AK28: ='18'!B7 -> 2.2 | AL28: ='18'!C7 -> 0.2 | AM28: ='18'!D7 -> 0.52173913 | AN28: ='18'!G6 -> 0 | AO28: ='18'!G7 -> 22 | AP28: ='18'!G8 -> 1
A29: 19 | B29: Корпус 1. Секции 7-9. Кладочные планы стен и перегородок 2-16 этажа | C29: АР | D29: 1190-01-7-9-АР2.6 рев.С 148-0721-ОК-1-0-1-7..9-АР2.2 б/рев. | E29: Милявская А. | F29: 31.07.23 10.01.24 26.01.24 | G29: согласовано | H29: 45329 | I29: 3 | J29: =K29+T29+V29+Z29+AE29 -> 22 | K29: =SUM(L29:S29) -> 11 | L29: ='19'!H3 -> 11 | M29: ='19'!I3 -> 0 | N29: ='19'!J3 -> 0 | O29: ='19'!L3 -> 0 | P29: ='19'!K3 -> 0 | Q29: ='19'!M3 -> 0 | R29: ='19'!N3 -> 0 | S29: ='19'!O3 -> 0 | T29: =U29 -> 0 | U29: ='19'!P3 -> 0 | V29: =SUM(W29:Y29) -> 0 | W29: ='19'!Q3 -> 0 | X29: ='19'!R3 -> 0 | Y29: ='19'!S3 -> 0 | Z29: =SUM(AA29:AD29) -> 11 | AA29: ='19'!T3 -> 0 | AB29: ='19'!U3 -> 0 | AC29: ='19'!V3 -> 11 | AD29: ='19'!W3 -> 0 | AE29: =AF29 -> 0 | AF29: ='19'!X3 -> 0 | AG29: ='19'!B4 -> 7 | AH29: ='19'!C4 -> 6 | AI29: ='19'!D4 -> 0.85714286 | AJ29: ='19'!A7 -> 0 | AK29: ='19'!B7 -> 1.3571429 | AL29: ='19'!C7 -> 0.42857143 | AM29: ='19'!D7 -> 0.56818182 | AN29: ='19'!G6 -> 0 | AO29: ='19'!G7 -> 19 | AP29: ='19'!G8 -> 3
A30: 20 | B30: Корпус 2. Секции 17-19. Кладочные планы стен и перегородок 2-16 этажа | C30: АР | D30: 1190-02-17-19-АР2.6 рев.А 148-0721-ОК-1-0-2-17..19-АР2.2 | E30: Шалаева О.В. | F30: 01.08.23 16.01.24 29.01.24 07.02.24 | G30: согласовано | H30: 45330 | I30: 4 | J30: =K30+T30+V30+Z30+AE30 -> 16 | K30: =SUM(L30:S30) -> 1 | L30: ='20'!H3 -> 1 | M30: ='20'!I3 -> 0 | N30: ='20'!J3 -> 0 | O30: ='20'!L3 -> 0 | P30: ='20'!K3 -> 0 | Q30: ='20'!M3 -> 0 | R30: ='20'!N3 -> 0 | S30: ='20'!P3 -> 0 | T30: =U30 -> 6 | U30: ='20'!Q3 -> 6 | V30: =SUM(W30:Y30) -> 0 | W30: ='20'!R3 -> 0 | X30: ='20'!S3 -> 0 | Y30: ='20'!T3 -> 0 | Z30: =SUM(AA30:AD30) -> 9 | AA30: ='20'!U3 -> 0 | AB30: ='20'!V3 -> 0 | AC30: ='20'!W3 -> 9 | AD30: ='20'!X3 -> 0 | AE30: =AF30 -> 0 | AF30: ='20'!Y3 -> 0 | AG30: ='20'!B4 -> 5 | AH30: ='20'!C4 -> 5 | AI30: ='20'!D4 -> 1 | AJ30: ='20'!A7 -> 0 | AK30: ='20'!B7 -> 1 | AL30: ='20'!C7 -> 1.2 | AM30: ='20'!D7 -> 0.6875 | AN30: ='20'!G6 -> 0 | AO30: ='20'!G7 -> 10 | AP30: ='20'!G8 -> 6
A31: 21 | B31: Корпус 2. Секции 14-16. Кладочные планы стен и перегородок 2-16 этажа | C31: АР | D31: 1190-02-14-16-АР2.4 рев.А 148-0721-ОК-1-0-2-14..16-АР2.2 б/рев. | E31: Милявская А. | F31: 02.08.23 10.01.24 26.01.24 | G31: согласовано | H31: 45323 | I31: 3 | J31: =K31+T31+V31+Z31+AE31 -> 21 | K31: =SUM(L31:S31) -> 10 | L31: ='21'!H3 -> 10 | M31: ='21'!I3 -> 0 | N31: ='21'!J3 -> 0 | O31: ='21'!L3 -> 0 | P31: ='21'!K3 -> 0 | Q31: ='21'!M3 -> 0 | R31: ='21'!N3 -> 0 | S31: ='21'!O3 -> 0 | T31: =U31 -> 0 | U31: ='21'!P3 -> 0 | V31: =SUM(W31:Y31) -> 0 | W31: ='21'!Q3 -> 0 | X31: ='21'!R3 -> 0 | Y31: ='21'!S3 -> 0 | Z31: =SUM(AA31:AD31) -> 11 | AA31: ='21'!T3 -> 0 | AB31: ='21'!U3 -> 0 | AC31: ='21'!V3 -> 11 | AD31: ='21'!W3 -> 0 | AE31: =AF31 -> 0 | AF31: ='21'!X3 -> 0 | AG31: ='21'!B4 -> 5 | AH31: ='21'!C4 -> 4 | AI31: ='21'!D4 -> 0.8 | AJ31: ='21'!A7 -> 0 | AK31: ='21'!B7 -> 2 | AL31: ='21'!C7 -> 0.2 | AM31: ='21'!D7 -> 0.52380952 | AN31: ='21'!G6 -> 0 | AO31: ='21'!G7 -> 20 | AP31: ='21'!G8 -> 1
A32: 22 | B32: Архитектурные интерьеры. Центр информирования населения (ЦИН). Отделочные чертежи | C32: АИ | D32: Д1729436/22-0-1-9-АИ3 | E32: Кураева Е. Шалаева О. | F32: 08.08.2023 03.05.2024 | G32: согласовано | H32: 45448 | I32: 2 | J32: =K32+T32+V32+Z32+AE32 -> 15 | K32: =SUM(L32:S32) -> 0 | L32: ='22'!H3 -> 0 | M32: ='22'!I3 -> 0 | N32: ='22'!J3 -> 0 | O32: ='22'!L3 -> 0 | P32: ='22'!K3 -> 0 | Q32: ='22'!M3 -> 0 | R32: ='22'!N3 -> 0 | S32: ='22'!O3 -> 0 | T32: =U32 -> 0 | U32: ='22'!P3 -> 0 | V32: =SUM(W32:Y32) -> 2 | W32: ='22'!Q3 -> 1 | X32: ='22'!R3 -> 1 | Y32: ='22'!S3 -> 0 | Z32: =SUM(AA32:AD32) -> 13 | AA32: ='22'!T3 -> 0 | AB32: ='22'!U3 -> 5 | AC32: ='22'!V3 -> 8 | AD32: ='22'!W3 -> 0 | AE32: =AF32 -> 0 | AF32: ='22'!X3 -> 0 | AG32: ='22'!B4 -> 10 | AH32: ='22'!C4 -> 6 | AI32: ='22'!D4 -> 0.6 | AJ32: ='22'!A7 -> 0 | AK32: ='22'!B7 -> 0.4 | AL32: ='22'!C7 -> 0.7 | AM32: ='22'!D7 -> 0.73333333 | AN32: ='22'!G6 -> 0 | AO32: ='22'!G7 -> 8 | AP32: ='22'!G8 -> 7
A33: 23 | B33: Корпус 1. Секции 1-9. Кровля | C33: АР | D33: 1190-01-1-9-АР10 рев.В, рев.С 148-0721-ОК-1-0-1-1..9-АР10 | E33: Милявская А. | F33: 15.08.23 29.09.23 26.10.23 14.03.24 | G33: согласовано | H33: 45390 | I33: 4 | J33: =K33+T33+V33+Z33+AE33 -> 44 | K33: =SUM(L33:S33) -> 6 | L33: ='23'!H3 -> 6 | M33: ='23'!I3 -> 0 | N33: ='23'!J3 -> 0 | O33: ='23'!L3 -> 0 | P33: ='23'!K3 -> 0 | Q33: ='23'!M3 -> 0 | R33: ='23'!N3 -> 0 | S33: ='23'!O3 -> 0 | T33: =U33 -> 0 | U33: ='23'!P3 -> 0 | V33: =SUM(W33:Y33) -> 0 | W33: ='23'!Q3 -> 0 | X33: ='23'!R3 -> 0 | Y33: ='23'!S3 -> 0 | Z33: =SUM(AA33:AD33) -> 37 | AA33: ='23'!T3 -> 3 | AB33: ='23'!U3 -> 1 | AC33: ='23'!V3 -> 33 | AD33: ='23'!W3 -> 0 | AE33: =AF33 -> 1 | AF33: ='23'!X3 -> 1 | AG33: ='23'!B4 -> 10 | AH33: ='23'!C4 -> 10 | AI33: ='23'!D4 -> 1 | AJ33: ='23'!A7 -> 0 | AK33: ='23'!B7 -> 1.8 | AL33: ='23'!C7 -> 0.8 | AM33: ='23'!D7 -> 0.59090909 | AN33: ='23'!G6 -> 0 | AO33: ='23'!G7 -> 36 | AP33: ='23'!G8 -> 8
A34: 24 | B34: Устройство рампы | C34: АР | D34: 1190-01-02-АР0.7 Рев.А | E34: Милявская А. | F34: 45187 | G34: согласовано | H34: 45232 | I34: 1 | J34: =K34+T34+V34+Z34+AE34 -> 4 | K34: =SUM(L34:S34) -> 0 | L34: ='24'!H3 -> 0 | M34: ='24'!I3 -> 0 | N34: ='24'!J3 -> 0 | O34: ='24'!L3 -> 0 | P34: ='24'!K3 -> 0 | Q34: ='24'!M3 -> 0 | R34: ='24'!N3 -> 0 | S34: ='24'!O3 -> 0 | T34: =U34 -> 0 | U34: ='24'!P3 -> 0 | V34: =SUM(W34:Y34) -> 0 | W34: ='24'!Q3 -> 0 | X34: ='24'!R3 -> 0 | Y34: ='24'!S3 -> 0 | Z34: =SUM(AA34:AD34) -> 4 | AA34: ='24'!T3 -> 0 | AB34: ='24'!U3 -> 0 | AC34: ='24'!V3 -> 4 | AD34: ='24'!W3 -> 0 | AE34: =AF34 -> 0 | AF34: ='24'!X3 -> 0 | AG34: ='24'!B4 -> 2 | AH34: ='24'!C4 -> 2 | AI34: ='24'!D4 -> 1 | AJ34: ='24'!A7 -> 0 | AK34: ='24'!B7 -> 1 | AL34: ='24'!C7 -> 0 | AM34: ='24'!D7 -> 0.5 | AN34: ='24'!G6 -> 0 | AO34: ='24'!G7 -> 4 | AP34: ='24'!G8 -> 0
A35: 25 | B35: Корпус 1. Секции 1-9. Элементы заполнения проемов. Двери, окна. (оконные/балконные блоки) | C35: АР | D35: 1190-01-1-9-АР4.3 Рев.А, рев.В | E35: Милявская А. | F35: 45188 | G35: согласовано | H35: 45198 | I35: 1 | J35: =K35+T35+V35+Z35+AE35 -> 8 | K35: =SUM(L35:S35) -> 3 | L35: ='25'!H3 -> 3 | M35: ='25'!I3 -> 0 | N35: ='25'!J3 -> 0 | O35: ='25'!L3 -> 0 | P35: ='25'!K3 -> 0 | Q35: ='25'!M3 -> 0 | R35: ='25'!N3 -> 0 | S35: ='25'!O3 -> 0 | T35: =U35 -> 0 | U35: ='25'!P3 -> 0 | V35: =SUM(W35:Y35) -> 3 | W35: ='25'!Q3 -> 3 | X35: ='25'!R3 -> 0 | Y35: ='25'!S3 -> 0 | Z35: =SUM(AA35:AD35) -> 2 | AA35: ='25'!T3 -> 0 | AB35: ='25'!U3 -> 0 | AC35: ='25'!V3 -> 2 | AD35: ='25'!W3 -> 0 | AE35: =AF35 -> 0 | AF35: ='25'!X3 -> 0 | AG35: ='25'!B4 -> 12 | AH35: ='25'!C4 -> 11 | AI35: ='25'!D4 -> 0.91666667 | AJ35: ='25'!A7 -> 0 | AK35: ='25'!B7 -> 0.25 | AL35: ='25'!C7 -> 0.16666667 | AM35: ='25'!D7 -> 0.625 | AN35: ='25'!G6 -> 0 | AO35: ='25'!G7 -> 6 | AP35: ='25'!G8 -> 2
A36: 26 | B36: Лифты. Корпус 2 | C36: АР | D36: 148-0721-ОК-1-0-2-10..19-АР6 | E36: Милявская А. | F36: 26.10.23 31.10.23 02.11.23 | G36: согласовано | H36: 45233 | I36: 3 | J36: =K36+T36+V36+Z36+AE36 -> 13 | K36: =SUM(L36:S36) -> 0 | L36: ='26'!H3 -> 0 | M36: ='26'!I3 -> 0 | N36: ='26'!J3 -> 0 | O36: ='26'!L3 -> 0 | P36: ='26'!K3 -> 0 | Q36: ='26'!M3 -> 0 | R36: ='26'!N3 -> 0 | S36: ='26'!O3 -> 0 | T36: =U36 -> 0 | U36: ='26'!P3 -> 0 | V36: =SUM(W36:Y36) -> 1 | W36: ='26'!Q3 -> 1 | X36: ='26'!R3 -> 0 | Y36: ='26'!S3 -> 0 | Z36: =SUM(AA36:AD36) -> 12 | AA36: ='26'!T3 -> 0 | AB36: ='26'!U3 -> 0 | AC36: ='26'!V3 -> 12 | AD36: ='26'!W3 -> 0 | AE36: =AF36 -> 0 | AF36: ='26'!X3 -> 0 | AG36: ='26'!B4 -> 13 | AH36: ='26'!C4 -> 4 | AI36: ='26'!D4 -> 0.30769231 | AJ36: ='26'!A7 -> 0.061538462 | AK36: ='26'!B7 -> 0.30769231 | AL36: ='26'!C7 -> 0.076923077 | AM36: ='26'!D7 -> 0.44615385 | AN36: ='26'!G6 -> 4 | AO36: ='26'!G7 -> 8 | AP36: ='26'!G8 -> 1
A37: 27 | B37: Корпус 2. Секции 10-13. Кладочные планы стен и перегородок 1-го этажа | C37: АР | D37: 148-0721-ОК-1-0-2-10..13-АР2.1 | E37: Милявская А. | F37: 31.10.23 27.12.23 | G37: согласовано | H37: 45302 | I37: 2 | J37: =K37+T37+V37+Z37+AE37 -> 21 | K37: =SUM(L37:S37) -> 5 | L37: ='27'!H3 -> 5 | M37: ='27'!I3 -> 0 | N37: ='27'!J3 -> 0 | O37: ='27'!L3 -> 0 | P37: ='27'!K3 -> 0 | Q37: ='27'!M3 -> 0 | R37: ='27'!N3 -> 0 | S37: ='27'!O3 -> 0 | T37: =U37 -> 0 | U37: ='27'!P3 -> 0 | V37: =SUM(W37:Y37) -> 0 | W37: ='27'!Q3 -> 0 | X37: ='27'!R3 -> 0 | Y37: ='27'!S3 -> 0 | Z37: =SUM(AA37:AD37) -> 15 | AA37: ='27'!T3 -> 0 | AB37: ='27'!U3 -> 0 | AC37: ='27'!V3 -> 15 | AD37: ='27'!W3 -> 0 | AE37: =AF37 -> 1 | AF37: ='27'!X3 -> 1 | AG37: ='27'!B4 -> 7 | AH37: ='27'!C4 -> 7 | AI37: ='27'!D4 -> 1 | AJ37: ='27'!A7 -> 0 | AK37: ='27'!B7 -> 1.5 | AL37: ='27'!C7 -> 0 | AM37: ='27'!D7 -> 0.5 | AN37: ='27'!G6 -> 0 | AO37: ='27'!G7 -> 21 | AP37: ='27'!G8 -> 0
A38: 28 | B38: Корпус 2. Секции 10-13. Кладочные планы стен и перегородок 2-16го этажа | C38: АР | D38: 1190-02-10-13-АР2.2 рев. А от 03.10.23 | E38: Шалаева О. | F38: 01.11.23 16.01.24 29.01.24 | G38: согласовано | H38: 45329 | I38: 3 | J38: =K38+T38+V38+Z38+AE38 -> 16 | K38: =SUM(L38:S38) -> 0 | L38: ='28'!H3 -> 0 | M38: ='28'!I3 -> 0 | N38: ='28'!J3 -> 0 | O38: ='28'!L3 -> 0 | P38: ='28'!K3 -> 0 | Q38: ='28'!M3 -> 0 | R38: ='28'!N3 -> 0 | S38: ='28'!P3 -> 0 | T38: =U38 -> 7 | U38: ='28'!Q3 -> 7 | V38: =SUM(W38:Y38) -> 0 | W38: ='28'!R3 -> 0 | X38: ='28'!S3 -> 0 | Y38: ='28'!T3 -> 0 | Z38: =SUM(AA38:AD38) -> 9 | AA38: ='28'!U3 -> 0 | AB38: ='28'!V3 -> 0 | AC38: ='28'!W3 -> 9 | AD38: ='28'!X3 -> 0 | AE38: =AF38 -> 0 | AF38: ='28'!Y3 -> 0 | AG38: ='28'!B4 -> 6 | AH38: ='28'!C4 -> 5 | AI38: ='28'!D4 -> 0.83333333 | AJ38: ='28'!A7 -> 0 | AK38: ='28'!B7 -> 0.91666667 | AL38: ='28'!C7 -> 0.83333333 | AM38: ='28'!D7 -> 0.65625 | AN38: ='28'!G6 -> 0 | AO38: ='28'!G7 -> 11 | AP38: ='28'!G8 -> 5
A39: 29 | B39: Корпус 2. Секции 10-19. Элементы заполнения проемов. Двери. Окна | C39: АР | D39: 148-0721-ОК-1-0-2- 10...19 - АР4 .3 рев.А от 25.10.23 рев.А от 10.11.23 (Префаб) | E39: Шалаева О. | F39: без замечаний | G39: согласовано | H39: 01.11.23 17.11.23 20.11.23 | I39: 2 | J39: =K39+T39+V39+Z39+AE39 -> 0 | K39: =SUM(L39:S39) -> 0 | L39: ='29'!H3 -> 0 | M39: ='29'!I3 -> 0 | N39: ='29'!J3 -> 0 | O39: ='29'!L3 -> 0 | P39: ='29'!K3 -> 0 | Q39: ='29'!M3 -> 0 | R39: ='29'!N3 -> 0 | S39: ='29'!O3 -> 0 | T39: =U39 -> 0 | U39: ='29'!P3 -> 0 | V39: =SUM(W39:Y39) -> 0 | W39: ='29'!Q3 -> 0 | X39: ='29'!R3 -> 0 | Y39: ='29'!S3 -> 0 | Z39: =SUM(AA39:AD39) -> 0 | AA39: ='29'!T3 -> 0 | AB39: ='29'!U3 -> 0 | AC39: ='29'!V3 -> 0 | AD39: ='29'!W3 -> 0 | AE39: =AF39 -> 0 | AF39: ='29'!X3 -> 0
A40: 30 | B40: Корпус 2. Секции 10-19. Элементы заполнения проемов типового этажа. Светопрозрачные конструкции | C40: АР | D40: 148-0721-ОК-1-0-2-10..19-АР4.2 02.11.23, 26.12.23, 28.12.23, 29.12.23 | E40: Милявская А. | F40: 02.11.23 26.12.23 28.12.23 | G40: согласовано | H40: 45289 | I40: 3 | J40: =K40+T40+V40+Z40+AE40 -> 7 | K40: =SUM(L40:S40) -> 2 | L40: ='30'!H3 -> 2 | M40: ='30'!I3 -> 0 | N40: ='30'!J3 -> 0 | O40: ='30'!L3 -> 0 | P40: ='30'!K3 -> 0 | Q40: ='30'!M3 -> 0 | R40: ='30'!N3 -> 0 | S40: ='30'!O3 -> 0 | T40: =U40 -> 0 | U40: ='30'!P3 -> 0 | V40: =SUM(W40:Y40) -> 1 | W40: ='30'!Q3 -> 1 | X40: ='30'!R3 -> 0 | Y40: ='30'!S3 -> 0 | Z40: =SUM(AA40:AD40) -> 4 | AA40: ='30'!T3 -> 0 | AB40: ='30'!U3 -> 0 | AC40: ='30'!V3 -> 4 | AD40: ='30'!W3 -> 0 | AE40: =AF40 -> 0 | AF40: ='30'!X3 -> 0 | AG40: ='30'!B4 -> 34 | AH40: ='30'!C4 -> 33 | AI40: ='30'!D4 -> 0.97058824 | AJ40: ='30'!A7 -> 0 | AK40: ='30'!B7 -> 0.10294118 | AL40: ='30'!C7 -> 0 | AM40: ='30'!D7 -> 0.5 | AN40: ='30'!G6 -> 0 | AO40: ='30'!G7 -> 7 | AP40: ='30'!G8 -> 0
...

Sheet ШАБЛОН!
A1: Номер замечания к комплекту | B1: Обозначение комплекта номер изм. (изм.0, изм.1, изм.2 и т.д. - записывать все изм., которые приходят на проверку) | C1: Номер листа в разделе | D1: Текст замечания | E1: Эскиз к замечанию (при необходимости) | F1: Ссылка на требование (обозначение документа, пункт НД или лист типового проекта и т.д) | G1: Коэффицент замечания | H1: Тип замечания | I1: ФИО проверяющего | J1: Дата выдачи замечаний | K1: Статус замечаия | L1: Ответ от субподрядчика на замечания (при необходимости) - УКАЗАТЬ НА КАКОМ ЛИСТЕ ВНЕСЕНЫ ИЗМЕНЕНИЯ | M1: Дата повторной проверки | N1: Комментарий/ замечание | O1: Ответ от субподрядчика на замечания (при необходимости) - УКАЗАТЬ НА КАКОМ ЛИСТЕ ВНЕСЕНЫ ИЗМЕНЕНИЯ | P1: Дата повторной проверки | Q1: Комментарий/ замечание | R1: Ответ субподрядчика на замечания (при необхродимости) | S1: Дата повторной проверки | T1: Комментарий/ замечание | U1: Ответ субподрядчика на замечания (при необхродимости) | V1: Дата повторной проверки | W1: Комментарий/ замечание | X1: Ответ субподрядчика на замечания (при необхродимости)
B2: Заполнить вручную | C2: Заполнить вручную | D2: формула | H2: 1 - Несоответствие продуктовым требованиям ПИК-Стандарт | I2: 2 - Несоответствие Бренд-листам ПИК | J2: 3 - Несоответствие Каталогу отделки | K2: 5 - Ошибка в применении СТМ | L2: 4 - Несоответствие Каталогу оборудования | M2: 6 - Ошибка в применении сборных ЛМ | N2: 7 - Ошибка в применении шкаф-пакетов | O2: 8 - Ошибка в применении шахт-пакетов | P2: 9 - Несоответствие типологическим требованиям ПИК-Стандарт | Q2: 10 - Несоответствие НТД РФ | R2: 11 - Несоответствие ИРД (кроме ТУ, СТУ), АПР, ПД | S2: 12 - Несоответствие требованиям ТУ, СТУ | T2: 13 - Ошибка в технических решениях | U2: 14 - Неувязка м/у собой комплектов РД | V2: 15 - Недостаточность информации влияющей на СМР | W2: 16 - Нерациональное решение | X2: 17 - Оформление
B3: общее количество листов (по ведомости рабочих чертежей) | C3: количество листов с замечаниями | D3: коэффициент возврата Кв | H3: =COUNTIF($H10:$H168,"1 - Несоответствие продуктовым требованиям ПИК-Стандарт") -> 1 | I3: =COUNTIF($H10:$H168,"2 - Несоответствие Бренд-листам ПИК") -> 2 | J3: =COUNTIF($H10:$H168,"3 - Несоответствие Каталогу отделки") -> 1 | K3: =COUNTIF($H10:$H168,"5 - Ошибка в применении СТМ") -> 1 | L3: =COUNTIF($H10:$H168,"4 - Несоответствие Каталогу оборудования") -> 0 | M3: =COUNTIF($H10:$H168,"6 - Ошибка в применении сборных ЛМ") -> 1 | N3: =COUNTIF($H10:$H168,"7 - Ошибка в применении шкаф-пакетов") -> 1 | O3: =COUNTIF($H10:$H168,"8 - Ошибка в применении шахт-пакетов") -> 1 | P3: =COUNTIF($H10:$H168,"9 - Несоответствие типологическим требованиям ПИК-Стандарт") -> 1 | Q3: =COUNTIF($H10:$H168,"10 - Несоответствие НТД РФ") -> 2 | R3: =COUNTIF($H10:$H168,"11 - Несоответствие ИРД (кроме ТУ, СТУ), АПР, ПД") -> 1 | S3: =COUNTIF($H10:$H168,"12 - Несоответствие требованиям ТУ, СТУ") -> 1 | T3: =COUNTIF($H10:$H168,"13 - Ошибка в технических решениях") -> 2 | U3: =COUNTIF($H10:$H168,"14 - Неувязка м/у собой комплектов РД") -> 1 | V3: =COUNTIF($H10:$H168,"15 - Недостаточность информации влияющей на СМР") -> 1 | W3: =COUNTIF($H10:$H168,"16 - Нерациональное решение") -> 1 | X3: =COUNTIF($H10:$H168,"17 - Оформление") -> 2
A4: Заполнить вручную | B4: 25 | C4: 10 | D4: =C4/B4 -> 0.4 | H4: формула | I4: формула | J4: формула | K4: формула | L4: формула | M4: формула | N4: формула | O4: формула | P4: формула | Q4: формула | R4: формула | S4: формула | T4: формула | U4: формула | V4: формула | W4: формула | X4: формула
G5: формула
A6: 0.2 | B6: 0.5 | C6: 1 | D6: общий коэф критичности замечаний | F6: Количество замечаний с к=0,2 | G6: =COUNTIFS(G10:G135,"0,2") -> 7
A7: =G6*0.2/B4 -> 0.056 | B7: =G7*0.5/B4 -> 0.1 | C7: =G8*1/B4 -> 0.04 | D7: =(G6*A6+G7*B6+G8*C6)/SUM(G6:G8) -> 0.37692308 | F7: Количество замечаний с к=0,5 | G7: =COUNTIFS(G10:G135,"0,5") -> 5
A8: формула | B8: формула | C8: формула | D8: формула | F8: Количество замечаний с к=1 | G8: =COUNTIFS(G10:G135,"1") -> 1
A10: 1 | B10: 9-0118-ОК-1-АР изм.0, изм.1 | C10: Тит. лист | D10: Обозначение тома не соотвествует обозначению в составе проекта | G10: 0.2 | H10: 2 - Несоответствие Бренд-листам ПИК | I10: Петров И.И. | J10: 43903 | K10: снято | M10: 43910
A11: 2 | B11: 9-0118-ОК-1-АР изм.0, изм.1, изм.2 | C11: Тит. лист | D11: Обозначение тома не соотвествует обозначению в составе проекта | G11: 0.2 | H11: 2 - Несоответствие Бренд-листам ПИК | K11: снято
A12: 3 | G12: 0.5 | H12: 1 - Несоответствие продуктовым требованиям ПИК-Стандарт | K12: требует изм. в смежном комплекте
A13: 4 | B13: 9-0118-ОК-1-АР изм.2 | G13: 0.5 | H13: 3 - Несоответствие Каталогу отделки | K13: требует изм. в смежном комплекте
A14: 5 | H14: 5 - Ошибка в применении СТМ | K14: отменено | L14: для статуса ОТМЕНЕНО обязательно указывать причину! А также убирать коэф замечан и тип замечания, чтобы замечание не шло в отчетность
A15: 6 | G15: 0.2 | H15: 6 - Ошибка в применении сборных ЛМ | K15: повторно
A16: 7 | G16: 0.2 | H16: 7 - Ошибка в применении шкаф-пакетов | K16: без замечаний
A17: 8 | G17: 0.5 | H17: 8 - Ошибка в применении шахт-пакетов | K17: Требуется изм. ПД
A18: 9 | G18: 0.5 | H18: 9 - Несоответствие типологическим требованиям ПИК-Стандарт | K18: Требуется изм. ПД
A19: 10 | G19: 1 | H19: 10 - Несоответствие НТД РФ
A20: 11 | G20: 0.5 | H20: 10 - Несоответствие НТД РФ
A21: 12 | G21: 0.2 | H21: 11 - Несоответствие ИРД (кроме ТУ, СТУ), АПР, ПД
A22: 13 | G22: 0.2 | H22: 12 - Несоответствие требованиям ТУ, СТУ
A23: 14 | G23: 0.2 | H23: 13 - Ошибка в технических решениях
A24: 15 | H24: 13 - Ошибка в технических решениях
A25: 16 | H25: 14 - Неувязка м/у собой комплектов РД
A26: 17 | H26: 15 - Недостаточность информации влияющей на СМР
A27: 18 | H27: 16 - Нерациональное решение
A28: 19 | H28: 17 - Оформление
A29: 20 | H29: 17 - Оформление
A30: 21
A31: 22
A32: 23
A33: 24
A34: 25
A35: 26
A36: 27
A37: 28
A38: 29
A39: 30

Sheet 1
A1: Номер замечания к комплекту | B1: Обозначение комплекта номер изм. (изм.0, изм.1, изм.2 и т.д. - записывать все изм., которые приходят на проверку) | C1: Номер листа в разделе | D1: Текст замечания | E1: Эскиз к замечанию (при необходимости) | F1: Ссылка на требование (обозначение документа, пункт НД или лист типового проекта и т.д) | G1: Коэффицент замечания | H1: Тип замечания | I1: ФИО проверяющего | J1: Дата выдачи замечаний | K1: Статус замечаия | L1: Ответ от субподрядчика на замечания (при необходимости) - УКАЗАТЬ НА КАКОМ ЛИСТЕ ВНЕСЕНЫ ИЗМЕНЕНИЯ | M1: Дата повторной проверки | N1: Комментарий/ замечание | O1: Ответ от субподрядчика на замечания (при необходимости) - УКАЗАТЬ НА КАКОМ ЛИСТЕ ВНЕСЕНЫ ИЗМЕНЕНИЯ | P1: Дата повторной проверки | Q1: Комментарий/ замечание | R1: Ответ субподрядчика на замечания (при необхродимости) | S1: Дата повторной проверки | T1: Комментарий/ замечание | U1: Ответ субподрядчика на замечания (при необхродимости) | V1: Дата повторной проверки | W1: Комментарий/ замечание | X1: Ответ субподрядчика на замечания (при необхродимости)
B2: Заполнить вручную | C2: Заполнить вручную | D2: формула | H2: 1 - Несоответствие продуктовым требованиям ПИК-Стандарт | I2: 2 - Несоответствие Бренд-листам ПИК | J2: 3 - Несоответствие Каталогу отделки | K2: 5 - Ошибка в применении СТМ | L2: 4 - Несоответствие Каталогу оборудования | M2: 6 - Ошибка в применении сборных ЛМ | N2: 7 - Ошибка в применении шкаф-пакетов | O2: 8 - Ошибка в применении шахт-пакетов | P2: 9 - Несоответствие типологическим требованиям ПИК-Стандарт | Q2: 10 - Несоответствие НТД РФ | R2: 11 - Несоответствие ИРД (кроме ТУ, СТУ), АПР, ПД | S2: 12 - Несоответствие требованиям ТУ, СТУ | T2: 13 - Ошибка в технических решениях | U2: 14 - Неувязка м/у собой комплектов РД | V2: 15 - Недостаточность информации влияющей на СМР | W2: 16 - Нерациональное решение | X2: 17 - Оформление
B3: общее количество листов (по ведомости рабочих чертежей) | C3: количество листов с замечаниями | D3: коэффициент возврата Кв | H3: =COUNTIF($H11:$H50,"1 - Несоответствие продуктовым требованиям ПИК-Стандарт") -> 0 | I3: =COUNTIF($H11:$H50,"2 - Несоответствие Бренд-листам ПИК") -> 0 | J3: =COUNTIF($H11:$H50,"3 - Несоответствие Каталогу отделки") -> 0 | K3: =COUNTIF($H11:$H50,"5 - Ошибка в применении СТМ") -> 0 | L3: =COUNTIF($H11:$H50,"4 - Несоответствие Каталогу оборудования") -> 0 | M3: =COUNTIF($H11:$H50,"6 - Ошибка в применении сборных ЛМ") -> 0 | N3: =COUNTIF($H11:$H50,"7 - Ошибка в применении шкаф-пакетов") -> 0 | O3: =COUNTIF($H11:$H50,"8 - Ошибка в применении шахт-пакетов") -> 0 | P3: =COUNTIF($H11:$H50,"9 - Несоответствие типологическим требованиям ПИК-Стандарт") -> 0 | Q3: =COUNTIF($H11:$H50,"10 - Несоответствие НТД РФ") -> 0 | R3: =COUNTIF($H11:$H50,"11 - Несоответствие ИРД (кроме ТУ, СТУ), АПР, ПД") -> 0 | S3: =COUNTIF($H11:$H50,"12 - Несоответствие требованиям ТУ, СТУ") -> 0 | T3: =COUNTIF($H11:$H50,"13 - Ошибка в технических решениях") -> 0 | U3: =COUNTIF($H11:$H50,"14 - Неувязка м/у собой комплектов РД") -> 1 | V3: =COUNTIF($H11:$H50,"15 - Недостаточность информации влияющей на СМР") -> 26 | W3: =COUNTIF($H11:$H50,"16 - Нерациональное решение") -> 0 | X3: =COUNTIF($H11:$H50,"17 - Оформление") -> 0
A4: Заполнить вручную | B4: 15 | C4: 7 | D4: =C4/B4 -> 0.46666667 | H4: формула | I4: формула | J4: формула | K4: формула | L4: формула | M4: формула | N4: формула | O4: формула | P4: формула | Q4: формула | R4: формула | S4: формула | T4: формула | U4: формула | V4: формула | W4: формула | X4: формула
G5: формула
A6: 0.2 | B6: 0.5 | C6: 1 | D6: общий коэф критичности замечаний | F6: Количество замечаний с к=0,2 | G6: =COUNTIFS(G11:G50,"0,2") -> 1
A7: =G6*0.2/B4 -> 0.013333333 | B7: =G7*0.5/B4 -> 0.83333333 | C7: =G8*1/B4 -> 0.066666667 | D7: =(G6*A6+G7*B6+G8*C6)/SUM(G6:G8) -> 0.50740741 | F7: Количество замечаний с к=0,5 | G7: =COUNTIFS(G11:G50,"0,5") -> 25
A8: формула | B8: формула | C8: формула | D8: формула | F8: Количество замечаний с к=1 | G8: =COUNTIFS(G11:G50,"1") -> 1
B10: 1190-01-1-9-АР9.5 Ревизия С | D10: Замечания к оконным блокам ПВХ
A11: 1 | B11: 1190-01-1-9-АР9.5 Ревизия С | D11: Предоставить эскизы оконных блоков (стандартные эскизы см. стандарт АТР). | F11: АТР Оконные и балконные блоки ПВХ | G11: 0.5 | H11: 15 - Недостаточность информации влияющей на СМР | I11: Шалаева О. | J11: 45036 | K11: снято | M11: 45337 | N11: Согласован комплект АР4.3 https://docs.google.com/spreadsheets/d/1YuiVJh5g_X5jHE5eOh_2DEvATkVyA1tZkiQMcCOB9Wo/edit#gid=1891348856
A12: 2 | B12: 1190-01-1-9-АР9.5 Ревизия С | D12: Включить в состав комплекта спецификацию элементов заполнения оконных проемов (предоставленную отдельным файлом). | F12: АТР Оконные и балконные блоки ПВХ | G12: 0.5 | H12: 15 - Недостаточность информации влияющей на СМР | I12: Шалаева О. | J12: 45036 | K12: снято | M12: 45337 | N12: Согласован комплект АР4.3 https://docs.google.com/spreadsheets/d/1YuiVJh5g_X5jHE5eOh_2DEvATkVyA1tZkiQMcCOB9Wo/edit#gid=1891348856
A13: 3 | B13: 1190-01-1-9-АР9.5 Ревизия С | D13: В спецификации указать формулу стеклопакета (уточнить! в ПД 1190-01-ЭЭ.ПЗ, находящейся в экспертизе, в предыдущем заходе в МГЭ в разделе ЭЭ для окон был указан СПД 4М1-14-И4-14-И4). | F13: АТР Оконные и балконные блоки ПВХ 1190-01-ЭЭ.ПЗ | G13: 0.5 | H13: 15 - Недостаточность информации влияющей на СМР | I13: Шалаева О. | J13: 45036 | K13: снято | M13: 45337 | N13: Согласован комплект АР4.3 https://docs.google.com/spreadsheets/d/1YuiVJh5g_X5jHE5eOh_2DEvATkVyA1tZkiQMcCOB9Wo/edit#gid=1891348856
A14: 4 | B14: 1190-01-1-9-АР9.5 Ревизия С | D14: В спецификации в марке окон к вентклапану добавить VT700 (VT715), см. как указано в инструкции. | F14: Инструкция по назначению клапанов | G14: 0.5 | H14: 15 - Недостаточность информации влияющей на СМР | I14: Шалаева О. | J14: 45036 | K14: снято | M14: 45337 | N14: Согласован комплект АР4.3 https://docs.google.com/spreadsheets/d/1YuiVJh5g_X5jHE5eOh_2DEvATkVyA1tZkiQMcCOB9Wo/edit#gid=1891348856
A15: 5 | B15: 1190-01-1-9-АР9.5 Ревизия С | D15: В спецификации в столбце с примечаниями указать оснащение окон москитными сетками (количество москитных сеток - 1 шт. на один блок). Указать, что на оконные блоки ОП-201, ОП-201л, ОПмгн-201; ОПмгн-201л, ОП-202, ОП-202л сетка монтируется снаружи. В оконные блоки с откидывающимися створками ОП-208.1л москитная сетка устанавливается изнутри помещения на металлических кронштейнах (см. указания в стандарте АТР на л.4). | F15: АТР Оконные и балконные блоки ПВХ | G15: 0.5 | H15: 15 - Недостаточность информации влияющей на СМР | I15: Шалаева О. | J15: 45036 | K15: снято | M15: 45337 | N15: Согласован комплект АР4.3 https://docs.google.com/spreadsheets/d/1YuiVJh5g_X5jHE5eOh_2DEvATkVyA1tZkiQMcCOB9Wo/edit#gid=1891348856
A16: 6 | B16: 1190-01-1-9-АР9.5 Ревизия С | D16: Предоставить информацию по подоконным доскам и заглушкам к ним. | F16: АТР Оконные и балконные блоки ПВХ л.4 п.10 | G16: 0.5 | H16: 15 - Недостаточность информации влияющей на СМР | I16: Шалаева О. | J16: 45036 | K16: снято | M16: 45337 | N16: Согласован комплект АР4.3 https://docs.google.com/spreadsheets/d/1YuiVJh5g_X5jHE5eOh_2DEvATkVyA1tZkiQMcCOB9Wo/edit#gid=1891348856
A17: 7 | B17: 1190-01-1-9-АР9.5 Ревизия С | D17: Добавить в спецификацию окон столбец с указанием количества замков безопасности для каждой марки окна. В примечаниях на листе указать фразу: "Оконные блоки с открывающимися створками комплектуются замками безопасности типа Si-AU ( или аналог), цвет белый (по одному замку на каждую створку окна)". | F17: АТР Оконные и балконные блоки ПВХ | G17: 0.5 | H17: 15 - Недостаточность информации влияющей на СМР | I17: Шалаева О. | J17: 45036 | K17: снято | M17: 45337 | N17: Согласован комплект АР4.3 https://docs.google.com/spreadsheets/d/1YuiVJh5g_X5jHE5eOh_2DEvATkVyA1tZkiQMcCOB9Wo/edit#gid=1891348856
A18: 8 | B18: 1190-01-1-9-АР9.5 Ревизия С | D18: В спецификации в столбце с примечаниями указать материал и цвет отливов и откосов оконных блоков. | F18: АТР Оконные и балконные блоки ПВХ л.4 п.11 | G18: 0.5 | H18: 15 - Недостаточность информации влияющей на СМР | I18: Шалаева О. | J18: 45036 | K18: снято | M18: 45337 | N18: Согласован комплект АР4.3 https://docs.google.com/spreadsheets/d/1YuiVJh5g_X5jHE5eOh_2DEvATkVyA1tZkiQMcCOB9Wo/edit#gid=1891348856
A19: 9 | B19: 1190-01-1-9-АР9.5 Ревизия С | D19: В примечаниях на листе со спецификацией указать фразу: "Вентиляционный клапан Ventec VT700 (VT715) установить в правую створку оконного блока, для балконных блоков - в балконную дверь.” | F19: Инструкция по назначению клапанов | G19: 0.5 | H19: 15 - Недостаточность информации влияющей на СМР | I19: Шалаева О. | J19: 45036 | K19: снято | M19: 45337 | N19: Согласован комплект АР4.3 https://docs.google.com/spreadsheets/d/1YuiVJh5g_X5jHE5eOh_2DEvATkVyA1tZkiQMcCOB9Wo/edit#gid=1891348856
B20: 1190-01-1-9-АР9.5 Ревизия С | D20: Замечания к балконным блокам ПВХ
A21: 10 | B21: 1190-01-1-9-АР9.5 Ревизия С | C21: 7-15 | D21: На планах замаркировать балконные блоки (стандартные марки см. в АТР). | F21: АТР Оконные и балконные блоки ПВХ | G21: 0.5 | H21: 15 - Недостаточность информации влияющей на СМР | I21: Шалаева О. | J21: 45036 | K21: снято | M21: 45337 | N21: Согласован комплект АР4.3 https://docs.google.com/spreadsheets/d/1YuiVJh5g_X5jHE5eOh_2DEvATkVyA1tZkiQMcCOB9Wo/edit#gid=1891348856
A22: 11 | B22: 1190-01-1-9-АР9.5 Ревизия С | D22: Предоставить эскизы балконных блоков (стандартные эскизы см. стандарт АТР). | F22: АТР Оконные и балконные блоки ПВХ | G22: 0.5 | H22: 15 - Недостаточность информации влияющей на СМР | I22: Шалаева О. | J22: 45036 | K22: снято | M22: 45337 | N22: Согласован комплект АР4.3 https://docs.google.com/spreadsheets/d/1YuiVJh5g_X5jHE5eOh_2DEvATkVyA1tZkiQMcCOB9Wo/edit#gid=1891348856
A23: 12 | B23: 1190-01-1-9-АР9.5 Ревизия С | D23: Предоставить в составе комплекта спецификацию на балконные блоки с указанием марок (см. стандартную маркировку в АТУ) и формулой стеклопакета (в ПД ЭЭ для окон и балконных дверей указан СПД 4М1-14-И4-14-И4). | F23: АТР Оконные и балконные блоки ПВХ 1190-01-ЭЭ.ПЗ л.68 | G23: 0.5 | H23: 15 - Недостаточность информации влияющей на СМР | I23: Шалаева О. | J23: 45036 | K23: снято | M23: 45337 | N23: Согласован комплект АР4.3 https://docs.google.com/spreadsheets/d/1YuiVJh5g_X5jHE5eOh_2DEvATkVyA1tZkiQMcCOB9Wo/edit#gid=1891348856
A24: 13 | B24: 1190-01-1-9-АР9.5 Ревизия С | D24: В примечаниях на листе со спецификацией указать фразу: "Балконные двери комплектуются ручкой с наружной стороны (1шт. на каждый балконный блок). Одна из створок балконного блока оснащена ограничителем открывания створки "Гребенкой". | F24: АТР Оконные и балконные блоки ПВХ | G24: 0.5 | H24: 15 - Недостаточность информации влияющей на СМР | I24: Шалаева О. | J24: 45036 | K24: снято | M24: 45337 | N24: Согласован комплект АР4.3 https://docs.google.com/spreadsheets/d/1YuiVJh5g_X5jHE5eOh_2DEvATkVyA1tZkiQMcCOB9Wo/edit#gid=1891348856
A25: 14 | B25: 1190-01-1-9-АР9.5 Ревизия С | D25: В спецификации в столбце с примечаниями указать материал и цвет отливов и откосов балконных блоков. | F25: АТР Оконные и балконные блоки ПВХ л.4 п.11 | G25: 0.5 | H25: 15 - Недостаточность информации влияющей на СМР | I25: Шалаева О. | J25: 45036 | K25: снято | M25: 45337 | N25: Согласован комплект АР4.3 https://docs.google.com/spreadsheets/d/1YuiVJh5g_X5jHE5eOh_2DEvATkVyA1tZkiQMcCOB9Wo/edit#gid=1891348856
B26: 1190-01-1-9-АР9.5 Ревизия С | D26: Общие замечания
A27: 15 | B27: 1190-01-1-9-АР9.5 Ревизия С | D27: В примечаниях на листе со спецификацией указать фразу: “Эскизы, ведомость расхода материалов и изделий, описание и технические характеристики к блокам ПВХ см. ЖД-ТАС-РЕН-АР-ОБ «Альбом типовых решений. Оконные и балконные блоки ПВХ Версия 6». | F27: АТР Оконные и балконные блоки ПВХ | G27: 0.5 | H27: 15 - Недостаточность информации влияющей на СМР | I27: Шалаева О. | J27: 45036 | K27: снято | M27: 45337 | N27: Согласован комплект АР4.3 https://docs.google.com/spreadsheets/d/1YuiVJh5g_X5jHE5eOh_2DEvATkVyA1tZkiQMcCOB9Wo/edit#gid=1891348856
A28: 16 | B28: 1190-01-1-9-АР9.5 Ревизия С | D28: Привести в соответствие между собой изображение витражей на фасадах и на планах ( с учетом замечаний к АР4.2). | F28: 1190-01-1-9-АР4.2 Ревизия А | G28: 1 | H28: 14 - Неувязка м/у собой комплектов РД | I28: Шалаева О. | J28: 45036 | K28: снято | M28: 45337
A29: 17 | B29: 1190-01-1-9-АР9.5 Ревизия С | D29: Замаркировать витражи на фасадах. | G29: 0.5 | H29: 15 - Недостаточность информации влияющей на СМР | I29: Шалаева О. | J29: 45036 | K29: снято | M29: 45337
A30: 18 | B30: 1190-01-1-9-АР9.5 Ревизия С | D30: Комплект предоставлен без листа общих данных. | G30: 0.2 | H30: 15 - Недостаточность информации влияющей на СМР | I30: Шалаева О. | J30: 45036 | K30: снято | M30: 45337
A31: 19 | B31: 148-0721-ОК-1-0-1-1..9-АР9.5 | C31: 1 | D31: На листе должен быть Расход кирпича на устройство фасадов 1 этажа | G31: 0.5 | H31: 15 - Недостаточность информации влияющей на СМР | I31: Милявская А | J31: 45338 | K31: снято | L31: Выполнена ведомость фрагментов с покрытием из бетонной плитки 285х60х20 (л. 2, 4, 6, 8, 10, 12), а также спецификация с расчетом плитки на каждый фрагмент (л.3, 5, 7, 9, 11, 13) | M31: 45392 | N31: Учтено
A32: 20 | B32: 148-0721-ОК-1-0-1-1..9-АР9.5 | C32: 1 | D32: Общие указания: заменить п.10 Указания по производству работ (ничего из указанного не относится к фасадам) на информацию - об устройстве фасадной кладки (отсутствует в АР2.1, АР4.1) в пределах 1 этажа - марки кирпича цокольной части стен (лицевой полнотелый) и стен выше цоколя (лицевой пустотелый); - цвет кирпича; - указания по устройству кладки - армирование, вент.продухи. - об устройстве утепления наружных стен (отсутствует в АР2.1, АР4.1) в пределах 1 этажа - об отделке кровельных надстроек (материал, цвет); - о цвете кровельного ограждения и стремянок; - о характере и цвете отделки стен переходных лоджий | G32: 0.5 | H32: 15 - Недостаточность информации влияющей на СМР | I32: Милявская А | J32: 45338 | K32: под ответственность проектировщика | L32: Согласно стадии П, вместо кирпича принята бетонная плитка 285х60х20. Сведения о продухе или ином элементе устройства фасадной системы могут быть дополнены при выборе подрядной организациии или выборе вентилируемой фасадной системы согласно производителю. Данные по расходу материалов отделки наружных стен 1го этажа см. АР8(Входные группы). Цвета указаны в ведомостях фрагментов и спецификации фрагментов фасадов(л.2-12). Данные об отделке и элементах кровли не представлены в разделе АР9.5, см АР10(Кровля). Данные об отделке и элементах переходных лоджий см АР5(Лестницы. Ограждения) | M32: 45392 | N32: Разработаны нестандартные фасадные решения, которые не подлежат проверке ООПР. Замечание снято под ответственность проектировщика на основании комментария
A33: 21 | B33: 148-0721-ОК-1-0-1-1..9-АР9.5 | C33: 2 - 7 | D33: В комплект должны быть включены полные фасады, начиная с первого этажа, а не частичные со второго этажа и выше - откорректировать | G33: 0.5 | H33: 15 - Недостаточность информации влияющей на СМР | I33: Милявская А | J33: 45338 | K33: повторно | L33: Дополнено. См. л. 2, 4, 6, 8, 10, 12 | M33: 45392 | N33: Устранить разночтение между АР4.1 и АР9.5 в расположении ламелей решеток форкамер и ниш для размещения оборудования ОВ (в АР4.1 горизонтальные ламели, в АР9.5 вертикальные ламели)
A34: 22 | B34: 148-0721-ОК-1-0-1-1..9-АР9.5 | C34: 2 - 7 | D34: На полных фасадах показать: - маркировку витражей 1 этажа, светопрозрачных козырьков, вентиляционных решеток, лючков; - высотные отметки и отметки земли у входов в здание; - расположение и привязку вертикальных температурно-деформационных швов в облицовке 1 этажа; - расположение и отметку горизонтального температурно-деформационного шва в облицовке 1 этажа | G34: 0.5 | H34: 15 - Недостаточность информации влияющей на СМР | I34: Милявская А | J34: 45338 | K34: снято | L34: Дополнено. См. л. 2, 4, 6, 8, 10, 12 | M34: 45392 | N34: Учтено
A35: 23 | B35: 148-0721-ОК-1-0-1-1..9-АР9.5 | C35: 2 - 7 | D35: На полных фасадах показать: - расположение вертикальных деформационных швов между секциями; - домовые указатели (привязки, отметки); - отметку цокольной части стены (300 мм выше уровня земли) - условное обозначение облицовочной кладки от ур.земли до 0,3 м от ур.з (выполняется лицевым полнотелый кирпичем); - условное обозначение облицовочной кладки ниже ур.земли на глубину min150 мм (выполняется рядовым полнотелым кирпичем) | G35: 0.5 | H35: 15 - Недостаточность информации влияющей на СМР | I35: Милявская А | J35: 45338 | K35: снято | L35: Дополнено. См. л. 2, 4, 6, 8, 10, 12 | M35: 45392 | N35: Учтено
A36: 24 | B36: 148-0721-ОК-1-0-1-1..9-АР9.5 | C36: 2 - 7 | D36: На полных фасадах показать: - расположение домофонов на витражах МОП; - контрастную маркировку на дверях МОП, БКТ и лестничных клеток | G36: 0.5 | H36: 15 - Недостаточность информации влияющей на СМР | I36: Милявская А | J36: 45338 | K36: снято | L36: Дополнено. См. л. 2, 4, 6, 8, 10, 12 | M36: 45392 | N36: Учтено
A37: 25 | B37: 148-0721-ОК-1-0-1-1..9-АР9.5 | C37: 2 - 7 | D37: Показать ограждение на кровельных надстройках и его отметку, металлические стремянки | G37: 0.5 | H37: 15 - Недостаточность информации влияющей на СМР | I37: Милявская А | J37: 45338 | K37: повторно | L37: Дополнено. См. л. 2, 4, 6, 8, 10, 12. Ограждения кровли см. АР10(Кровля) | M37: 45392 | N37: Устранить разночтение между АР10 и АР9.5 -показать ограждение на кровельных надстройках. Учесть замечание и для корпуса 2
A38: 26 | B38: 148-0721-ОК-1-0-1-1..9-АР9.5 | C38: 2 - 7 | D38: Условные обозначения: указать цвета фасадной плитки | G38: 0.5 | H38: 15 - Недостаточность информации влияющей на СМР | I38: Милявская А | J38: 45338 | K38: снято | L38: Дополнено. См. л. 2, 4, 6, 8, 10, 12 | M38: 45392 | N38: Учтено
A39: 27 | B39: 148-0721-ОК-1-0-1-1..9-АР9.5 | C39: 2 - 7 | D39: Условные обозначения: что такое спецификация на фрагменты, в каком комплекте разработана? | G39: 0.5 | H39: 15 - Недостаточность информации влияющей на СМР | I39: Милявская А | J39: 45338 | K39: снято | L39: Дополнено. См. л. 3, 5, 7, 9, 11, 13 | M39: 45392 | N39: Учтено
A40: 28 | B40: 148-0721-ОК-1-0-1-1..9-АР9.5 | C40: 8 - 15 | D40: Для информации Листы не проверялись на соответствие стандартным решениям. Корзины под кондиционеры, кронштейны под кондиционеры, узлы крепления к навесным панелям разработаны проектировщиком самостоятельно, что является ответственностью проектировщика | I40: Милявская А | J40: 45338

Sheet 2
A1: Номер замечания к комплекту | B1: Обозначение комплекта номер изм. (изм.0, изм.1, изм.2 и т.д. - записывать все изм., которые приходят на проверку) | C1: Номер листа в разделе | D1: Текст замечания | E1: Эскиз к замечанию (при необходимости) | F1: Ссылка на требование (обозначение документа, пункт НД или лист типового проекта и т.д) | G1: Коэффицент замечания | H1: Тип замечания | I1: ФИО проверяющего | J1: Дата выдачи замечаний | K1: Статус замечаия | L1: Ответ от субподрядчика на замечания (при необходимости) - УКАЗАТЬ НА КАКОМ ЛИСТЕ ВНЕСЕНЫ ИЗМЕНЕНИЯ | M1: Дата повторной проверки | N1: Комментарий/ замечание | O1: Ответ от субподрядчика на замечания (при необходимости) - УКАЗАТЬ НА КАКОМ ЛИСТЕ ВНЕСЕНЫ ИЗМЕНЕНИЯ | P1: Дата повторной проверки | Q1: Комментарий/ замечание | R1: Ответ субподрядчика на замечания (при необхродимости) | S1: Дата повторной проверки | T1: Комментарий/ замечание | U1: Ответ субподрядчика на замечания (при необхродимости) | V1: Дата повторной проверки | W1: Комментарий/ замечание | X1: Ответ субподрядчика на замечания (при необхродимости)
