Workbook

Sheet Аналитика по типу замечания
B1: не удалять/ не добавлять столбцы!
A2: Порядковый номер вкладки | B2: Наименование комплекта | C2: Дисциплина | D2: Марка комплекта/ по строке ИТОГО - количество комплектов | E2: ФИО проверяющего | F2: Дата выдачи замечаний (первая проверка) | G2: Статус комплекта | H2: Дата согласования комплекта | I2: Количество итераций проверок 0-первичная 1 - повторная 2 и т.д. - повторные Указываем итоговое число повторных проверок | J2: Всего замечаний | K2: 1 - Несоответствие продуктовым требованиям | L2: 1 - Несоответствие продуктовым требованиям ПИК-Стандарт | M2: 2 - Несоответствие Бренд-листам ПИК | N2: 3 - Несоответствие Каталогу отделки | O2: 4 - Несоответствие Каталогу оборудования | P2: 5 - Ошибка в применении СТМ | Q2: 6 - Ошибка в применении сборных ЛМ | R2: 7 - Ошибка в применении шкаф-пакетов | S2: 8 - Ошибка в применении шахт-пакетов | T2: 2 - Несоответствие типологическим требованиям ПИК-Стандарт | U2: 9 - Несоответствие типологическим требованиям ПИК-Стандарт | V2: 3 - Несоответствие ИРД, АПР, ПД | W2: 10 - Несоответствие НТД РФ | X2: 11 - Несоответствие ИРД (кроме ТУ, СТУ), АПР, ПД | Y2: 12 - Несоответствие требованиям ТУ, СТУ | Z2: 4 - Технические ошибки и нерациональные решения в проекте | AA2: 13 - Ошибка в технических решениях | AB2: 14 - Неувязка м/у собой комплектов РД | AC2: 15 - Недостаточность информации влияющей на СМР | AD2: 16 - Нерациональное решение | AE2: 5 - Оформление | AF2: 17 - Оформление | AG2: Общее количество листов в комплекте (без СО, Приложений и т.п.) | AH2: Количество листов в комплекте с замечаниями | AI2: коэффициент возврата Кв | AJ2: замечания к=0,2 | AK2: замечания к=0,5 | AL2: замечания к=1 | AM2: общий коэф критичности замечаний | AN2: Количество замечаний к=0,2 | AO2: Количество замечаний к=0,5 | AP2: Количество замечаний к=1
A3: ВСЕГО на объект | D3: =D6 -> 48 | G3: =G6 -> 46 | J3: =J6 -> #REF! | K3: =K6 -> #REF! | L3: =L6 -> #REF! | M3: =M6 -> #REF! | N3: =N6 -> #REF! | O3: =O6 -> #REF! | P3: =P6 -> #REF! | Q3: =Q6 -> #REF! | ... AM3: =AM6 -> #REF! | AN3: =AN6+AN44 -> #REF! | AO3: =AO6+AO44 -> #REF! | AP3: =AP6+AP44 -> #REF!
F4: Согласовано | G4: =G7 -> 32
F5: Проверено | G5: =G8 -> 14
A6: ИТОГО на объект 2023 | B6: Х | C6: Х | D6: =COUNTA(D11:D90) -> 48 | E6: Х | F6: Х | G6: =SUM(G7:G8) -> 46 | H6: Х | I6: Х | J6: =SUM(J11:J90) -> #REF! | K6: =SUM(K11:K90) -> #REF! | L6: =SUM(L11:L90) -> #REF! | M6: =SUM(M11:M90) -> #REF! | N6: =SUM(N11:N90) -> #REF! | O6: =SUM(O11:O90) -> #REF! | P6: =SUM(P11:P90) -> #REF! | Q6: =SUM(Q11:Q90) -> #REF! | ... AH6: =SUM(AH11:AH90) -> #REF! | AI6: =AVERAGE(AI11:AI90) -> #REF! | AJ6: =AVERAGE(AJ11:AJ90) -> #REF! | AK6: =AVERAGE(AK11:AK90) -> #REF! | AL6: =AVERAGE(AL11:AL90) -> #REF! | AM6: =AVERAGE(AM11:AM90) -> #REF! | AN6: =SUM(AN11:AN90) -> #REF! | AO6: =SUM(AO11:AO90) -> #REF! | AP6: =SUM(AP11:AP90) -> #REF!
F7: Согласовано | G7: =COUNTIF(G11:G90,"согласовано")+COUNTIF(G11:G90,"без замечаний") -> 32
F8: Проверено | G8: =COUNTIF(G11:G90,"выданы замечания")+COUNTIF(G11:G90,"повторные замечания")+COUNTIF(G11:G90,"на повторной проверке") -> 14
A9: Номер листа дополнить ссылкой на вкладку | B9: Наименование комплекта - в соответствии с титульным листом | C9: ввод из списка | D9: ручной ввод | E9: ручной ввод | F9: ручной ввод | G9: ввод из списка | H9: ручной ввод | I9: ввод из списка | J9: формула | K9: формула | L9: ссылка на ячейку | M9: ссылка на ячейку | N9: ссылка на ячейку | O9: ссылка на ячейку | P9: ссылка на ячейку | Q9: ссылка на ячейку | R9: ссылка на ячейку | S9: ссылка на ячейку | T9: формула | U9: ссылка на ячейку | V9: формула | W9: ссылка на ячейку | X9: ссылка на ячейку | Y9: ссылка на ячейку | Z9: формула | AA9: ссылка на ячейку | AB9: ссылка на ячейку | AC9: ссылка на ячейку | AD9: ссылка на ячейку | AE9: формула | AF9: ссылка на ячейку | AG9: ссылка на ячейку | AH9: ссылка на ячейку | AI9: ссылка на ячейку | AJ9: ссылка на ячейку | AK9: ссылка на ячейку | AL9: ссылка на ячейку | AM9: ссылка на ячейку | AN9: ссылка на ячейку | AO9: ссылка на ячейку | AP9: ссылка на ячейку
A10: Шаблон | B10: Архитектурные решения. Подземный этаж | C10: АР | D10: 9-0118-ОК-1-АР | E10: ='ШАБЛОН!'!I10 -> Петров И.И. | F10: ='ШАБЛОН!'!J10 -> 43903 | G10: в плане | H10: 43913 | I10: 5 | J10: =K10+T10+V10+Z10+AE10 -> 20 | K10: =SUM(L10:S10) -> 8 | L10: ='ШАБЛОН!'!H3 -> 1 | M10: ='ШАБЛОН!'!I3 -> 2 | N10: ='ШАБЛОН!'!J3 -> 1 | O10: ='ШАБЛОН!'!L3 -> 0 | P10: ='ШАБЛОН!'!K3 -> 1 | Q10: ='ШАБЛОН!'!M3 -> 1 | R10: ='ШАБЛОН!'!N3 -> 1 | S10: ='ШАБЛОН!'!O3 -> 1 | T10: =U10 -> 1 | U10: ='ШАБЛОН!'!P3 -> 1 | V10: =SUM(W10:Y10) -> 4 | W10: ='ШАБЛОН!'!Q3 -> 2 | X10: ='ШАБЛОН!'!R3 -> 1 | Y10: ='ШАБЛОН!'!S3 -> 1 | Z10: =SUM(AA10:AD10) -> 5 | AA10: ='ШАБЛОН!'!T3 -> 2 | AB10: ='ШАБЛОН!'!U3 -> 1 | AC10: ='ШАБЛОН!'!V3 -> 1 | AD10: ='ШАБЛОН!'!W3 -> 1 | AE10: =AF10 -> 2 | AF10: ='ШАБЛОН!'!X3 -> 2 | AG10: ='ШАБЛОН!'!B4 -> 25 | AH10: ='ШАБЛОН!'!C4 -> 10 | AI10: ='ШАБЛОН!'!D4 -> 0.4 | AJ10: ='ШАБЛОН!'!A7 -> 0.056 | AK10: ='ШАБЛОН!'!B7 -> 0.1 | AL10: ='ШАБЛОН!'!C7 -> 0.04 | AM10: ='ШАБЛОН!'!D7 -> 0.37692308 | AN10: ='ШАБЛОН!'!G6 -> 7 | AO10: ='ШАБЛОН!'!G7 -> 5 | AP10: ='ШАБЛОН!'!G8 -> 1
A11: 1 | B11: Корпус 1. Секции 1-9. Фасады | C11: АР | D11: 1190-01-1-9-АР9.5 Ревизия С 148-0721-ОК-1-0-1-1..9-АР9.5 | E11: Шалаева О. Милявская А. | F11: 24.04.23 15.02.24 | G11: повторные замечания | I11: 1 | J11: =K11+T11+V11+Z11+AE11 -> #REF! | K11: =SUM(L11:S11) -> #REF! | L11: =#REF! -> #REF! | M11: =#REF! -> #REF! | N11: =#REF! -> #REF! | O11: =#REF! -> #REF! | P11: =#REF! -> #REF! | Q11: =#REF! -> #REF! | R11: =#REF! -> #REF! | S11: =#REF! -> #REF! | T11: =U11 -> #REF! | U11: =#REF! -> #REF! | V11: =SUM(W11:Y11) -> #REF! | W11: =#REF! -> #REF! | X11: =#REF! -> #REF! | Y11: =#REF! -> #REF! | Z11: =SUM(AA11:AD11) -> #REF! | AA11: =#REF! -> #REF! | AB11: =#REF! -> #REF! | AC11: =#REF! -> #REF! | AD11: =#REF! -> #REF! | AE11: =AF11 -> #REF! | AF11: =#REF! -> #REF! | AG11: =#REF! -> #REF! | AH11: =#REF! -> #REF! | AI11: =#REF! -> #REF! | AJ11: =#REF! -> #REF! | AK11: =#REF! -> #REF! | AL11: =#REF! -> #REF! | AM11: =#REF! -> #REF! | ... AP11: =#REF! -> #REF!
A12: 2 | B12: Корпус 2. Секции 10-19. Фасады | C12: АР | D12: 1190-02-10-09-АР9.5 Ревизия D 148-0721-ОК-1-0-2-10..19-АР9.5 | E12: Шалаева О. Милявская А. | F12: 24.04.23 15.02.24 | G12: повторные замечания | I12: 1 | J12: =K12+T12+V12+Z12+AE12 -> #REF! | K12: =SUM(L12:S12) -> #REF! | L12: =#REF! -> #REF! | M12: =#REF! -> #REF! | N12: =#REF! -> #REF! | O12: =#REF! -> #REF! | P12: =#REF! -> #REF! | Q12: =#REF! -> #REF! | R12: =#REF! -> #REF! | S12: =#REF! -> #REF! | T12: =U12 -> #REF! | U12: =#REF! -> #REF! | V12: =SUM(W12:Y12) -> #REF! | W12: =#REF! -> #REF! | X12: =#REF! -> #REF! | Y12: =#REF! -> #REF! | Z12: =SUM(AA12:AD12) -> #REF! | AA12: =#REF! -> #REF! | AB12: =#REF! -> #REF! | AC12: =#REF! -> #REF! | AD12: =#REF! -> #REF! | AE12: =AF12 -> #REF! | AF12: =#REF! -> #REF! | AG12: =#REF! -> #REF! | AH12: =#REF! -> #REF! | AI12: =#REF! -> #REF! | AJ12: =#REF! -> #REF! | AK12: =#REF! -> #REF! | AL12: =#REF! -> #REF! | AM12: =#REF! -> #REF! | ... AP12: =#REF! -> #REF!
A13: 3 | B13: Корпус 1. Секции 1-9. Элементы заполнения проемов типового этажа. Светопрозрачные конструкции | C13: АР | D13: 1190-01-1-9-АР4.2 Рев.А, Рев.В | E13: Шалаева О. Милявская А. | F13: 26.04.23 03.08.23 | G13: согласовано | H13: 45275 | I13: 2 | J13: =K13+T13+V13+Z13+AE13 -> #REF! | K13: =SUM(L13:S13) -> #REF! | L13: =#REF! -> #REF! | M13: =#REF! -> #REF! | N13: =#REF! -> #REF! | O13: =#REF! -> #REF! | P13: =#REF! -> #REF! | Q13: =#REF! -> #REF! | R13: =#REF! -> #REF! | S13: =#REF! -> #REF! | T13: =U13 -> #REF! | U13: =#REF! -> #REF! | V13: =SUM(W13:Y13) -> #REF! | W13: =#REF! -> #REF! | X13: =#REF! -> #REF! | Y13: =#REF! -> #REF! | Z13: =SUM(AA13:AD13) -> #REF! | AA13: =#REF! -> #REF! | AB13: =#REF! -> #REF! | AC13: =#REF! -> #REF! | AD13: =#REF! -> #REF! | AE13: =AF13 -> #REF! | AF13: =#REF! -> #REF! | AG13: =#REF! -> #REF! | AH13: =#REF! -> #REF! | AI13: =#REF! -> #REF! | AJ13: =#REF! -> #REF! | AK13: =#REF! -> #REF! | AL13: =#REF! -> #REF! | AM13: =#REF! -> #REF! | ... AP13: =#REF! -> #REF!
A14: 4 | B14: Корпус 1. Секции 1-9. Элементы заполнения проемов 1 этажа. Светопрозрачные конструкции | C14: АР | D14: 1190-01-1-9-АР4.1 Рев. А, рев. С, рев.D, рев.Е, рев.F | E14: Шалаева О. | F14: 26.04.23 30.06.23 01.08.73 21.08.23 05.09.23 07.12.23 14.12.23 18.12.23 21.12.23 | G14: согласовано | H14: 45289 | I14: 9 | J14: =K14+T14+V14+Z14+AE14 -> #REF! | K14: =SUM(L14:S14) -> #REF! | L14: =#REF! -> #REF! | M14: =#REF! -> #REF! | N14: =#REF! -> #REF! | O14: =#REF! -> #REF! | P14: =#REF! -> #REF! | Q14: =#REF! -> #REF! | R14: =#REF! -> #REF! | S14: =#REF! -> #REF! | T14: =U14 -> #REF! | U14: =#REF! -> #REF! | V14: =SUM(W14:Y14) -> #REF! | W14: =#REF! -> #REF! | X14: =#REF! -> #REF! | Y14: =#REF! -> #REF! | Z14: =SUM(AA14:AD14) -> #REF! | AA14: =#REF! -> #REF! | AB14: =#REF! -> #REF! | AC14: =#REF! -> #REF! | AD14: =#REF! -> #REF! | AE14: =AF14 -> #REF! | AF14: =#REF! -> #REF! | AG14: =#REF! -> #REF! | AH14: =#REF! -> #REF! | AI14: =#REF! -> #REF! | AJ14: =#REF! -> #REF! | AK14: =#REF! -> #REF! | AL14: =#REF! -> #REF! | AM14: =#REF! -> #REF! | ... AP14: =#REF! -> #REF!
A15: 5 | B15: Подземная часть. Архитектурные планы | C15: АР | D15: 1190-01-02-АР0.1 рев.В, 148-0721-ОК-1-0-1,2-1..19-АР0.1 | E15: Милявская А. | F15: 03.05.23 03.11.23 23.11.23 26.12.23 | G15: согласовано | H15: 45289 | I15: 4 | J15: =K15+T15+V15+Z15+AE15 -> #REF! | K15: =SUM(L15:S15) -> #REF! | L15: =#REF! -> #REF! | M15: =#REF! -> #REF! | N15: =#REF! -> #REF! | O15: =#REF! -> #REF! | P15: =#REF! -> #REF! | Q15: =#REF! -> #REF! | R15: =#REF! -> #REF! | S15: =#REF! -> #REF! | T15: =U15 -> #REF! | U15: =#REF! -> #REF! | V15: =SUM(W15:Y15) -> #REF! | W15: =#REF! -> #REF! | X15: =#REF! -> #REF! | Y15: =#REF! -> #REF! | Z15: =SUM(AA15:AD15) -> #REF! | AA15: =#REF! -> #REF! | AB15: =#REF! -> #REF! | AC15: =#REF! -> #REF! | AD15: =#REF! -> #REF! | AE15: =AF15 -> #REF! | AF15: =#REF! -> #REF! | AG15: =#REF! -> #REF! | AH15: =#REF! -> #REF! | AI15: =#REF! -> #REF! | AJ15: =#REF! -> #REF! | AK15: =#REF! -> #REF! | AL15: =#REF! -> #REF! | AM15: =#REF! -> #REF! | ... AP15: =#REF! -> #REF!
A16: 6 | B16: Подземная часть. Кладочные планы | C16: АР | D16: 1190-01-02-АР0.2 рев.В, рев С, рев D 148-0721-ОК-1-0-1,2-1..19-АР0.2 | E16: Милявская А. | F16: 03.05.23 19.07.23 26.09.23 | G16: согласовано | H16: 45233 | I16: 3 | J16: =K16+T16+V16+Z16+AE16 -> #REF! | K16: =SUM(L16:S16) -> #REF! | L16: =#REF! -> #REF! | M16: =#REF! -> #REF! | N16: =#REF! -> #REF! | O16: =#REF! -> #REF! | P16: =#REF! -> #REF! | Q16: =#REF! -> #REF! | R16: =#REF! -> #REF! | S16: =#REF! -> #REF! | T16: =U16 -> #REF! | U16: =#REF! -> #REF! | V16: =SUM(W16:Y16) -> #REF! | W16: =#REF! -> #REF! | X16: =#REF! -> #REF! | Y16: =#REF! -> #REF! | Z16: =SUM(AA16:AD16) -> #REF! | AA16: =#REF! -> #REF! | AB16: =#REF! -> #REF! | AC16: =#REF! -> #REF! | AD16: =#REF! -> #REF! | AE16: =AF16 -> #REF! | AF16: =#REF! -> #REF! | AG16: =#REF! -> #REF! | AH16: =#REF! -> #REF! | AI16: =#REF! -> #REF! | AJ16: =#REF! -> #REF! | AK16: =#REF! -> #REF! | AL16: =#REF! -> #REF! | AM16: =#REF! -> #REF! | ... AP16: =#REF! -> #REF!
A17: 7 | B17: Подземная часть. Отделка помещений | C17: АР | D17: 1190-01-02-АР0.3 Рев.С, Е, К, М | E17: Милявская А. | F17: 03.05.23 16.08.23 18.09.23 21.12.23 25.12.23 | G17: согласовано | H17: 45285 | I17: 4 | J17: =K17+T17+V17+Z17+AE17 -> #REF! | K17: =SUM(L17:S17) -> #REF! | L17: =#REF! -> #REF! | M17: =#REF! -> #REF! | N17: =#REF! -> #REF! | O17: =#REF! -> #REF! | P17: =#REF! -> #REF! | Q17: =#REF! -> #REF! | R17: =#REF! -> #REF! | S17: =#REF! -> #REF! | T17: =U17 -> #REF! | U17: =#REF! -> #REF! | V17: =SUM(W17:Y17) -> #REF! | W17: =#REF! -> #REF! | X17: =#REF! -> #REF! | Y17: =#REF! -> #REF! | Z17: =SUM(AA17:AD17) -> #REF! | AA17: =#REF! -> #REF! | AB17: =#REF! -> #REF! | AC17: =#REF! -> #REF! | AD17: =#REF! -> #REF! | AE17: =AF17 -> #REF! | AF17: =#REF! -> #REF! | AG17: =#REF! -> #REF! | AH17: =#REF! -> #REF! | AI17: =#REF! -> #REF! | AJ17: =#REF! -> #REF! | AK17: =#REF! -> #REF! | AL17: =#REF! -> #REF! | AM17: =#REF! -> #REF! | ... AP17: =#REF! -> #REF!
A18: 8 | B18: Подземная часть. Элементы заполнения проемов | C18: АР | D18: 1190-01-02-АР0.4 Рев.А, Рев.В 148-0721-ОК-1-0-1,2-1..19-АР0.4 | E18: Милявская А. | F18: 03.05.23 27.09.23 | G18: согласовано | H18: 45237 | I18: 2 | J18: =K18+T18+V18+Z18+AE18 -> #REF! | K18: =SUM(L18:S18) -> #REF! | L18: =#REF! -> #REF! | M18: =#REF! -> #REF! | N18: =#REF! -> #REF! | O18: =#REF! -> #REF! | P18: =#REF! -> #REF! | Q18: =#REF! -> #REF! | R18: =#REF! -> #REF! | S18: =#REF! -> #REF! | T18: =U18 -> #REF! | U18: =#REF! -> #REF! | V18: =SUM(W18:Y18) -> #REF! | W18: =#REF! -> #REF! | X18: =#REF! -> #REF! | Y18: =#REF! -> #REF! | Z18: =SUM(AA18:AD18) -> #REF! | AA18: =#REF! -> #REF! | AB18: =#REF! -> #REF! | AC18: =#REF! -> #REF! | AD18: =#REF! -> #REF! | AE18: =AF18 -> #REF! | AF18: =#REF! -> #REF! | AG18: =#REF! -> #REF! | AH18: =#REF! -> #REF! | AI18: =#REF! -> #REF! | AJ18: =#REF! -> #REF! | AK18: =#REF! -> #REF! | AL18: =#REF! -> #REF! | AM18: =#REF! -> #REF! | ... AP18: =#REF! -> #REF!
A19: 9 | B19: Подземная часть. Разрезы. Лестницы. Лифты. Ограждения | C19: АР | D19: 1190-01-02-АР0.5 Рев.А, рев.L, рев.М | E19: Милявская А. | F19: 03.05.23 17.08.23 | G19: согласовано | H19: 45216 | I19: 2 | J19: =K19+T19+V19+Z19+AE19 -> #REF! | K19: =SUM(L19:S19) -> #REF! | L19: =#REF! -> #REF! | M19: =#REF! -> #REF! | N19: =#REF! -> #REF! | O19: =#REF! -> #REF! | P19: =#REF! -> #REF! | Q19: =#REF! -> #REF! | R19: =#REF! -> #REF! | S19: =#REF! -> #REF! | T19: =U19 -> #REF! | U19: =#REF! -> #REF! | V19: =SUM(W19:Y19) -> #REF! | W19: =#REF! -> #REF! | X19: =#REF! -> #REF! | Y19: =#REF! -> #REF! | Z19: =SUM(AA19:AD19) -> #REF! | AA19: =#REF! -> #REF! | AB19: =#REF! -> #REF! | AC19: =#REF! -> #REF! | AD19: =#REF! -> #REF! | AE19: =AF19 -> #REF! | AF19: =#REF! -> #REF! | AG19: =#REF! -> #REF! | AH19: =#REF! -> #REF! | AI19: =#REF! -> #REF! | AJ19: =#REF! -> #REF! | AK19: =#REF! -> #REF! | AL19: =#REF! -> #REF! | AM19: =#REF! -> #REF! | ... AP19: =#REF! -> #REF!
A20: 10 | B20: Подземная часть. Узлы и детали | C20: АР | D20: 1190-01-02-АР0.6 Рев.В, рев.L, рев.М, рев.N | E20: Милявская А. | F20: 45049 | G20: согласовано | H20: 02.10.23 29.12.23 | I20: 3 | J20: =K20+T20+V20+Z20+AE20 -> #REF! | K20: =SUM(L20:S20) -> #REF! | L20: =#REF! -> #REF! | M20: =#REF! -> #REF! | N20: =#REF! -> #REF! | O20: =#REF! -> #REF! | P20: =#REF! -> #REF! | Q20: =#REF! -> #REF! | R20: =#REF! -> #REF! | S20: =#REF! -> #REF! | T20: =U20 -> #REF! | U20: =#REF! -> #REF! | V20: =SUM(W20:Y20) -> #REF! | W20: =#REF! -> #REF! | X20: =#REF! -> #REF! | Y20: =#REF! -> #REF! | Z20: =SUM(AA20:AD20) -> #REF! | AA20: =#REF! -> #REF! | AB20: =#REF! -> #REF! | AC20: =#REF! -> #REF! | AD20: =#REF! -> #REF! | AE20: =AF20 -> #REF! | AF20: =#REF! -> #REF! | AG20: =#REF! -> #REF! | AH20: =#REF! -> #REF! | AI20: =#REF! -> #REF! | AJ20: =#REF! -> #REF! | AK20: =#REF! -> #REF! | AL20: =#REF! -> #REF! | AM20: =#REF! -> #REF! | ... AP20: =#REF! -> #REF!
A21: 11 | B21: Корпус 2. Секции 10-19. Элементы заполнения проемов 1го этажа. Светопрозрачные конструкции | C21: АР | D21: 1190-02-10-19-АР4.1 от 19.05.23 рев.В от 19.09.23 | E21: Шалаева О. | F21: 30.05.23 05.10.23 29.12.23 | G21: согласовано | H21: 45289 | I21: 4 | J21: =K21+T21+V21+Z21+AE21 -> #REF! | K21: =SUM(L21:S21) -> #REF! | L21: =#REF! -> #REF! | M21: =#REF! -> #REF! | N21: =#REF! -> #REF! | O21: =#REF! -> #REF! | P21: =#REF! -> #REF! | Q21: =#REF! -> #REF! | R21: =#REF! -> #REF! | S21: =#REF! -> #REF! | T21: =U21 -> #REF! | U21: =#REF! -> #REF! | V21: =SUM(W21:Y21) -> #REF! | W21: =#REF! -> #REF! | X21: =#REF! -> #REF! | Y21: =#REF! -> #REF! | Z21: =SUM(AA21:AD21) -> #REF! | AA21: =#REF! -> #REF! | AB21: =#REF! -> #REF! | AC21: =#REF! -> #REF! | AD21: =#REF! -> #REF! | AE21: =AF21 -> #REF! | AF21: =#REF! -> #REF! | AG21: =#REF! -> #REF! | AH21: =#REF! -> #REF! | AI21: =#REF! -> #REF! | AJ21: =#REF! -> #REF! | AK21: =#REF! -> #REF! | AL21: =#REF! -> #REF! | AM21: =#REF! -> #REF! | ... AP21: =#REF! -> #REF!
A22: 12 | B22: Корпус 1. Секции 1-3. Кладочные планы стен и перегородок 1 эт. | C22: АР | D22: 1190-01-1-3-АР2.1 Рев.В, С, D, б/обозначения | E22: Милявская А. | F22: 01.06.23 29.06.23 06.09.23 06.12.23 | G22: повторные замечания | I22: 5 | J22: =K22+T22+V22+Z22+AE22 -> #REF! | K22: =SUM(L22:S22) -> #REF! | L22: =#REF! -> #REF! | M22: =#REF! -> #REF! | N22: =#REF! -> #REF! | O22: =#REF! -> #REF! | P22: =#REF! -> #REF! | Q22: =#REF! -> #REF! | R22: =#REF! -> #REF! | S22: =#REF! -> #REF! | T22: =U22 -> #REF! | U22: =#REF! -> #REF! | V22: =SUM(W22:Y22) -> #REF! | W22: =#REF! -> #REF! | X22: =#REF! -> #REF! | Y22: =#REF! -> #REF! | Z22: =SUM(AA22:AD22) -> #REF! | AA22: =#REF! -> #REF! | AB22: =#REF! -> #REF! | AC22: =#REF! -> #REF! | AD22: =#REF! -> #REF! | AE22: =AF22 -> #REF! | AF22: =#REF! -> #REF! | AG22: =#REF! -> #REF! | AH22: =#REF! -> #REF! | AI22: =#REF! -> #REF! | AJ22: =#REF! -> #REF! | AK22: =#REF! -> #REF! | AL22: =#REF! -> #REF! | AM22: =#REF! -> #REF! | ... AP22: =#REF! -> #REF!
A23: 13 | B23: Корпус 1. Секции 4-6. Кладочные планы стен и перегородок 1 эт. | C23: АР | D23: 1190-01-4-6-АР2.3 рев.D, рев.Е, рев.F, рев.G, рев.Н 148-0721-ОК-1-0-1-4..6-АР2.1 б/рев. | E23: Милявская А. | F23: 01.06.23 13.06.23 07.07.23 20.07.23 15.08.23 08.12.23 | G23: повторные замечания | I23: 7 | J23: =K23+T23+V23+Z23+AE23 -> #REF! | K23: =SUM(L23:S23) -> #REF! | L23: =#REF! -> #REF! | M23: =#REF! -> #REF! | N23: =#REF! -> #REF! | O23: =#REF! -> #REF! | P23: =#REF! -> #REF! | Q23: =#REF! -> #REF! | R23: =#REF! -> #REF! | S23: =#REF! -> #REF! | T23: =U23 -> #REF! | U23: =#REF! -> #REF! | V23: =SUM(W23:Y23) -> #REF! | W23: =#REF! -> #REF! | X23: =#REF! -> #REF! | Y23: =#REF! -> #REF! | Z23: =SUM(AA23:AD23) -> #REF! | AA23: =#REF! -> #REF! | AB23: =#REF! -> #REF! | AC23: =#REF! -> #REF! | AD23: =#REF! -> #REF! | AE23: =AF23 -> #REF! | AF23: =#REF! -> #REF! | AG23: =#REF! -> #REF! | AH23: =#REF! -> #REF! | AI23: =#REF! -> #REF! | AJ23: =#REF! -> #REF! | AK23: =#REF! -> #REF! | AL23: =#REF! -> #REF! | AM23: =#REF! -> #REF! | ... AP23: =#REF! -> #REF!
A24: 14 | B24: Корпус 1. Секции 7-9. Кладочные планы стен и перегородок 1эт. | C24: АР | D24: 1190-01-7-9-АР2.5 Рев.В, рев.Е 148-0721-ОК-1-0-1-7..9-АР2.1 б/рев. | E24: Милявская А. | F24: 01.06.23 07.07.23 15.08.23 08.12.23 | G24: повторные замечания | I24: 5 | J24: =K24+T24+V24+Z24+AE24 -> #REF! | K24: =SUM(L24:S24) -> #REF! | L24: =#REF! -> #REF! | M24: =#REF! -> #REF! | N24: =#REF! -> #REF! | O24: =#REF! -> #REF! | P24: =#REF! -> #REF! | Q24: =#REF! -> #REF! | R24: =#REF! -> #REF! | S24: =#REF! -> #REF! | T24: =U24 -> #REF! | U24: =#REF! -> #REF! | V24: =SUM(W24:Y24) -> #REF! | W24: =#REF! -> #REF! | X24: =#REF! -> #REF! | Y24: =#REF! -> #REF! | Z24: =SUM(AA24:AD24) -> #REF! | AA24: =#REF! -> #REF! | AB24: =#REF! -> #REF! | AC24: =#REF! -> #REF! | AD24: =#REF! -> #REF! | AE24: =AF24 -> #REF! | AF24: =#REF! -> #REF! | AG24: =#REF! -> #REF! | AH24: =#REF! -> #REF! | AI24: =#REF! -> #REF! | AJ24: =#REF! -> #REF! | AK24: =#REF! -> #REF! | AL24: =#REF! -> #REF! | AM24: =#REF! -> #REF! | ... AP24: =#REF! -> #REF!
A25: 15 | B25: Корп.2. Секции 17-19. Кладочные планы стен и перегородок 1-го этажа. | C25: АР | D25: 1190-02-17-19-АР2.5 Рев B АР2.1 Рев.А от24.10.23 | E25: Шалаева О. | F25: 10.07.23 15.11.23 26.12.23 | G25: согласовано | H25: 45289 | I25: 3 | J25: =K25+T25+V25+Z25+AE25 -> #REF! | K25: =SUM(L25:S25) -> #REF! | L25: =#REF! -> #REF! | M25: =#REF! -> #REF! | N25: =#REF! -> #REF! | O25: =#REF! -> #REF! | P25: =#REF! -> #REF! | Q25: =#REF! -> #REF! | R25: =#REF! -> #REF! | S25: =#REF! -> #REF! | T25: =U25 -> #REF! | U25: =#REF! -> #REF! | V25: =SUM(W25:Y25) -> #REF! | W25: =#REF! -> #REF! | X25: =#REF! -> #REF! | Y25: =#REF! -> #REF! | Z25: =SUM(AA25:AD25) -> #REF! | AA25: =#REF! -> #REF! | AB25: =#REF! -> #REF! | AC25: =#REF! -> #REF! | AD25: =#REF! -> #REF! | AE25: =AF25 -> #REF! | AF25: =#REF! -> #REF! | AG25: =#REF! -> #REF! | AH25: =#REF! -> #REF! | AI25: =#REF! -> #REF! | AJ25: =#REF! -> #REF! | AK25: =#REF! -> #REF! | AL25: =#REF! -> #REF! | AM25: =#REF! -> #REF! | ... AP25: =#REF! -> #REF!
A26: 16 | B26: Лифты. Корпус 1 | C26: АР | D26: 1190-01-1-9-АР6, рев.В | E26: Милявская А. | F26: 45110 | G26: согласовано | H26: 45225 | I26: 2 | J26: =K26+T26+V26+Z26+AE26 -> #REF! | K26: =SUM(L26:S26) -> #REF! | L26: =#REF! -> #REF! | M26: =#REF! -> #REF! | N26: =#REF! -> #REF! | O26: =#REF! -> #REF! | P26: =#REF! -> #REF! | Q26: =#REF! -> #REF! | R26: =#REF! -> #REF! | S26: =#REF! -> #REF! | T26: =U26 -> #REF! | U26: =#REF! -> #REF! | V26: =SUM(W26:Y26) -> #REF! | W26: =#REF! -> #REF! | X26: =#REF! -> #REF! | Y26: =#REF! -> #REF! | Z26: =SUM(AA26:AD26) -> #REF! | AA26: =#REF! -> #REF! | AB26: =#REF! -> #REF! | AC26: =#REF! -> #REF! | AD26: =#REF! -> #REF! | AE26: =AF26 -> #REF! | AF26: =#REF! -> #REF! | AG26: =#REF! -> #REF! | AH26: =#REF! -> #REF! | AI26: =#REF! -> #REF! | AJ26: =#REF! -> #REF! | AK26: =#REF! -> #REF! | AL26: =#REF! -> #REF! | AM26: =#REF! -> #REF! | ... AP26: =#REF! -> #REF!
A27: 17 | B27: Корпус 1. Секции 1-3. Кладочные планы стен и перегородок 2-16 этажа | C27: АР | D27: 1190-01-1-3-АР2.2 рев.С 148-0721-ОК-1-0-1-1..3-АР2.2 б/рев. | E27: Милявская А. | F27: 31.07.23 28.12.23 26.01.24 | G27: согласовано | H27: 45323 | I27: 3 | J27: =K27+T27+V27+Z27+AE27 -> #REF! | K27: =SUM(L27:S27) -> #REF! | L27: =#REF! -> #REF! | M27: =#REF! -> #REF! | N27: =#REF! -> #REF! | O27: =#REF! -> #REF! | P27: =#REF! -> #REF! | Q27: =#REF! -> #REF! | R27: =#REF! -> #REF! | S27: =#REF! -> #REF! | T27: =U27 -> #REF! | U27: =#REF! -> #REF! | V27: =SUM(W27:Y27) -> #REF! | W27: =#REF! -> #REF! | X27: =#REF! -> #REF! | Y27: =#REF! -> #REF! | Z27: =SUM(AA27:AD27) -> #REF! | AA27: =#REF! -> #REF! | AB27: =#REF! -> #REF! | AC27: =#REF! -> #REF! | AD27: =#REF! -> #REF! | AE27: =AF27 -> #REF! | AF27: =#REF! -> #REF! | AG27: =#REF! -> #REF! | AH27: =#REF! -> #REF! | AI27: =#REF! -> #REF! | AJ27: =#REF! -> #REF! | AK27: =#REF! -> #REF! | AL27: =#REF! -> #REF! | AM27: =#REF! -> #REF! | ... AP27: =#REF! -> #REF!
A28: 18 | B28: Корпус 1. Секции 4-6. Кладочные планы стен и перегородок 2-16 этажа | C28: АР | D28: 1190-01-4-6-АР2.4 рев.D 148-0721-ОК-1-0-1-4..6-АР2.2 б/рев. | E28: Милявская А. | F28: 02.08.23 09.01.24 26.01.24 | G28: согласовано | H28: 45323 | I28: 3 | J28: =K28+T28+V28+Z28+AE28 -> #REF! | K28: =SUM(L28:S28) -> #REF! | L28: =#REF! -> #REF! | M28: =#REF! -> #REF! | N28: =#REF! -> #REF! | O28: =#REF! -> #REF! | P28: =#REF! -> #REF! | Q28: =#REF! -> #REF! | R28: =#REF! -> #REF! | S28: =#REF! -> #REF! | T28: =U28 -> #REF! | U28: =#REF! -> #REF! | V28: =SUM(W28:Y28) -> #REF! | W28: =#REF! -> #REF! | X28: =#REF! -> #REF! | Y28: =#REF! -> #REF! | Z28: =SUM(AA28:AD28) -> #REF! | AA28: =#REF! -> #REF! | AB28: =#REF! -> #REF! | AC28: =#REF! -> #REF! | AD28: =#REF! -> #REF! | AE28: =AF28 -> #REF! | AF28: =#REF! -> #REF! | AG28: =#REF! -> #REF! | AH28: =#REF! -> #REF! | AI28: =#REF! -> #REF! | AJ28: =#REF! -> #REF! | AK28: =#REF! -> #REF! | AL28: =#REF! -> #REF! | AM28: =#REF! -> #REF! | ... AP28: =#REF! -> #REF!
A29: 19 | B29: Корпус 1. Секции 7-9. Кладочные планы стен и перегородок 2-16 этажа | C29: АР | D29: 1190-01-7-9-АР2.6 рев.С 148-0721-ОК-1-0-1-7..9-АР2.2 б/рев. | E29: Милявская А. | F29: 31.07.23 10.01.24 26.01.24 | G29: согласовано | H29: 45329 | I29: 3 | J29: =K29+T29+V29+Z29+AE29 -> #REF! | K29: =SUM(L29:S29) -> #REF! | L29: =#REF! -> #REF! | M29: =#REF! -> #REF! | N29: =#REF! -> #REF! | O29: =#REF! -> #REF! | P29: =#REF! -> #REF! | Q29: =#REF! -> #REF! | R29: =#REF! -> #REF! | S29: =#REF! -> #REF! | T29: =U29 -> #REF! | U29: =#REF! -> #REF! | V29: =SUM(W29:Y29) -> #REF! | W29: =#REF! -> #REF! | X29: =#REF! -> #REF! | Y29: =#REF! -> #REF! | Z29: =SUM(AA29:AD29) -> #REF! | AA29: =#REF! -> #REF! | AB29: =#REF! -> #REF! | AC29: =#REF! -> #REF! | AD29: =#REF! -> #REF! | AE29: =AF29 -> #REF! | AF29: =#REF! -> #REF! | AG29: =#REF! -> #REF! | AH29: =#REF! -> #REF! | AI29: =#REF! -> #REF! | AJ29: =#REF! -> #REF! | AK29: =#REF! -> #REF! | AL29: =#REF! -> #REF! | AM29: =#REF! -> #REF! | ... AP29: =#REF! -> #REF!
A30: 20 | B30: Корпус 2. Секции 17-19. Кладочные планы стен и перегородок 2-16 этажа | C30: АР | D30: 1190-02-17-19-АР2.6 рев.А 148-0721-ОК-1-0-2-17..19-АР2.2 | E30: Шалаева О. | F30: 01.08.23 16.01.24 29.01.24 07.02.24 | G30: согласовано | H30: 45330 | I30: 4 | J30: =K30+T30+V30+Z30+AE30 -> #REF! | K30: =SUM(L30:S30) -> #REF! | L30: =#REF! -> #REF! | M30: =#REF! -> #REF! | N30: =#REF! -> #REF! | O30: =#REF! -> #REF! | P30: =#REF! -> #REF! | Q30: =#REF! -> #REF! | R30: =#REF! -> #REF! | S30: =#REF! -> #REF! | T30: =U30 -> #REF! | U30: =#REF! -> #REF! | V30: =SUM(W30:Y30) -> #REF! | W30: =#REF! -> #REF! | X30: =#REF! -> #REF! | Y30: =#REF! -> #REF! | Z30: =SUM(AA30:AD30) -> #REF! | AA30: =#REF! -> #REF! | AB30: =#REF! -> #REF! | AC30: =#REF! -> #REF! | AD30: =#REF! -> #REF! | AE30: =AF30 -> #REF! | AF30: =#REF! -> #REF! | AG30: =#REF! -> #REF! | AH30: =#REF! -> #REF! | AI30: =#REF! -> #REF! | AJ30: =#REF! -> #REF! | AK30: =#REF! -> #REF! | AL30: =#REF! -> #REF! | AM30: =#REF! -> #REF! | ... AP30: =#REF! -> #REF!
A31: 21 | B31: Корпус 2. Секции 14-16. Кладочные планы стен и перегородок 2-16 этажа | C31: АР | D31: 1190-02-14-16-АР2.4 рев.А 148-0721-ОК-1-0-2-14..16-АР2.2 б/рев. | E31: Милявская А. | F31: 02.08.23 10.01.24 26.01.24 | G31: согласовано | H31: 45323 | I31: 3 | J31: =K31+T31+V31+Z31+AE31 -> #REF! | K31: =SUM(L31:S31) -> #REF! | L31: =#REF! -> #REF! | M31: =#REF! -> #REF! | N31: =#REF! -> #REF! | O31: =#REF! -> #REF! | P31: =#REF! -> #REF! | Q31: =#REF! -> #REF! | R31: =#REF! -> #REF! | S31: =#REF! -> #REF! | T31: =U31 -> #REF! | U31: =#REF! -> #REF! | V31: =SUM(W31:Y31) -> #REF! | W31: =#REF! -> #REF! | X31: =#REF! -> #REF! | Y31: =#REF! -> #REF! | Z31: =SUM(AA31:AD31) -> #REF! | AA31: =#REF! -> #REF! | AB31: =#REF! -> #REF! | AC31: =#REF! -> #REF! | AD31: =#REF! -> #REF! | AE31: =AF31 -> #REF! | AF31: =#REF! -> #REF! | AG31: =#REF! -> #REF! | AH31: =#REF! -> #REF! | AI31: =#REF! -> #REF! | AJ31: =#REF! -> #REF! | AK31: =#REF! -> #REF! | AL31: =#REF! -> #REF! | AM31: =#REF! -> #REF! | ... AP31: =#REF! -> #REF!
A32: 22 | B32: Архитектурные интерьеры. Центр информирования населения (ЦИН). Отделочные чертежи | C32: АР | D32: Д1729436/22-0-1-9-АИ3 | E32: Кураева Е. | F32: 45146 | G32: выданы замечания | I32: 0 | J32: =K32+T32+V32+Z32+AE32 -> #REF! | K32: =SUM(L32:S32) -> #REF! | L32: =#REF! -> #REF! | M32: =#REF! -> #REF! | N32: =#REF! -> #REF! | O32: =#REF! -> #REF! | P32: =#REF! -> #REF! | Q32: =#REF! -> #REF! | R32: =#REF! -> #REF! | S32: =#REF! -> #REF! | T32: =U32 -> #REF! | U32: =#REF! -> #REF! | V32: =SUM(W32:Y32) -> #REF! | W32: =#REF! -> #REF! | X32: =#REF! -> #REF! | Y32: =#REF! -> #REF! | Z32: =SUM(AA32:AD32) -> #REF! | AA32: =#REF! -> #REF! | AB32: =#REF! -> #REF! | AC32: =#REF! -> #REF! | AD32: =#REF! -> #REF! | AE32: =AF32 -> #REF! | AF32: =#REF! -> #REF! | AG32: =#REF! -> #REF! | AH32: =#REF! -> #REF! | AI32: =#REF! -> #REF! | AJ32: =#REF! -> #REF! | AK32: =#REF! -> #REF! | AL32: =#REF! -> #REF! | AM32: =#REF! -> #REF! | ... AP32: =#REF! -> #REF!
A33: 23 | B33: Корпус 1. Секции 1-9. Кровля | C33: АР | D33: 1190-01-1-9-АР10 рев.В, рев.С 148-0721-ОК-1-0-1-1..9-АР10 | E33: Милявская А. | F33: 15.08.23 29.09.23 26.10.23 14.03.24 | G33: повторные замечания | I33: 3 | J33: =K33+T33+V33+Z33+AE33 -> #REF! | K33: =SUM(L33:S33) -> #REF! | L33: =#REF! -> #REF! | M33: =#REF! -> #REF! | N33: =#REF! -> #REF! | O33: =#REF! -> #REF! | P33: =#REF! -> #REF! | Q33: =#REF! -> #REF! | R33: =#REF! -> #REF! | S33: =#REF! -> #REF! | T33: =U33 -> #REF! | U33: =#REF! -> #REF! | V33: =SUM(W33:Y33) -> #REF! | W33: =#REF! -> #REF! | X33: =#REF! -> #REF! | Y33: =#REF! -> #REF! | Z33: =SUM(AA33:AD33) -> #REF! | AA33: =#REF! -> #REF! | AB33: =#REF! -> #REF! | AC33: =#REF! -> #REF! | AD33: =#REF! -> #REF! | AE33: =AF33 -> #REF! | AF33: =#REF! -> #REF! | AG33: =#REF! -> #REF! | AH33: =#REF! -> #REF! | AI33: =#REF! -> #REF! | AJ33: =#REF! -> #REF! | AK33: =#REF! -> #REF! | AL33: =#REF! -> #REF! | AM33: =#REF! -> #REF! | ... AP33: =#REF! -> #REF!
A34: 24 | B34: Устройство рампы | C34: АР | D34: 1190-01-02-АР0.7 Рев.А | E34: Милявская А. | F34: 45187 | G34: согласовано | H34: 45232 | I34: 1 | J34: =K34+T34+V34+Z34+AE34 -> #REF! | K34: =SUM(L34:S34) -> #REF! | L34: =#REF! -> #REF! | M34: =#REF! -> #REF! | N34: =#REF! -> #REF! | O34: =#REF! -> #REF! | P34: =#REF! -> #REF! | Q34: =#REF! -> #REF! | R34: =#REF! -> #REF! | S34: =#REF! -> #REF! | T34: =U34 -> #REF! | U34: =#REF! -> #REF! | V34: =SUM(W34:Y34) -> #REF! | W34: =#REF! -> #REF! | X34: =#REF! -> #REF! | Y34: =#REF! -> #REF! | Z34: =SUM(AA34:AD34) -> #REF! | AA34: =#REF! -> #REF! | AB34: =#REF! -> #REF! | AC34: =#REF! -> #REF! | AD34: =#REF! -> #REF! | AE34: =AF34 -> #REF! | AF34: =#REF! -> #REF! | AG34: =#REF! -> #REF! | AH34: =#REF! -> #REF! | AI34: =#REF! -> #REF! | AJ34: =#REF! -> #REF! | AK34: =#REF! -> #REF! | AL34: =#REF! -> #REF! | AM34: =#REF! -> #REF! | ... AP34: =#REF! -> #REF!
A35: 25 | B35: Корпус 1. Секции 1-9. Элементы заполнения проемов. Двери, окна. (оконные/балконные блоки) | C35: АР | D35: 1190-01-1-9-АР4.3 Рев.А, рев.В | E35: Милявская А. | F35: 45188 | G35: согласовано | H35: 45198 | I35: 1 | J35: =K35+T35+V35+Z35+AE35 -> #REF! | K35: =SUM(L35:S35) -> #REF! | L35: =#REF! -> #REF! | M35: =#REF! -> #REF! | N35: =#REF! -> #REF! | O35: =#REF! -> #REF! | P35: =#REF! -> #REF! | Q35: =#REF! -> #REF! | R35: =#REF! -> #REF! | S35: =#REF! -> #REF! | T35: =U35 -> #REF! | U35: =#REF! -> #REF! | V35: =SUM(W35:Y35) -> #REF! | W35: =#REF! -> #REF! | X35: =#REF! -> #REF! | Y35: =#REF! -> #REF! | Z35: =SUM(AA35:AD35) -> #REF! | AA35: =#REF! -> #REF! | AB35: =#REF! -> #REF! | AC35: =#REF! -> #REF! | AD35: =#REF! -> #REF! | AE35: =AF35 -> #REF! | AF35: =#REF! -> #REF! | AG35: =#REF! -> #REF! | AH35: =#REF! -> #REF! | AI35: =#REF! -> #REF! | AJ35: =#REF! -> #REF! | AK35: =#REF! -> #REF! | AL35: =#REF! -> #REF! | AM35: =#REF! -> #REF! | ... AP35: =#REF! -> #REF!
A36: 26 | B36: Лифты. Корпус 2 | C36: АР | D36: 148-0721-ОК-1-0-2-10..19-АР6 | E36: Милявская А. | F36: 26.10.23 31.10.23 02.11.23 | G36: согласовано | H36: 45233 | I36: 3 | J36: =K36+T36+V36+Z36+AE36 -> #REF! | K36: =SUM(L36:S36) -> #REF! | L36: =#REF! -> #REF! | M36: =#REF! -> #REF! | N36: =#REF! -> #REF! | O36: =#REF! -> #REF! | P36: =#REF! -> #REF! | Q36: =#REF! -> #REF! | R36: =#REF! -> #REF! | S36: =#REF! -> #REF! | T36: =U36 -> #REF! | U36: =#REF! -> #REF! | V36: =SUM(W36:Y36) -> #REF! | W36: =#REF! -> #REF! | X36: =#REF! -> #REF! | Y36: =#REF! -> #REF! | Z36: =SUM(AA36:AD36) -> #REF! | AA36: =#REF! -> #REF! | AB36: =#REF! -> #REF! | AC36: =#REF! -> #REF! | AD36: =#REF! -> #REF! | AE36: =AF36 -> #REF! | AF36: =#REF! -> #REF! | AG36: =#REF! -> #REF! | AH36: =#REF! -> #REF! | AI36: =#REF! -> #REF! | AJ36: =#REF! -> #REF! | AK36: =#REF! -> #REF! | AL36: =#REF! -> #REF! | AM36: =#REF! -> #REF! | ... AP36: =#REF! -> #REF!
A37: 27 | B37: Корпус 2. Секции 10-13. Кладочные планы стен и перегородок 1-го этажа | C37: АР | D37: 148-0721-ОК-1-0-2-10..13-АР2.1 | E37: Милявская А. | F37: 31.10.23 27.12.23 | G37: согласовано | H37: 45302 | I37: 2 | J37: =K37+T37+V37+Z37+AE37 -> #REF! | K37: =SUM(L37:S37) -> #REF! | L37: =#REF! -> #REF! | M37: =#REF! -> #REF! | N37: =#REF! -> #REF! | O37: =#REF! -> #REF! | P37: =#REF! -> #REF! | Q37: =#REF! -> #REF! | R37: =#REF! -> #REF! | S37: =#REF! -> #REF! | T37: =U37 -> #REF! | U37: =#REF! -> #REF! | V37: =SUM(W37:Y37) -> #REF! | W37: =#REF! -> #REF! | X37: =#REF! -> #REF! | Y37: =#REF! -> #REF! | Z37: =SUM(AA37:AD37) -> #REF! | AA37: =#REF! -> #REF! | AB37: =#REF! -> #REF! | AC37: =#REF! -> #REF! | AD37: =#REF! -> #REF! | AE37: =AF37 -> #REF! | AF37: =#REF! -> #REF! | AG37: =#REF! -> #REF! | AH37: =#REF! -> #REF! | AI37: =#REF! -> #REF! | AJ37: =#REF! -> #REF! | AK37: =#REF! -> #REF! | AL37: =#REF! -> #REF! | AM37: =#REF! -> #REF! | ... AP37: =#REF! -> #REF!
A38: 28 | B38: Корпус 2. Секции 10-13. Кладочные планы стен и перегородок 2-16го этажа | C38: АР | D38: 1190-02-10-13-АР2.2 рев. А от 03.10.23 | E38: Шалаева О. | F38: 01.11.23 16.01.24 29.01.24 | G38: согласовано | H38: 45329 | I38: 3 | J38: =K38+T38+V38+Z38+AE38 -> #REF! | K38: =SUM(L38:S38) -> #REF! | L38: =#REF! -> #REF! | M38: =#REF! -> #REF! | N38: =#REF! -> #REF! | O38: =#REF! -> #REF! | P38: =#REF! -> #REF! | Q38: =#REF! -> #REF! | R38: =#REF! -> #REF! | S38: =#REF! -> #REF! | T38: =U38 -> #REF! | U38: =#REF! -> #REF! | V38: =SUM(W38:Y38) -> #REF! | W38: =#REF! -> #REF! | X38: =#REF! -> #REF! | Y38: =#REF! -> #REF! | Z38: =SUM(AA38:AD38) -> #REF! | AA38: =#REF! -> #REF! | AB38: =#REF! -> #REF! | AC38: =#REF! -> #REF! | AD38: =#REF! -> #REF! | AE38: =AF38 -> #REF! | AF38: =#REF! -> #REF! | AG38: =#REF! -> #REF! | AH38: =#REF! -> #REF! | AI38: =#REF! -> #REF! | AJ38: =#REF! -> #REF! | AK38: =#REF! -> #REF! | AL38: =#REF! -> #REF! | AM38: =#REF! -> #REF! | ... AP38: =#REF! -> #REF!
A39: 29 | B39: Корпус 2. Секции 10-19. Элементы заполнения проемов. Двери. Окна | C39: АР | D39: 148-0721-ОК-1-0-2-10..19-АР4 .3 рев.А от 25.10.23 рев.А от 10.11.23 (Префаб) | E39: Шалаева О. | F39: без замечаний | G39: согласовано | H39: 01.11.23 17.11.23 20.11.23 | I39: 2 | J39: =K39+T39+V39+Z39+AE39 -> #REF! | K39: =SUM(L39:S39) -> #REF! | L39: =#REF! -> #REF! | M39: =#REF! -> #REF! | N39: =#REF! -> #REF! | O39: =#REF! -> #REF! | P39: =#REF! -> #REF! | Q39: =#REF! -> #REF! | R39: =#REF! -> #REF! | S39: =#REF! -> #REF! | T39: =U39 -> #REF! | U39: =#REF! -> #REF! | V39: =SUM(W39:Y39) -> #REF! | W39: =#REF! -> #REF! | X39: =#REF! -> #REF! | Y39: =#REF! -> #REF! | Z39: =SUM(AA39:AD39) -> #REF! | AA39: =#REF! -> #REF! | AB39: =#REF! -> #REF! | AC39: =#REF! -> #REF! | AD39: =#REF! -> #REF! | AE39: =AF39 -> #REF! | AF39: =#REF! -> #REF!
A40: 30 | B40: Корпус 2. Секции 10-19. Элементы заполнения проемов типового этажа. Светопрозрачные конструкции | C40: АР | D40: 148-0721-ОК-1-0-2-10..19-АР4.2 02.11.23, 26.12.23, 28.12.23, 29.12.23 | E40: Милявская А. | F40: 02.11.23 26.12.23 28.12.23 | G40: согласовано | H40: 45289 | I40: 3 | J40: =K40+T40+V40+Z40+AE40 -> #REF! | K40: =SUM(L40:S40) -> #REF! | L40: =#REF! -> #REF! | M40: =#REF! -> #REF! | N40: =#REF! -> #REF! | O40: =#REF! -> #REF! | P40: =#REF! -> #REF! | Q40: =#REF! -> #REF! | R40: =#REF! -> #REF! | S40: =#REF! -> #REF! | T40: =U40 -> #REF! | U40: =#REF! -> #REF! | V40: =SUM(W40:Y40) -> #REF! | W40: =#REF! -> #REF! | X40: =#REF! -> #REF! | Y40: =#REF! -> #REF! | Z40: =SUM(AA40:AD40) -> #REF! | AA40: =#REF! -> #REF! | AB40: =#REF! -> #REF! | AC40: =#REF! -> #REF! | AD40: =#REF! -> #REF! | AE40: =AF40 -> #REF! | AF40: =#REF! -> #REF! | AG40: =#REF! -> #REF! | AH40: =#REF! -> #REF! | AI40: =#REF! -> #REF! | AJ40: =#REF! -> #REF! | AK40: =#REF! -> #REF! | AL40: =#REF! -> #REF! | AM40: =#REF! -> #REF! | ... AP40: =#REF! -> #REF!
A41: 31 | B41: Корпус 2. Секции 14-16. Кладочные планы стен и перегородок 1-го этажа | C41: АР | D41: 148-0721-ОК-1-0-2-14..16-АР2.1 | E41: Милявская А. | F41: 03.11.23 28.12.23 | G41: согласовано | H41: 45302 | I41: 2 | J41: =K41+T41+V41+Z41+AE41 -> #REF! | K41: =SUM(L41:S41) -> #REF! | L41: =#REF! -> #REF! | M41: =#REF! -> #REF! | N41: =#REF! -> #REF! | O41: =#REF! -> #REF! | P41: =#REF! -> #REF! | Q41: =#REF! -> #REF! | R41: =#REF! -> #REF! | S41: =#REF! -> #REF! | T41: =U41 -> #REF! | U41: =#REF! -> #REF! | V41: =SUM(W41:Y41) -> #REF! | W41: =#REF! -> #REF! | X41: =#REF! -> #REF! | Y41: =#REF! -> #REF! | Z41: =SUM(AA41:AD41) -> #REF! | AA41: =#REF! -> #REF! | AB41: =#REF! -> #REF! | AC41: =#REF! -> #REF! | AD41: =#REF! -> #REF! | AE41: =AF41 -> #REF! | AF41: =#REF! -> #REF! | AG41: =#REF! -> #REF! | AH41: =#REF! -> #REF! | AI41: =#REF! -> #REF! | AJ41: =#REF! -> #REF! | AK41: =#REF! -> #REF! | AL41: =#REF! -> #REF! | AM41: =#REF! -> #REF! | ... AP41: =#REF! -> #REF!
A42: 32 | B42: Корпус 2. Секции 10-19. Кровля | C42: АР | D42: 148-0721-ОК-1-0-2-10..19-АР10 | E42: Милявская А. | F42: 45237 | G42: выданы замечания | I42: 0 | J42: =K42+T42+V42+Z42+AE42 -> #REF! | K42: =SUM(L42:S42) -> #REF! | L42: =#REF! -> #REF! | M42: =#REF! -> #REF! | N42: =#REF! -> #REF! | O42: =#REF! -> #REF! | P42: =#REF! -> #REF! | Q42: =#REF! -> #REF! | R42: =#REF! -> #REF! | S42: =#REF! -> #REF! | T42: =U42 -> #REF! | U42: =#REF! -> #REF! | V42: =SUM(W42:Y42) -> #REF! | W42: =#REF! -> #REF! | X42: =#REF! -> #REF! | Y42: =#REF! -> #REF! | Z42: =SUM(AA42:AD42) -> #REF! | AA42: =#REF! -> #REF! | AB42: =#REF! -> #REF! | AC42: =#REF! -> #REF! | AD42: =#REF! -> #REF! | AE42: =AF42 -> #REF! | AF42: =#REF! -> #REF! | AG42: =#REF! -> #REF! | AH42: =#REF! -> #REF! | AI42: =#REF! -> #REF! | AJ42: =#REF! -> #REF! | AK42: =#REF! -> #REF! | AL42: =#REF! -> #REF! | AM42: =#REF! -> #REF! | ... AP42: =#REF! -> #REF!
A43: 33 | B43: Технологические решения подземной автостоянки | C43: ТХ | D43: 148-0721-ОК-1-0-1,2-1..19-ТХ1 | E43: Милявская А. Шалаева О.В. | F43: 09.11.23 23.11.23 | G43: согласовано | H43: 45261 | I43: 2 | J43: =K43+T43+V43+Z43+AE43 -> #REF! | K43: =SUM(L43:S43) -> #REF! | L43: =#REF! -> #REF! | M43: =#REF! -> #REF! | N43: =#REF! -> #REF! | O43: =#REF! -> #REF! | P43: =#REF! -> #REF! | Q43: =#REF! -> #REF! | R43: =#REF! -> #REF! | S43: =#REF! -> #REF! | T43: =U43 -> #REF! | U43: =#REF! -> #REF! | V43: =SUM(W43:Y43) -> #REF! | W43: =#REF! -> #REF! | X43: =#REF! -> #REF! | Y43: =#REF! -> #REF! | Z43: =SUM(AA43:AD43) -> #REF! | AA43: =#REF! -> #REF! | AB43: =#REF! -> #REF! | AC43: =#REF! -> #REF! | AD43: =#REF! -> #REF! | AE43: =AF43 -> #REF! | AF43: =#REF! -> #REF! | AG43: =#REF! -> #REF! | AH43: =#REF! -> #REF! | AI43: =#REF! -> #REF! | AJ43: =#REF! -> #REF! | AK43: =#REF! -> #REF! | AL43: =#REF! -> #REF! | AM43: =#REF! -> #REF! | ... AP43: =#REF! -> #REF!
A44: 34 | B44: Расположение адресных указателей | C44: АР | D44: лист в dwg | E44: Милявская А. | F44: 45240 | G44: выданы замечания | I44: 0 | J44: =K44+T44+V44+Z44+AE44 -> 0 | K44: =SUM(L44:S44) -> 0 | T44: =U44 -> 0 | V44: =SUM(W44:Y44) -> 0 | Z44: =SUM(AA44:AD44) -> 0 | AE44: =AF44 -> 0
A45: 35 | B45: Технологические решения мусороудаления | C45: АР | D45: 148-0721-ОК-1-0-1,2-1..19-М | E45: Иванов СВ | F45: 17.11.23 12.12.23 | G45: повторные замечания | I45: 1 | J45: =K45+T45+V45+Z45+AE45 -> #REF! | K45: =SUM(L45:S45) -> #REF! | L45: =#REF! -> #REF! | M45: =#REF! -> #REF! | N45: =#REF! -> #REF! | O45: =#REF! -> #REF! | P45: =#REF! -> #REF! | Q45: =#REF! -> #REF! | R45: =#REF! -> #REF! | S45: =#REF! -> #REF! | T45: =U45 -> #REF! | U45: =#REF! -> #REF! | V45: =SUM(W45:Y45) -> #REF! | W45: =#REF! -> #REF! | X45: =#REF! -> #REF! | Y45: =#REF! -> #REF! | Z45: =SUM(AA45:AD45) -> #REF! | AA45: =#REF! -> #REF! | AB45: =#REF! -> #REF! | AC45: =#REF! -> #REF! | AD45: =#REF! -> #REF! | AE45: =AF45 -> #REF! | AF45: =#REF! -> #REF! | AG45: =#REF! -> #REF! | AH45: =#REF! -> #REF! | AI45: =#REF! -> #REF! | AJ45: =#REF! -> #REF! | AK45: =#REF! -> #REF! | AL45: =#REF! -> #REF! | AM45: =#REF! -> #REF! | ... AP45: =#REF! -> #REF!
A46: 36 | B46: Технологические решения центра информирования населения | C46: АР | D46: 148-0721-ОК-1-0-1,2-1..19-ТХ4 | E46: Иванов СВ | F46: 17.11.23 06.12.23 | G46: согласовано | H46: 45267 | I46: 1 | J46: =K46+T46+V46+Z46+AE46 -> #REF! | K46: =SUM(L46:S46) -> #REF! | L46: =#REF! -> #REF! | M46: =#REF! -> #REF! | N46: =#REF! -> #REF! | O46: =#REF! -> #REF! | P46: =#REF! -> #REF! | Q46: =#REF! -> #REF! | R46: =#REF! -> #REF! | S46: =#REF! -> #REF! | T46: =U46 -> #REF! | U46: =#REF! -> #REF! | V46: =SUM(W46:Y46) -> #REF! | W46: =#REF! -> #REF! | X46: =#REF! -> #REF! | Y46: =#REF! -> #REF! | Z46: =SUM(AA46:AD46) -> #REF! | AA46: =#REF! -> #REF! | AB46: =#REF! -> #REF! | AC46: =#REF! -> #REF! | AD46: =#REF! -> #REF! | AE46: =AF46 -> #REF! | AF46: =#REF! -> #REF! | AG46: =#REF! -> #REF! | AH46: =#REF! -> #REF! | AI46: =#REF! -> #REF! | AJ46: =#REF! -> #REF! | AK46: =#REF! -> #REF! | AL46: =#REF! -> #REF! | AM46: =#REF! -> #REF! | ... AP46: =#REF! -> #REF!
A47: 37 | B47: Корпус 1. Секции 1-9. Элементы заполнения проемов. Двери, окна. (оконные/балконные блоки) | C47: АР | D47: 148-0721-ОК-1-0-1-1.9-АР4.3 рев.А от 10.11.23 | E47: Шалаева О. | F47: без замечаний | G47: согласовано | H47: 17.11.23 20.11.23 | I47: 0 | J47: =K47+T47+V47+Z47+AE47 -> 0 | K47: =SUM(L47:S47) -> 0 | T47: =U47 -> 0 | V47: =SUM(W47:Y47) -> 0 | Z47: =SUM(AA47:AD47) -> 0 | AE47: =AF47 -> 0
A48: 38 | B48: Корпус 1. Секции 1-3. Отделка помещений 2-16го этажа | C48: АР | D48: 148-0721-ОК-1-0-1-1..3-АР3.2 | E48: Милявская А. | F48: 27.11.23 27.02.24 | G48: согласовано | H48: 45358 | I48: 2 | J48: =K48+T48+V48+Z48+AE48 -> #REF! | K48: =SUM(L48:S48) -> #REF! | L48: =#REF! -> #REF! | M48: =#REF! -> #REF! | N48: =#REF! -> #REF! | O48: =#REF! -> #REF! | P48: =#REF! -> #REF! | Q48: =#REF! -> #REF! | R48: =#REF! -> #REF! | S48: =#REF! -> #REF! | T48: =U48 -> #REF! | U48: =#REF! -> #REF! | V48: =SUM(W48:Y48) -> #REF! | W48: =#REF! -> #REF! | X48: =#REF! -> #REF! | Y48: =#REF! -> #REF! | Z48: =SUM(AA48:AD48) -> #REF! | AA48: =#REF! -> #REF! | AB48: =#REF! -> #REF! | AC48: =#REF! -> #REF! | AD48: =#REF! -> #REF! | AE48: =AF48 -> #REF! | AF48: =#REF! -> #REF! | AG48: =#REF! -> #REF! | AH48: =#REF! -> #REF! | AI48: =#REF! -> #REF! | AJ48: =#REF! -> #REF! | AK48: =#REF! -> #REF! | AL48: =#REF! -> #REF! | AM48: =#REF! -> #REF! | ... AP48: =#REF! -> #REF!
A49: 39 | B49: Корпус 1. Секции 4-6. Отделка помещений 2-16го этажа | C49: АР | D49: 148-0721-ОК-1-0-1-4..6-АР3.2 | E49: Милявская А. | F49: 28.11.23 27.02.24 | G49: согласовано | H49: 45362 | I49: 2 | J49: =K49+T49+V49+Z49+AE49 -> #REF! | K49: =SUM(L49:S49) -> #REF! | L49: =#REF! -> #REF! | M49: =#REF! -> #REF! | N49: =#REF! -> #REF! | O49: =#REF! -> #REF! | P49: =#REF! -> #REF! | Q49: =#REF! -> #REF! | R49: =#REF! -> #REF! | S49: =#REF! -> #REF! | T49: =U49 -> #REF! | U49: =#REF! -> #REF! | V49: =SUM(W49:Y49) -> #REF! | W49: =#REF! -> #REF! | X49: =#REF! -> #REF! | Y49: =#REF! -> #REF! | Z49: =SUM(AA49:AD49) -> #REF! | AA49: =#REF! -> #REF! | AB49: =#REF! -> #REF! | AC49: =#REF! -> #REF! | AD49: =#REF! -> #REF! | AE49: =AF49 -> #REF! | AF49: =#REF! -> #REF! | AG49: =#REF! -> #REF! | AH49: =#REF! -> #REF! | AI49: =#REF! -> #REF! | AJ49: =#REF! -> #REF! | AK49: =#REF! -> #REF! | AL49: =#REF! -> #REF! | AM49: =#REF! -> #REF! | ... AP49: =#REF! -> #REF!
A50: 40 | B50: Корпус 1. Секции 7-9. Отделка помещений 2-16го этажа | C50: АР | D50: 148-0721-ОК-1-0-1-7..9-АР3.2 | E50: Милявская А. | F50: 29.11.23 27.02.24 | G50: согласовано | H50: 45362 | I50: 2 | J50: =K50+T50+V50+Z50+AE50 -> #REF! | K50: =SUM(L50:S50) -> #REF! | L50: =#REF! -> #REF! | M50: =#REF! -> #REF! | N50: =#REF! -> #REF! | O50: =#REF! -> #REF! | P50: =#REF! -> #REF! | Q50: =#REF! -> #REF! | R50: =#REF! -> #REF! | S50: =#REF! -> #REF! | T50: =U50 -> #REF! | U50: =#REF! -> #REF! | V50: =SUM(W50:Y50) -> #REF! | W50: =#REF! -> #REF! | X50: =#REF! -> #REF! | Y50: =#REF! -> #REF! | Z50: =SUM(AA50:AD50) -> #REF! | AA50: =#REF! -> #REF! | AB50: =#REF! -> #REF! | AC50: =#REF! -> #REF! | AD50: =#REF! -> #REF! | AE50: =AF50 -> #REF! | AF50: =#REF! -> #REF! | AG50: =#REF! -> #REF! | AH50: =#REF! -> #REF! | AI50: =#REF! -> #REF! | AJ50: =#REF! -> #REF! | AK50: =#REF! -> #REF! | AL50: =#REF! -> #REF! | AM50: =#REF! -> #REF! | ... AP50: =#REF! -> #REF!
A51: 41 | B51: Корпус 1. Секции 1-9. Лестницы и ограждения | C51: АР | D51: 148-0721-ОК-1-0-1-1..9-АР5 | E51: Иванов СВ | F51: 45279 | G51: согласовано | H51: 45308 | I51: 1 | J51: =K51+T51+V51+Z51+AE51 -> #REF! | K51: =SUM(L51:S51) -> #REF! | L51: =#REF! -> #REF! | M51: =#REF! -> #REF! | N51: =#REF! -> #REF! | O51: =#REF! -> #REF! | P51: =#REF! -> #REF! | Q51: =#REF! -> #REF! | R51: =#REF! -> #REF! | S51: =#REF! -> #REF! | T51: =U51 -> #REF! | U51: =#REF! -> #REF! | V51: =SUM(W51:Y51) -> #REF! | W51: =#REF! -> #REF! | X51: =#REF! -> #REF! | Y51: =#REF! -> #REF! | Z51: =SUM(AA51:AD51) -> #REF! | AA51: =#REF! -> #REF! | AB51: =#REF! -> #REF! | AC51: =#REF! -> #REF! | AD51: =#REF! -> #REF! | AE51: =AF51 -> #REF! | AF51: =#REF! -> #REF! | AG51: =#REF! -> #REF! | AH51: =#REF! -> #REF! | AI51: =#REF! -> #REF! | AJ51: =#REF! -> #REF! | AK51: =#REF! -> #REF! | AL51: =#REF! -> #REF! | AM51: =#REF! -> #REF! | ... AP51: =#REF! -> #REF!
A52: 42 | B52: Корпус 2. Секции 10-19. Лестницы и ограждения | C52: АР | D52: 148-0721-ОК-1-0-2-10..19-АР5 | E52: Иванов СВ | F52: 45279 | G52: согласовано | H52: 45308 | I52: 1 | J52: =K52+T52+V52+Z52+AE52 -> #REF! | K52: =SUM(L52:S52) -> #REF! | L52: =#REF! -> #REF! | M52: =#REF! -> #REF! | N52: =#REF! -> #REF! | O52: =#REF! -> #REF! | P52: =#REF! -> #REF! | Q52: =#REF! -> #REF! | R52: =#REF! -> #REF! | S52: =#REF! -> #REF! | T52: =U52 -> #REF! | U52: =#REF! -> #REF! | V52: =SUM(W52:Y52) -> #REF! | W52: =#REF! -> #REF! | X52: =#REF! -> #REF! | Y52: =#REF! -> #REF! | Z52: =SUM(AA52:AD52) -> #REF! | AA52: =#REF! -> #REF! | AB52: =#REF! -> #REF! | AC52: =#REF! -> #REF! | AD52: =#REF! -> #REF! | AE52: =AF52 -> #REF! | AF52: =#REF! -> #REF! | AG52: =#REF! -> #REF! | AH52: =#REF! -> #REF! | AI52: =#REF! -> #REF! | AJ52: =#REF! -> #REF! | AK52: =#REF! -> #REF! | AL52: =#REF! -> #REF! | AM52: =#REF! -> #REF! | ... AP52: =#REF! -> #REF!
A53: 43 | B53: Корпус 1. Секции 1-9. Архитектурные планы | C53: АР | D53: 148-0721-ОК-1-0-1-1..9-АР1 | G53: в плане | I53: 0 | J53: =K53+T53+V53+Z53+AE53 -> 0 | K53: =SUM(L53:S53) -> 0 | T53: =U53 -> 0 | V53: =SUM(W53:Y53) -> 0 | Z53: =SUM(AA53:AD53) -> 0 | AE53: =AF53 -> 0
A54: 44 | B54: Корпус 2. Секции 10-19. Архитектурные планы | C54: АР | D54: 148-0721-ОК-1-0-2-10..19-АР1 | G54: в плане | I54: 0 | J54: =K54+T54+V54+Z54+AE54 -> 0 | K54: =SUM(L54:S54) -> 0 | T54: =U54 -> 0 | V54: =SUM(W54:Y54) -> 0 | Z54: =SUM(AA54:AD54) -> 0 | AE54: =AF54 -> 0
A55: 45 | B55: Корпус 2. Секции 10-13. Отделка помещений 2-16го этажа | C55: АР | D55: 148-0721-ОК-1-0-2-10..13-АР3.2 | E55: Милявская АА | F55: 45366 | G55: выданы замечания | I55: 0 | J55: =K55+T55+V55+Z55+AE55 -> #REF! | K55: =SUM(L55:S55) -> #REF! | L55: =#REF! -> #REF! | M55: =#REF! -> #REF! | N55: =#REF! -> #REF! | O55: =#REF! -> #REF! | P55: =#REF! -> #REF! | Q55: =#REF! -> #REF! | R55: =#REF! -> #REF! | S55: =#REF! -> #REF! | T55: =U55 -> #REF! | U55: =#REF! -> #REF! | V55: =SUM(W55:Y55) -> #REF! | W55: =#REF! -> #REF! | X55: =#REF! -> #REF! | Y55: =#REF! -> #REF! | Z55: =SUM(AA55:AD55) -> #REF! | AA55: =#REF! -> #REF! | AB55: =#REF! -> #REF! | AC55: =#REF! -> #REF! | AD55: =#REF! -> #REF! | AE55: =AF55 -> #REF! | AF55: =#REF! -> #REF! | AG55: =#REF! -> #REF! | AH55: =#REF! -> #REF! | AI55: =#REF! -> #REF! | AJ55: =#REF! -> #REF! | AK55: =#REF! -> #REF! | AL55: =#REF! -> #REF! | AM55: =#REF! -> #REF! | ... AP55: =#REF! -> #REF!
A56: 46 | B56: Корпус 2. Секции 14-16. Отделка помещений 2-16го этажа | C56: АР | D56: 148-0721-ОК-1-0-2-14..16-АР3.2 | E56: Милявская АА | F56: 45366 | G56: выданы замечания | I56: 0 | J56: =K56+T56+V56+Z56+AE56 -> #REF! | K56: =SUM(L56:S56) -> #REF! | L56: =#REF! -> #REF! | M56: =#REF! -> #REF! | N56: =#REF! -> #REF! | O56: =#REF! -> #REF! | P56: =#REF! -> #REF! | Q56: =#REF! -> #REF! | R56: =#REF! -> #REF! | S56: =#REF! -> #REF! | T56: =U56 -> #REF! | U56: =#REF! -> #REF! | V56: =SUM(W56:Y56) -> #REF! | W56: =#REF! -> #REF! | X56: =#REF! -> #REF! | Y56: =#REF! -> #REF! | Z56: =SUM(AA56:AD56) -> #REF! | AA56: =#REF! -> #REF! | AB56: =#REF! -> #REF! | AC56: =#REF! -> #REF! | AD56: =#REF! -> #REF! | AE56: =AF56 -> #REF! | AF56: =#REF! -> #REF! | AG56: =#REF! -> #REF! | AH56: =#REF! -> #REF! | AI56: =#REF! -> #REF! | AJ56: =#REF! -> #REF! | AK56: =#REF! -> #REF! | AL56: =#REF! -> #REF! | AM56: =#REF! -> #REF! | ... AP56: =#REF! -> #REF!
A57: 47 | B57: Корпус 2. Секции 17-19. Отделка помещений 2-16го этажа | C57: АР | D57: 148-0721-ОК-1-0-2-17..19-АР3.2 | E57: Милявская АА | F57: 45366 | G57: выданы замечания | I57: 0 | J57: =K57+T57+V57+Z57+AE57 -> #REF! | K57: =SUM(L57:S57) -> #REF! | L57: =#REF! -> #REF! | M57: =#REF! -> #REF! | N57: =#REF! -> #REF! | O57: =#REF! -> #REF! | P57: =#REF! -> #REF! | Q57: =#REF! -> #REF! | R57: =#REF! -> #REF! | S57: =#REF! -> #REF! | T57: =U57 -> #REF! | U57: =#REF! -> #REF! | V57: =SUM(W57:Y57) -> #REF! | W57: =#REF! -> #REF! | X57: =#REF! -> #REF! | Y57: =#REF! -> #REF! | Z57: =SUM(AA57:AD57) -> #REF! | AA57: =#REF! -> #REF! | AB57: =#REF! -> #REF! | AC57: =#REF! -> #REF! | AD57: =#REF! -> #REF! | AE57: =AF57 -> #REF! | AF57: =#REF! -> #REF! | AG57: =#REF! -> #REF! | AH57: =#REF! -> #REF! | AI57: =#REF! -> #REF! | AJ57: =#REF! -> #REF! | AK57: =#REF! -> #REF! | AL57: =#REF! -> #REF! | AM57: =#REF! -> #REF! | ... AP57: =#REF! -> #REF!
A58: 48 | B58: Архитектурные интерьеры. Отделочные чертежи МОП. Корпус 2. Секции 15-19 | C58: АИ | D58: 148-0721-ОК-1-0-2-15..19-АИ1.4 | E58: Милявская АА | F58: 45384 | G58: выданы замечания | I58: 0 | J58: =K58+T58+V58+Z58+AE58 -> 35 | K58: =SUM(L58:S58) -> 15 | L58: ='48'!H3 -> 4 | M58: ='48'!I3 -> 0 | N58: ='48'!J3 -> 11 | O58: ='48'!L3 -> 0 | P58: ='48'!K3 -> 0 | Q58: ='48'!M3 -> 0 | R58: ='48'!N3 -> 0 | S58: ='48'!O3 -> 0 | T58: =U58 -> 0 | U58: ='48'!P3 -> 0 | V58: =SUM(W58:Y58) -> 0 | W58: ='48'!Q3 -> 0 | X58: ='48'!R3 -> 0 | Y58: ='48'!S3 -> 0 | Z58: =SUM(AA58:AD58) -> 20 | AA58: ='48'!T3 -> 0 | AB58: ='48'!U3 -> 3 | AC58: ='48'!V3 -> 17 | AD58: ='48'!W3 -> 0 | AE58: =AF58 -> 0 | AF58: ='48'!X3 -> 0 | AG58: ='48'!B4 -> 45 | AH58: ='48'!C4 -> 42 | AI58: ='48'!D4 -> 0.93333333 | AJ58: ='48'!A7 -> 0 | AK58: ='48'!B7 -> 0.37777778 | AL58: ='48'!C7 -> 0.022222222 | AM58: ='48'!D7 -> L | AN58: ='48'!G7 -> 34 | AO58: ='48'!G8 -> 1 | AP58: ='48'!G9 -> 0
A59: =A58+1 -> 49 | J59: =K59+T59+V59+Z59+AE59 -> 0 | K59: =SUM(L59:S59) -> 0 | T59: =U59 -> 0 | V59: =SUM(W59:Y59) -> 0 | Z59: =SUM(AA59:AD59) -> 0 | AE59: =AF59 -> 0
A60: =A59+1 -> 50 | J60: =K60+T60+V60+Z60+AE60 -> 0 | K60: =SUM(L60:S60) -> 0 | T60: =U60 -> 0 | V60: =SUM(W60:Y60) -> 0 | Z60: =SUM(AA60:AD60) -> 0 | AE60: =AF60 -> 0
A61: =A60+1 -> 51 | J61: =K61+T61+V61+Z61+AE61 -> 0 | K61: =SUM(L61:S61) -> 0 | T61: =U61 -> 0 | V61: =SUM(W61:Y61) -> 0 | Z61: =SUM(AA61:AD61) -> 0 | AE61: =AF61 -> 0
A62: =A61+1 -> 52 | J62: =K62+T62+V62+Z62+AE62 -> 0 | K62: =SUM(L62:S62) -> 0 | T62: =U62 -> 0 | V62: =SUM(W62:Y62) -> 0 | Z62: =SUM(AA62:AD62) -> 0 | AE62: =AF62 -> 0
A63: =A62+1 -> 53 | J63: =K63+T63+V63+Z63+AE63 -> 0 | K63: =SUM(L63:S63) -> 0 | T63: =U63 -> 0 | V63: =SUM(W63:Y63) -> 0 | Z63: =SUM(AA63:AD63) -> 0 | AE63: =AF63 -> 0
A64: =A63+1 -> 54 | J64: =K64+T64+V64+Z64+AE64 -> 0 | K64: =SUM(L64:S64) -> 0 | T64: =U64 -> 0 | V64: =SUM(W64:Y64) -> 0 | Z64: =SUM(AA64:AD64) -> 0 | AE64: =AF64 -> 0
A65: =A64+1 -> 55 | J65: =K65+T65+V65+Z65+AE65 -> 0 | K65: =SUM(L65:S65) -> 0 | T65: =U65 -> 0 | V65: =SUM(W65:Y65) -> 0 | Z65: =SUM(AA65:AD65) -> 0 | AE65: =AF65 -> 0
A66: =A65+1 -> 56 | J66: =K66+T66+V66+Z66+AE66 -> 0 | K66: =SUM(L66:S66) -> 0 | T66: =U66 -> 0 | V66: =SUM(W66:Y66) -> 0 | Z66: =SUM(AA66:AD66) -> 0 | AE66: =AF66 -> 0
A67: =A66+1 -> 57 | J67: =K67+T67+V67+Z67+AE67 -> 0 | K67: =SUM(L67:S67) -> 0 | T67: =U67 -> 0 | V67: =SUM(W67:Y67) -> 0 | Z67: =SUM(AA67:AD67) -> 0 | AE67: =AF67 -> 0
A68: =A67+1 -> 58 | J68: =K68+T68+V68+Z68+AE68 -> 0 | K68: =SUM(L68:S68) -> 0 | T68: =U68 -> 0 | V68: =SUM(W68:Y68) -> 0 | Z68: =SUM(AA68:AD68) -> 0 | AE68: =AF68 -> 0
A69: =A68+1 -> 59 | J69: =K69+T69+V69+Z69+AE69 -> 0 | K69: =SUM(L69:S69) -> 0 | T69: =U69 -> 0 | V69: =SUM(W69:Y69) -> 0 | Z69: =SUM(AA69:AD69) -> 0 | AE69: =AF69 -> 0
A70: =A69+1 -> 60 | J70: =K70+T70+V70+Z70+AE70 -> 0 | K70: =SUM(L70:S70) -> 0 | T70: =U70 -> 0 | V70: =SUM(W70:Y70) -> 0 | Z70: =SUM(AA70:AD70) -> 0 | AE70: =AF70 -> 0
... A90: =A89+1 -> 80 | J90: =K90+T90+V90+Z90+AE90 -> 0 | K90: =SUM(L90:S90) -> 0 | T90: =U90 -> 0 | V90: =SUM(W90:Y90) -> 0 | Z90: =SUM(AA90:AD90) -> 0 | AE90: =AF90 -> 0

Sheet ШАБЛОН!
A1: Номер замечания к комплекту | B1: Обозначение комплекта номер изм. (изм.0, изм.1, изм.2 и т.д. - записывать все изм., которые приходят на проверку) | C1: Номер листа в разделе | D1: Текст замечания | E1: Эскиз к замечанию (при необходимости) | F1: Ссылка на требование (обозначение документа, пункт НД или лист типового проекта и т.д) | G1: Коэффицент замечания | H1: Тип замечания | I1: ФИО проверяющего | J1: Дата выдачи замечаний | K1: Статус замечаия | L1: Ответ от субподрядчика на замечания (при необходимости) - УКАЗАТЬ НА КАКОМ ЛИСТЕ ВНЕСЕНЫ ИЗМЕНЕНИЯ | M1: Дата повторной проверки | N1: Комментарий/ замечание | O1: Ответ от субподрядчика на замечания (при необходимости) - УКАЗАТЬ НА КАКОМ ЛИСТЕ ВНЕСЕНЫ ИЗМЕНЕНИЯ | P1: Дата повторной проверки | Q1: Комментарий/ замечание | R1: Ответ субподрядчика на замечания (при необхродимости) | S1: Дата повторной проверки | T1: Комментарий/ замечание | U1: Ответ субподрядчика на замечания (при необхродимости) | V1: Дата повторной проверки | W1: Комментарий/ замечание | X1: Ответ субподрядчика на замечания (при необхродимости)
B2: Заполнить вручную | C2: Заполнить вручную | D2: формула | H2: 1 - Несоответствие продуктовым требованиям ПИК-Стандарт | I2: 2 - Несоответствие Бренд-листам ПИК | J2: 3 - Несоответствие Каталогу отделки | K2: 5 - Ошибка в применении СТМ | L2: 4 - Несоответствие Каталогу оборудования | M2: 6 - Ошибка в применении сборных ЛМ | N2: 7 - Ошибка в применении шкаф-пакетов | O2: 8 - Ошибка в применении шахт-пакетов | P2: 9 - Несоответствие типологическим требованиям ПИК-Стандарт | Q2: 10 - Несоответствие НТД РФ | R2: 11 - Несоответствие ИРД (кроме ТУ, СТУ), АПР, ПД | S2: 12 - Несоответствие требованиям ТУ, СТУ | T2: 13 - Ошибка в технических решениях | U2: 14 - Неувязка м/у собой комплектов РД | V2: 15 - Недостаточность информации влияющей на СМР | W2: 16 - Нерациональное решение | X2: 17 - Оформление
B3: общее количество листов (по ведомости рабочих чертежей) | C3: количество листов с замечаниями | D3: коэффициент возврата Кв | H3: =COUNTIF($H10:$H168,"1 - Несоответствие продуктовым требованиям ПИК-Стандарт") -> 1 | I3: =COUNTIF($H10:$H168,"2 - Несоответствие Бренд-листам ПИК") -> 2 | J3: =COUNTIF($H10:$H168,"3 - Несоответствие Каталогу отделки") -> 1 | K3: =COUNTIF($H10:$H168,"5 - Ошибка в применении СТМ") -> 1 | L3: =COUNTIF($H10:$H168,"4 - Несоответствие Каталогу оборудования") -> 0 | M3: =COUNTIF($H10:$H168,"6 - Ошибка в применении сборных ЛМ") -> 1 | N3: =COUNTIF($H10:$H168,"7 - Ошибка в применении шкаф-пакетов") -> 1 | O3: =COUNTIF($H10:$H168,"8 - Ошибка в применении шахт-пакетов") -> 1 | P3: =COUNTIF($H10:$H168,"9 - Несоответствие типологическим требованиям ПИК-Стандарт") -> 1 | Q3: =COUNTIF($H10:$H168,"10 - Несоответствие НТД РФ") -> 2 | R3: =COUNTIF($H10:$H168,"11 - Несоответствие ИРД (кроме ТУ, СТУ), АПР, ПД") -> 1 | S3: =COUNTIF($H10:$H168,"12 - Несоответствие требованиям ТУ, СТУ") -> 1 | T3: =COUNTIF($H10:$H168,"13 - Ошибка в технических решениях") -> 2 | U3: =COUNTIF($H10:$H168,"14 - Неувязка м/у собой комплектов РД") -> 1 | V3: =COUNTIF($H10:$H168,"15 - Недостаточность информации влияющей на СМР") -> 1 | W3: =COUNTIF($H10:$H168,"16 - Нерациональное решение") -> 1 | X3: =COUNTIF($H10:$H168,"17 - Оформление") -> 2
A4: Заполнить вручную | B4: 25 | C4: 10 | D4: =C4/B4 -> 0.4 | H4: формула | I4: формула | J4: формула | K4: формула | L4: формула | M4: формула | N4: формула | O4: формула | P4: формула | Q4: формула | R4: формула | S4: формула | T4: формула | U4: формула | V4: формула | W4: формула | X4: формула
G5: формула
A6: 0.2 | B6: 0.5 | C6: 1 | D6: общий коэф критичности замечаний | F6: Количество замечаний с к=0,2 | G6: =COUNTIFS(G10:G135,"0,2") -> 7
A7: =G6*0.2/B4 -> 0.056 | B7: =G7*0.5/B4 -> 0.1 | C7: =G8*1/B4 -> 0.04 | D7: =(G6*A6+G7*B6+G8*C6)/SUM(G6:G8) -> 0.37692308 | F7: Количество замечаний с к=0,5 | G7: =COUNTIFS(G10:G135,"0,5") -> 5
A8: формула | B8: формула | C8: формула | D8: формула | F8: Количество замечаний с к=1 | G8: =COUNTIFS(G10:G135,"1") -> 1
A10: 1 | B10: 9-0118-ОК-1-АР изм.0, изм.1 | C10: Тит. лист | D10: Обозначение тома не соотвествует обозначению в составе проекта | G10: 0.2 | H10: 2 - Несоответствие Бренд-листам ПИК | I10: Петров И.И. | J10: 43903 | K10: снято | M10: 43910
A11: 2 | B11: 9-0118-ОК-1-АР изм.0, изм.1, изм.2 | C11: Тит. лист | D11: Обозначение тома не соотвествует обозначению в составе проекта | G11: 0.2 | H11: 2 - Несоответствие Бренд-листам ПИК | K11: снято
A12: 3 | G12: 0.5 | H12: 1 - Несоответствие продуктовым требованиям ПИК-Стандарт | K12: требует изм. в смежном комплекте
A13: 4 | B13: 9-0118-ОК-1-АР изм.2 | G13: 0.5 | H13: 3 - Несоответствие Каталогу отделки | K13: требует изм. в смежном комплекте
A14: 5 | H14: 5 - Ошибка в применении СТМ | K14: отменено | L14: для статуса ОТМЕНЕНО обязательно указывать причину! А также убирать коэф замечан и тип замечания, чтобы замечание не шло в отчетность
A15: 6 | G15: 0.2 | H15: 6 - Ошибка в применении сборных ЛМ | K15: повторно
A16: 7 | G16: 0.2 | H16: 7 - Ошибка в применении шкаф-пакетов | K16: без замечаний
A17: 8 | G17: 0.5 | H17: 8 - Ошибка в применении шахт-пакетов | K17: Требуется изм. ПД
A18: 9 | G18: 0.5 | H18: 9 - Несоответствие типологическим требованиям ПИК-Стандарт | K18: Требуется изм. ПД
A19: 10 | G19: 1 | H19: 10 - Несоответствие НТД РФ
A20: 11 | G20: 0.5 | H20: 10 - Несоответствие НТД РФ
A21: 12 | G21: 0.2 | H21: 11 - Несоответствие ИРД (кроме ТУ, СТУ), АПР, ПД
A22: 13 | G22: 0.2 | H22: 12 - Несоответствие требованиям ТУ, СТУ
A23: 14 | G23: 0.2 | H23: 13 - Ошибка в технических решениях
A24: 15 | H24: 13 - Ошибка в технических решениях
A25: 16 | H25: 14 - Неувязка м/у собой комплектов РД
A26: 17 | H26: 15 - Недостаточность информации влияющей на СМР
A27: 18 | H27: 16 - Нерациональное решение
A28: 19 | H28: 17 - Оформление
A29: 20 | H29: 17 - Оформление
A30: 21
A31: 22
A32: 23
A33: 24
A34: 25
A35: 26
A36: 27
A37: 28
A38: 29
A39: 30

Sheet 48
A1: Номер замечания к комплекту | B1: Обозначение комплекта номер изм. (изм.0, изм.1, изм.2 и т.д. - записывать все изм., которые приходят на проверку) | C1: Номер листа в разделе | D1: Текст замечания | E1: Эскиз к замечанию (при необходимости) | F1: Ссылка на требование (обозначение документа, пункт НД или лист типового проекта и т.д) | G1: Коэффицент замечания | H1: Тип замечания | I1: ФИО проверяющего | J1: Дата выдачи замечаний | K1: Статус замечаия | L1: Ответ от субподрядчика на замечания (при необходимости) - УКАЗАТЬ НА КАКОМ ЛИСТЕ ВНЕСЕНЫ ИЗМЕНЕНИЯ | M1: Дата повторной проверки | N1: Комментарий/ замечание | O1: Ответ от субподрядчика на замечания (при необходимости) - УКАЗАТЬ НА КАКОМ ЛИСТЕ ВНЕСЕНЫ ИЗМЕНЕНИЯ | P1: Дата повторной проверки | Q1: Комментарий/ замечание | R1: Ответ субподрядчика на замечания (при необхродимости) | S1: Дата повторной проверки | T1: Комментарий/ замечание | U1: Ответ субподрядчика на замечания (при необхродимости) | V1: Дата повторной проверки | W1: Комментарий/ замечание | X1: Ответ субподрядчика на замечания (при необхродимости) | AL1: Эскиз к ответу на замечание
B2: Заполнить вручную | C2: Заполнить вручную | D2: формула | H2: 1 - Несоответствие продуктовым требованиям ПИК-Стандарт | I2: 2 - Несоответствие Бренд-листам ПИК | J2: 3 - Несоответствие Каталогу отделки | K2: 5 - Ошибка в применении СТМ | L2: 4 - Несоответствие Каталогу оборудования | M2: 6 - Ошибка в применении сборных ЛМ | N2: 7 - Ошибка в применении шкаф-пакетов | O2: 8 - Ошибка в применении шахт-пакетов | P2: 9 - Несоответствие типологическим требованиям ПИК-Стандарт | Q2: 10 - Несоответствие НТД РФ | R2: 11 - Несоответствие ИРД (кроме ТУ, СТУ), АПР, ПД | S2: 12 - Несоответствие требованиям ТУ, СТУ | T2: 13 - Ошибка в технических решениях | U2: 14 - Неувязка м/у собой комплектов РД | V2: 15 - Недостаточность информации влияющей на СМР | W2: 16 - Нерациональное решение | X2: 17 - Оформление
B3: общее количество листов (по ведомости рабочих чертежей) | C3: количество листов с замечаниями | D3: коэффициент возврата Кв | H3: =COUNTIF($H10:$H55,"1 - Несоответствие продуктовым требованиям ПИК-Стандарт") -> 4 | I3: =COUNTIF($H10:$H55,"2 - Несоответствие Бренд-листам ПИК") -> 0 | J3: =COUNTIF($H10:$H55,"3 - Несоответствие Каталогу отделки") -> 11 | K3: =COUNTIF($H10:$H55,"5 - Ошибка в применении СТМ") -> 0 | L3: =COUNTIF($H10:$H55,"4 - Несоответствие Каталогу оборудования") -> 0 | M3: =COUNTIF($H10:$H55,"6 - Ошибка в применении сборных ЛМ") -> 0 | N3: =COUNTIF($H10:$H55,"7 - Ошибка в применении шкаф-пакетов") -> 0 | O3: =COUNTIF($H10:$H55,"8 - Ошибка в применении шахт-пакетов") -> 0 | P3: =COUNTIF($H10:$H55,"9 - Несоответствие типологическим требованиям ПИК-Стандарт") -> 0 | Q3: =COUNTIF($H10:$H55,"10 - Несоответствие НТД РФ") -> 0 | R3: =COUNTIF($H10:$H55,"11 - Несоответствие ИРД (кроме ТУ, СТУ), АПР, ПД") -> 0 | S3: =COUNTIF($H10:$H55,"12 - Несоответствие требованиям ТУ, СТУ") -> 0 | T3: =COUNTIF($H10:$H55,"13 - Ошибка в технических решениях") -> 0 | U3: =COUNTIF($H10:$H55,"14 - Неувязка м/у собой комплектов РД") -> 3 | V3: =COUNTIF($H10:$H55,"15 - Недостаточность информации влияющей на СМР") -> 17 | W3: =COUNTIF($H10:$H55,"16 - Нерациональное решение") -> 0 | X3: =COUNTIF($H10:$H55,"17 - Оформление") -> 0
A4: Заполнить вручную | B4: 45 | C4: 42 | D4: =C4/B4 -> 0.93333333 | H4: формула | I4: формула | J4: формула | K4: формула | L4: формула | M4: формула | N4: формула | O4: формула | P4: формула | Q4: формула | R4: формула | S4: формула | T4: формула | U4: формула | V4: формула | W4: формула | X4: формула
G5: формула
A6: 0.2 | B6: 0.5 | C6: 1 | D6: общий коэф критичности замечаний | F6: Количество замечаний с к=0,2 | G6: =COUNTIFS(G10:G55,"0,2") -> 0
A7: =G6*0.2/B4 -> 0 | B7: =G7*0.5/B4 -> 0.37777778 | C7: =G8*1/B4 -> 0.022222222 | D7: L | F7: Количество замечаний с к=0,5 | G7: =COUNTIFS(G10:G55,"0,5") -> 34
A8: формула | B8: формула | C8: формула | D8: формула | F8: Количество замечаний с к=1 | G8: =COUNTIFS(G10:G55,"1") -> 1
A10: 1 | B10: 148-0721-ОК-1-0-2-15..19-АИ1.4 | C10: 1 | D10: Общие указания: окорректировать информацию об окрашивании труб отопления, учитывая, что - в ЛК и МОП жилых этажей трубы отопления окрашиваются в цвет стен RAL 9003; - в помещениях МОП 1 этажа конвекторы имеют нижнее подключение с установкой на трубы защитных декоративных гильз в цвет конвектора (RAL 9017(черный) - тамбуры, вестибюли; RAL 9016(белый) - помещения консьержа, колясочные) | G10: 0.5 | H10: 15 - Недостаточность информации влияющей на СМР | I10: Милявская АА | J10: 45383 | L10: -Трубы отоления в ЛК и МОП на тип. этажах в соответствии с рекомендациями на проектирование окрашиваются в цвет отопительных приборов. В соответствии с обновленными требованиями к цветам отопительных приборов направленных нам на почту окрашиваются в RAL 9016 "Транспортный белый". - Трубы и металоконструкции отопления окрашиваются в цвет отопительных приборов. Обращаем внимаени RAL 9017 только перед внутренними витражами.
A11: 2 | B11: 148-0721-ОК-1-0-2-15..19-АИ1.4 | C11: 1 | D11: Общие указания: включить дополнительно пункт "Необходимые для производства отделочных работ решения и узлы, не включенные в данный комплект, см. в Альбоме типовых узлов для объектов Реновации ЖД-ТАС-РЕН-АИ-ТУ, Версия 1 08/2023" | G11: 0.5 | H11: 15 - Недостаточность информации влияющей на СМР | I11: Милявская АА | J11: 45383 | L11: Данный пункт может быть включен, при условии вашего подтверждения что данный пункт не вызовет замечаний от МФР
A12: 3 | B12: 148-0721-ОК-1-0-2-15..19-АИ1.4 | C12: 2 - 6, 7 - 11, 12 - 16 | D12: Планы напольных покрытий, потолков, отделки стен: откорректировать учитывая - размещение каркасных зашивок под почтовые ящики; - наличие каркасных зашивок под ниши для настенных конвекторов в тамбурах МОП; - утепление заплечиков наружных проемов в тамбурах МОП; - ширину наружных оконных витражей См. актуальные комплекты АР2.1, ОВ1 | G12: 1 | H12: 14 - Неувязка м/у собой комплектов РД | I12: Милявская АА | J12: 45383 | L12: Данные решения появились в откоректированных планах АР, которые отличаются от исходных данных на проектирование. На данный момент проводим анализ внесенныз изменений.
A13: 4 | B13: 148-0721-ОК-1-0-2-15..19-АИ1.4 | C13: 2 - 6 | D13: Ведомость напольных покрытий: К1 - в связи с заменой артикулов, снятых с производства, исправить на "Керамогранит Грани Таганая, 600х600х10, Арт.GRS07-06 Madain cloud, фактура под камень. Затирка – Ceresit СЕ 33, 13 антрацит. Крестик – 2 мм" | G13: 0.5 | H13: 3 - Несоответствие Каталогу отделки | I13: Милявская АА | J13: 45383 | L13: Данный пункт принимается, просим подтвердить что данное решение не будет противоречить требованиям МФР | M13: Данный пункт принимается, просим подтвердить что данное решение не будет противоречить требованиям МФР | N13: Данный пункт принимается, просим подтвердить что данное решение не будет противоречить требованиям МФР | O13: Данный пункт принимается, просим подтвердить что данное решение не будет противоречить требованиям МФР | P13: Данный пункт принимается, просим подтвердить что данное решение не будет противоречить требованиям МФР | Q13: Данный пункт принимается, просим подтвердить что данное решение не будет противоречить требованиям МФР | R13: Данный пункт принимается, просим подтвердить что данное решение не будет противоречить требованиям МФР | S13: Данный пункт принимается, просим подтвердить что данное решение не будет противоречить требованиям МФР | T13: Данный пункт принимается, просим подтвердить что данное решение не будет противоречить требованиям МФР | U13: Данный пункт принимается, просим подтвердить что данное решение не будет противоречить требованиям МФР | V13: Данный пункт принимается, просим подтвердить что данное решение не будет противоречить требованиям МФР | W13: Данный пункт принимается, просим подтвердить что данное решение не будет противоречить требованиям МФР | X13: Данный пункт принимается, просим подтвердить что данное решение не будет противоречить требованиям МФР | Y13: Данный пункт принимается, просим подтвердить что данное решение не будет противоречить требованиям МФР | Z13: Данный пункт принимается, просим подтвердить что данное решение не будет противоречить требованиям МФР | AA13: Данный пункт принимается, просим подтвердить что данное решение не будет противоречить требованиям МФР | AB13: Данный пункт принимается, просим подтвердить что данное решение не будет противоречить требованиям МФР | AC13: Данный пункт принимается, просим подтвердить что данное решение не будет противоречить требованиям МФР | AD13: Данный пункт принимается, просим подтвердить что данное решение не будет противоречить требованиям МФР | AE13: Данный пункт принимается, просим подтвердить что данное решение не будет противоречить требованиям МФР | AF13: Данный пункт принимается, просим подтвердить что данное решение не будет противоречить требованиям МФР | AG13: Данный пункт принимается, просим подтвердить что данное решение не будет противоречить требованиям МФР | AH13: Данный пункт принимается, просим подтвердить что данное решение не будет противоречить требованиям МФР | AI13: Данный пункт принимается, просим подтвердить что данное решение не будет противоречить требованиям МФР | AJ13: Данный пункт принимается, просим подтвердить что данное решение не будет противоречить требованиям МФР | AK13: Данный пункт принимается, просим подтвердить что данное решение не будет противоречить требованиям МФР
A14: 5 | B14: 148-0721-ОК-1-0-2-15..19-АИ1.4 | C14: 2 - 6 | D14: Ведомость напольных покрытий: К2 - в связи с заменой артикулов, снятых с производства, исправить на "Керамогранит Unitile, 400х400х8мм, Норд серый, Арт.КГ01. Затирка – Ceresit СЕ 33, 13 антрацит. Крестик – 2 мм" | G14: 0.5 | H14: 3 - Несоответствие Каталогу отделки | I14: Милявская АА | J14: 45383 | L14: Данный пункт принимается, просим подтвердить что данное решение не будет противоречить требованиям МФР
A15: 6 | B15: 148-0721-ОК-1-0-2-15..19-АИ1.4 | C15: 2 - 6 | D15: Ведомость плинтусов: исправить характеристики ПК1, ПК2 учитывая предыдущие замечания | G15: 0.5 | H15: 3 - Несоответствие Каталогу отделки | I15: Милявская АА | J15: 45383 | L15: Данный пункт принимается, просим подтвердить что данное решение не будет противоречить требованиям МФР
A16: 7 | B16: 148-0721-ОК-1-0-2-15..19-АИ1.4 | C16: 2 - 6 | D16: Ведомость напольных покрытий: включить информацию о дверных упорах - Дверной упор Apecs, Арт.DS-0009-INOX, h85 мм, материал - нержавеющая сталь | G16: 0.5 | H16: 3 - Несоответствие Каталогу отделки | I16: Милявская АА | J16: 45383 | L16: Принято, на листы с планами напольных покрытий будет добавленна ведомость дверных упоров
A17: 8 | B17: 148-0721-ОК-1-0-2-15..19-АИ1.4 | C17: 2 - 6 | D17: Ведомость напольных профилей: откорректировать характеристики - по периметру приямка для грязезащитной решетки -профиль Г-образный алюминиевый анодированный серебристый матовый 40х40х3, длина 2000-3000 мм; - на порогах сан.узла и ПУИ -профиль Г-образный алюминиевый анодированный серебристый матовый 15х15х1.1, длина 2000-3000 мм | G17: 0.5 | H17: 3 - Несоответствие Каталогу отделки | I17: Милявская АА | J17: 45383 | L17: Принято. Обращаем внимание что в соответствии рекомендацииями и замечаниями МФР, в помещении ПУИ утанавливается дверь с порогом, так как доступ осущетвляется из вестибюля. В АИ узел с устройством порога в ПУИ будет исключен
A18: 9 | B18: 148-0721-ОК-1-0-2-15..19-АИ1.4 | C18: 6 | D18: План напольных покрытий секции 19: откорректировать в тамбуре с угловым движением грязезащитную решетку | G18: 0.5 | H18: 1 - Несоответствие продуктовым требованиям ПИК-Стандарт | I18: Милявская АА | J18: 45383 | L18: Выполнено
A19: 10 | B19: 148-0721-ОК-1-0-2-15..19-АИ1.4 | C19: 7 - 11 | D19: План потолков: отметки подвесных потолков не сооветствуют указанным на развертках стен. Если это не высотные отметки потолков, а высота до ур.ч.пола до подвесного потолка, тогда либо исправить на плане (см. рисунок) либо пояснить в Примечаниях | G19: 0.5 | H19: 15 - Недостаточность информации влияющей на СМР | I19: Милявская АА | J19: 45383 | L19: Выполнено
A20: 11 | B20: 148-0721-ОК-1-0-2-15..19-АИ1.4 | C20: 7 - 11 | D20: Ведомость отделки потолков: П1.1, П1.2 - принять подвесные потолки Грильято с ячейкой 75х75; - выдать задание специалисту ЭОМ для корректировки размеров встраиваемых светильников | G20: 0.5 | H20: 14 - Неувязка м/у собой комплектов РД | I20: Милявская АА | J20: 45383 | L20: В разделе АИ потолок Грильято принят согласно рекомендациям на проектирование и каталога отделочных материалов и оборудования МОП, а также это соответствует разделам ВОР, в которых указан потолок с ячейкой 100х100мм.
A21: 12 | B21: 148-0721-ОК-1-0-2-15..19-АИ1.4 | C21: 7 - 11 | D21: Ведомость отделки потолков: П3 - указать, что улучшенная окраска выполняется за два раза | G21: 0.5 | H21: 1 - Несоответствие продуктовым требованиям ПИК-Стандарт | I21: Милявская АА | J21: 45383 | L21: Выполнено
A22: 13 | B22: 148-0721-ОК-1-0-2-15..19-АИ1.4 | C22: 7 - 11 | D22: Ведомость отделки потолков: СП11 (запотолочное пространство П1.1) - откорректировать отделку запотолочного пространства на "Простая окраска негорючим покрытием NG Light (КМ0) по водно-дисперсионной грунтовке "Грунт Primer под негорючую краску NG", в два слоя. Цвет RAL 9017 (черный)" | G22: 0.5 | H22: 3 - Несоответствие Каталогу отделки | I22: Милявская АА | J22: 45383 | L22: Принято. По требованию МФР будет исключено класс пожарной опасности (КМ0).
A23: 14 | B23: 148-0721-ОК-1-0-2-15..19-АИ1.4 | C23: 7 - 11 | D23: Ведомость отделки потолков: СП 2 (запотолочное пространство П1.2) - указать, что простая окраска выполняется за два раза | G23: 0.5 | H23: 1 - Несоответствие продуктовым требованиям ПИК-Стандарт | I23: Милявская АА | J23: 45383 | L23: Принято. По требованию МФР будет исключено класс пожарной опасности (КМ0).
A24: 15 | B24: 148-0721-ОК-1-0-2-15..19-АИ1.4 | C24: 12 - 16 | D24: Ведомость отделки стен и подоконников: - СП4 - дополнить "Нанесение краскопультом в 1 слой. Перед нанесением на участки, подготовленные гипсовыми материалами, грунтовать поверхность продуктом "Грунт Primer под негорючую краску NG"; - СП-12 - дополнить "Улучшенная окраска ...... по водно-дисперсионной грунтовке «КОНТАКТ-ВНГ-К»" | G24: 0.5 | H24: 1 - Несоответствие продуктовым требованиям ПИК-Стандарт | I24: Милявская АА | J24: 45383 | L24: Принято.
A25: 16 | B25: 148-0721-ОК-1-0-2-15..19-АИ1.4 | C25: 12 - 16, 17 - 21 | D25: Для информации План отделки стен, Развертки стен: цветовая концепция не соответствует Правилам проектирования АИ МОП Реновация 1.0 - необходимо получить подтверждение Департамента Продукта | I25: Милявская АА | J25: 45383 | L25: Цветовая схема отделки принята в соответствии с разделами ВОР с учетом цветовых решений фасадов
A26: 17 | B26: 148-0721-ОК-1-0-2-15..19-АИ1.4 | C26: 17 - 21 | D26: На развертках стен показать - развертки витражей в цвете RAL 7016 (внешний вид наружных и внутренних витражей должен соответствовать АР4.1); - плитку акцентных цветов; - угловой профиль замаркировать ПВ; - цвет RAL дверных блоков; - указать количество почтовых ящиков; - ширину и высоту ниш под почтовые ящики; - информационные панели рядом с почтовыми ящиками (см.Правила проектирования АИ МОП) - не путать с ТВ-панелями; - ниши под конвекторы (во вторых тамбурах) - габариты, привязки, угловой профиль; - марки отделки стен, потолков, запотолочного пространства, указанных в ведомостях | G26: 0.5 | H26: 15 - Недостаточность информации влияющей на СМР | I26: Милявская АА | J26: 45383 | L26: Принято.
A27: 18 | B27: 148-0721-ОК-1-0-2-15..19-АИ1.4 | C27: 17 - 21 | D27: План-схема: удалить обозначение видов в помещениях консьержа - не требуется выполнение разверток стен | G27: 0.5 | H27: 15 - Недостаточность информации влияющей на СМР | I27: Милявская АА | J27: 45383 | L27: Принято.
A28: 19 | B28: 148-0721-ОК-1-0-2-15..19-АИ1.4 | C28: 17 | D28: Развертки стен Секции 15: - развертка 1 (вестибюль) - исправить расположение почтовых ящиков (находятся на другой стене согласно АР2.1); - для чего над вендинговыми аппаратами выполняется каркасная зашивка?; - показать вид 01 - развертка 2 (тамбур 1) - исправить сбивку плитки по углу 4; - развертка 3 (тамбур 2) - показать вид 01; - развертка 4 (тамбур 1) - показать вид 05; - развертка 5 (тамбур 2) - показать вид 02; - развертка 7 (колясочная) - показать вид 02; - вид 12 не соответствует плану; - выровнять вид 03 | G28: 0.5 | H28: 15 - Недостаточность информации влияющей на СМР | I28: Милявская АА | J28: 45383 | L28: Принято. Зашивка предусматривается для устройства ниши для вендинговых аппаратов и выравнивания помещения. Задание на зашики передавалось разделу АР. Разделом АИ не разрабатывается констуктив ветражных перегородок, исходя из этого зачем нам показывать виды 02,05? На эти виды не попадает раскладка плитки, контрастные маркировки указаны на противоположных видах 16 для помещения 15.02 и 01 для помещения 15.05 соответственно. Кроме того в передаваемом примере разработки раздела АИ, развертки с обозначением только ветражей не указывается. Добавление дополнитьльных видов приведет к большому увеливчению листов альбома. На плане маркировок разверток готовы убрать данные виды.
A29: 20 | B29: 148-0721-ОК-1-0-2-15..19-АИ1.4 | C29: 18 | D29: Развертки стен Секции 16: - развертка 1 (вестибюль) - исправить расположение почтовых ящиков, учитывая, что справа/слева от ящиков должна быть инфо-панель (см.Правила проектирования АИ МОП); - развертка 2 (тамбур 1) - показать вид 01; - развертка 3 (тамбур 2) - показать вид 04; | G29: 0.5 | H29: 15 - Недостаточность информации влияющей на СМР | I29: Милявская АА | J29: 45383 | L29: Касаемо не достающих видов см. ответ выше. Нам поступила откорректированная архитектура, сейчас занимаемся анализом изменений, в том числе нам не ясно по каким причинам часть почтовых ящиков выполнена в зашивке, а часть нет. В соответствии с рекомендацииями почтовые ящики должны быть в зашивках и приближены к центру простенков. А информационная паннель не обязательно должна быть справа/слева от почтовых ящиков, данный вопрос прорабатываем с архитекторами.
A30: 21 | B30: 148-0721-ОК-1-0-2-15..19-АИ1.4 | C30: 19 | D30: Развертки стен Секции 17: - развертка 1 (вестибюль) - исправить расположение почтовых ящиков, учитывая, что справа/слева от ящиков должна быть инфо-панель (см.Правила проектирования АИ МОП); - развертка 2 (тамбур 1) - показать вид 01; - развертка 3 (тамбур 2) - показать вид 04; - развертка 5 (тамбур 2) - показать вид 03; - развертка 6 (колясочная) - показать помещение на схеме разверток | G30: 0.5 | H30: 15 - Недостаточность информации влияющей на СМР | I30: Милявская АА | J30: 45383 | L30: Развертка 6 принято. Остальные вопросы см. ответ выше.
A31: 22 | B31: 148-0721-ОК-1-0-2-15..19-АИ1.4 | C31: 20 | D31: Развертки стен Секции 18: - развертка 1 (вестибюль) - исправить расположение почтовых ящиков, учитывая, что справа/слева от ящиков должна быть инфо-панель (см.Правила проектирования АИ МОП); - развертка 2 (тамбур 1) - показать вид 02; - развертка 3 (тамбур 2) - показать вид 03; - развертка 4 (тамбур 1) - показать вид 04; - развертка 5 (тамбур 2) - показать вид 04 | G31: 0.5 | H31: 15 - Недостаточность информации влияющей на СМР | I31: Милявская АА | J31: 45383 | L31: На данные вопросы см ответы выше.
A32: 23 | B32: 148-0721-ОК-1-0-2-15..19-АИ1.4 | C32: 21 | D32: Развертки стен Секции 19: - развертка 1 (вестибюль) - исправить расположение почтовых ящиков, учитывая, что справа/слева от ящиков должна быть инфо-панель (см.Правила проектирования АИ МОП); - развертка 2 (тамбур 1) - показать вид 02; - развертка 3 (тамбур 2) - показать вид 03; - развертка 4 (тамбур 1) - показать вид 04; - развертка 5 (тамбур 2) - показать вид 04 | G32: 0.5 | H32: 15 - Недостаточность информации влияющей на СМР | L32: На данные вопросы см ответы выше.
A33: 24 | B33: 148-0721-ОК-1-0-2-15..19-АИ1.4 | C33: 22 - 26 | D33: Развертки стен ПУИ и сан.узла: - удалить усиление под навесное оборудование - стены, к которым крепится сан.техника, не каркасные, а из ячеистого газобетонного блока (см.АР2.1); - показать марки отделки стен, потолков, указанные в ведомостях | G33: 0.5 | H33: 15 - Недостаточность информации влияющей на СМР | I33: Милявская АА | J33: 45383 | L33: Принято.
A34: 25 | B34: 148-0721-ОК-1-0-2-15..19-АИ1.4 | C34: 27 -31 | D34: Планы напольных покрытий: контрастную напольную маркировку - удалить на переходных балконах; - удалить при входе из лифтового холла в межквартирный коридор; - показать при входе в пассажирский лифт | G34: 0.5 | H34: 15 - Недостаточность информации влияющей на СМР | I34: Милявская АА | J34: 45383 | L34: Принято.
A35: 26 | B35: 148-0721-ОК-1-0-2-15..19-АИ1.4 | C35: 27 -31 | D35: Планы напольных покрытий: показать на переходных балконах водоприемные решетки и уклоны к ним | G35: 0.5 | H35: 15 - Недостаточность информации влияющей на СМР | I35: Милявская АА | J35: 45383 | L35: Просьба выдать задание, также не понимаем зачем нам указывать уклоны, это сфера АР.
A36: 27 | B36: 148-0721-ОК-1-0-2-15..19-АИ1.4 | C36: 27 -31 | D36: Ведомость напольных покрытий: в связи с заменой артикулов, снятых с производства, заменить - К2 на Керамогранит Unitile, 400х400х8мм, Норд серый, Арт.КГ01. Затирка – Ceresit СЕ 33, 13 антрацит. Крестик – 2 мм | G36: 0.5 | H36: 3 - Несоответствие Каталогу отделки | I36: Милявская АА | J36: 45383 | L36: Принято.
A37: 28 | B37: 148-0721-ОК-1-0-2-15..19-АИ1.4 | C37: 27 -31 | D37: Ведомость плинтусов: - исправить характеристики ПК2, учитывая предыдущее замечание; - включить плинтус на переходных балконах (обозначен на планах) | G37: 0.5 | H37: 3 - Несоответствие Каталогу отделки | I37: Милявская АА | J37: 45383 | L37: Принято.
A38: 29 | B38: 148-0721-ОК-1-0-2-15..19-АИ1.4 | C38: 32 - 36 | D38: План потолков: показать/привязать точку начала раскладки подвесного потолка в межквартирных коридорах | G38: 0.5 | H38: 15 - Недостаточность информации влияющей на СМР | I38: Милявская АА | J38: 45383 | L38: В соответствии с рекомендациями на проектирование МОП, раскладка потолка начинается начинается из лифтового холла и перетекает в смежные помещения. Готовы добавить данные условные обозначения(см. выкопировку)
A39: 30 | B39: 148-0721-ОК-1-0-2-15..19-АИ1.4 | C39: 32 - 36 | D39: Ведомость отделки потолков: П1.2 - принять подвесной потолок Грильято с ячейкой 75х75 в соответствии с АР3.2; - выдать задание специалисту ЭОМ для корректировки размеров встраиваемых светильников | G39: 0.5 | H39: 14 - Неувязка м/у собой комплектов РД | I39: Милявская АА | J39: 45383 | L39: В разделе АИ потолок Грильято принят согласно рекомендациям на проектирование и каталога отделочных материалов и оборудования МОП, а также это соответствует разделам ВОР, в которых указан потолок с ячейкой 100х100мм.
A40: 31 | B40: 148-0721-ОК-1-0-2-15..19-АИ1.4 | C40: 32 - 36 | D40: Ведомость отделки потолков: - СП2 (лестничная клетка), СП3 (потолок мусоропровода) - указать, что улучшенная окраска выполняется за два раза; - СП7 (потолок переходной лоджии), СП 2 (запотолочное пространство П1.2) - указать, что простая окраска выполняется за два раза | G40: 0.5 | H40: 3 - Несоответствие Каталогу отделки | I40: Милявская АА | J40: 45383 | L40: Принято.
A41: 32 | B41: 148-0721-ОК-1-0-2-15..19-АИ1.4 | C41: 32 - 36 | D41: Примечания: откорректировать п.1 - указать высоту от ур.ч.пола до жб перекрытия и от ур.ч.пола до подвесного потолка | G41: 0.5 | H41: 15 - Недостаточность информации влияющей на СМР | I41: Милявская АА | J41: 45383 | L41: Данный пункт убран в связи с поступившим замечанием от МФР.
A42: 33 | B42: 148-0721-ОК-1-0-2-15..19-АИ1.4 | C42: 37 - 41 | D42: Ведомость отделки стен: -СП3 (стены мусоропровода) - указать улучшенную окраску за два раза; - СП4 (стены МОП) - дополнить "Нанесение краскопультом в 1 слой. Перед нанесением на участки, подготовленные гипсовыми материалами, грунтовать поверхность продуктом "Грунт Primer под негорючую краску NG" | G42: 0.5 | H42: 15 - Недостаточность информации влияющей на СМР | I42: Милявская АА | J42: 45383 | L42: Принято.
A43: 34 | B43: 148-0721-ОК-1-0-2-15..19-АИ1.4 | C43: 37 - 41 | D43: Ведомость отделки стен: удалить СП14 - на типовых этажах не требуется отделка откосов (внутренние двери имеют доборы, двери на переходных балконах с нащельниками | G43: 0.5 | H43: 3 - Несоответствие Каталогу отделки | I43: Милявская АА | J43: 45383 | L43: Принято. Только не СП14, а СП12.
A44: 35 | B44: 148-0721-ОК-1-0-2-15..19-АИ1.4 | D44: Отсутствуют развертки стен МОП типового этажа секций 15 - 19 | G44: 0.5 | H44: 15 - Недостаточность информации влияющей на СМР | I44: Милявская АА | J44: 45383 | L44: В соответствии с ТЗ требуется разработка разверток одной секции типового этажа на объект. Была выбрана 1 секция 1 корпуса в альбоме АИ1.1, на который дана ссылка
A45: 36 | B45: 148-0721-ОК-1-0-2-15..19-АИ1.4 | C45: 43 | D45: Сводная ведомость элементов отделки: исправить характеристики напольной и настенной плитки, учитывая предыдущие замечания | G45: 0.5 | H45: 3 - Несоответствие Каталогу отделки | I45: Милявская АА | J45: 45383 | L45: Принято.

Sheet Списки
A1: Статус замечаия | E1: Тип замечания | G1: Вес замечания | I1: Дисциплина | K1: Статус комплекта | M1: 1 | O1: Дата согласования
A2: без замечаний | E2: 1 - Несоответствие продуктовым требованиям ПИК-Стандарт | G2: 0.2 | I2: ТХ | K2: согласовано | M2: 2 | O2: Ответ от субподрядчика на замечания (при необходимости) - УКАЗАТЬ НА КАКОМ ЛИСТЕ ВНЕСЕНЫ ИЗМЕНЕНИЯ
A3: повторно | E3: 2 - Несоответствие Бренд-листам ПИК | G3: 0.5 | I3: КЖ | K3: на проверке | M3: 3
A4: снято | B4: обязательно указать причину | E4: 3 - Несоответствие Каталогу отделки | G4: 1 | I4: АР | K4: выданы замечания | M4: 4
A5: отменено | B5: пока не используем | E5: 4 - Несоответствие Каталогу оборудования | I5: ЭОМ | K5: на повторной проверке | M5: 5
A6: требует изм. в смежном комплекте | E6: 5 - Ошибка в применении СТМ | I6: АИ | K6: повторные замечания | M6: 6
A7: Повторно до прохождения МГЭ | E7: 6 - Ошибка в применении сборных ЛМ | I7: СС | K7: без замечаний | M7: 7
A8: Устранение данного замечания может подтвердить только эксперт МФР | E8: 7 - Ошибка в применении шкаф-пакетов | I8: ВК | K8: в плане | M8: 8
E9: 8 - Ошибка в применении шахт-пакетов | I9: ОВ | K9: загружено повторно | M9: 9
E10: 9 - Несоответствие типологическим требованиям ПИК-Стандарт | I10: ВТ | M10: 10
E11: 10 - Несоответствие НТД РФ | M11: 0
E12: 11 - Несоответствие ИРД (кроме ТУ, СТУ), АПР, ПД
E13: 12 - Несоответствие требованиям ТУ, СТУ
E14: 13 - Ошибка в технических решениях
E15: 14 - Неувязка м/у собой комплектов РД
E16: 15 - Недостаточность информации влияющей на СМР
E17: 16 - Нерациональное решение
E18: 17 - Оформление
