Workbook

Sheet По листам
G2: Позиция | H2: Наименование и техническая характеристика | I2: Тип, марка, обозначение документа, опросного листа | J2: Код обору-дования, изделия, материала | O2: Завод-изготовитель | T2: Еди-ница измере-ния | U2: Коли-чество | V2: Масса единицы, кг. | X2: Примечание
G3: =IF(INDIRECT("ЗакСпец!A2")<>"",INDIRECT("ЗакСпец!A2"),"") | H3: =IF(INDIRECT("ЗакСпец!B2")<>"",INDIRECT("ЗакСпец!B2"),"") -> КОРПУС 6 | I3: =IF(INDIRECT("ЗакСпец!C2")<>"",INDIRECT("ЗакСпец!C2"),"") | J3: =IF(INDIRECT("ЗакСпец!D2")<>"",INDIRECT("ЗакСпец!D2"),"") | O3: =IF(INDIRECT("ЗакСпец!E2")<>"",INDIRECT("ЗакСпец!E2"),"") | T3: =IF(INDIRECT("ЗакСпец!F2")<>"",INDIRECT("ЗакСпец!F2"),"") | U3: =IF(INDIRECT("ЗакСпец!G2")<>"",INDIRECT("ЗакСпец!G2"),"") | V3: =IF(INDIRECT("ЗакСпец!H2")<>"",INDIRECT("ЗакСпец!H2"),"") | X3: =IF(INDIRECT("ЗакСпец!I2")<>"",INDIRECT("ЗакСпец!I2"),"")
G4: =IF(INDIRECT("ЗакСпец!A3")<>"",INDIRECT("ЗакСпец!A3"),"") | H4: =IF(INDIRECT("ЗакСпец!B3")<>"",INDIRECT("ЗакСпец!B3"),"") | I4: =IF(INDIRECT("ЗакСпец!C3")<>"",INDIRECT("ЗакСпец!C3"),"") | J4: =IF(INDIRECT("ЗакСпец!D3")<>"",INDIRECT("ЗакСпец!D3"),"") | O4: =IF(INDIRECT("ЗакСпец!E3")<>"",INDIRECT("ЗакСпец!E3"),"") | T4: =IF(INDIRECT("ЗакСпец!F3")<>"",INDIRECT("ЗакСпец!F3"),"") | U4: =IF(INDIRECT("ЗакСпец!G3")<>"",INDIRECT("ЗакСпец!G3"),"") | V4: =IF(INDIRECT("ЗакСпец!H3")<>"",INDIRECT("ЗакСпец!H3"),"") | X4: =IF(INDIRECT("ЗакСпец!I3")<>"",INDIRECT("ЗакСпец!I3"),"")
G5: =IF(INDIRECT("ЗакСпец!A4")<>"",INDIRECT("ЗакСпец!A4"),"") | H5: =IF(INDIRECT("ЗакСпец!B4")<>"",INDIRECT("ЗакСпец!B4"),"") -> ОБЩЕОБМЕННАЯ ВЕНТИЛЯЦИЯ. ЖИЛАЯ ЧАСТЬ | I5: =IF(INDIRECT("ЗакСпец!C4")<>"",INDIRECT("ЗакСпец!C4"),"") | J5: =IF(INDIRECT("ЗакСпец!D4")<>"",INDIRECT("ЗакСпец!D4"),"") | O5: =IF(INDIRECT("ЗакСпец!E4")<>"",INDIRECT("ЗакСпец!E4"),"") | T5: =IF(INDIRECT("ЗакСпец!F4")<>"",INDIRECT("ЗакСпец!F4"),"") | U5: =IF(INDIRECT("ЗакСпец!G4")<>"",INDIRECT("ЗакСпец!G4"),"") | V5: =IF(INDIRECT("ЗакСпец!H4")<>"",INDIRECT("ЗакСпец!H4"),"") | X5: =IF(INDIRECT("ЗакСпец!I4")<>"",INDIRECT("ЗакСпец!I4"),"")
G6: =IF(INDIRECT("ЗакСпец!A5")<>"",INDIRECT("ЗакСпец!A5"),"") | H6: =IF(INDIRECT("ЗакСпец!B5")<>"",INDIRECT("ЗакСпец!B5"),"") -> Вентиляция из ПУИ консьержа (В6.1.1, В6.2.1, В6.3.1) | I6: =IF(INDIRECT("ЗакСпец!C5")<>"",INDIRECT("ЗакСпец!C5"),"") | J6: =IF(INDIRECT("ЗакСпец!D5")<>"",INDIRECT("ЗакСпец!D5"),"") | O6: =IF(INDIRECT("ЗакСпец!E5")<>"",INDIRECT("ЗакСпец!E5"),"") | T6: =IF(INDIRECT("ЗакСпец!F5")<>"",INDIRECT("ЗакСпец!F5"),"") | U6: =IF(INDIRECT("ЗакСпец!G5")<>"",INDIRECT("ЗакСпец!G5"),"") | V6: =IF(INDIRECT("ЗакСпец!H5")<>"",INDIRECT("ЗакСпец!H5"),"") | X6: =IF(INDIRECT("ЗакСпец!I5")<>"",INDIRECT("ЗакСпец!I5"),"")
G7: =IF(INDIRECT("ЗакСпец!A6")<>"",INDIRECT("ЗакСпец!A6"),"") | H7: =IF(INDIRECT("ЗакСпец!B6")<>"",INDIRECT("ЗакСпец!B6"),"") -> Вентилятор бытовой, L=20м3/ч, Nэл=0.28 | I7: =IF(INDIRECT("ЗакСпец!C6")<>"",INDIRECT("ЗакСпец!C6"),"") -> 4S | J7: =IF(INDIRECT("ЗакСпец!D6")<>"",INDIRECT("ЗакСпец!D6"),"") | O7: =IF(INDIRECT("ЗакСпец!E6")<>"",INDIRECT("ЗакСпец!E6"),"") -> ЕРА | T7: =IF(INDIRECT("ЗакСпец!F6")<>"",INDIRECT("ЗакСпец!F6"),"") -> шт. | U7: =IF(INDIRECT("ЗакСпец!G6")<>"",INDIRECT("ЗакСпец!G6"),"") -> 3 | V7: =IF(INDIRECT("ЗакСпец!H6")<>"",INDIRECT("ЗакСпец!H6"),"") | X7: =IF(INDIRECT("ЗакСпец!I6")<>"",INDIRECT("ЗакСпец!I6"),"")
G8: =IF(INDIRECT("ЗакСпец!A7")<>"",INDIRECT("ЗакСпец!A7"),"") | H8: =IF(INDIRECT("ЗакСпец!B7")<>"",INDIRECT("ЗакСпец!B7"),"") -> Воздуховод из оцинкованной стали S=0,5мм Ø100 | I8: =IF(INDIRECT("ЗакСпец!C7")<>"",INDIRECT("ЗакСпец!C7"),"") -> ГОСТ 14918-80 | J8: =IF(INDIRECT("ЗакСпец!D7")<>"",INDIRECT("ЗакСпец!D7"),"") | O8: =IF(INDIRECT("ЗакСпец!E7")<>"",INDIRECT("ЗакСпец!E7"),"") | T8: =IF(INDIRECT("ЗакСпец!F7")<>"",INDIRECT("ЗакСпец!F7"),"") -> м | U8: =IF(INDIRECT("ЗакСпец!G7")<>"",INDIRECT("ЗакСпец!G7"),"") -> 30 | V8: =IF(INDIRECT("ЗакСпец!H7")<>"",INDIRECT("ЗакСпец!H7"),"") | X8: =IF(INDIRECT("ЗакСпец!I7")<>"",INDIRECT("ЗакСпец!I7"),"")
G9: =IF(INDIRECT("ЗакСпец!A8")<>"",INDIRECT("ЗакСпец!A8"),"") | H9: =IF(INDIRECT("ЗакСпец!B8")<>"",INDIRECT("ЗакСпец!B8"),"") -> Воздуховод из оцинкованной стали S=0,8мм Ø100 | I9: =IF(INDIRECT("ЗакСпец!C8")<>"",INDIRECT("ЗакСпец!C8"),"") -> ГОСТ 14918-80 | J9: =IF(INDIRECT("ЗакСпец!D8")<>"",INDIRECT("ЗакСпец!D8"),"") | O9: =IF(INDIRECT("ЗакСпец!E8")<>"",INDIRECT("ЗакСпец!E8"),"") | T9: =IF(INDIRECT("ЗакСпец!F8")<>"",INDIRECT("ЗакСпец!F8"),"") -> м | U9: =IF(INDIRECT("ЗакСпец!G8")<>"",INDIRECT("ЗакСпец!G8"),"") -> 195 | V9: =IF(INDIRECT("ЗакСпец!H8")<>"",INDIRECT("ЗакСпец!H8"),"") | X9: =IF(INDIRECT("ЗакСпец!I8")<>"",INDIRECT("ЗакСпец!I8"),"")
G10: =IF(INDIRECT("ЗакСпец!A9")<>"",INDIRECT("ЗакСпец!A9"),"") | H10: =IF(INDIRECT("ЗакСпец!B9")<>"",INDIRECT("ЗакСпец!B9"),"") -> Клапан противопожарный нормально открытый с двумя присоединительными фланцами с электроприводом Belimo с возвратной пружиной огнестойкостью EI60 | I10: =IF(INDIRECT("ЗакСпец!C9")<>"",INDIRECT("ЗакСпец!C9"),"") -> Сигмавент-60-НО-100-BM(220)-к | J10: =IF(INDIRECT("ЗакСпец!D9")<>"",INDIRECT("ЗакСпец!D9"),"") | O10: =IF(INDIRECT("ЗакСпец!E9")<>"",INDIRECT("ЗакСпец!E9"),"") -> Сигмавент | T10: =IF(INDIRECT("ЗакСпец!F9")<>"",INDIRECT("ЗакСпец!F9"),"") -> шт. | U10: =IF(INDIRECT("ЗакСпец!G9")<>"",INDIRECT("ЗакСпец!G9"),"") -> 3 | V10: =IF(INDIRECT("ЗакСпец!H9")<>"",INDIRECT("ЗакСпец!H9"),"") | X10: =IF(INDIRECT("ЗакСпец!I9")<>"",INDIRECT("ЗакСпец!I9"),"")
G11: =IF(INDIRECT("ЗакСпец!A10")<>"",INDIRECT("ЗакСпец!A10"),"") | H11: =IF(INDIRECT("ЗакСпец!B10")<>"",INDIRECT("ЗакСпец!B10"),"") -> Огнезащитное покрытие EI30 на основе базальтового материала толщиной 5 мм, с жаростойкой мастикой "Kleber", расход 0,7 кг/м² | I11: =IF(INDIRECT("ЗакСпец!C10")<>"",INDIRECT("ЗакСпец!C10"),"") -> PRO-МБОР-VENT (1 НФ) EI30 | J11: =IF(INDIRECT("ЗакСпец!D10")<>"",INDIRECT("ЗакСпец!D10"),"") | O11: =IF(INDIRECT("ЗакСпец!E10")<>"",INDIRECT("ЗакСпец!E10"),"") -> BOS | T11: =IF(INDIRECT("ЗакСпец!F10")<>"",INDIRECT("ЗакСпец!F10"),"") -> м² | U11: =IF(INDIRECT("ЗакСпец!G10")<>"",INDIRECT("ЗакСпец!G10"),"") -> 78 | V11: =IF(INDIRECT("ЗакСпец!H10")<>"",INDIRECT("ЗакСпец!H10"),"") | X11: =IF(INDIRECT("ЗакСпец!I10")<>"",INDIRECT("ЗакСпец!I10"),"")
G12: =IF(INDIRECT("ЗакСпец!A11")<>"",INDIRECT("ЗакСпец!A11"),"") | H12: =IF(INDIRECT("ЗакСпец!B11")<>"",INDIRECT("ЗакСпец!B11"),"") -> Фасонные изделия | I12: =IF(INDIRECT("ЗакСпец!C11")<>"",INDIRECT("ЗакСпец!C11"),"") | J12: =IF(INDIRECT("ЗакСпец!D11")<>"",INDIRECT("ЗакСпец!D11"),"") | O12: =IF(INDIRECT("ЗакСпец!E11")<>"",INDIRECT("ЗакСпец!E11"),"") | T12: =IF(INDIRECT("ЗакСпец!F11")<>"",INDIRECT("ЗакСпец!F11"),"") -> м² | U12: =IF(INDIRECT("ЗакСпец!G11")<>"",INDIRECT("ЗакСпец!G11"),"") -> 22.5 | V12: =IF(INDIRECT("ЗакСпец!H11")<>"",INDIRECT("ЗакСпец!H11"),"") | X12: =IF(INDIRECT("ЗакСпец!I11")<>"",INDIRECT("ЗакСпец!I11"),"")
G13: =IF(INDIRECT("ЗакСпец!A12")<>"",INDIRECT("ЗакСпец!A12"),"") | H13: =IF(INDIRECT("ЗакСпец!B12")<>"",INDIRECT("ЗакСпец!B12"),"") -> Воздушный клапан для круглых воздуховодов | I13: =IF(INDIRECT("ЗакСпец!C12")<>"",INDIRECT("ЗакСпец!C12"),"") -> KB 100 | J13: =IF(INDIRECT("ЗакСпец!D12")<>"",INDIRECT("ЗакСпец!D12"),"") | O13: =IF(INDIRECT("ЗакСпец!E12")<>"",INDIRECT("ЗакСпец!E12"),"") -> Ventart | T13: =IF(INDIRECT("ЗакСпец!F12")<>"",INDIRECT("ЗакСпец!F12"),"") -> шт. | U13: =IF(INDIRECT("ЗакСпец!G12")<>"",INDIRECT("ЗакСпец!G12"),"") -> 3 | V13: =IF(INDIRECT("ЗакСпец!H12")<>"",INDIRECT("ЗакСпец!H12"),"") | X13: =IF(INDIRECT("ЗакСпец!I12")<>"",INDIRECT("ЗакСпец!I12"),"")
G14: =IF(INDIRECT("ЗакСпец!A13")<>"",INDIRECT("ЗакСпец!A13"),"") | H14: =IF(INDIRECT("ЗакСпец!B13")<>"",INDIRECT("ЗакСпец!B13"),"") -> Зонт вытяжной из оц.стали | I14: =IF(INDIRECT("ЗакСпец!C13")<>"",INDIRECT("ЗакСпец!C13"),"") -> Ø100 | J14: =IF(INDIRECT("ЗакСпец!D13")<>"",INDIRECT("ЗакСпец!D13"),"") | O14: =IF(INDIRECT("ЗакСпец!E13")<>"",INDIRECT("ЗакСпец!E13"),"") | T14: =IF(INDIRECT("ЗакСпец!F13")<>"",INDIRECT("ЗакСпец!F13"),"") -> шт. | U14: =IF(INDIRECT("ЗакСпец!G13")<>"",INDIRECT("ЗакСпец!G13"),"") -> 3 | V14: =IF(INDIRECT("ЗакСпец!H13")<>"",INDIRECT("ЗакСпец!H13"),"") | X14: =IF(INDIRECT("ЗакСпец!I13")<>"",INDIRECT("ЗакСпец!I13"),"")
G15: =IF(INDIRECT("ЗакСпец!A14")<>"",INDIRECT("ЗакСпец!A14"),"") | H15: =IF(INDIRECT("ЗакСпец!B14")<>"",INDIRECT("ЗакСпец!B14"),"") | I15: =IF(INDIRECT("ЗакСпец!C14")<>"",INDIRECT("ЗакСпец!C14"),"") | J15: =IF(INDIRECT("ЗакСпец!D14")<>"",INDIRECT("ЗакСпец!D14"),"") | O15: =IF(INDIRECT("ЗакСпец!E14")<>"",INDIRECT("ЗакСпец!E14"),"") | T15: =IF(INDIRECT("ЗакСпец!F14")<>"",INDIRECT("ЗакСпец!F14"),"") | U15: =IF(INDIRECT("ЗакСпец!G14")<>"",INDIRECT("ЗакСпец!G14"),"") | V15: =IF(INDIRECT("ЗакСпец!H14")<>"",INDIRECT("ЗакСпец!H14"),"") | X15: =IF(INDIRECT("ЗакСпец!I14")<>"",INDIRECT("ЗакСпец!I14"),"")
G16: =IF(INDIRECT("ЗакСпец!A15")<>"",INDIRECT("ЗакСпец!A15"),"") | H16: =IF(INDIRECT("ЗакСпец!B15")<>"",INDIRECT("ЗакСпец!B15"),"") -> Вентиляция из С/У консьержа (В6.1.2, В6.2.2, В6.3.2) | I16: =IF(INDIRECT("ЗакСпец!C15")<>"",INDIRECT("ЗакСпец!C15"),"") | J16: =IF(INDIRECT("ЗакСпец!D15")<>"",INDIRECT("ЗакСпец!D15"),"") | O16: =IF(INDIRECT("ЗакСпец!E15")<>"",INDIRECT("ЗакСпец!E15"),"") | T16: =IF(INDIRECT("ЗакСпец!F15")<>"",INDIRECT("ЗакСпец!F15"),"") | U16: =IF(INDIRECT("ЗакСпец!G15")<>"",INDIRECT("ЗакСпец!G15"),"") | V16: =IF(INDIRECT("ЗакСпец!H15")<>"",INDIRECT("ЗакСпец!H15"),"") | X16: =IF(INDIRECT("ЗакСпец!I15")<>"",INDIRECT("ЗакСпец!I15"),"")
G17: =IF(INDIRECT("ЗакСпец!A16")<>"",INDIRECT("ЗакСпец!A16"),"") | H17: =IF(INDIRECT("ЗакСпец!B16")<>"",INDIRECT("ЗакСпец!B16"),"") -> Вентилятор бытовой, L=50м3/ч, Nэл=0.28 | I17: =IF(INDIRECT("ЗакСпец!C16")<>"",INDIRECT("ЗакСпец!C16"),"") -> 4S | J17: =IF(INDIRECT("ЗакСпец!D16")<>"",INDIRECT("ЗакСпец!D16"),"") | O17: =IF(INDIRECT("ЗакСпец!E16")<>"",INDIRECT("ЗакСпец!E16"),"") -> ЕРА | T17: =IF(INDIRECT("ЗакСпец!F16")<>"",INDIRECT("ЗакСпец!F16"),"") -> шт. | U17: =IF(INDIRECT("ЗакСпец!G16")<>"",INDIRECT("ЗакСпец!G16"),"") -> 3 | V17: =IF(INDIRECT("ЗакСпец!H16")<>"",INDIRECT("ЗакСпец!H16"),"") | X17: =IF(INDIRECT("ЗакСпец!I16")<>"",INDIRECT("ЗакСпец!I16"),"")
A18: Согласовано :
G19: =IF(INDIRECT("ЗакСпец!A17")<>"",INDIRECT("ЗакСпец!A17"),"") | H19: =IF(INDIRECT("ЗакСпец!B17")<>"",INDIRECT("ЗакСпец!B17"),"") -> Воздуховод из оцинкованной стали S=0,5мм Ø100 | I19: =IF(INDIRECT("ЗакСпец!C17")<>"",INDIRECT("ЗакСпец!C17"),"") -> ГОСТ 14918-80 | J19: =IF(INDIRECT("ЗакСпец!D17")<>"",INDIRECT("ЗакСпец!D17"),"") | O19: =IF(INDIRECT("ЗакСпец!E17")<>"",INDIRECT("ЗакСпец!E17"),"") | T19: =IF(INDIRECT("ЗакСпец!F17")<>"",INDIRECT("ЗакСпец!F17"),"") -> м | U19: =IF(INDIRECT("ЗакСпец!G17")<>"",INDIRECT("ЗакСпец!G17"),"") -> 30 | V19: =IF(INDIRECT("ЗакСпец!H17")<>"",INDIRECT("ЗакСпец!H17"),"") | X19: =IF(INDIRECT("ЗакСпец!I17")<>"",INDIRECT("ЗакСпец!I17"),"")
G20: =IF(INDIRECT("ЗакСпец!A18")<>"",INDIRECT("ЗакСпец!A18"),"") | H20: =IF(INDIRECT("ЗакСпец!B18")<>"",INDIRECT("ЗакСпец!B18"),"") -> Воздуховод из оцинкованной стали S=0,8мм Ø100 | I20: =IF(INDIRECT("ЗакСпец!C18")<>"",INDIRECT("ЗакСпец!C18"),"") -> ГОСТ 14918-80 | J20: =IF(INDIRECT("ЗакСпец!D18")<>"",INDIRECT("ЗакСпец!D18"),"") | O20: =IF(INDIRECT("ЗакСпец!E18")<>"",INDIRECT("ЗакСпец!E18"),"") | T20: =IF(INDIRECT("ЗакСпец!F18")<>"",INDIRECT("ЗакСпец!F18"),"") -> м | U20: =IF(INDIRECT("ЗакСпец!G18")<>"",INDIRECT("ЗакСпец!G18"),"") -> 195 | V20: =IF(INDIRECT("ЗакСпец!H18")<>"",INDIRECT("ЗакСпец!H18"),"") | X20: =IF(INDIRECT("ЗакСпец!I18")<>"",INDIRECT("ЗакСпец!I18"),"")
G21: =IF(INDIRECT("ЗакСпец!A19")<>"",INDIRECT("ЗакСпец!A19"),"") | H21: =IF(INDIRECT("ЗакСпец!B19")<>"",INDIRECT("ЗакСпец!B19"),"") -> Клапан противопожарный нормально открытый с двумя присоединительными фланцами с электроприводом Belimo с возвратной пружиной огнестойкостью EI60 | I21: =IF(INDIRECT("ЗакСпец!C19")<>"",INDIRECT("ЗакСпец!C19"),"") -> Сигмавент-60-НО-100-BM(220)-к | J21: =IF(INDIRECT("ЗакСпец!D19")<>"",INDIRECT("ЗакСпец!D19"),"") | O21: =IF(INDIRECT("ЗакСпец!E19")<>"",INDIRECT("ЗакСпец!E19"),"") -> Сигмавент | T21: =IF(INDIRECT("ЗакСпец!F19")<>"",INDIRECT("ЗакСпец!F19"),"") -> шт. | U21: =IF(INDIRECT("ЗакСпец!G19")<>"",INDIRECT("ЗакСпец!G19"),"") -> 3 | V21: =IF(INDIRECT("ЗакСпец!H19")<>"",INDIRECT("ЗакСпец!H19"),"") | X21: =IF(INDIRECT("ЗакСпец!I19")<>"",INDIRECT("ЗакСпец!I19"),"")
G23: =IF(INDIRECT("ЗакСпец!A20")<>"",INDIRECT("ЗакСпец!A20"),"") | H23: =IF(INDIRECT("ЗакСпец!B20")<>"",INDIRECT("ЗакСпец!B20"),"") -> Огнезащитное покрытие EI30 на основе базальтового материала толщиной 5 мм, с жаростойкой мастикой "Kleber", расход 0,7 кг/м² | I23: =IF(INDIRECT("ЗакСпец!C20")<>"",INDIRECT("ЗакСпец!C20"),"") -> PRO-МБОР-VENT (1 НФ) EI30 | J23: =IF(INDIRECT("ЗакСпец!D20")<>"",INDIRECT("ЗакСпец!D20"),"") | O23: =IF(INDIRECT("ЗакСпец!E20")<>"",INDIRECT("ЗакСпец!E20"),"") -> BOS | T23: =IF(INDIRECT("ЗакСпец!F20")<>"",INDIRECT("ЗакСпец!F20"),"") -> м² | U23: =IF(INDIRECT("ЗакСпец!G20")<>"",INDIRECT("ЗакСпец!G20"),"") -> 78 | V23: =IF(INDIRECT("ЗакСпец!H20")<>"",INDIRECT("ЗакСпец!H20"),"") | X23: =IF(INDIRECT("ЗакСпец!I20")<>"",INDIRECT("ЗакСпец!I20"),"")
G24: =IF(INDIRECT("ЗакСпец!A21")<>"",INDIRECT("ЗакСпец!A21"),"") | H24: =IF(INDIRECT("ЗакСпец!B21")<>"",INDIRECT("ЗакСпец!B21"),"") -> Фасонные изделия | I24: =IF(INDIRECT("ЗакСпец!C21")<>"",INDIRECT("ЗакСпец!C21"),"") | J24: =IF(INDIRECT("ЗакСпец!D21")<>"",INDIRECT("ЗакСпец!D21"),"") | O24: =IF(INDIRECT("ЗакСпец!E21")<>"",INDIRECT("ЗакСпец!E21"),"") | T24: =IF(INDIRECT("ЗакСпец!F21")<>"",INDIRECT("ЗакСпец!F21"),"") -> м² | U24: =IF(INDIRECT("ЗакСпец!G21")<>"",INDIRECT("ЗакСпец!G21"),"") -> 22.5 | V24: =IF(INDIRECT("ЗакСпец!H21")<>"",INDIRECT("ЗакСпец!H21"),"") | X24: =IF(INDIRECT("ЗакСпец!I21")<>"",INDIRECT("ЗакСпец!I21"),"")
G25: =IF(INDIRECT("ЗакСпец!A22")<>"",INDIRECT("ЗакСпец!A22"),"") | H25: =IF(INDIRECT("ЗакСпец!B22")<>"",INDIRECT("ЗакСпец!B22"),"") -> Воздушный клапан для круглых воздуховодов | I25: =IF(INDIRECT("ЗакСпец!C22")<>"",INDIRECT("ЗакСпец!C22"),"") -> KB 100 | J25: =IF(INDIRECT("ЗакСпец!D22")<>"",INDIRECT("ЗакСпец!D22"),"") | O25: =IF(INDIRECT("ЗакСпец!E22")<>"",INDIRECT("ЗакСпец!E22"),"") -> Ventart | T25: =IF(INDIRECT("ЗакСпец!F22")<>"",INDIRECT("ЗакСпец!F22"),"") -> шт. | U25: =IF(INDIRECT("ЗакСпец!G22")<>"",INDIRECT("ЗакСпец!G22"),"") -> 3 | V25: =IF(INDIRECT("ЗакСпец!H22")<>"",INDIRECT("ЗакСпец!H22"),"") | X25: =IF(INDIRECT("ЗакСпец!I22")<>"",INDIRECT("ЗакСпец!I22"),"")
G27: =IF(INDIRECT("ЗакСпец!A23")<>"",INDIRECT("ЗакСпец!A23"),"") | H27: =IF(INDIRECT("ЗакСпец!B23")<>"",INDIRECT("ЗакСпец!B23"),"") -> Зонт вытяжной из оц.стали | I27: =IF(INDIRECT("ЗакСпец!C23")<>"",INDIRECT("ЗакСпец!C23"),"") -> Ø100 | J27: =IF(INDIRECT("ЗакСпец!D23")<>"",INDIRECT("ЗакСпец!D23"),"") | O27: =IF(INDIRECT("ЗакСпец!E23")<>"",INDIRECT("ЗакСпец!E23"),"") | T27: =IF(INDIRECT("ЗакСпец!F23")<>"",INDIRECT("ЗакСпец!F23"),"") -> шт. | U27: =IF(INDIRECT("ЗакСпец!G23")<>"",INDIRECT("ЗакСпец!G23"),"") -> 3 | V27: =IF(INDIRECT("ЗакСпец!H23")<>"",INDIRECT("ЗакСпец!H23"),"") | X27: =IF(INDIRECT("ЗакСпец!I23")<>"",INDIRECT("ЗакСпец!I23"),"")
G28: =IF(INDIRECT("ЗакСпец!A24")<>"",INDIRECT("ЗакСпец!A24"),"") | H28: =IF(INDIRECT("ЗакСпец!B24")<>"",INDIRECT("ЗакСпец!B24"),"") | I28: =IF(INDIRECT("ЗакСпец!C24")<>"",INDIRECT("ЗакСпец!C24"),"") | J28: =IF(INDIRECT("ЗакСпец!D24")<>"",INDIRECT("ЗакСпец!D24"),"") | O28: =IF(INDIRECT("ЗакСпец!E24")<>"",INDIRECT("ЗакСпец!E24"),"") | T28: =IF(INDIRECT("ЗакСпец!F24")<>"",INDIRECT("ЗакСпец!F24"),"") | U28: =IF(INDIRECT("ЗакСпец!G24")<>"",INDIRECT("ЗакСпец!G24"),"") | V28: =IF(INDIRECT("ЗакСпец!H24")<>"",INDIRECT("ЗакСпец!H24"),"") | X28: =IF(INDIRECT("ЗакСпец!I24")<>"",INDIRECT("ЗакСпец!I24"),"")
C29: Взаим. инв.№
G30: =IF(INDIRECT("ЗакСпец!A25")<>"",INDIRECT("ЗакСпец!A25"),"") | H30: =IF(INDIRECT("ЗакСпец!B25")<>"",INDIRECT("ЗакСпец!B25"),"") -> Вентиляция из колясочной (ВЕк6.1.1, ВЕк6.2.1, ВЕк6.3.1) | I30: =IF(INDIRECT("ЗакСпец!C25")<>"",INDIRECT("ЗакСпец!C25"),"") | J30: =IF(INDIRECT("ЗакСпец!D25")<>"",INDIRECT("ЗакСпец!D25"),"") | O30: =IF(INDIRECT("ЗакСпец!E25")<>"",INDIRECT("ЗакСпец!E25"),"") | T30: =IF(INDIRECT("ЗакСпец!F25")<>"",INDIRECT("ЗакСпец!F25"),"") | U30: =IF(INDIRECT("ЗакСпец!G25")<>"",INDIRECT("ЗакСпец!G25"),"") | V30: =IF(INDIRECT("ЗакСпец!H25")<>"",INDIRECT("ЗакСпец!H25"),"") | X30: =IF(INDIRECT("ЗакСпец!I25")<>"",INDIRECT("ЗакСпец!I25"),"")
G31: =IF(INDIRECT("ЗакСпец!A26")<>"",INDIRECT("ЗакСпец!A26"),"") | H31: =IF(INDIRECT("ЗакСпец!B26")<>"",INDIRECT("ЗакСпец!B26"),"") -> Клапан противопожарный нормально открытый с двумя присоединительными фланцами с электроприводом Belimo с возвратной пружиной огнестойкостью EI60 | I31: =IF(INDIRECT("ЗакСпец!C26")<>"",INDIRECT("ЗакСпец!C26"),"") -> Сигмавент-60-НО-125-BM(220)-к | J31: =IF(INDIRECT("ЗакСпец!D26")<>"",INDIRECT("ЗакСпец!D26"),"") | O31: =IF(INDIRECT("ЗакСпец!E26")<>"",INDIRECT("ЗакСпец!E26"),"") -> Сигмавент | T31: =IF(INDIRECT("ЗакСпец!F26")<>"",INDIRECT("ЗакСпец!F26"),"") -> шт. | U31: =IF(INDIRECT("ЗакСпец!G26")<>"",INDIRECT("ЗакСпец!G26"),"") -> 3 | V31: =IF(INDIRECT("ЗакСпец!H26")<>"",INDIRECT("ЗакСпец!H26"),"") | X31: =IF(INDIRECT("ЗакСпец!I26")<>"",INDIRECT("ЗакСпец!I26"),"")
G32: =IF(INDIRECT("ЗакСпец!A27")<>"",INDIRECT("ЗакСпец!A27"),"") | H32: =IF(INDIRECT("ЗакСпец!B27")<>"",INDIRECT("ЗакСпец!B27"),"") -> Воздуховод из оцинкованной стали S=0,5мм Ø125 | I32: =IF(INDIRECT("ЗакСпец!C27")<>"",INDIRECT("ЗакСпец!C27"),"") -> ГОСТ 14918-80 | J32: =IF(INDIRECT("ЗакСпец!D27")<>"",INDIRECT("ЗакСпец!D27"),"") | O32: =IF(INDIRECT("ЗакСпец!E27")<>"",INDIRECT("ЗакСпец!E27"),"") | T32: =IF(INDIRECT("ЗакСпец!F27")<>"",INDIRECT("ЗакСпец!F27"),"") -> м | U32: =IF(INDIRECT("ЗакСпец!G27")<>"",INDIRECT("ЗакСпец!G27"),"") -> 6 | V32: =IF(INDIRECT("ЗакСпец!H27")<>"",INDIRECT("ЗакСпец!H27"),"") | X32: =IF(INDIRECT("ЗакСпец!I27")<>"",INDIRECT("ЗакСпец!I27"),"")
C33: Подп. и дата
R34: =IF(Штамп!F4<>"",Штамп!F4,"") -> 1191-ИОС4.1-ВОР
R36: =IF(Штамп!F5<>"",Штамп!F5,"") -> «Жилые дома с инженерными сетями и благоустройством территории» по адресу: г. Москва, район Очаково-Матвеевское, ш. Очаковское (Очаковское шоссе, влд. 3А, 5А) (Западный административный округ)
J38: Изм. | K38: Кол.уч | L38: Лист | N38: № док. | P38: Подпись | Q38: Дата
J39: =IF(Штамп!A4<>"",Штамп!A4,"") -> Разработал | L39: =IF(Штамп!B4<>"",Штамп!B4,"") -> Степанов | P39: =IF(Штамп!C4<>"",Штамп!C4,"") | Q39: =IF(Штамп!D4<>"",Штамп!D4,"") -> 06.22 | R39: =IF(Штамп!F6<>"",Штамп!F6,"") -> Система отопления, вентиляции и кондиционирования воздуха. | W39: Стадия | Y39: Лист | Z39: Листов
C40: Инв. № подл. | J40: =IF(Штамп!A5<>"",Штамп!A5,"") -> Рук.группы | L40: =IF(Штамп!B5<>"",Штамп!B5,"") -> Зайцев | P40: =IF(Штамп!C5<>"",Штамп!C5,"") | Q40: =IF(Штамп!D5<>"",Штамп!D5,"") | W40: =IF(Штамп!F8<>"",Штамп!F8,"") -> П | Y40: =IF(CONCATENATE(H3,H4,H5,H6,H7)<>"",1,"") -> 1 | Z40: 14
J41: =IF(Штамп!A6<>"",Штамп!A6,"") | L41: =IF(Штамп!B6<>"",Штамп!B6,"") | P41: =IF(Штамп!C6<>"",Штамп!C6,"") | Q41: =IF(Штамп!D6<>"",Штамп!D6,"")
J42: =IF(Штамп!A7<>"",Штамп!A7,"") | L42: =IF(Штамп!B7<>"",Штамп!B7,"") | P42: =IF(Штамп!C7<>"",Штамп!C7,"") | Q42: =IF(Штамп!D7<>"",Штамп!D7,"") | R42: =IF(Штамп!F7<>"",Штамп!F7,"") -> Спецификация оборудования. Корпус 6 | W42: =IF(Штамп!F9<>"",Штамп!F9,"") -> ООО "Проектное бюро АПЕКС"
J43: =IF(Штамп!A8<>"",Штамп!A8,"") -> Н.контр. | L43: =IF(Штамп!B8<>"",Штамп!B8,"") -> Куликова | P43: =IF(Штамп!C8<>"",Штамп!C8,"") | Q43: =IF(Штамп!D8<>"",Штамп!D8,"")
J44: =IF(Штамп!A9<>"",Штамп!A9,"") -> ГИП | L44: =IF(Штамп!B9<>"",Штамп!B9,"") -> Яковлева | P44: =IF(Штамп!C9<>"",Штамп!C9,"") | Q44: =IF(Штамп!D9<>"",Штамп!D9,"")
G47: =G2 -> Позиция | H47: =H2 -> Наименование и техническая характеристика | I47: Тип, марка, обозначение документа, опросного листа | J47: Код обору-дования, изделия, материала | O47: Завод-изготовитель | T47: =T2 -> Еди-ница измере-ния | U47: Коли-чество | V47: Масса единицы, кг. | X47: Примечание
...

Sheet ЗакСпец
B2: КОРПУС 6
B4: ОБЩЕОБМЕННАЯ ВЕНТИЛЯЦИЯ. ЖИЛАЯ ЧАСТЬ
B5: Вентиляция из ПУИ консьержа (В6.1.1, В6.2.1, В6.3.1)
B6: Вентилятор бытовой, L=20м3/ч, Nэл=0.28 | C6: 4S | E6: ЕРА | F6: шт. | G6: 3
B7: Воздуховод из оцинкованной стали S=0,5мм Ø100 | C7: ГОСТ 14918-80 | F7: м | G7: 30
B8: Воздуховод из оцинкованной стали S=0,8мм Ø100 | C8: ГОСТ 14918-80 | F8: м | G8: 195
B9: Клапан противопожарный нормально открытый с двумя присоединительными фланцами с электроприводом Belimo с возвратной пружиной огнестойкостью EI60 | C9: Сигмавент-60-НО-100-BM(220)-к | E9: Сигмавент | F9: шт. | G9: 3
B10: Огнезащитное покрытие EI30 на основе базальтового материала толщиной 5 мм, с жаростойкой мастикой "Kleber", расход 0,7 кг/м² | C10: PRO-МБОР-VENT (1 НФ) EI30 | E10: BOS | F10: м² | G10: 78
B11: Фасонные изделия | F11: м² | G11: 22.5
B12: Воздушный клапан для круглых воздуховодов | C12: KB 100 | E12: Ventart | F12: шт. | G12: 3
B13: Зонт вытяжной из оц.стали | C13: Ø100 | F13: шт. | G13: 3
B15: Вентиляция из С/У консьержа (В6.1.2, В6.2.2, В6.3.2)
B16: Вентилятор бытовой, L=50м3/ч, Nэл=0.28 | C16: 4S | E16: ЕРА | F16: шт. | G16: 3
B17: Воздуховод из оцинкованной стали S=0,5мм Ø100 | C17: ГОСТ 14918-80 | F17: м | G17: 30
B18: Воздуховод из оцинкованной стали S=0,8мм Ø100 | C18: ГОСТ 14918-80 | F18: м | G18: 195
B19: Клапан противопожарный нормально открытый с двумя присоединительными фланцами с электроприводом Belimo с возвратной пружиной огнестойкостью EI60 | C19: Сигмавент-60-НО-100-BM(220)-к | E19: Сигмавент | F19: шт. | G19: 3
B20: Огнезащитное покрытие EI30 на основе базальтового материала толщиной 5 мм, с жаростойкой мастикой "Kleber", расход 0,7 кг/м² | C20: PRO-МБОР-VENT (1 НФ) EI30 | E20: BOS | F20: м² | G20: 78
B21: Фасонные изделия | F21: м² | G21: 22.5
B22: Воздушный клапан для круглых воздуховодов | C22: KB 100 | E22: Ventart | F22: шт. | G22: 3
B23: Зонт вытяжной из оц.стали | C23: Ø100 | F23: шт. | G23: 3
B25: Вентиляция из колясочной (ВЕк6.1.1, ВЕк6.2.1, ВЕк6.3.1)
B26: Клапан противопожарный нормально открытый с двумя присоединительными фланцами с электроприводом Belimo с возвратной пружиной огнестойкостью EI60 | C26: Сигмавент-60-НО-125-BM(220)-к | E26: Сигмавент | F26: шт. | G26: 3
B27: Воздуховод из оцинкованной стали S=0,5мм Ø125 | C27: ГОСТ 14918-80 | F27: м | G27: 6
B28: Воздуховод из оцинкованной стали S=0,8мм Ø125 | C28: ГОСТ 14918-80 | F28: м | G28: 180
B29: Фасонные изделия | F29: м² | G29: 52.5
B30: Огнезащитное покрытие EI30 на основе базальтового материала толщиной 5 мм, с жаростойкой мастикой "Kleber", расход 0,7 кг/м² | C30: PRO-МБОР-VENT (1 НФ) EI30 | E30: BOS | F30: м² | G30: 97.5
B31: Зонт вытяжной из оц.стали | C31: Ø125 | F31: шт. | G31: 3
B32: Диффузор | C32: DVS100 | E32: Ventart | F32: шт. | G32: 3
B33: Воздушный клапан для круглых воздуховодов | C33: KB 100 | E33: Ventart | F33: шт. | G33: 3
B35: Вентиляция из мусоросброной камеры (ВЕм6.1.1, ВЕм6.2.1, ВЕм6.3.1)
B36: Клапан противопожарный нормально открытый с двумя присоединительными фланцами с электроприводом Belimo с возвратной пружиной огнестойкостью EI60 | C36: Сигмавент-60-НО-125-BM(220)-к | E36: Сигмавент | F36: шт. | G36: 3
B37: Воздуховод из оцинкованной стали S=0,5мм Ø125 | C37: ГОСТ 14918-80 | F37: м | G37: 6
B38: Воздуховод из оцинкованной стали S=0,8мм Ø125 | C38: ГОСТ 14918-80 | F38: м | G38: 180
B39: Фасонные изделия | F39: м² | G39: 52.5
B40: Огнезащитное покрытие EI30 на основе базальтового материала толщиной 5 мм, с жаростойкой мастикой "Kleber", расход 0,7 кг/м² | C40: PRO-МБОР-VENT (1 НФ) EI30 | E40: BOS | F40: м² | G40: 97.5
B41: Зонт вытяжной из оц.стали | C41: Ø125 | F41: шт. | G41: 3
B42: Металлическая сетка с ячейкой 5х5 мм в раме | C42: Ø125 | F42: м² | G42: 0.6
B43: Воздушный клапан для круглых воздуховодов | C43: KB 100 | E43: Ventart | F43: шт. | G43: 3
B45: Вентиляция помещений для ствола мусоропровода (ВЕм6.1.2, ВЕм6.2.2, ВЕм6.3.2)
B46: Воздуховод из оцинкованной стали S=0,8мм 350x250 | C46: ГОСТ 14918-80 | F46: м | G46: 180
...

Sheet Штамп
A1: Надписи в штампе
A2: Люди: | E2: Документ
B3: ФИО | C3: Подпись | D3: Дата
A4: Разработал | B4: Степанов | D4: 06.22 | E4: Шифр | F4: 1191-ИОС4.1-ВОР
A5: Рук.группы | B5: Зайцев | E5: Название | F5: «Жилые дома с инженерными сетями и благоустройством территории» по адресу: г. Москва, район Очаково-Матвеевское, ш. Очаковское (Очаковское шоссе, влд. 3А, 5А) (Западный административный округ)
E6: Наименование | F6: Система отопления, вентиляции и кондиционирования воздуха.
E7: Уточнение | F7: Спецификация оборудования. Корпус 6
A8: Н.контр. | B8: Куликова | E8: Стадия | F8: П
A9: ГИП | B9: Яковлева | E9: Предприятие | F9: ООО "Проектное бюро АПЕКС"

Sheet Лист1
B3: Воздуховод из оцинкованной стали S=0,8мм 700x400 | C3: ГОСТ 14918-80 | F3: м | G3: 15
B4: Воздуховод из оцинкованной стали S=0,8мм 700x500 | C4: ГОСТ 14918-80 | F4: м | G4: 247
B5: Воздуховод из оцинкованной стали S=0,8мм Ø630 | C5: ГОСТ 14918-80 | F5: м | G5: 16
B6: Встраиваемый осевой вентилятор УПОР-ВО | C6: УПОР-ВО-6,3-Г-2 | E6: Вентзащита | F6: шт. | G6: 6
B7: Декоративная решетка прямоугольного сечения | C7: Рсп-700x400 | E7: Сигмавент | F7: шт. | G7: 60
B8: Заглушка воздуховода торцевая прямоугольного сечения из оцинкованной стали S=0,8мм 700x500 | F8: шт. | G8: 6
B9: Клапан прямоугольный противопожарный нормально закрытый с двумя присоединительными фланцами с электроприводом Belimo без возвратной пружины огнестойкостью EI120 | C9: Сигмавент-120-НЗ(КЛ)-500x700-СН-ВЕ(220) | E9: Сигмавент | F9: шт. | G9: 60
B10: Клапан прямоугольный противопожарный нормально закрытый с одним присоединительным фланцем с электроприводом Belimo без возвратной пружины огнестойкостью EI120 | C10: Сигмавент-120-НЗ(СЛ)-700x400-ВН-ВЕ(220) | E10: Сигмавент | F10: шт. | G10: 12
B11: Огнезащитное покрытие EI30 толщиной 5мм | C11: 5,0 мм | E11: PRO-МБОР | F11: м² | G11: 751
B12: Отвод круглого сечения из оцинкованной стали 45° S=0,8мм Ø630-Ø630 | F12: шт. | G12: 14
B13: Отвод круглого сечения из оцинкованной стали 90° S=0,8мм Ø630-Ø630 | F13: шт. | G13: 10
B14: Отвод прямоугольного сечения из оцинкованной стали 90° S=0,8мм 700x500-700x500 | F14: шт. | G14: 8
B15: Переход с круглого на прямоугольное сечение из оцинкованной стали S=0,8мм 500x700-Ø630 | F15: шт. | G15: 6
B16: Сетка защитная металлическая оцинкованная 20х20 мм Ø630 | C16: ГОСТ 3826-82 | F16: m² | G16: 2.4
