Workbook

Sheet По листам
G2: Позиция | H2: Наименование и техническая характеристика | I2: Тип, марка, обозначение документа, опросного листа | J2: Код обору-дования, изделия, материала | O2: Завод-изготовитель | T2: Еди-ница измере-ния | U2: Коли-чество | V2: Масса единицы, кг. | X2: Примечание
G3: =IF(INDIRECT("ЗакСпец!A2")<>"",INDIRECT("ЗакСпец!A2"),"") | H3: =IF(INDIRECT("ЗакСпец!B2")<>"",INDIRECT("ЗакСпец!B2"),"") -> КОРПУС 6 | I3: =IF(INDIRECT("ЗакСпец!C2")<>"",INDIRECT("ЗакСпец!C2"),"") | J3: =IF(INDIRECT("ЗакСпец!D2")<>"",INDIRECT("ЗакСпец!D2"),"") | O3: =IF(INDIRECT("ЗакСпец!E2")<>"",INDIRECT("ЗакСпец!E2"),"") | T3: =IF(INDIRECT("ЗакСпец!F2")<>"",INDIRECT("ЗакСпец!F2"),"") | U3: =IF(INDIRECT("ЗакСпец!G2")<>"",INDIRECT("ЗакСпец!G2"),"") | V3: =IF(INDIRECT("ЗакСпец!H2")<>"",INDIRECT("ЗакСпец!H2"),"") | X3: =IF(INDIRECT("ЗакСпец!I2")<>"",INDIRECT("ЗакСпец!I2"),"")
G4: =IF(INDIRECT("ЗакСпец!A3")<>"",INDIRECT("ЗакСпец!A3"),"") | H4: =IF(INDIRECT("ЗакСпец!B3")<>"",INDIRECT("ЗакСпец!B3"),"") | I4: =IF(INDIRECT("ЗакСпец!C3")<>"",INDIRECT("ЗакСпец!C3"),"") | J4: =IF(INDIRECT("ЗакСпец!D3")<>"",INDIRECT("ЗакСпец!D3"),"") | O4: =IF(INDIRECT("ЗакСпец!E3")<>"",INDIRECT("ЗакСпец!E3"),"") | T4: =IF(INDIRECT("ЗакСпец!F3")<>"",INDIRECT("ЗакСпец!F3"),"") | U4: =IF(INDIRECT("ЗакСпец!G3")<>"",INDIRECT("ЗакСпец!G3"),"") | V4: =IF(INDIRECT("ЗакСпец!H3")<>"",INDIRECT("ЗакСпец!H3"),"") | X4: =IF(INDIRECT("ЗакСпец!I3")<>"",INDIRECT("ЗакСпец!I3"),"")
G5: =IF(INDIRECT("ЗакСпец!A4")<>"",INDIRECT("ЗакСпец!A4"),"") | H5: =IF(INDIRECT("ЗакСпец!B4")<>"",INDIRECT("ЗакСпец!B4"),"") -> ОБЩЕОБМЕННАЯ ВЕНТИЛЯЦИЯ. ЖИЛАЯ ЧАСТЬ | I5: =IF(INDIRECT("ЗакСпец!C4")<>"",INDIRECT("ЗакСпец!C4"),"") | J5: =IF(INDIRECT("ЗакСпец!D4")<>"",INDIRECT("ЗакСпец!D4"),"") | O5: =IF(INDIRECT("ЗакСпец!E4")<>"",INDIRECT("ЗакСпец!E4"),"") | T5: =IF(INDIRECT("ЗакСпец!F4")<>"",INDIRECT("ЗакСпец!F4"),"") | U5: =IF(INDIRECT("ЗакСпец!G4")<>"",INDIRECT("ЗакСпец!G4"),"") | V5: =IF(INDIRECT("ЗакСпец!H4")<>"",INDIRECT("ЗакСпец!H4"),"") | X5: =IF(INDIRECT("ЗакСпец!I4")<>"",INDIRECT("ЗакСпец!I4"),"")
G6: =IF(INDIRECT("ЗакСпец!A5")<>"",INDIRECT("ЗакСпец!A5"),"") | H6: =IF(INDIRECT("ЗакСпец!B5")<>"",INDIRECT("ЗакСпец!B5"),"") -> Вентиляция из ПУИ консьержа (В6.1.1, В6.2.1, В6.3.1) | I6: =IF(INDIRECT("ЗакСпец!C5")<>"",INDIRECT("ЗакСпец!C5"),"") | J6: =IF(INDIRECT("ЗакСпец!D5")<>"",INDIRECT("ЗакСпец!D5"),"") | O6: =IF(INDIRECT("ЗакСпец!E5")<>"",INDIRECT("ЗакСпец!E5"),"") | T6: =IF(INDIRECT("ЗакСпец!F5")<>"",INDIRECT("ЗакСпец!F5"),"") | U6: =IF(INDIRECT("ЗакСпец!G5")<>"",INDIRECT("ЗакСпец!G5"),"") | V6: =IF(INDIRECT("ЗакСпец!H5")<>"",INDIRECT("ЗакСпец!H5"),"") | X6: =IF(INDIRECT("ЗакСпец!I5")<>"",INDIRECT("ЗакСпец!I5"),"")
G7: =IF(INDIRECT("ЗакСпец!A6")<>"",INDIRECT("ЗакСпец!A6"),"") | H7: =IF(INDIRECT("ЗакСпец!B6")<>"",INDIRECT("ЗакСпец!B6"),"") -> Вентилятор бытовой, L=20м3/ч, Nэл=0.28 | I7: =IF(INDIRECT("ЗакСпец!C6")<>"",INDIRECT("ЗакСпец!C6"),"") -> 4S | J7: =IF(INDIRECT("ЗакСпец!D6")<>"",INDIRECT("ЗакСпец!D6"),"") | O7: =IF(INDIRECT("ЗакСпец!E6")<>"",INDIRECT("ЗакСпец!E6"),"") -> ЕРА | T7: =IF(INDIRECT("ЗакСпец!F6")<>"",INDIRECT("ЗакСпец!F6"),"") -> шт. | U7: =IF(INDIRECT("ЗакСпец!G6")<>"",INDIRECT("ЗакСпец!G6"),"") -> 3 | V7: =IF(INDIRECT("ЗакСпец!H6")<>"",INDIRECT("ЗакСпец!H6"),"") | X7: =IF(INDIRECT("ЗакСпец!I6")<>"",INDIRECT("ЗакСпец!I6"),"")
G8: =IF(INDIRECT("ЗакСпец!A7")<>"",INDIRECT("ЗакСпец!A7"),"") | H8: =IF(INDIRECT("ЗакСпец!B7")<>"",INDIRECT("ЗакСпец!B7"),"") -> Воздуховод из оцинкованной стали S=0,5мм Ø100 | I8: =IF(INDIRECT("ЗакСпец!C7")<>"",INDIRECT("ЗакСпец!C7"),"") -> ГОСТ 14918-80 | J8: =IF(INDIRECT("ЗакСпец!D7")<>"",INDIRECT("ЗакСпец!D7"),"") | O8: =IF(INDIRECT("ЗакСпец!E7")<>"",INDIRECT("ЗакСпец!E7"),"") | T8: =IF(INDIRECT("ЗакСпец!F7")<>"",INDIRECT("ЗакСпец!F7"),"") -> м | U8: =IF(INDIRECT("ЗакСпец!G7")<>"",INDIRECT("ЗакСпец!G7"),"") -> 30 | V8: =IF(INDIRECT("ЗакСпец!H7")<>"",INDIRECT("ЗакСпец!H7"),"") | X8: =IF(INDIRECT("ЗакСпец!I7")<>"",INDIRECT("ЗакСпец!I7"),"")
G9: =IF(INDIRECT("ЗакСпец!A8")<>"",INDIRECT("ЗакСпец!A8"),"") | H9: =IF(INDIRECT("ЗакСпец!B8")<>"",INDIRECT("ЗакСпец!B8"),"") -> Воздуховод из оцинкованной стали S=0,8мм Ø100 | I9: =IF(INDIRECT("ЗакСпец!C8")<>"",INDIRECT("ЗакСпец!C8"),"") -> ГОСТ 14918-80 | J9: =IF(INDIRECT("ЗакСпец!D8")<>"",INDIRECT("ЗакСпец!D8"),"") | O9: =IF(INDIRECT("ЗакСпец!E8")<>"",INDIRECT("ЗакСпец!E8"),"") | T9: =IF(INDIRECT("ЗакСпец!F8")<>"",INDIRECT("ЗакСпец!F8"),"") -> м | U9: =IF(INDIRECT("ЗакСпец!G8")<>"",INDIRECT("ЗакСпец!G8"),"") -> 195 | V9: =IF(INDIRECT("ЗакСпец!H8")<>"",INDIRECT("ЗакСпец!H8"),"") | X9: =IF(INDIRECT("ЗакСпец!I8")<>"",INDIRECT("ЗакСпец!I8"),"")
G10: =IF(INDIRECT("ЗакСпец!A9")<>"",INDIRECT("ЗакСпец!A9"),"") | H10: =IF(INDIRECT("ЗакСпец!B9")<>"",INDIRECT("ЗакСпец!B9"),"") -> Клапан противопожарный нормально открытый с двумя присоединительными фланцами с электроприводом Belimo с возвратной пружиной огнестойкостью EI60 | I10: =IF(INDIRECT("ЗакСпец!C9")<>"",INDIRECT("ЗакСпец!C9"),"") -> Сигмавент-60-НО-100-BM(220)-к | J10: =IF(INDIRECT("ЗакСпец!D9")<>"",INDIRECT("ЗакСпец!D9"),"") | O10: =IF(INDIRECT("ЗакСпец!E9")<>"",INDIRECT("ЗакСпец!E9"),"") -> Сигмавент | T10: =IF(INDIRECT("ЗакСпец!F9")<>"",INDIRECT("ЗакСпец!F9"),"") -> шт. | U10: =IF(INDIRECT("ЗакСпец!G9")<>"",INDIRECT("ЗакСпец!G9"),"") -> 3 | V10: =IF(INDIRECT("ЗакСпец!H9")<>"",INDIRECT("ЗакСпец!H9"),"") | X10: =IF(INDIRECT("ЗакСпец!I9")<>"",INDIRECT("ЗакСпец!I9"),"")
G11: =IF(INDIRECT("ЗакСпец!A10")<>"",INDIRECT("ЗакСпец!A10"),"") | H11: =IF(INDIRECT("ЗакСпец!B10")<>"",INDIRECT("ЗакСпец!B10"),"") -> Огнезащитное покрытие EI30 на основе базальтового материала толщиной 5 мм, с жаростойкой мастикой "Kleber", расход 0,7 кг/м² | I11: =IF(INDIRECT("ЗакСпец!C10")<>"",INDIRECT("ЗакСпец!C10"),"") -> PRO-МБОР-VENT (1 НФ) EI30 | J11: =IF(INDIRECT("ЗакСпец!D10")<>"",INDIRECT("ЗакСпец!D10"),"") | O11: =IF(INDIRECT("ЗакСпец!E10")<>"",INDIRECT("ЗакСпец!E10"),"") -> BOS | T11: =IF(INDIRECT("ЗакСпец!F10")<>"",INDIRECT("ЗакСпец!F10"),"") -> м² | U11: =IF(INDIRECT("ЗакСпец!G10")<>"",INDIRECT("ЗакСпец!G10"),"") -> 78 | V11: =IF(INDIRECT("ЗакСпец!H10")<>"",INDIRECT("ЗакСпец!H10"),"") | X11: =IF(INDIRECT("ЗакСпец!I10")<>"",INDIRECT("ЗакСпец!I10"),"")
G12: =IF(INDIRECT("ЗакСпец!A11")<>"",INDIRECT("ЗакСпец!A11"),"") | H12: =IF(INDIRECT("ЗакСпец!B11")<>"",INDIRECT("ЗакСпец!B11"),"") -> Фасонные изделия | I12: =IF(INDIRECT("ЗакСпец!C11")<>"",INDIRECT("ЗакСпец!C11"),"") | J12: =IF(INDIRECT("ЗакСпец!D11")<>"",INDIRECT("ЗакСпец!D11"),"") | O12: =IF(INDIRECT("ЗакСпец!E11")<>"",INDIRECT("ЗакСпец!E11"),"") | T12: =IF(INDIRECT("ЗакСпец!F11")<>"",INDIRECT("ЗакСпец!F11"),"") -> м² | U12: =IF(INDIRECT("ЗакСпец!G11")<>"",INDIRECT("ЗакСпец!G11"),"") -> 22.5 | V12: =IF(INDIRECT("ЗакСпец!H11")<>"",INDIRECT("ЗакСпец!H11"),"") | X12: =IF(INDIRECT("ЗакСпец!I11")<>"",INDIRECT("ЗакСпец!I11"),"")
G13: =IF(INDIRECT("ЗакСпец!A12")<>"",INDIRECT("ЗакСпец!A12"),"") | H13: =IF(INDIRECT("ЗакСпец!B12")<>"",INDIRECT("ЗакСпец!B12"),"") -> Воздушный клапан для круглых воздуховодов | I13: =IF(INDIRECT("ЗакСпец!C12")<>"",INDIRECT("ЗакСпец!C12"),"") -> KB 100 | J13: =IF(INDIRECT("ЗакСпец!D12")<>"",INDIRECT("ЗакСпец!D12"),"") | O13: =IF(INDIRECT("ЗакСпец!E12")<>"",INDIRECT("ЗакСпец!E12"),"") -> Ventart | T13: =IF(INDIRECT("ЗакСпец!F12")<>"",INDIRECT("ЗакСпец!F12"),"") -> шт. | U13: =IF(INDIRECT("ЗакСпец!G12")<>"",INDIRECT("ЗакСпец!G12"),"") -> 3 | V13: =IF(INDIRECT("ЗакСпец!H12")<>"",INDIRECT("ЗакСпец!H12"),"") | X13: =IF(INDIRECT("ЗакСпец!I12")<>"",INDIRECT("ЗакСпец!I12"),"")
G14: =IF(INDIRECT("ЗакСпец!A13")<>"",INDIRECT("ЗакСпец!A13"),"") | H14: =IF(INDIRECT("ЗакСпец!B13")<>"",INDIRECT("ЗакСпец!B13"),"") -> Зонт вытяжной из оц.стали | I14: =IF(INDIRECT("ЗакСпец!C13")<>"",INDIRECT("ЗакСпец!C13"),"") -> Ø100 | J14: =IF(INDIRECT("ЗакСпец!D13")<>"",INDIRECT("ЗакСпец!D13"),"") | O14: =IF(INDIRECT("ЗакСпец!E13")<>"",INDIRECT("ЗакСпец!E13"),"") | T14: =IF(INDIRECT("ЗакСпец!F13")<>"",INDIRECT("ЗакСпец!F13"),"") -> шт. | U14: =IF(INDIRECT("ЗакСпец!G13")<>"",INDIRECT("ЗакСпец!G13"),"") -> 3 | V14: =IF(INDIRECT("ЗакСпец!H13")<>"",INDIRECT("ЗакСпец!H13"),"") | X14: =IF(INDIRECT("ЗакСпец!I13")<>"",INDIRECT("ЗакСпец!I13"),"")
G15: =IF(INDIRECT("ЗакСпец!A14")<>"",INDIRECT("ЗакСпец!A14"),"") | H15: =IF(INDIRECT("ЗакСпец!B14")<>"",INDIRECT("ЗакСпец!B14"),"") | I15: =IF(INDIRECT("ЗакСпец!C14")<>"",INDIRECT("ЗакСпец!C14"),"") | J15: =IF(INDIRECT("ЗакСпец!D14")<>"",INDIRECT("ЗакСпец!D14"),"") | O15: =IF(INDIRECT("ЗакСпец!E14")<>"",INDIRECT("ЗакСпец!E14"),"") | T15: =IF(INDIRECT("ЗакСпец!F14")<>"",INDIRECT("ЗакСпец!F14"),"") | U15: =IF(INDIRECT("ЗакСпец!G14")<>"",INDIRECT("ЗакСпец!G14"),"") | V15: =IF(INDIRECT("ЗакСпец!H14")<>"",INDIRECT("ЗакСпец!H14"),"") | X15: =IF(INDIRECT("ЗакСпец!I14")<>"",INDIRECT("ЗакСпец!I14"),"")
G16: =IF(INDIRECT("ЗакСпец!A15")<>"",INDIRECT("ЗакСпец!A15"),"") | H16: =IF(INDIRECT("ЗакСпец!B15")<>"",INDIRECT("ЗакСпец!B15"),"") -> Вентиляция из С/У консьержа (В6.1.2, В6.2.2, В6.3.2) | I16: =IF(INDIRECT("ЗакСпец!C15")<>"",INDIRECT("ЗакСпец!C15"),"") | J16: =IF(INDIRECT("ЗакСпец!D15")<>"",INDIRECT("ЗакСпец!D15"),"") | O16: =IF(INDIRECT("ЗакСпец!E15")<>"",INDIRECT("ЗакСпец!E15"),"") | T16: =IF(INDIRECT("ЗакСпец!F15")<>"",INDIRECT("ЗакСпец!F15"),"") | U16: =IF(INDIRECT("ЗакСпец!G15")<>"",INDIRECT("ЗакСпец!G15"),"") | V16: =IF(INDIRECT("ЗакСпец!H15")<>"",INDIRECT("ЗакСпец!H15"),"") | X16: =IF(INDIRECT("ЗакСпец!I15")<>"",INDIRECT("ЗакСпец!I15"),"")
G17: =IF(INDIRECT("ЗакСпец!A16")<>"",INDIRECT("ЗакСпец!A16"),"") | H17: =IF(INDIRECT("ЗакСпец!B16")<>"",INDIRECT("ЗакСпец!B16"),"") -> Вентилятор бытовой, L=50м3/ч, Nэл=0.28 | I17: =IF(INDIRECT("ЗакСпец!C16")<>"",INDIRECT("ЗакСпец!C16"),"") -> 4S | J17: =IF(INDIRECT("ЗакСпец!D16")<>"",INDIRECT("ЗакСпец!D16"),"") | O17: =IF(INDIRECT("ЗакСпец!E16")<>"",INDIRECT("ЗакСпец!E16"),"") -> ЕРА | T17: =IF(INDIRECT("ЗакСпец!F16")<>"",INDIRECT("ЗакСпец!F16"),"") -> шт. | U17: =IF(INDIRECT("ЗакСпец!G16")<>"",INDIRECT("ЗакСпец!G16"),"") -> 3 | V17: =IF(INDIRECT("ЗакСпец!H16")<>"",INDIRECT("ЗакСпец!H16"),"") | X17: =IF(INDIRECT("ЗакСпец!I16")<>"",INDIRECT("ЗакСпец!I16"),"")
A18: Согласовано :
G19: =IF(INDIRECT("ЗакСпец!A17")<>"",INDIRECT("ЗакСпец!A17"),"") | H19: =IF(INDIRECT("ЗакСпец!B17")<>"",INDIRECT("ЗакСпец!B17"),"") -> Воздуховод из оцинкованной стали S=0,5мм Ø100 | I19: =IF(INDIRECT("ЗакСпец!C17")<>"",INDIRECT("ЗакСпец!C17"),"") -> ГОСТ 14918-80 | J19: =IF(INDIRECT("ЗакСпец!D17")<>"",INDIRECT("ЗакСпец!D17"),"") | O19: =IF(INDIRECT("ЗакСпец!E17")<>"",INDIRECT("ЗакСпец!E17"),"") | T19: =IF(INDIRECT("ЗакСпец!F17")<>"",INDIRECT("ЗакСпец!F17"),"") -> м | U19: =IF(INDIRECT("ЗакСпец!G17")<>"",INDIRECT("ЗакСпец!G17"),"") -> 30 | V19: =IF(INDIRECT("ЗакСпец!H17")<>"",INDIRECT("ЗакСпец!H17"),"") | X19: =IF(INDIRECT("ЗакСпец!I17")<>"",INDIRECT("ЗакСпец!I17"),"")
G20: =IF(INDIRECT("ЗакСпец!A18")<>"",INDIRECT("ЗакСпец!A18"),"") | H20: =IF(INDIRECT("ЗакСпец!B18")<>"",INDIRECT("ЗакСпец!B18"),"") -> Воздуховод из оцинкованной стали S=0,8мм Ø100 | I20: =IF(INDIRECT("ЗакСпец!C18")<>"",INDIRECT("ЗакСпец!C18"),"") -> ГОСТ 14918-80 | J20: =IF(INDIRECT("ЗакСпец!D18")<>"",INDIRECT("ЗакСпец!D18"),"") | O20: =IF(INDIRECT("ЗакСпец!E18")<>"",INDIRECT("ЗакСпец!E18"),"") | T20: =IF(INDIRECT("ЗакСпец!F18")<>"",INDIRECT("ЗакСпец!F18"),"") -> м | U20: =IF(INDIRECT("ЗакСпец!G18")<>"",INDIRECT("ЗакСпец!G18"),"") -> 195 | V20: =IF(INDIRECT("ЗакСпец!H18")<>"",INDIRECT("ЗакСпец!H18"),"") | X20: =IF(INDIRECT("ЗакСпец!I18")<>"",INDIRECT("ЗакСпец!I18"),"")
G21: =IF(INDIRECT("ЗакСпец!A19")<>"",INDIRECT("ЗакСпец!A19"),"") | H21: =IF(INDIRECT("ЗакСпец!B19")<>"",INDIRECT("ЗакСпец!B19"),"") -> Клапан противопожарный нормально открытый с двумя присоединительными фланцами с электроприводом Belimo с возвратной пружиной огнестойкостью EI60 | I21: =IF(INDIRECT("ЗакСпец!C19")<>"",INDIRECT("ЗакСпец!C19"),"") -> Сигмавент-60-НО-100-BM(220)-к | J21: =IF(INDIRECT("ЗакСпец!D19")<>"",INDIRECT("ЗакСпец!D19"),"") | O21: =IF(INDIRECT("ЗакСпец!E19")<>"",INDIRECT("ЗакСпец!E19"),"") -> Сигмавент | T21: =IF(INDIRECT("ЗакСпец!F19")<>"",INDIRECT("ЗакСпец!F19"),"") -> шт. | U21: =IF(INDIRECT("ЗакСпец!G19")<>"",INDIRECT("ЗакСпец!G19"),"") -> 3 | V21: =IF(INDIRECT("ЗакСпец!H19")<>"",INDIRECT("ЗакСпец!H19"),"") | X21: =IF(INDIRECT("ЗакСпец!I19")<>"",INDIRECT("ЗакСпец!I19"),"")
G23: =IF(INDIRECT("ЗакСпец!A20")<>"",INDIRECT("ЗакСпец!A20"),"") | H23: =IF(INDIRECT("ЗакСпец!B20")<>"",INDIRECT("ЗакСпец!B20"),"") -> Огнезащитное покрытие EI30 на основе базальтового материала толщиной 5 мм, с жаростойкой мастикой "Kleber", расход 0,7 кг/м² | I23: =IF(INDIRECT("ЗакСпец!C20")<>"",INDIRECT("ЗакСпец!C20"),"") -> PRO-МБОР-VENT (1 НФ) EI30 | J23: =IF(INDIRECT("ЗакСпец!D20")<>"",INDIRECT("ЗакСпец!D20"),"") | O23: =IF(INDIRECT("ЗакСпец!E20")<>"",INDIRECT("ЗакСпец!E20"),"") -> BOS | T23: =IF(INDIRECT("ЗакСпец!F20")<>"",INDIRECT("ЗакСпец!F20"),"") -> м² | U23: =IF(INDIRECT("ЗакСпец!G20")<>"",INDIRECT("ЗакСпец!G20"),"") -> 78 | V23: =IF(INDIRECT("ЗакСпец!H20")<>"",INDIRECT("ЗакСпец!H20"),"") | X23: =IF(INDIRECT("ЗакСпец!I20")<>"",INDIRECT("ЗакСпец!I20"),"")
G24: =IF(INDIRECT("ЗакСпец!A21")<>"",INDIRECT("ЗакСпец!A21"),"") | H24: =IF(INDIRECT("ЗакСпец!B21")<>"",INDIRECT("ЗакСпец!B21"),"") -> Фасонные изделия | I24: =IF(INDIRECT("ЗакСпец!C21")<>"",INDIRECT("ЗакСпец!C21"),"") | J24: =IF(INDIRECT("ЗакСпец!D21")<>"",INDIRECT("ЗакСпец!D21"),"") | O24: =IF(INDIRECT("ЗакСпец!E21")<>"",INDIRECT("ЗакСпец!E21"),"") | T24: =IF(INDIRECT("ЗакСпец!F21")<>"",INDIRECT("ЗакСпец!F21"),"") -> м² | U24: =IF(INDIRECT("ЗакСпец!G21")<>"",INDIRECT("ЗакСпец!G21"),"") -> 22.5 | V24: =IF(INDIRECT("ЗакСпец!H21")<>"",INDIRECT("ЗакСпец!H21"),"") | X24: =IF(INDIRECT("ЗакСпец!I21")<>"",INDIRECT("ЗакСпец!I21"),"")
G25: =IF(INDIRECT("ЗакСпец!A22")<>"",INDIRECT("ЗакСпец!A22"),"") | H25: =IF(INDIRECT("ЗакСпец!B22")<>"",INDIRECT("ЗакСпец!B22"),"") -> Воздушный клапан для круглых воздуховодов | I25: =IF(INDIRECT("ЗакСпец!C22")<>"",INDIRECT("ЗакСпец!C22"),"") -> KB 100 | J25: =IF(INDIRECT("ЗакСпец!D22")<>"",INDIRECT("ЗакСпец!D22"),"") | O25: =IF(INDIRECT("ЗакСпец!E22")<>"",INDIRECT("ЗакСпец!E22"),"") -> Ventart | T25: =IF(INDIRECT("ЗакСпец!F22")<>"",INDIRECT("ЗакСпец!F22"),"") -> шт. | U25: =IF(INDIRECT("ЗакСпец!G22")<>"",INDIRECT("ЗакСпец!G22"),"") -> 3 | V25: =IF(INDIRECT("ЗакСпец!H22")<>"",INDIRECT("ЗакСпец!H22"),"") | X25: =IF(INDIRECT("ЗакСпец!I22")<>"",INDIRECT("ЗакСпец!I22"),"")
G27: =IF(INDIRECT("ЗакСпец!A23")<>"",INDIRECT("ЗакСпец!A23"),"") | H27: =IF(INDIRECT("ЗакСпец!B23")<>"",INDIRECT("ЗакСпец!B23"),"") -> Зонт вытяжной из оц.стали | I27: =IF(INDIRECT("ЗакСпец!C23")<>"",INDIRECT("ЗакСпец!C23"),"") -> Ø100 | J27: =IF(INDIRECT("ЗакСпец!D23")<>"",INDIRECT("ЗакСпец!D23"),"") | O27: =IF(INDIRECT("ЗакСпец!E23")<>"",INDIRECT("ЗакСпец!E23"),"") | T27: =IF(INDIRECT("ЗакСпец!F23")<>"",INDIRECT("ЗакСпец!F23"),"") -> шт. | U27: =IF(INDIRECT("ЗакСпец!G23")<>"",INDIRECT("ЗакСпец!G23"),"") -> 3 | V27: =IF(INDIRECT("ЗакСпец!H23")<>"",INDIRECT("ЗакСпец!H23"),"") | X27: =IF(INDIRECT("ЗакСпец!I23")<>"",INDIRECT("ЗакСпец!I23"),"")
G28: =IF(INDIRECT("ЗакСпец!A24")<>"",INDIRECT("ЗакСпец!A24"),"") | H28: =IF(INDIRECT("ЗакСпец!B24")<>"",INDIRECT("ЗакСпец!B24"),"") | I28: =IF(INDIRECT("ЗакСпец!C24")<>"",INDIRECT("ЗакСпец!C24"),"") | J28: =IF(INDIRECT("ЗакСпец!D24")<>"",INDIRECT("ЗакСпец!D24"),"") | O28: =IF(INDIRECT("ЗакСпец!E24")<>"",INDIRECT("ЗакСпец!E24"),"") | T28: =IF(INDIRECT("ЗакСпец!F24")<>"",INDIRECT("ЗакСпец!F24"),"") | U28: =IF(INDIRECT("ЗакСпец!G24")<>"",INDIRECT("ЗакСпец!G24"),"") | V28: =IF(INDIRECT("ЗакСпец!H24")<>"",INDIRECT("ЗакСпец!H24"),"") | X28: =IF(INDIRECT("ЗакСпец!I24")<>"",INDIRECT("ЗакСпец!I24"),"")
C29: Взаим. инв.№
G30: =IF(INDIRECT("ЗакСпец!A25")<>"",INDIRECT("ЗакСпец!A25"),"") | H30: =IF(INDIRECT("ЗакСпец!B25")<>"",INDIRECT("ЗакСпец!B25"),"") -> Вентиляция из колясочной (ВЕк6.1.1, ВЕк6.2.1, ВЕк6.3.1) | I30: =IF(INDIRECT("ЗакСпец!C25")<>"",INDIRECT("ЗакСпец!C25"),"") | J30: =IF(INDIRECT("ЗакСпец!D25")<>"",INDIRECT("ЗакСпец!D25"),"") | O30: =IF(INDIRECT("ЗакСпец!E25")<>"",INDIRECT("ЗакСпец!E25"),"") | T30: =IF(INDIRECT("ЗакСпец!F25")<>"",INDIRECT("ЗакСпец!F25"),"") | U30: =IF(INDIRECT("ЗакСпец!G25")<>"",INDIRECT("ЗакСпец!G25"),"") | V30: =IF(INDIRECT("ЗакСпец!H25")<>"",INDIRECT("ЗакСпец!H25"),"") | X30: =IF(INDIRECT("ЗакСпец!I25")<>"",INDIRECT("ЗакСпец!I25"),"")
G31: =IF(INDIRECT("ЗакСпец!A26")<>"",INDIRECT("ЗакСпец!A26"),"") | H31: =IF(INDIRECT("ЗакСпец!B26")<>"",INDIRECT("ЗакСпец!B26"),"") -> Клапан противопожарный нормально открытый с двумя присоединительными фланцами с электроприводом Belimo с возвратной пружиной огнестойкостью EI60 | I31: =IF(INDIRECT("ЗакСпец!C26")<>"",INDIRECT("ЗакСпец!C26"),"") -> Сигмавент-60-НО-125-BM(220)-к | J31: =IF(INDIRECT("ЗакСпец!D26")<>"",INDIRECT("ЗакСпец!D26"),"") | O31: =IF(INDIRECT("ЗакСпец!E26")<>"",INDIRECT("ЗакСпец!E26"),"") -> Сигмавент | T31: =IF(INDIRECT("ЗакСпец!F26")<>"",INDIRECT("ЗакСпец!F26"),"") -> шт. | U31: =IF(INDIRECT("ЗакСпец!G26")<>"",INDIRECT("ЗакСпец!G26"),"") -> 3 | V31: =IF(INDIRECT("ЗакСпец!H26")<>"",INDIRECT("ЗакСпец!H26"),"") | X31: =IF(INDIRECT("ЗакСпец!I26")<>"",INDIRECT("ЗакСпец!I26"),"")
G32: =IF(INDIRECT("ЗакСпец!A27")<>"",INDIRECT("ЗакСпец!A27"),"") | H32: =IF(INDIRECT("ЗакСпец!B27")<>"",INDIRECT("ЗакСпец!B27"),"") -> Воздуховод из оцинкованной стали S=0,5мм Ø125 | I32: =IF(INDIRECT("ЗакСпец!C27")<>"",INDIRECT("ЗакСпец!C27"),"") -> ГОСТ 14918-80 | J32: =IF(INDIRECT("ЗакСпец!D27")<>"",INDIRECT("ЗакСпец!D27"),"") | O32: =IF(INDIRECT("ЗакСпец!E27")<>"",INDIRECT("ЗакСпец!E27"),"") | T32: =IF(INDIRECT("ЗакСпец!F27")<>"",INDIRECT("ЗакСпец!F27"),"") -> м | U32: =IF(INDIRECT("ЗакСпец!G27")<>"",INDIRECT("ЗакСпец!G27"),"") -> 6 | V32: =IF(INDIRECT("ЗакСпец!H27")<>"",INDIRECT("ЗакСпец!H27"),"") | X32: =IF(INDIRECT("ЗакСпец!I27")<>"",INDIRECT("ЗакСпец!I27"),"")
C33: Подп. и дата
R34: =IF(Штамп!F4<>"",Штамп!F4,"") -> 1191-ИОС4.1-ВОР
R36: =IF(Штамп!F5<>"",Штамп!F5,"") -> «Жилые дома с инженерными сетями и благоустройством территории» по адресу: г. Москва, район Очаково-Матвеевское, ш. Очаковское (Очаковское шоссе, влд. 3А, 5А) (Западный административный округ)
J38: Изм. | K38: Кол.уч | L38: Лист | N38: № док. | P38: Подпись | Q38: Дата
J39: =IF(Штамп!A4<>"",Штамп!A4,"") -> Разработал | L39: =IF(Штамп!B4<>"",Штамп!B4,"") -> Степанов | P39: =IF(Штамп!C4<>"",Штамп!C4,"") | Q39: =IF(Штамп!D4<>"",Штамп!D4,"") -> 06.22 | R39: =IF(Штамп!F6<>"",Штамп!F6,"") -> Система отопления, вентиляции и кондиционирования воздуха. | W39: Стадия | Y39: Лист | Z39: Листов
C40: Инв. № подл. | J40: =IF(Штамп!A5<>"",Штамп!A5,"") -> Рук.группы | L40: =IF(Штамп!B5<>"",Штамп!B5,"") -> Зайцев | P40: =IF(Штамп!C5<>"",Штамп!C5,"") | Q40: =IF(Штамп!D5<>"",Штамп!D5,"") | W40: =IF(Штамп!F8<>"",Штамп!F8,"") -> П | Y40: =IF(CONCATENATE(H3,H4,H5,H6,H7)<>"",1,"") -> 1 | Z40: 14
J41: =IF(Штамп!A6<>"",Штамп!A6,"") | L41: =IF(Штамп!B6<>"",Штамп!B6,"") | P41: =IF(Штамп!C6<>"",Штамп!C6,"") | Q41: =IF(Штамп!D6<>"",Штамп!D6,"")
J42: =IF(Штамп!A7<>"",Штамп!A7,"") | L42: =IF(Штамп!B7<>"",Штамп!B7,"") | P42: =IF(Штамп!C7<>"",Штамп!C7,"") | Q42: =IF(Штамп!D7<>"",Штамп!D7,"") | R42: =IF(Штамп!F7<>"",Штамп!F7,"") -> Спецификация оборудования. Корпус 6 | W42: =IF(Штамп!F9<>"",Штамп!F9,"") -> ООО "Проектное бюро АПЕКС"
J43: =IF(Штамп!A8<>"",Штамп!A8,"") -> Н.контр. | L43: =IF(Штамп!B8<>"",Штамп!B8,"") -> Куликова | P43: =IF(Штамп!C8<>"",Штамп!C8,"") | Q43: =IF(Штамп!D8<>"",Штамп!D8,"")
J44: =IF(Штамп!A9<>"",Штамп!A9,"") -> ГИП | L44: =IF(Штамп!B9<>"",Штамп!B9,"") -> Яковлева | P44: =IF(Штамп!C9<>"",Штамп!C9,"") | Q44: =IF(Штамп!D9<>"",Штамп!D9,"")
G47: =G2 -> Позиция | H47: =H2 -> Наименование и техническая характеристика | I47: Тип, марка, обозначение документа, опросного листа | J47: Код обору-дования, изделия, материала | O47: Завод-изготовитель | T47: =T2 -> Еди-ница измере-ния | U47: Коли-чество | V47: Масса единицы, кг. | X47: Примечание
G48: =IF(INDIRECT("ЗакСпец!A28")<>"",INDIRECT("ЗакСпец!A28"),"") | H48: =IF(INDIRECT("ЗакСпец!B28")<>"",INDIRECT("ЗакСпец!B28"),"") -> Воздуховод из оцинкованной стали S=0,8мм Ø125 | I48: =IF(INDIRECT("ЗакСпец!C28")<>"",INDIRECT("ЗакСпец!C28"),"") -> ГОСТ 14918-80 | J48: =IF(INDIRECT("ЗакСпец!D28")<>"",INDIRECT("ЗакСпец!D28"),"") | O48: =IF(INDIRECT("ЗакСпец!E28")<>"",INDIRECT("ЗакСпец!E28"),"") | T48: =IF(INDIRECT("ЗакСпец!F28")<>"",INDIRECT("ЗакСпец!F28"),"") -> м | U48: =IF(INDIRECT("ЗакСпец!G28")<>"",INDIRECT("ЗакСпец!G28"),"") -> 180 | V48: =IF(INDIRECT("ЗакСпец!H28")<>"",INDIRECT("ЗакСпец!H28"),"") | X48: =IF(INDIRECT("ЗакСпец!I28")<>"",INDIRECT("ЗакСпец!I28"),"")
G49: =IF(INDIRECT("ЗакСпец!A29")<>"",INDIRECT("ЗакСпец!A29"),"") | H49: =IF(INDIRECT("ЗакСпец!B29")<>"",INDIRECT("ЗакСпец!B29"),"") -> Фасонные изделия | I49: =IF(INDIRECT("ЗакСпец!C29")<>"",INDIRECT("ЗакСпец!C29"),"") | J49: =IF(INDIRECT("ЗакСпец!D29")<>"",INDIRECT("ЗакСпец!D29"),"") | O49: =IF(INDIRECT("ЗакСпец!E29")<>"",INDIRECT("ЗакСпец!E29"),"") | T49: =IF(INDIRECT("ЗакСпец!F29")<>"",INDIRECT("ЗакСпец!F29"),"") -> м² | U49: =IF(INDIRECT("ЗакСпец!G29")<>"",INDIRECT("ЗакСпец!G29"),"") -> 52.5 | V49: =IF(INDIRECT("ЗакСпец!H29")<>"",INDIRECT("ЗакСпец!H29"),"") | X49: =IF(INDIRECT("ЗакСпец!I29")<>"",INDIRECT("ЗакСпец!I29"),"")
G50: =IF(INDIRECT("ЗакСпец!A30")<>"",INDIRECT("ЗакСпец!A30"),"") | H50: =IF(INDIRECT("ЗакСпец!B30")<>"",INDIRECT("ЗакСпец!B30"),"") -> Огнезащитное покрытие EI30 на основе базальтового материала толщиной 5 мм, с жаростойкой мастикой "Kleber", расход 0,7 кг/м² | I50: =IF(INDIRECT("ЗакСпец!C30")<>"",INDIRECT("ЗакСпец!C30"),"") -> PRO-МБОР-VENT (1 НФ) EI30 | J50: =IF(INDIRECT("ЗакСпец!D30")<>"",INDIRECT("ЗакСпец!D30"),"") | O50: =IF(INDIRECT("ЗакСпец!E30")<>"",INDIRECT("ЗакСпец!E30"),"") -> BOS | T50: =IF(INDIRECT("ЗакСпец!F30")<>"",INDIRECT("ЗакСпец!F30"),"") -> м² | U50: =IF(INDIRECT("ЗакСпец!G30")<>"",INDIRECT("ЗакСпец!G30"),"") -> 97.5 | V50: =IF(INDIRECT("ЗакСпец!H30")<>"",INDIRECT("ЗакСпец!H30"),"") | X50: =IF(INDIRECT("ЗакСпец!I30")<>"",INDIRECT("ЗакСпец!I30"),"")
G51: =IF(INDIRECT("ЗакСпец!A31")<>"",INDIRECT("ЗакСпец!A31"),"") | H51: =IF(INDIRECT("ЗакСпец!B31")<>"",INDIRECT("ЗакСпец!B31"),"") -> Зонт вытяжной из оц.стали | I51: =IF(INDIRECT("ЗакСпец!C31")<>"",INDIRECT("ЗакСпец!C31"),"") -> Ø125 | J51: =IF(INDIRECT("ЗакСпец!D31")<>"",INDIRECT("ЗакСпец!D31"),"") | O51: =IF(INDIRECT("ЗакСпец!E31")<>"",INDIRECT("ЗакСпец!E31"),"") | T51: =IF(INDIRECT("ЗакСпец!F31")<>"",INDIRECT("ЗакСпец!F31"),"") -> шт. | U51: =IF(INDIRECT("ЗакСпец!G31")<>"",INDIRECT("ЗакСпец!G31"),"") -> 3 | V51: =IF(INDIRECT("ЗакСпец!H31")<>"",INDIRECT("ЗакСпец!H31"),"") | X51: =IF(INDIRECT("ЗакСпец!I31")<>"",INDIRECT("ЗакСпец!I31"),"")
G52: =IF(INDIRECT("ЗакСпец!A32")<>"",INDIRECT("ЗакСпец!A32"),"") | H52: =IF(INDIRECT("ЗакСпец!B32")<>"",INDIRECT("ЗакСпец!B32"),"") -> Диффузор | I52: =IF(INDIRECT("ЗакСпец!C32")<>"",INDIRECT("ЗакСпец!C32"),"") -> DVS100 | J52: =IF(INDIRECT("ЗакСпец!D32")<>"",INDIRECT("ЗакСпец!D32"),"") | O52: =IF(INDIRECT("ЗакСпец!E32")<>"",INDIRECT("ЗакСпец!E32"),"") -> Ventart | T52: =IF(INDIRECT("ЗакСпец!F32")<>"",INDIRECT("ЗакСпец!F32"),"") -> шт. | U52: =IF(INDIRECT("ЗакСпец!G32")<>"",INDIRECT("ЗакСпец!G32"),"") -> 3 | V52: =IF(INDIRECT("ЗакСпец!H32")<>"",INDIRECT("ЗакСпец!H32"),"") | X52: =IF(INDIRECT("ЗакСпец!I32")<>"",INDIRECT("ЗакСпец!I32"),"")
G53: =IF(INDIRECT("ЗакСпец!A33")<>"",INDIRECT("ЗакСпец!A33"),"") | H53: =IF(INDIRECT("ЗакСпец!B33")<>"",INDIRECT("ЗакСпец!B33"),"") -> Воздушный клапан для круглых воздуховодов | I53: =IF(INDIRECT("ЗакСпец!C33")<>"",INDIRECT("ЗакСпец!C33"),"") -> KB 100 | J53: =IF(INDIRECT("ЗакСпец!D33")<>"",INDIRECT("ЗакСпец!D33"),"") | O53: =IF(INDIRECT("ЗакСпец!E33")<>"",INDIRECT("ЗакСпец!E33"),"") -> Ventart | T53: =IF(INDIRECT("ЗакСпец!F33")<>"",INDIRECT("ЗакСпец!F33"),"") -> шт. | U53: =IF(INDIRECT("ЗакСпец!G33")<>"",INDIRECT("ЗакСпец!G33"),"") -> 3 | V53: =IF(INDIRECT("ЗакСпец!H33")<>"",INDIRECT("ЗакСпец!H33"),"") | X53: =IF(INDIRECT("ЗакСпец!I33")<>"",INDIRECT("ЗакСпец!I33"),"")
G54: =IF(INDIRECT("ЗакСпец!A34")<>"",INDIRECT("ЗакСпец!A34"),"") | H54: =IF(INDIRECT("ЗакСпец!B34")<>"",INDIRECT("ЗакСпец!B34"),"") | I54: =IF(INDIRECT("ЗакСпец!C34")<>"",INDIRECT("ЗакСпец!C34"),"") | J54: =IF(INDIRECT("ЗакСпец!D34")<>"",INDIRECT("ЗакСпец!D34"),"") | O54: =IF(INDIRECT("ЗакСпец!E34")<>"",INDIRECT("ЗакСпец!E34"),"") | T54: =IF(INDIRECT("ЗакСпец!F34")<>"",INDIRECT("ЗакСпец!F34"),"") | U54: =IF(INDIRECT("ЗакСпец!G34")<>"",INDIRECT("ЗакСпец!G34"),"") | V54: =IF(INDIRECT("ЗакСпец!H34")<>"",INDIRECT("ЗакСпец!H34"),"") | X54: =IF(INDIRECT("ЗакСпец!I34")<>"",INDIRECT("ЗакСпец!I34"),"")
G55: =IF(INDIRECT("ЗакСпец!A35")<>"",INDIRECT("ЗакСпец!A35"),"") | H55: =IF(INDIRECT("ЗакСпец!B35")<>"",INDIRECT("ЗакСпец!B35"),"") -> Вентиляция из мусоросброной камеры (ВЕм6.1.1, ВЕм6.2.1, ВЕм6.3.1) | I55: =IF(INDIRECT("ЗакСпец!C35")<>"",INDIRECT("ЗакСпец!C35"),"") | J55: =IF(INDIRECT("ЗакСпец!D35")<>"",INDIRECT("ЗакСпец!D35"),"") | O55: =IF(INDIRECT("ЗакСпец!E35")<>"",INDIRECT("ЗакСпец!E35"),"") | T55: =IF(INDIRECT("ЗакСпец!F35")<>"",INDIRECT("ЗакСпец!F35"),"") | U55: =IF(INDIRECT("ЗакСпец!G35")<>"",INDIRECT("ЗакСпец!G35"),"") | V55: =IF(INDIRECT("ЗакСпец!H35")<>"",INDIRECT("ЗакСпец!H35"),"") | X55: =IF(INDIRECT("ЗакСпец!I35")<>"",INDIRECT("ЗакСпец!I35"),"")
G56: =IF(INDIRECT("ЗакСпец!A36")<>"",INDIRECT("ЗакСпец!A36"),"") | H56: =IF(INDIRECT("ЗакСпец!B36")<>"",INDIRECT("ЗакСпец!B36"),"") -> Клапан противопожарный нормально открытый с двумя присоединительными фланцами с электроприводом Belimo с возвратной пружиной огнестойкостью EI60 | I56: =IF(INDIRECT("ЗакСпец!C36")<>"",INDIRECT("ЗакСпец!C36"),"") -> Сигмавент-60-НО-125-BM(220)-к | J56: =IF(INDIRECT("ЗакСпец!D36")<>"",INDIRECT("ЗакСпец!D36"),"") | O56: =IF(INDIRECT("ЗакСпец!E36")<>"",INDIRECT("ЗакСпец!E36"),"") -> Сигмавент | T56: =IF(INDIRECT("ЗакСпец!F36")<>"",INDIRECT("ЗакСпец!F36"),"") -> шт. | U56: =IF(INDIRECT("ЗакСпец!G36")<>"",INDIRECT("ЗакСпец!G36"),"") -> 3 | V56: =IF(INDIRECT("ЗакСпец!H36")<>"",INDIRECT("ЗакСпец!H36"),"") | X56: =IF(INDIRECT("ЗакСпец!I36")<>"",INDIRECT("ЗакСпец!I36"),"")
G57: =IF(INDIRECT("ЗакСпец!A37")<>"",INDIRECT("ЗакСпец!A37"),"") | H57: =IF(INDIRECT("ЗакСпец!B37")<>"",INDIRECT("ЗакСпец!B37"),"") -> Воздуховод из оцинкованной стали S=0,5мм Ø125 | I57: =IF(INDIRECT("ЗакСпец!C37")<>"",INDIRECT("ЗакСпец!C37"),"") -> ГОСТ 14918-80 | J57: =IF(INDIRECT("ЗакСпец!D37")<>"",INDIRECT("ЗакСпец!D37"),"") | O57: =IF(INDIRECT("ЗакСпец!E37")<>"",INDIRECT("ЗакСпец!E37"),"") | T57: =IF(INDIRECT("ЗакСпец!F37")<>"",INDIRECT("ЗакСпец!F37"),"") -> м | U57: =IF(INDIRECT("ЗакСпец!G37")<>"",INDIRECT("ЗакСпец!G37"),"") -> 6 | V57: =IF(INDIRECT("ЗакСпец!H37")<>"",INDIRECT("ЗакСпец!H37"),"") | X57: =IF(INDIRECT("ЗакСпец!I37")<>"",INDIRECT("ЗакСпец!I37"),"")
G58: =IF(INDIRECT("ЗакСпец!A38")<>"",INDIRECT("ЗакСпец!A38"),"") | H58: =IF(INDIRECT("ЗакСпец!B38")<>"",INDIRECT("ЗакСпец!B38"),"") -> Воздуховод из оцинкованной стали S=0,8мм Ø125 | I58: =IF(INDIRECT("ЗакСпец!C38")<>"",INDIRECT("ЗакСпец!C38"),"") -> ГОСТ 14918-80 | J58: =IF(INDIRECT("ЗакСпец!D38")<>"",INDIRECT("ЗакСпец!D38"),"") | O58: =IF(INDIRECT("ЗакСпец!E38")<>"",INDIRECT("ЗакСпец!E38"),"") | T58: =IF(INDIRECT("ЗакСпец!F38")<>"",INDIRECT("ЗакСпец!F38"),"") -> м | U58: =IF(INDIRECT("ЗакСпец!G38")<>"",INDIRECT("ЗакСпец!G38"),"") -> 180 | V58: =IF(INDIRECT("ЗакСпец!H38")<>"",INDIRECT("ЗакСпец!H38"),"") | X58: =IF(INDIRECT("ЗакСпец!I38")<>"",INDIRECT("ЗакСпец!I38"),"")
G59: =IF(INDIRECT("ЗакСпец!A39")<>"",INDIRECT("ЗакСпец!A39"),"") | H59: =IF(INDIRECT("ЗакСпец!B39")<>"",INDIRECT("ЗакСпец!B39"),"") -> Фасонные изделия | I59: =IF(INDIRECT("ЗакСпец!C39")<>"",INDIRECT("ЗакСпец!C39"),"") | J59: =IF(INDIRECT("ЗакСпец!D39")<>"",INDIRECT("ЗакСпец!D39"),"") | O59: =IF(INDIRECT("ЗакСпец!E39")<>"",INDIRECT("ЗакСпец!E39"),"") | T59: =IF(INDIRECT("ЗакСпец!F39")<>"",INDIRECT("ЗакСпец!F39"),"") -> м² | U59: =IF(INDIRECT("ЗакСпец!G39")<>"",INDIRECT("ЗакСпец!G39"),"") -> 52.5 | V59: =IF(INDIRECT("ЗакСпец!H39")<>"",INDIRECT("ЗакСпец!H39"),"") | X59: =IF(INDIRECT("ЗакСпец!I39")<>"",INDIRECT("ЗакСпец!I39"),"")
G60: =IF(INDIRECT("ЗакСпец!A40")<>"",INDIRECT("ЗакСпец!A40"),"") | H60: =IF(INDIRECT("ЗакСпец!B40")<>"",INDIRECT("ЗакСпец!B40"),"") -> Огнезащитное покрытие EI30 на основе базальтового материала толщиной 5 мм, с жаростойкой мастикой "Kleber", расход 0,7 кг/м² | I60: =IF(INDIRECT("ЗакСпец!C40")<>"",INDIRECT("ЗакСпец!C40"),"") -> PRO-МБОР-VENT (1 НФ) EI30 | J60: =IF(INDIRECT("ЗакСпец!D40")<>"",INDIRECT("ЗакСпец!D40"),"") | O60: =IF(INDIRECT("ЗакСпец!E40")<>"",INDIRECT("ЗакСпец!E40"),"") -> BOS | T60: =IF(INDIRECT("ЗакСпец!F40")<>"",INDIRECT("ЗакСпец!F40"),"") -> м² | U60: =IF(INDIRECT("ЗакСпец!G40")<>"",INDIRECT("ЗакСпец!G40"),"") -> 97.5 | V60: =IF(INDIRECT("ЗакСпец!H40")<>"",INDIRECT("ЗакСпец!H40"),"") | X60: =IF(INDIRECT("ЗакСпец!I40")<>"",INDIRECT("ЗакСпец!I40"),"")
G61: =IF(INDIRECT("ЗакСпец!A41")<>"",INDIRECT("ЗакСпец!A41"),"") | H61: =IF(INDIRECT("ЗакСпец!B41")<>"",INDIRECT("ЗакСпец!B41"),"") -> Зонт вытяжной из оц.стали | I61: =IF(INDIRECT("ЗакСпец!C41")<>"",INDIRECT("ЗакСпец!C41"),"") -> Ø125 | J61: =IF(INDIRECT("ЗакСпец!D41")<>"",INDIRECT("ЗакСпец!D41"),"") | O61: =IF(INDIRECT("ЗакСпец!E41")<>"",INDIRECT("ЗакСпец!E41"),"") | T61: =IF(INDIRECT("ЗакСпец!F41")<>"",INDIRECT("ЗакСпец!F41"),"") -> шт. | U61: =IF(INDIRECT("ЗакСпец!G41")<>"",INDIRECT("ЗакСпец!G41"),"") -> 3 | V61: =IF(INDIRECT("ЗакСпец!H41")<>"",INDIRECT("ЗакСпец!H41"),"") | X61: =IF(INDIRECT("ЗакСпец!I41")<>"",INDIRECT("ЗакСпец!I41"),"")
G62: =IF(INDIRECT("ЗакСпец!A42")<>"",INDIRECT("ЗакСпец!A42"),"") | H62: =IF(INDIRECT("ЗакСпец!B42")<>"",INDIRECT("ЗакСпец!B42"),"") -> Металлическая сетка с ячейкой 5х5 мм в раме | I62: =IF(INDIRECT("ЗакСпец!C42")<>"",INDIRECT("ЗакСпец!C42"),"") -> Ø125 | J62: =IF(INDIRECT("ЗакСпец!D42")<>"",INDIRECT("ЗакСпец!D42"),"") | O62: =IF(INDIRECT("ЗакСпец!E42")<>"",INDIRECT("ЗакСпец!E42"),"") | T62: =IF(INDIRECT("ЗакСпец!F42")<>"",INDIRECT("ЗакСпец!F42"),"") -> м² | U62: =IF(INDIRECT("ЗакСпец!G42")<>"",INDIRECT("ЗакСпец!G42"),"") -> 0.6 | V62: =IF(INDIRECT("ЗакСпец!H42")<>"",INDIRECT("ЗакСпец!H42"),"") | X62: =IF(INDIRECT("ЗакСпец!I42")<>"",INDIRECT("ЗакСпец!I42"),"")
G64: =IF(INDIRECT("ЗакСпец!A43")<>"",INDIRECT("ЗакСпец!A43"),"") | H64: =IF(INDIRECT("ЗакСпец!B43")<>"",INDIRECT("ЗакСпец!B43"),"") -> Воздушный клапан для круглых воздуховодов | I64: =IF(INDIRECT("ЗакСпец!C43")<>"",INDIRECT("ЗакСпец!C43"),"") -> KB 100 | J64: =IF(INDIRECT("ЗакСпец!D43")<>"",INDIRECT("ЗакСпец!D43"),"") | O64: =IF(INDIRECT("ЗакСпец!E43")<>"",INDIRECT("ЗакСпец!E43"),"") -> Ventart | T64: =IF(INDIRECT("ЗакСпец!F43")<>"",INDIRECT("ЗакСпец!F43"),"") -> шт. | U64: =IF(INDIRECT("ЗакСпец!G43")<>"",INDIRECT("ЗакСпец!G43"),"") -> 3 | V64: =IF(INDIRECT("ЗакСпец!H43")<>"",INDIRECT("ЗакСпец!H43"),"") | X64: =IF(INDIRECT("ЗакСпец!I43")<>"",INDIRECT("ЗакСпец!I43"),"")
G65: =IF(INDIRECT("ЗакСпец!A44")<>"",INDIRECT("ЗакСпец!A44"),"") | H65: =IF(INDIRECT("ЗакСпец!B44")<>"",INDIRECT("ЗакСпец!B44"),"") | I65: =IF(INDIRECT("ЗакСпец!C44")<>"",INDIRECT("ЗакСпец!C44"),"") | J65: =IF(INDIRECT("ЗакСпец!D44")<>"",INDIRECT("ЗакСпец!D44"),"") | O65: =IF(INDIRECT("ЗакСпец!E44")<>"",INDIRECT("ЗакСпец!E44"),"") | T65: =IF(INDIRECT("ЗакСпец!F44")<>"",INDIRECT("ЗакСпец!F44"),"") | U65: =IF(INDIRECT("ЗакСпец!G44")<>"",INDIRECT("ЗакСпец!G44"),"") | V65: =IF(INDIRECT("ЗакСпец!H44")<>"",INDIRECT("ЗакСпец!H44"),"") | X65: =IF(INDIRECT("ЗакСпец!I44")<>"",INDIRECT("ЗакСпец!I44"),"")
G66: =IF(INDIRECT("ЗакСпец!A45")<>"",INDIRECT("ЗакСпец!A45"),"") | H66: =IF(INDIRECT("ЗакСпец!B45")<>"",INDIRECT("ЗакСпец!B45"),"") -> Вентиляция помещений для ствола мусоропровода (ВЕм6.1.2, ВЕм6.2.2, ВЕм6.3.2) | I66: =IF(INDIRECT("ЗакСпец!C45")<>"",INDIRECT("ЗакСпец!C45"),"") | J66: =IF(INDIRECT("ЗакСпец!D45")<>"",INDIRECT("ЗакСпец!D45"),"") | O66: =IF(INDIRECT("ЗакСпец!E45")<>"",INDIRECT("ЗакСпец!E45"),"") | T66: =IF(INDIRECT("ЗакСпец!F45")<>"",INDIRECT("ЗакСпец!F45"),"") | U66: =IF(INDIRECT("ЗакСпец!G45")<>"",INDIRECT("ЗакСпец!G45"),"") | V66: =IF(INDIRECT("ЗакСпец!H45")<>"",INDIRECT("ЗакСпец!H45"),"") | X66: =IF(INDIRECT("ЗакСпец!I45")<>"",INDIRECT("ЗакСпец!I45"),"")
G68: =IF(INDIRECT("ЗакСпец!A46")<>"",INDIRECT("ЗакСпец!A46"),"") | H68: =IF(INDIRECT("ЗакСпец!B46")<>"",INDIRECT("ЗакСпец!B46"),"") -> Воздуховод из оцинкованной стали S=0,8мм 350x250 | I68: =IF(INDIRECT("ЗакСпец!C46")<>"",INDIRECT("ЗакСпец!C46"),"") -> ГОСТ 14918-80 | J68: =IF(INDIRECT("ЗакСпец!D46")<>"",INDIRECT("ЗакСпец!D46"),"") | O68: =IF(INDIRECT("ЗакСпец!E46")<>"",INDIRECT("ЗакСпец!E46"),"") | T68: =IF(INDIRECT("ЗакСпец!F46")<>"",INDIRECT("ЗакСпец!F46"),"") -> м | U68: =IF(INDIRECT("ЗакСпец!G46")<>"",INDIRECT("ЗакСпец!G46"),"") -> 180 | V68: =IF(INDIRECT("ЗакСпец!H46")<>"",INDIRECT("ЗакСпец!H46"),"") | X68: =IF(INDIRECT("ЗакСпец!I46")<>"",INDIRECT("ЗакСпец!I46"),"")
G69: =IF(INDIRECT("ЗакСпец!A47")<>"",INDIRECT("ЗакСпец!A47"),"") | H69: =IF(INDIRECT("ЗакСпец!B47")<>"",INDIRECT("ЗакСпец!B47"),"") -> Воздуховод из оцинкованной стали S=0,8мм Ø125 | I69: =IF(INDIRECT("ЗакСпец!C47")<>"",INDIRECT("ЗакСпец!C47"),"") -> ГОСТ 14918-80 | J69: =IF(INDIRECT("ЗакСпец!D47")<>"",INDIRECT("ЗакСпец!D47"),"") | O69: =IF(INDIRECT("ЗакСпец!E47")<>"",INDIRECT("ЗакСпец!E47"),"") | T69: =IF(INDIRECT("ЗакСпец!F47")<>"",INDIRECT("ЗакСпец!F47"),"") -> м | U69: =IF(INDIRECT("ЗакСпец!G47")<>"",INDIRECT("ЗакСпец!G47"),"") -> 204 | V69: =IF(INDIRECT("ЗакСпец!H47")<>"",INDIRECT("ЗакСпец!H47"),"") | X69: =IF(INDIRECT("ЗакСпец!I47")<>"",INDIRECT("ЗакСпец!I47"),"")
G70: =IF(INDIRECT("ЗакСпец!A48")<>"",INDIRECT("ЗакСпец!A48"),"") | H70: =IF(INDIRECT("ЗакСпец!B48")<>"",INDIRECT("ЗакСпец!B48"),"") -> Фасонные изделия | I70: =IF(INDIRECT("ЗакСпец!C48")<>"",INDIRECT("ЗакСпец!C48"),"") | J70: =IF(INDIRECT("ЗакСпец!D48")<>"",INDIRECT("ЗакСпец!D48"),"") | O70: =IF(INDIRECT("ЗакСпец!E48")<>"",INDIRECT("ЗакСпец!E48"),"") | T70: =IF(INDIRECT("ЗакСпец!F48")<>"",INDIRECT("ЗакСпец!F48"),"") -> м² | U70: =IF(INDIRECT("ЗакСпец!G48")<>"",INDIRECT("ЗакСпец!G48"),"") -> 60 | V70: =IF(INDIRECT("ЗакСпец!H48")<>"",INDIRECT("ЗакСпец!H48"),"") | X70: =IF(INDIRECT("ЗакСпец!I48")<>"",INDIRECT("ЗакСпец!I48"),"")
G72: =IF(INDIRECT("ЗакСпец!A49")<>"",INDIRECT("ЗакСпец!A49"),"") | H72: =IF(INDIRECT("ЗакСпец!B49")<>"",INDIRECT("ЗакСпец!B49"),"") -> Огнезащитное покрытие EI30 на основе базальтового материала толщиной 5 мм, с жаростойкой мастикой "Kleber", расход 0,7 кг/м² | I72: =IF(INDIRECT("ЗакСпец!C49")<>"",INDIRECT("ЗакСпец!C49"),"") -> PRO-МБОР-VENT (1 НФ) EI30 | J72: =IF(INDIRECT("ЗакСпец!D49")<>"",INDIRECT("ЗакСпец!D49"),"") | O72: =IF(INDIRECT("ЗакСпец!E49")<>"",INDIRECT("ЗакСпец!E49"),"") -> BOS | T72: =IF(INDIRECT("ЗакСпец!F49")<>"",INDIRECT("ЗакСпец!F49"),"") -> м² | U72: =IF(INDIRECT("ЗакСпец!G49")<>"",INDIRECT("ЗакСпец!G49"),"") -> 360 | V72: =IF(INDIRECT("ЗакСпец!H49")<>"",INDIRECT("ЗакСпец!H49"),"") | X72: =IF(INDIRECT("ЗакСпец!I49")<>"",INDIRECT("ЗакСпец!I49"),"")
G73: =IF(INDIRECT("ЗакСпец!A50")<>"",INDIRECT("ЗакСпец!A50"),"") | H73: =IF(INDIRECT("ЗакСпец!B50")<>"",INDIRECT("ЗакСпец!B50"),"") -> Воздушный клапан для круглых воздуховодов | I73: =IF(INDIRECT("ЗакСпец!C50")<>"",INDIRECT("ЗакСпец!C50"),"") -> KB 125 | J73: =IF(INDIRECT("ЗакСпец!D50")<>"",INDIRECT("ЗакСпец!D50"),"") | O73: =IF(INDIRECT("ЗакСпец!E50")<>"",INDIRECT("ЗакСпец!E50"),"") -> Ventart | T73: =IF(INDIRECT("ЗакСпец!F50")<>"",INDIRECT("ЗакСпец!F50"),"") -> шт. | U73: =IF(INDIRECT("ЗакСпец!G50")<>"",INDIRECT("ЗакСпец!G50"),"") -> 49 | V73: =IF(INDIRECT("ЗакСпец!H50")<>"",INDIRECT("ЗакСпец!H50"),"") | X73: =IF(INDIRECT("ЗакСпец!I50")<>"",INDIRECT("ЗакСпец!I50"),"")
C74: Взаим. инв. №
G75: =IF(INDIRECT("ЗакСпец!A51")<>"",INDIRECT("ЗакСпец!A51"),"") | H75: =IF(INDIRECT("ЗакСпец!B51")<>"",INDIRECT("ЗакСпец!B51"),"") -> Металлическая сетка с ячейкой 5х5 мм в раме | I75: =IF(INDIRECT("ЗакСпец!C51")<>"",INDIRECT("ЗакСпец!C51"),"") -> Ø125 | J75: =IF(INDIRECT("ЗакСпец!D51")<>"",INDIRECT("ЗакСпец!D51"),"") | O75: =IF(INDIRECT("ЗакСпец!E51")<>"",INDIRECT("ЗакСпец!E51"),"") | T75: =IF(INDIRECT("ЗакСпец!F51")<>"",INDIRECT("ЗакСпец!F51"),"") -> м² | U75: =IF(INDIRECT("ЗакСпец!G51")<>"",INDIRECT("ЗакСпец!G51"),"") -> 0.75 | V75: =IF(INDIRECT("ЗакСпец!H51")<>"",INDIRECT("ЗакСпец!H51"),"") | X75: =IF(INDIRECT("ЗакСпец!I51")<>"",INDIRECT("ЗакСпец!I51"),"")
G76: =IF(INDIRECT("ЗакСпец!A52")<>"",INDIRECT("ЗакСпец!A52"),"") | H76: =IF(INDIRECT("ЗакСпец!B52")<>"",INDIRECT("ЗакСпец!B52"),"") -> Зонт вытяжной из оц.стали | I76: =IF(INDIRECT("ЗакСпец!C52")<>"",INDIRECT("ЗакСпец!C52"),"") -> 350x250 | J76: =IF(INDIRECT("ЗакСпец!D52")<>"",INDIRECT("ЗакСпец!D52"),"") | O76: =IF(INDIRECT("ЗакСпец!E52")<>"",INDIRECT("ЗакСпец!E52"),"") | T76: =IF(INDIRECT("ЗакСпец!F52")<>"",INDIRECT("ЗакСпец!F52"),"") -> шт. | U76: =IF(INDIRECT("ЗакСпец!G52")<>"",INDIRECT("ЗакСпец!G52"),"") -> 3 | V76: =IF(INDIRECT("ЗакСпец!H52")<>"",INDIRECT("ЗакСпец!H52"),"") | X76: =IF(INDIRECT("ЗакСпец!I52")<>"",INDIRECT("ЗакСпец!I52"),"")
G77: =IF(INDIRECT("ЗакСпец!A53")<>"",INDIRECT("ЗакСпец!A53"),"") | H77: =IF(INDIRECT("ЗакСпец!B53")<>"",INDIRECT("ЗакСпец!B53"),"") | I77: =IF(INDIRECT("ЗакСпец!C53")<>"",INDIRECT("ЗакСпец!C53"),"") | J77: =IF(INDIRECT("ЗакСпец!D53")<>"",INDIRECT("ЗакСпец!D53"),"") | O77: =IF(INDIRECT("ЗакСпец!E53")<>"",INDIRECT("ЗакСпец!E53"),"") | T77: =IF(INDIRECT("ЗакСпец!F53")<>"",INDIRECT("ЗакСпец!F53"),"") | U77: =IF(INDIRECT("ЗакСпец!G53")<>"",INDIRECT("ЗакСпец!G53"),"") | V77: =IF(INDIRECT("ЗакСпец!H53")<>"",INDIRECT("ЗакСпец!H53"),"") | X77: =IF(INDIRECT("ЗакСпец!I53")<>"",INDIRECT("ЗакСпец!I53"),"")
C78: Подп. и дата | G78: =IF(INDIRECT("ЗакСпец!A54")<>"",INDIRECT("ЗакСпец!A54"),"") | H78: =IF(INDIRECT("ЗакСпец!B54")<>"",INDIRECT("ЗакСпец!B54"),"") -> Вентиляция машинного отделения лифтов | I78: =IF(INDIRECT("ЗакСпец!C54")<>"",INDIRECT("ЗакСпец!C54"),"") | J78: =IF(INDIRECT("ЗакСпец!D54")<>"",INDIRECT("ЗакСпец!D54"),"") | O78: =IF(INDIRECT("ЗакСпец!E54")<>"",INDIRECT("ЗакСпец!E54"),"") | T78: =IF(INDIRECT("ЗакСпец!F54")<>"",INDIRECT("ЗакСпец!F54"),"") | U78: =IF(INDIRECT("ЗакСпец!G54")<>"",INDIRECT("ЗакСпец!G54"),"") | V78: =IF(INDIRECT("ЗакСпец!H54")<>"",INDIRECT("ЗакСпец!H54"),"") | X78: =IF(INDIRECT("ЗакСпец!I54")<>"",INDIRECT("ЗакСпец!I54"),"")
G79: =IF(INDIRECT("ЗакСпец!A55")<>"",INDIRECT("ЗакСпец!A55"),"") | H79: =IF(INDIRECT("ЗакСпец!B55")<>"",INDIRECT("ЗакСпец!B55"),"") -> Решетка наружная с защитной сеткой | I79: =IF(INDIRECT("ЗакСпец!C55")<>"",INDIRECT("ЗакСпец!C55"),"") -> АРН-С 300х300 | J79: =IF(INDIRECT("ЗакСпец!D55")<>"",INDIRECT("ЗакСпец!D55"),"") | O79: =IF(INDIRECT("ЗакСпец!E55")<>"",INDIRECT("ЗакСпец!E55"),"") -> Арктос | T79: =IF(INDIRECT("ЗакСпец!F55")<>"",INDIRECT("ЗакСпец!F55"),"") -> шт. | U79: =IF(INDIRECT("ЗакСпец!G55")<>"",INDIRECT("ЗакСпец!G55"),"") -> 3 | V79: =IF(INDIRECT("ЗакСпец!H55")<>"",INDIRECT("ЗакСпец!H55"),"") | X79: =IF(INDIRECT("ЗакСпец!I55")<>"",INDIRECT("ЗакСпец!I55"),"")
G80: =IF(INDIRECT("ЗакСпец!A56")<>"",INDIRECT("ЗакСпец!A56"),"") | H80: =IF(INDIRECT("ЗакСпец!B56")<>"",INDIRECT("ЗакСпец!B56"),"") -> Воздуховод из оцинкованной стали S=0,7мм 300х300 | I80: =IF(INDIRECT("ЗакСпец!C56")<>"",INDIRECT("ЗакСпец!C56"),"") -> ГОСТ 14918-80 | J80: =IF(INDIRECT("ЗакСпец!D56")<>"",INDIRECT("ЗакСпец!D56"),"") | O80: =IF(INDIRECT("ЗакСпец!E56")<>"",INDIRECT("ЗакСпец!E56"),"") | T80: =IF(INDIRECT("ЗакСпец!F56")<>"",INDIRECT("ЗакСпец!F56"),"") -> м | U80: =IF(INDIRECT("ЗакСпец!G56")<>"",INDIRECT("ЗакСпец!G56"),"") -> 1.5 | V80: =IF(INDIRECT("ЗакСпец!H56")<>"",INDIRECT("ЗакСпец!H56"),"") | X80: =IF(INDIRECT("ЗакСпец!I56")<>"",INDIRECT("ЗакСпец!I56"),"")
G81: =IF(INDIRECT("ЗакСпец!A57")<>"",INDIRECT("ЗакСпец!A57"),"") | H81: =IF(INDIRECT("ЗакСпец!B57")<>"",INDIRECT("ЗакСпец!B57"),"") | I81: =IF(INDIRECT("ЗакСпец!C57")<>"",INDIRECT("ЗакСпец!C57"),"") | J81: =IF(INDIRECT("ЗакСпец!D57")<>"",INDIRECT("ЗакСпец!D57"),"") | O81: =IF(INDIRECT("ЗакСпец!E57")<>"",INDIRECT("ЗакСпец!E57"),"") | T81: =IF(INDIRECT("ЗакСпец!F57")<>"",INDIRECT("ЗакСпец!F57"),"") | U81: =IF(INDIRECT("ЗакСпец!G57")<>"",INDIRECT("ЗакСпец!G57"),"") | V81: =IF(INDIRECT("ЗакСпец!H57")<>"",INDIRECT("ЗакСпец!H57"),"") | X81: =IF(INDIRECT("ЗакСпец!I57")<>"",INDIRECT("ЗакСпец!I57"),"")
G82: =IF(INDIRECT("ЗакСпец!A58")<>"",INDIRECT("ЗакСпец!A58"),"") | H82: =IF(INDIRECT("ЗакСпец!B58")<>"",INDIRECT("ЗакСпец!B58"),"") -> Система вентиляции жилых помещений здания | I82: =IF(INDIRECT("ЗакСпец!C58")<>"",INDIRECT("ЗакСпец!C58"),"") | J82: =IF(INDIRECT("ЗакСпец!D58")<>"",INDIRECT("ЗакСпец!D58"),"") | O82: =IF(INDIRECT("ЗакСпец!E58")<>"",INDIRECT("ЗакСпец!E58"),"") | T82: =IF(INDIRECT("ЗакСпец!F58")<>"",INDIRECT("ЗакСпец!F58"),"") | U82: =IF(INDIRECT("ЗакСпец!G58")<>"",INDIRECT("ЗакСпец!G58"),"") | V82: =IF(INDIRECT("ЗакСпец!H58")<>"",INDIRECT("ЗакСпец!H58"),"") | X82: =IF(INDIRECT("ЗакСпец!I58")<>"",INDIRECT("ЗакСпец!I58"),"")
C83: Инв. № подл.
R85: =R34 -> 1191-ИОС4.1-ВОР | AA85: Лист
AA86: =IF(CONCATENATE(H48,H49,H50,H51,H52)<>"",Y40+1,"") -> 2
J87: Изм. | K87: Кол.уч. | L87: Лист | N87: № док. | P87: Подпись | Q87: Дата
G90: Позиция | H90: Наименование и техническая характеристика | I90: Тип, марка, обозначение документа, опросного листа | J90: Код обору-дования, изделия, материала | O90: Завод-изготовитель | T90: Еди-ница измере-ния | U90: Коли-чество | V90: Масса единицы, кг. | X90: Примечание
G91: =IF(INDIRECT("ЗакСпец!A59")<>"",INDIRECT("ЗакСпец!A59"),"") | H91: =IF(INDIRECT("ЗакСпец!B59")<>"",INDIRECT("ЗакСпец!B59"),"") -> Вентилятор осевой с антимаскитной сеткой D100, L=97м3/ч, Nэл=0.14 | I91: =IF(INDIRECT("ЗакСпец!C59")<>"",INDIRECT("ЗакСпец!C59"),"") -> ERA 4 S | J91: =IF(INDIRECT("ЗакСпец!D59")<>"",INDIRECT("ЗакСпец!D59"),"") | O91: =IF(INDIRECT("ЗакСпец!E59")<>"",INDIRECT("ЗакСпец!E59"),"") -> ERA | T91: =IF(INDIRECT("ЗакСпец!F59")<>"",INDIRECT("ЗакСпец!F59"),"") -> шт. | U91: =IF(INDIRECT("ЗакСпец!G59")<>"",INDIRECT("ЗакСпец!G59"),"") -> 56 | V91: =IF(INDIRECT("ЗакСпец!H59")<>"",INDIRECT("ЗакСпец!H59"),"") | X91: =IF(INDIRECT("ЗакСпец!I59")<>"",INDIRECT("ЗакСпец!I59"),"")
G92: =IF(INDIRECT("ЗакСпец!A60")<>"",INDIRECT("ЗакСпец!A60"),"") | H92: =IF(INDIRECT("ЗакСпец!B60")<>"",INDIRECT("ЗакСпец!B60"),"") -> Решетка вентиляционная с регулируемым живым сечением, разьёмная 200х200 | I92: =IF(INDIRECT("ЗакСпец!C60")<>"",INDIRECT("ЗакСпец!C60"),"") -> 2020РРП | J92: =IF(INDIRECT("ЗакСпец!D60")<>"",INDIRECT("ЗакСпец!D60"),"") | O92: =IF(INDIRECT("ЗакСпец!E60")<>"",INDIRECT("ЗакСпец!E60"),"") -> ЭРА | T92: =IF(INDIRECT("ЗакСпец!F60")<>"",INDIRECT("ЗакСпец!F60"),"") -> шт. | U92: =IF(INDIRECT("ЗакСпец!G60")<>"",INDIRECT("ЗакСпец!G60"),"") -> 402 | V92: =IF(INDIRECT("ЗакСпец!H60")<>"",INDIRECT("ЗакСпец!H60"),"") | X92: =IF(INDIRECT("ЗакСпец!I60")<>"",INDIRECT("ЗакСпец!I60"),"")
G93: =IF(INDIRECT("ЗакСпец!A61")<>"",INDIRECT("ЗакСпец!A61"),"") | H93: =IF(INDIRECT("ЗакСпец!B61")<>"",INDIRECT("ЗакСпец!B61"),"") -> Воздуховод из оцинкованной стали S=0,5мм 200x100 | I93: =IF(INDIRECT("ЗакСпец!C61")<>"",INDIRECT("ЗакСпец!C61"),"") -> ГОСТ 14918-80 | J93: =IF(INDIRECT("ЗакСпец!D61")<>"",INDIRECT("ЗакСпец!D61"),"") | O93: =IF(INDIRECT("ЗакСпец!E61")<>"",INDIRECT("ЗакСпец!E61"),"") | T93: =IF(INDIRECT("ЗакСпец!F61")<>"",INDIRECT("ЗакСпец!F61"),"") -> м | U93: =IF(INDIRECT("ЗакСпец!G61")<>"",INDIRECT("ЗакСпец!G61"),"") -> 80 | V93: =IF(INDIRECT("ЗакСпец!H61")<>"",INDIRECT("ЗакСпец!H61"),"") | X93: =IF(INDIRECT("ЗакСпец!I61")<>"",INDIRECT("ЗакСпец!I61"),"")
G94: =IF(INDIRECT("ЗакСпец!A62")<>"",INDIRECT("ЗакСпец!A62"),"") | H94: =IF(INDIRECT("ЗакСпец!B62")<>"",INDIRECT("ЗакСпец!B62"),"") -> Воздуховод из оцинкованной стали S=0,8мм Ø100 | I94: =IF(INDIRECT("ЗакСпец!C62")<>"",INDIRECT("ЗакСпец!C62"),"") -> ГОСТ 14918-80 | J94: =IF(INDIRECT("ЗакСпец!D62")<>"",INDIRECT("ЗакСпец!D62"),"") | O94: =IF(INDIRECT("ЗакСпец!E62")<>"",INDIRECT("ЗакСпец!E62"),"") | T94: =IF(INDIRECT("ЗакСпец!F62")<>"",INDIRECT("ЗакСпец!F62"),"") -> м | U94: =IF(INDIRECT("ЗакСпец!G62")<>"",INDIRECT("ЗакСпец!G62"),"") -> 308 | V94: =IF(INDIRECT("ЗакСпец!H62")<>"",INDIRECT("ЗакСпец!H62"),"") | X94: =IF(INDIRECT("ЗакСпец!I62")<>"",INDIRECT("ЗакСпец!I62"),"")
G95: =IF(INDIRECT("ЗакСпец!A63")<>"",INDIRECT("ЗакСпец!A63"),"") | H95: =IF(INDIRECT("ЗакСпец!B63")<>"",INDIRECT("ЗакСпец!B63"),"") -> Фасонные изделия | I95: =IF(INDIRECT("ЗакСпец!C63")<>"",INDIRECT("ЗакСпец!C63"),"") | J95: =IF(INDIRECT("ЗакСпец!D63")<>"",INDIRECT("ЗакСпец!D63"),"") | O95: =IF(INDIRECT("ЗакСпец!E63")<>"",INDIRECT("ЗакСпец!E63"),"") | T95: =IF(INDIRECT("ЗакСпец!F63")<>"",INDIRECT("ЗакСпец!F63"),"") -> м² | U95: =IF(INDIRECT("ЗакСпец!G63")<>"",INDIRECT("ЗакСпец!G63"),"") -> 10 | V95: =IF(INDIRECT("ЗакСпец!H63")<>"",INDIRECT("ЗакСпец!H63"),"") | X95: =IF(INDIRECT("ЗакСпец!I63")<>"",INDIRECT("ЗакСпец!I63"),"")
G96: =IF(INDIRECT("ЗакСпец!A64")<>"",INDIRECT("ЗакСпец!A64"),"") | H96: =IF(INDIRECT("ЗакСпец!B64")<>"",INDIRECT("ЗакСпец!B64"),"") -> Огнезащитное покрытие EI30 на основе базальтового материала толщиной 5 мм, с жаростойкой мастикой "Kleber", расход 0,7 кг/м² | I96: =IF(INDIRECT("ЗакСпец!C64")<>"",INDIRECT("ЗакСпец!C64"),"") -> PRO-МБОР-VENT (1 НФ) EI30 | J96: =IF(INDIRECT("ЗакСпец!D64")<>"",INDIRECT("ЗакСпец!D64"),"") | O96: =IF(INDIRECT("ЗакСпец!E64")<>"",INDIRECT("ЗакСпец!E64"),"") -> BOS | T96: =IF(INDIRECT("ЗакСпец!F64")<>"",INDIRECT("ЗакСпец!F64"),"") -> м² | U96: =IF(INDIRECT("ЗакСпец!G64")<>"",INDIRECT("ЗакСпец!G64"),"") -> 96 | V96: =IF(INDIRECT("ЗакСпец!H64")<>"",INDIRECT("ЗакСпец!H64"),"") | X96: =IF(INDIRECT("ЗакСпец!I64")<>"",INDIRECT("ЗакСпец!I64"),"")
G97: =IF(INDIRECT("ЗакСпец!A65")<>"",INDIRECT("ЗакСпец!A65"),"") | H97: =IF(INDIRECT("ЗакСпец!B65")<>"",INDIRECT("ЗакСпец!B65"),"") -> Герметик | I97: =IF(INDIRECT("ЗакСпец!C65")<>"",INDIRECT("ЗакСпец!C65"),"") | J97: =IF(INDIRECT("ЗакСпец!D65")<>"",INDIRECT("ЗакСпец!D65"),"") | O97: =IF(INDIRECT("ЗакСпец!E65")<>"",INDIRECT("ЗакСпец!E65"),"") | T97: =IF(INDIRECT("ЗакСпец!F65")<>"",INDIRECT("ЗакСпец!F65"),"") -> шт./м³ | U97: =IF(INDIRECT("ЗакСпец!G65")<>"",INDIRECT("ЗакСпец!G65"),"") -> 250/0.15 | V97: =IF(INDIRECT("ЗакСпец!H65")<>"",INDIRECT("ЗакСпец!H65"),"") | X97: =IF(INDIRECT("ЗакСпец!I65")<>"",INDIRECT("ЗакСпец!I65"),"")
G98: =IF(INDIRECT("ЗакСпец!A66")<>"",INDIRECT("ЗакСпец!A66"),"") | H98: =IF(INDIRECT("ЗакСпец!B66")<>"",INDIRECT("ЗакСпец!B66"),"") | I98: =IF(INDIRECT("ЗакСпец!C66")<>"",INDIRECT("ЗакСпец!C66"),"") | J98: =IF(INDIRECT("ЗакСпец!D66")<>"",INDIRECT("ЗакСпец!D66"),"") | O98: =IF(INDIRECT("ЗакСпец!E66")<>"",INDIRECT("ЗакСпец!E66"),"") | T98: =IF(INDIRECT("ЗакСпец!F66")<>"",INDIRECT("ЗакСпец!F66"),"") | U98: =IF(INDIRECT("ЗакСпец!G66")<>"",INDIRECT("ЗакСпец!G66"),"") | V98: =IF(INDIRECT("ЗакСпец!H66")<>"",INDIRECT("ЗакСпец!H66"),"") | X98: =IF(INDIRECT("ЗакСпец!I66")<>"",INDIRECT("ЗакСпец!I66"),"")
G99: =IF(INDIRECT("ЗакСпец!A67")<>"",INDIRECT("ЗакСпец!A67"),"") | H99: =IF(INDIRECT("ЗакСпец!B67")<>"",INDIRECT("ЗакСпец!B67"),"") -> Средства для крепления воздуховодов | I99: =IF(INDIRECT("ЗакСпец!C67")<>"",INDIRECT("ЗакСпец!C67"),"") | J99: =IF(INDIRECT("ЗакСпец!D67")<>"",INDIRECT("ЗакСпец!D67"),"") | O99: =IF(INDIRECT("ЗакСпец!E67")<>"",INDIRECT("ЗакСпец!E67"),"") | T99: =IF(INDIRECT("ЗакСпец!F67")<>"",INDIRECT("ЗакСпец!F67"),"") -> кг | U99: =IF(INDIRECT("ЗакСпец!G67")<>"",INDIRECT("ЗакСпец!G67"),"") -> 480 | V99: =IF(INDIRECT("ЗакСпец!H67")<>"",INDIRECT("ЗакСпец!H67"),"") | X99: =IF(INDIRECT("ЗакСпец!I67")<>"",INDIRECT("ЗакСпец!I67"),"")
G100: =IF(INDIRECT("ЗакСпец!A68")<>"",INDIRECT("ЗакСпец!A68"),"") | H100: =IF(INDIRECT("ЗакСпец!B68")<>"",INDIRECT("ЗакСпец!B68"),"") | I100: =IF(INDIRECT("ЗакСпец!C68")<>"",INDIRECT("ЗакСпец!C68"),"") | J100: =IF(INDIRECT("ЗакСпец!D68")<>"",INDIRECT("ЗакСпец!D68"),"") | O100: =IF(INDIRECT("ЗакСпец!E68")<>"",INDIRECT("ЗакСпец!E68"),"") | T100: =IF(INDIRECT("ЗакСпец!F68")<>"",INDIRECT("ЗакСпец!F68"),"") | U100: =IF(INDIRECT("ЗакСпец!G68")<>"",INDIRECT("ЗакСпец!G68"),"") | V100: =IF(INDIRECT("ЗакСпец!H68")<>"",INDIRECT("ЗакСпец!H68"),"") | X100: =IF(INDIRECT("ЗакСпец!I68")<>"",INDIRECT("ЗакСпец!I68"),"")
G101: =IF(INDIRECT("ЗакСпец!A69")<>"",INDIRECT("ЗакСпец!A69"),"") | H101: =IF(INDIRECT("ЗакСпец!B69")<>"",INDIRECT("ЗакСпец!B69"),"") -> ОБЩЕОБМЕННАЯ ВЕНТИЛЯЦИЯ. НЕЖИЛАЯ ЧАСТЬ | I101: =IF(INDIRECT("ЗакСпец!C69")<>"",INDIRECT("ЗакСпец!C69"),"") | J101: =IF(INDIRECT("ЗакСпец!D69")<>"",INDIRECT("ЗакСпец!D69"),"") | O101: =IF(INDIRECT("ЗакСпец!E69")<>"",INDIRECT("ЗакСпец!E69"),"") | T101: =IF(INDIRECT("ЗакСпец!F69")<>"",INDIRECT("ЗакСпец!F69"),"") | U101: =IF(INDIRECT("ЗакСпец!G69")<>"",INDIRECT("ЗакСпец!G69"),"") | V101: =IF(INDIRECT("ЗакСпец!H69")<>"",INDIRECT("ЗакСпец!H69"),"") | X101: =IF(INDIRECT("ЗакСпец!I69")<>"",INDIRECT("ЗакСпец!I69"),"")
G102: =IF(INDIRECT("ЗакСпец!A70")<>"",INDIRECT("ЗакСпец!A70"),"") | H102: =IF(INDIRECT("ЗакСпец!B70")<>"",INDIRECT("ЗакСпец!B70"),"") -> Вытяжная вентиляция из БКТ(В6.1.Б15) | I102: =IF(INDIRECT("ЗакСпец!C70")<>"",INDIRECT("ЗакСпец!C70"),"") | J102: =IF(INDIRECT("ЗакСпец!D70")<>"",INDIRECT("ЗакСпец!D70"),"") | O102: =IF(INDIRECT("ЗакСпец!E70")<>"",INDIRECT("ЗакСпец!E70"),"") | T102: =IF(INDIRECT("ЗакСпец!F70")<>"",INDIRECT("ЗакСпец!F70"),"") | U102: =IF(INDIRECT("ЗакСпец!G70")<>"",INDIRECT("ЗакСпец!G70"),"") | V102: =IF(INDIRECT("ЗакСпец!H70")<>"",INDIRECT("ЗакСпец!H70"),"") | X102: =IF(INDIRECT("ЗакСпец!I70")<>"",INDIRECT("ЗакСпец!I70"),"")
G103: =IF(INDIRECT("ЗакСпец!A71")<>"",INDIRECT("ЗакСпец!A71"),"") | H103: =IF(INDIRECT("ЗакСпец!B71")<>"",INDIRECT("ЗакСпец!B71"),"") -> Воздуховод из оцинкованной стали S=0,5мм Ø100 | I103: =IF(INDIRECT("ЗакСпец!C71")<>"",INDIRECT("ЗакСпец!C71"),"") -> ГОСТ 14918-80 | J103: =IF(INDIRECT("ЗакСпец!D71")<>"",INDIRECT("ЗакСпец!D71"),"") | O103: =IF(INDIRECT("ЗакСпец!E71")<>"",INDIRECT("ЗакСпец!E71"),"") | T103: =IF(INDIRECT("ЗакСпец!F71")<>"",INDIRECT("ЗакСпец!F71"),"") -> м | U103: =IF(INDIRECT("ЗакСпец!G71")<>"",INDIRECT("ЗакСпец!G71"),"") -> 0.5 | V103: =IF(INDIRECT("ЗакСпец!H71")<>"",INDIRECT("ЗакСпец!H71"),"") | X103: =IF(INDIRECT("ЗакСпец!I71")<>"",INDIRECT("ЗакСпец!I71"),"")
G104: =IF(INDIRECT("ЗакСпец!A72")<>"",INDIRECT("ЗакСпец!A72"),"") | H104: =IF(INDIRECT("ЗакСпец!B72")<>"",INDIRECT("ЗакСпец!B72"),"") -> Воздуховод из оцинкованной стали S=0,8мм Ø100 | I104: =IF(INDIRECT("ЗакСпец!C72")<>"",INDIRECT("ЗакСпец!C72"),"") -> ГОСТ 14918-80 | J104: =IF(INDIRECT("ЗакСпец!D72")<>"",INDIRECT("ЗакСпец!D72"),"") | O104: =IF(INDIRECT("ЗакСпец!E72")<>"",INDIRECT("ЗакСпец!E72"),"") | T104: =IF(INDIRECT("ЗакСпец!F72")<>"",INDIRECT("ЗакСпец!F72"),"") -> м | U104: =IF(INDIRECT("ЗакСпец!G72")<>"",INDIRECT("ЗакСпец!G72"),"") -> 60 | V104: =IF(INDIRECT("ЗакСпец!H72")<>"",INDIRECT("ЗакСпец!H72"),"") | X104: =IF(INDIRECT("ЗакСпец!I72")<>"",INDIRECT("ЗакСпец!I72"),"")
G105: =IF(INDIRECT("ЗакСпец!A73")<>"",INDIRECT("ЗакСпец!A73"),"") | H105: =IF(INDIRECT("ЗакСпец!B73")<>"",INDIRECT("ЗакСпец!B73"),"") -> Клапан противопожарный нормально открытый с двумя присоединительными фланцами с электроприводом Belimo с возвратной пружиной огнестойкостью EI60 | I105: =IF(INDIRECT("ЗакСпец!C73")<>"",INDIRECT("ЗакСпец!C73"),"") -> Сигмавент-60-НО-100-BM(220)-к | J105: =IF(INDIRECT("ЗакСпец!D73")<>"",INDIRECT("ЗакСпец!D73"),"") | O105: =IF(INDIRECT("ЗакСпец!E73")<>"",INDIRECT("ЗакСпец!E73"),"") -> Сигмавент | T105: =IF(INDIRECT("ЗакСпец!F73")<>"",INDIRECT("ЗакСпец!F73"),"") -> шт. | U105: =IF(INDIRECT("ЗакСпец!G73")<>"",INDIRECT("ЗакСпец!G73"),"") -> 1 | V105: =IF(INDIRECT("ЗакСпец!H73")<>"",INDIRECT("ЗакСпец!H73"),"") | X105: =IF(INDIRECT("ЗакСпец!I73")<>"",INDIRECT("ЗакСпец!I73"),"")
G107: =IF(INDIRECT("ЗакСпец!A74")<>"",INDIRECT("ЗакСпец!A74"),"") | H107: =IF(INDIRECT("ЗакСпец!B74")<>"",INDIRECT("ЗакСпец!B74"),"") -> Зонт вытяжной из оц.стали | I107: =IF(INDIRECT("ЗакСпец!C74")<>"",INDIRECT("ЗакСпец!C74"),"") -> Ø100 | J107: =IF(INDIRECT("ЗакСпец!D74")<>"",INDIRECT("ЗакСпец!D74"),"") | O107: =IF(INDIRECT("ЗакСпец!E74")<>"",INDIRECT("ЗакСпец!E74"),"") | T107: =IF(INDIRECT("ЗакСпец!F74")<>"",INDIRECT("ЗакСпец!F74"),"") -> шт. | U107: =IF(INDIRECT("ЗакСпец!G74")<>"",INDIRECT("ЗакСпец!G74"),"") -> 1 | V107: =IF(INDIRECT("ЗакСпец!H74")<>"",INDIRECT("ЗакСпец!H74"),"") | X107: =IF(INDIRECT("ЗакСпец!I74")<>"",INDIRECT("ЗакСпец!I74"),"")
G108: =IF(INDIRECT("ЗакСпец!A75")<>"",INDIRECT("ЗакСпец!A75"),"") | H108: =IF(INDIRECT("ЗакСпец!B75")<>"",INDIRECT("ЗакСпец!B75"),"") -> Огнезащитное покрытие EI30 на основе базальтового материала толщиной 5 мм, с жаростойкой мастикой "Kleber", расход 0,7 кг/м² | I108: =IF(INDIRECT("ЗакСпец!C75")<>"",INDIRECT("ЗакСпец!C75"),"") -> PRO-МБОР-VENT (1 НФ) EI30 | J108: =IF(INDIRECT("ЗакСпец!D75")<>"",INDIRECT("ЗакСпец!D75"),"") | O108: =IF(INDIRECT("ЗакСпец!E75")<>"",INDIRECT("ЗакСпец!E75"),"") -> BOS | T108: =IF(INDIRECT("ЗакСпец!F75")<>"",INDIRECT("ЗакСпец!F75"),"") -> м² | U108: =IF(INDIRECT("ЗакСпец!G75")<>"",INDIRECT("ЗакСпец!G75"),"") -> 25 | V108: =IF(INDIRECT("ЗакСпец!H75")<>"",INDIRECT("ЗакСпец!H75"),"") | X108: =IF(INDIRECT("ЗакСпец!I75")<>"",INDIRECT("ЗакСпец!I75"),"")
G109: =IF(INDIRECT("ЗакСпец!A76")<>"",INDIRECT("ЗакСпец!A76"),"") | H109: =IF(INDIRECT("ЗакСпец!B76")<>"",INDIRECT("ЗакСпец!B76"),"") -> Фасонные изделия | I109: =IF(INDIRECT("ЗакСпец!C76")<>"",INDIRECT("ЗакСпец!C76"),"") | J109: =IF(INDIRECT("ЗакСпец!D76")<>"",INDIRECT("ЗакСпец!D76"),"") | O109: =IF(INDIRECT("ЗакСпец!E76")<>"",INDIRECT("ЗакСпец!E76"),"") | T109: =IF(INDIRECT("ЗакСпец!F76")<>"",INDIRECT("ЗакСпец!F76"),"") -> м² | U109: =IF(INDIRECT("ЗакСпец!G76")<>"",INDIRECT("ЗакСпец!G76"),"") -> 10 | V109: =IF(INDIRECT("ЗакСпец!H76")<>"",INDIRECT("ЗакСпец!H76"),"") | X109: =IF(INDIRECT("ЗакСпец!I76")<>"",INDIRECT("ЗакСпец!I76"),"")
G111: =IF(INDIRECT("ЗакСпец!A77")<>"",INDIRECT("ЗакСпец!A77"),"") | H111: =IF(INDIRECT("ЗакСпец!B77")<>"",INDIRECT("ЗакСпец!B77"),"") | I111: =IF(INDIRECT("ЗакСпец!C77")<>"",INDIRECT("ЗакСпец!C77"),"") | J111: =IF(INDIRECT("ЗакСпец!D77")<>"",INDIRECT("ЗакСпец!D77"),"") | O111: =IF(INDIRECT("ЗакСпец!E77")<>"",INDIRECT("ЗакСпец!E77"),"") | T111: =IF(INDIRECT("ЗакСпец!F77")<>"",INDIRECT("ЗакСпец!F77"),"") | U111: =IF(INDIRECT("ЗакСпец!G77")<>"",INDIRECT("ЗакСпец!G77"),"") | V111: =IF(INDIRECT("ЗакСпец!H77")<>"",INDIRECT("ЗакСпец!H77"),"") | X111: =IF(INDIRECT("ЗакСпец!I77")<>"",INDIRECT("ЗакСпец!I77"),"")
G112: =IF(INDIRECT("ЗакСпец!A78")<>"",INDIRECT("ЗакСпец!A78"),"") | H112: =IF(INDIRECT("ЗакСпец!B78")<>"",INDIRECT("ЗакСпец!B78"),"") -> Вытяжная вентиляция из ПУИ в помещениях БКТ(Вп6.1.Б15, Вп6.2.Б16, Вп6.3.Б17) | I112: =IF(INDIRECT("ЗакСпец!C78")<>"",INDIRECT("ЗакСпец!C78"),"") | J112: =IF(INDIRECT("ЗакСпец!D78")<>"",INDIRECT("ЗакСпец!D78"),"") | O112: =IF(INDIRECT("ЗакСпец!E78")<>"",INDIRECT("ЗакСпец!E78"),"") | T112: =IF(INDIRECT("ЗакСпец!F78")<>"",INDIRECT("ЗакСпец!F78"),"") | U112: =IF(INDIRECT("ЗакСпец!G78")<>"",INDIRECT("ЗакСпец!G78"),"") | V112: =IF(INDIRECT("ЗакСпец!H78")<>"",INDIRECT("ЗакСпец!H78"),"") | X112: =IF(INDIRECT("ЗакСпец!I78")<>"",INDIRECT("ЗакСпец!I78"),"")
G113: =IF(INDIRECT("ЗакСпец!A79")<>"",INDIRECT("ЗакСпец!A79"),"") | H113: =IF(INDIRECT("ЗакСпец!B79")<>"",INDIRECT("ЗакСпец!B79"),"") -> Воздуховод из оцинкованной стали S=0,5мм Ø100 | I113: =IF(INDIRECT("ЗакСпец!C79")<>"",INDIRECT("ЗакСпец!C79"),"") -> ГОСТ 14918-80 | J113: =IF(INDIRECT("ЗакСпец!D79")<>"",INDIRECT("ЗакСпец!D79"),"") | O113: =IF(INDIRECT("ЗакСпец!E79")<>"",INDIRECT("ЗакСпец!E79"),"") | T113: =IF(INDIRECT("ЗакСпец!F79")<>"",INDIRECT("ЗакСпец!F79"),"") -> м | U113: =IF(INDIRECT("ЗакСпец!G79")<>"",INDIRECT("ЗакСпец!G79"),"") -> 1 | V113: =IF(INDIRECT("ЗакСпец!H79")<>"",INDIRECT("ЗакСпец!H79"),"") | X113: =IF(INDIRECT("ЗакСпец!I79")<>"",INDIRECT("ЗакСпец!I79"),"")
G115: =IF(INDIRECT("ЗакСпец!A80")<>"",INDIRECT("ЗакСпец!A80"),"") | H115: =IF(INDIRECT("ЗакСпец!B80")<>"",INDIRECT("ЗакСпец!B80"),"") -> Воздуховод из оцинкованной стали S=0,8мм Ø100 | I115: =IF(INDIRECT("ЗакСпец!C80")<>"",INDIRECT("ЗакСпец!C80"),"") -> ГОСТ 14918-80 | J115: =IF(INDIRECT("ЗакСпец!D80")<>"",INDIRECT("ЗакСпец!D80"),"") | O115: =IF(INDIRECT("ЗакСпец!E80")<>"",INDIRECT("ЗакСпец!E80"),"") | T115: =IF(INDIRECT("ЗакСпец!F80")<>"",INDIRECT("ЗакСпец!F80"),"") -> м | U115: =IF(INDIRECT("ЗакСпец!G80")<>"",INDIRECT("ЗакСпец!G80"),"") -> 180 | V115: =IF(INDIRECT("ЗакСпец!H80")<>"",INDIRECT("ЗакСпец!H80"),"") | X115: =IF(INDIRECT("ЗакСпец!I80")<>"",INDIRECT("ЗакСпец!I80"),"")
G116: =IF(INDIRECT("ЗакСпец!A81")<>"",INDIRECT("ЗакСпец!A81"),"") | H116: =IF(INDIRECT("ЗакСпец!B81")<>"",INDIRECT("ЗакСпец!B81"),"") -> Клапан противопожарный нормально открытый с двумя присоединительными фланцами с электроприводом Belimo с возвратной пружиной огнестойкостью EI60 | I116: =IF(INDIRECT("ЗакСпец!C81")<>"",INDIRECT("ЗакСпец!C81"),"") -> Сигмавент-60-НО-100-BM(220)-к | J116: =IF(INDIRECT("ЗакСпец!D81")<>"",INDIRECT("ЗакСпец!D81"),"") | O116: =IF(INDIRECT("ЗакСпец!E81")<>"",INDIRECT("ЗакСпец!E81"),"") -> Сигмавент | T116: =IF(INDIRECT("ЗакСпец!F81")<>"",INDIRECT("ЗакСпец!F81"),"") -> шт. | U116: =IF(INDIRECT("ЗакСпец!G81")<>"",INDIRECT("ЗакСпец!G81"),"") -> 3 | V116: =IF(INDIRECT("ЗакСпец!H81")<>"",INDIRECT("ЗакСпец!H81"),"") | X116: =IF(INDIRECT("ЗакСпец!I81")<>"",INDIRECT("ЗакСпец!I81"),"")
...

Sheet ЗакСпец
B2: КОРПУС 6
B4: ОБЩЕОБМЕННАЯ ВЕНТИЛЯЦИЯ. ЖИЛАЯ ЧАСТЬ
B5: Вентиляция из ПУИ консьержа (В6.1.1, В6.2.1, В6.3.1)
B6: Вентилятор бытовой, L=20м3/ч, Nэл=0.28 | C6: 4S | E6: ЕРА | F6: шт. | G6: 3
B7: Воздуховод из оцинкованной стали S=0,5мм Ø100 | C7: ГОСТ 14918-80 | F7: м | G7: 30
B8: Воздуховод из оцинкованной стали S=0,8мм Ø100 | C8: ГОСТ 14918-80 | F8: м | G8: 195
B9: Клапан противопожарный нормально открытый с двумя присоединительными фланцами с электроприводом Belimo с возвратной пружиной огнестойкостью EI60 | C9: Сигмавент-60-НО-100-BM(220)-к | E9: Сигмавент | F9: шт. | G9: 3
B10: Огнезащитное покрытие EI30 на основе базальтового материала толщиной 5 мм, с жаростойкой мастикой "Kleber", расход 0,7 кг/м² | C10: PRO-МБОР-VENT (1 НФ) EI30 | E10: BOS | F10: м² | G10: 78
B11: Фасонные изделия | F11: м² | G11: 22.5
B12: Воздушный клапан для круглых воздуховодов | C12: KB 100 | E12: Ventart | F12: шт. | G12: 3
B13: Зонт вытяжной из оц.стали | C13: Ø100 | F13: шт. | G13: 3
B15: Вентиляция из С/У консьержа (В6.1.2, В6.2.2, В6.3.2)
B16: Вентилятор бытовой, L=50м3/ч, Nэл=0.28 | C16: 4S | E16: ЕРА | F16: шт. | G16: 3
B17: Воздуховод из оцинкованной стали S=0,5мм Ø100 | C17: ГОСТ 14918-80 | F17: м | G17: 30
B18: Воздуховод из оцинкованной стали S=0,8мм Ø100 | C18: ГОСТ 14918-80 | F18: м | G18: 195
B19: Клапан противопожарный нормально открытый с двумя присоединительными фланцами с электроприводом Belimo с возвратной пружиной огнестойкостью EI60 | C19: Сигмавент-60-НО-100-BM(220)-к | E19: Сигмавент | F19: шт. | G19: 3
B20: Огнезащитное покрытие EI30 на основе базальтового материала толщиной 5 мм, с жаростойкой мастикой "Kleber", расход 0,7 кг/м² | C20: PRO-МБОР-VENT (1 НФ) EI30 | E20: BOS | F20: м² | G20: 78
B21: Фасонные изделия | F21: м² | G21: 22.5
B22: Воздушный клапан для круглых воздуховодов | C22: KB 100 | E22: Ventart | F22: шт. | G22: 3
B23: Зонт вытяжной из оц.стали | C23: Ø100 | F23: шт. | G23: 3
B25: Вентиляция из колясочной (ВЕк6.1.1, ВЕк6.2.1, ВЕк6.3.1)
B26: Клапан противопожарный нормально открытый с двумя присоединительными фланцами с электроприводом Belimo с возвратной пружиной огнестойкостью EI60 | C26: Сигмавент-60-НО-125-BM(220)-к | E26: Сигмавент | F26: шт. | G26: 3
B27: Воздуховод из оцинкованной стали S=0,5мм Ø125 | C27: ГОСТ 14918-80 | F27: м | G27: 6
B28: Воздуховод из оцинкованной стали S=0,8мм Ø125 | C28: ГОСТ 14918-80 | F28: м | G28: 180
B29: Фасонные изделия | F29: м² | G29: 52.5
B30: Огнезащитное покрытие EI30 на основе базальтового материала толщиной 5 мм, с жаростойкой мастикой "Kleber", расход 0,7 кг/м² | C30: PRO-МБОР-VENT (1 НФ) EI30 | E30: BOS | F30: м² | G30: 97.5
B31: Зонт вытяжной из оц.стали | C31: Ø125 | F31: шт. | G31: 3
B32: Диффузор | C32: DVS100 | E32: Ventart | F32: шт. | G32: 3
B33: Воздушный клапан для круглых воздуховодов | C33: KB 100 | E33: Ventart | F33: шт. | G33: 3
B35: Вентиляция из мусоросброной камеры (ВЕм6.1.1, ВЕм6.2.1, ВЕм6.3.1)
B36: Клапан противопожарный нормально открытый с двумя присоединительными фланцами с электроприводом Belimo с возвратной пружиной огнестойкостью EI60 | C36: Сигмавент-60-НО-125-BM(220)-к | E36: Сигмавент | F36: шт. | G36: 3
B37: Воздуховод из оцинкованной стали S=0,5мм Ø125 | C37: ГОСТ 14918-80 | F37: м | G37: 6
B38: Воздуховод из оцинкованной стали S=0,8мм Ø125 | C38: ГОСТ 14918-80 | F38: м | G38: 180
B39: Фасонные изделия | F39: м² | G39: 52.5
B40: Огнезащитное покрытие EI30 на основе базальтового материала толщиной 5 мм, с жаростойкой мастикой "Kleber", расход 0,7 кг/м² | C40: PRO-МБОР-VENT (1 НФ) EI30 | E40: BOS | F40: м² | G40: 97.5
B41: Зонт вытяжной из оц.стали | C41: Ø125 | F41: шт. | G41: 3
B42: Металлическая сетка с ячейкой 5х5 мм в раме | C42: Ø125 | F42: м² | G42: 0.6
B43: Воздушный клапан для круглых воздуховодов | C43: KB 100 | E43: Ventart | F43: шт. | G43: 3
B45: Вентиляция помещений для ствола мусоропровода (ВЕм6.1.2, ВЕм6.2.2, ВЕм6.3.2)
B46: Воздуховод из оцинкованной стали S=0,8мм 350x250 | C46: ГОСТ 14918-80 | F46: м | G46: 180
B47: Воздуховод из оцинкованной стали S=0,8мм Ø125 | C47: ГОСТ 14918-80 | F47: м | G47: 204
B48: Фасонные изделия | F48: м² | G48: 60
B49: Огнезащитное покрытие EI30 на основе базальтового материала толщиной 5 мм, с жаростойкой мастикой "Kleber", расход 0,7 кг/м² | C49: PRO-МБОР-VENT (1 НФ) EI30 | E49: BOS | F49: м² | G49: 360
B50: Воздушный клапан для круглых воздуховодов | C50: KB 125 | E50: Ventart | F50: шт. | G50: 49
B51: Металлическая сетка с ячейкой 5х5 мм в раме | C51: Ø125 | F51: м² | G51: 0.75
B52: Зонт вытяжной из оц.стали | C52: 350x250 | F52: шт. | G52: 3
B54: Вентиляция машинного отделения лифтов
B55: Решетка наружная с защитной сеткой | C55: АРН-С 300х300 | E55: Арктос | F55: шт. | G55: 3
B56: Воздуховод из оцинкованной стали S=0,7мм 300х300 | C56: ГОСТ 14918-80 | F56: м | G56: 1.5
B58: Система вентиляции жилых помещений здания
B59: Вентилятор осевой с антимаскитной сеткой D100, L=97м3/ч, Nэл=0.14 | C59: ERA 4 S | E59: ERA | F59: шт. | G59: 56
B60: Решетка вентиляционная с регулируемым живым сечением, разьёмная 200х200 | C60: 2020РРП | E60: ЭРА | F60: шт. | G60: =402 -> 402
B61: Воздуховод из оцинкованной стали S=0,5мм 200x100 | C61: ГОСТ 14918-80 | F61: м | G61: 80
B62: Воздуховод из оцинкованной стали S=0,8мм Ø100 | C62: ГОСТ 14918-80 | F62: м | G62: 308
B63: Фасонные изделия | F63: м² | G63: 10
B64: Огнезащитное покрытие EI30 на основе базальтового материала толщиной 5 мм, с жаростойкой мастикой "Kleber", расход 0,7 кг/м² | C64: PRO-МБОР-VENT (1 НФ) EI30 | E64: BOS | F64: м² | G64: 96
B65: Герметик | F65: шт./м³ | G65: 250/0.15
B67: Средства для крепления воздуховодов | F67: кг | G67: 480
B69: ОБЩЕОБМЕННАЯ ВЕНТИЛЯЦИЯ. НЕЖИЛАЯ ЧАСТЬ
B70: Вытяжная вентиляция из БКТ(В6.1.Б15)
B71: Воздуховод из оцинкованной стали S=0,5мм Ø100 | C71: ГОСТ 14918-80 | F71: м | G71: 0.5
B72: Воздуховод из оцинкованной стали S=0,8мм Ø100 | C72: ГОСТ 14918-80 | F72: м | G72: 60
B73: Клапан противопожарный нормально открытый с двумя присоединительными фланцами с электроприводом Belimo с возвратной пружиной огнестойкостью EI60 | C73: Сигмавент-60-НО-100-BM(220)-к | E73: Сигмавент | F73: шт. | G73: 1
B74: Зонт вытяжной из оц.стали | C74: Ø100 | F74: шт. | G74: 1
B75: Огнезащитное покрытие EI30 на основе базальтового материала толщиной 5 мм, с жаростойкой мастикой "Kleber", расход 0,7 кг/м² | C75: PRO-МБОР-VENT (1 НФ) EI30 | E75: BOS | F75: м² | G75: 25
B76: Фасонные изделия | F76: м² | G76: 10
B78: Вытяжная вентиляция из ПУИ в помещениях БКТ(Вп6.1.Б15, Вп6.2.Б16, Вп6.3.Б17)
B79: Воздуховод из оцинкованной стали S=0,5мм Ø100 | C79: ГОСТ 14918-80 | F79: м | G79: 1
B80: Воздуховод из оцинкованной стали S=0,8мм Ø100 | C80: ГОСТ 14918-80 | F80: м | G80: 180
B81: Клапан противопожарный нормально открытый с двумя присоединительными фланцами с электроприводом Belimo с возвратной пружиной огнестойкостью EI60 | C81: Сигмавент-60-НО-100-BM(220)-к | E81: Сигмавент | F81: шт. | G81: 3
B82: Зонт вытяжной из оц.стали | C82: Ø100 | F82: шт. | G82: 3
B83: Огнезащитное покрытие EI30 на основе базальтового материала толщиной 5 мм, с жаростойкой мастикой "Kleber", расход 0,7 кг/м² | C83: PRO-МБОР-VENT (1 НФ) EI30 | E83: BOS | F83: м² | G83: 75
B84: Фасонные изделия | F84: м² | G84: 22
B86: Вытяжная вентиляция из С/У в помещениях БКТ(Всу6.1.Б15, Всу6.2.Б16, Всу6.3.Б17)
B87: Воздуховод из оцинкованной стали S=0,5мм Ø100 | C87: ГОСТ 14918-80 | F87: м | G87: 1
B88: Воздуховод из оцинкованной стали S=0,8мм Ø100 | C88: ГОСТ 14918-80 | F88: м | G88: 180
B89: Клапан противопожарный нормально открытый с двумя присоединительными фланцами с электроприводом Belimo с возвратной пружиной огнестойкостью EI60 | C89: Сигмавент-60-НО-100-BM(220)-к | E89: Сигмавент | F89: шт. | G89: 3
B90: Зонт вытяжной из оц.стали | C90: Ø100 | F90: шт. | G90: 3
B91: Огнезащитное покрытие EI30 на основе базальтового материала толщиной 5 мм, с жаростойкой мастикой "Kleber", расход 0,7 кг/м² | C91: PRO-МБОР-VENT (1 НФ) EI30 | E91: BOS | F91: м² | G91: 75
B92: Фасонные изделия | F92: м² | G92: 22
B94: Средства для крепления воздуховодов | F94: кг | G94: 270
B96: ПРОТИВОДЫМНАЯ ВЕНТИЛЯЦИЯ
B97: Дымоудаление из коридоров жилой части (ВД6.1.1, ВД6.2.1, ВД6.3.1)
B98: Вентилятор крышный (ВД6.1.1) L=19200м³/ч, P=450Па, N=4,0 кВт, климатическое исполнение У1 | C98: УДАЛ-КРФ-8В-6-400 | E98: Вентзащита | F98: компл. | G98: 1
B99: Монтажный стакан теплоизолированный с нижним подключением | C99: СВИ-10 | E99: Вентзащита | F99: шт | G99: 1
B100: Вентилятор крышный (ВД6.2.1, ВД6.3.1) L=19000м³/ч, P=450Па, N=4,0 кВт, климатическое исполнение У1 | C100: УДАЛ-КРФ-8В-6-400 | E100: Вентзащита | F100: компл. | G100: 2
B101: Монтажный стакан теплоизолированный с нижним подключением | C101: СВИ-10 | E101: Вентзащита | F101: шт | G101: 2
B102: Воздуховод из оцинкованной стали S=0,8мм 700x700 | C102: ГОСТ 14918-80 | F102: м | G102: 30
B103: Воздуховод из оцинкованной стали S=0,8мм 1150x450 | C103: ГОСТ 14918-80 | F103: м | G103: 9
B104: Воздуховод из оцинкованной стали S=0,8мм 1200x450 | C104: ГОСТ 14918-80 | F104: м | G104: 156
B105: Клапан прямоугольный противопожарный нормально закрытый с двумя присоединительными фланцами с электроприводом Belimo без возвратной пружины огнестойкостью EI120 | C105: Сигмавент-120-НЗ(КЛ)-700x700-СН-ВЕ(220) | E105: Сигмавент | F105: шт. | G105: 3
B106: Клапан прямоугольный противопожарный нормально закрытый с двумя присоединительными фланцами с электроприводом Belimo без возвратной пружины огнестойкостью EI120 | C106: Сигмавент-120-НЗ(СЛ)-1150x450-150-ВН-ВЕ(220) | E106: Сигмавент | F106: шт. | G106: 51
B107: Декоративная решетка прямоугольного сечения | C107: Решетка Рсв-1150X450 | E107: Сигмавент | F107: шт. | G107: 51
B108: Соединитель огнестойкий мягкий СОМ 1200х450мм | C108: СОМ400 | E108: ВЕЗА | F108: шт. | G108: 15
B109: Огнезащитное покрытие EI30 на основе базальтового материала толщиной 5 мм, с жаростойкой мастикой "Kleber", расход 0,7 кг/м² | C109: PRO-МБОР-VENT (1 НФ) EI30 | E109: BOS | F109: м² | G109: 750
B110: Фасонные изделия | F110: м² | G110: 225
B111: Кремнезёмный шнур толщиной 8мм | E111: Россия | F111: м | G111: 420
B112: Герметик | F112: шт./м³ | G112: 30/0.2
B113: Противопожарная пена | C113: CP620 | E113: Hilti | F113: шт. | G113: 39
B114: Средства для крепления воздуховодов | F114: кг | G114: 1500
...

Sheet Штамп
A1: Надписи в штампе
A2: Люди: | E2: Документ
B3: ФИО | C3: Подпись | D3: Дата
A4: Разработал | B4: Степанов | D4: 06.22 | E4: Шифр | F4: 1191-ИОС4.1-ВОР
A5: Рук.группы | B5: Зайцев | E5: Название | F5: «Жилые дома с инженерными сетями и благоустройством территории» по адресу: г. Москва, район Очаково-Матвеевское, ш. Очаковское (Очаковское шоссе, влд. 3А, 5А) (Западный административный округ)
E6: Наименование | F6: Система отопления, вентиляции и кондиционирования воздуха.
E7: Уточнение | F7: Спецификация оборудования. Корпус 6
A8: Н.контр. | B8: Куликова | E8: Стадия | F8: П
A9: ГИП | B9: Яковлева | E9: Предприятие | F9: ООО "Проектное бюро АПЕКС"

Sheet Лист1
B3: Воздуховод из оцинкованной стали S=0,8мм 700x400 | C3: ГОСТ 14918-80 | F3: м | G3: 15
B4: Воздуховод из оцинкованной стали S=0,8мм 700x500 | C4: ГОСТ 14918-80 | F4: м | G4: 247
B5: Воздуховод из оцинкованной стали S=0,8мм Ø630 | C5: ГОСТ 14918-80 | F5: м | G5: 16
B6: Встраиваемый осевой вентилятор УПОР-ВО | C6: УПОР-ВО-6,3-Г-2 | E6: Вентзащита | F6: шт. | G6: 6
B7: Декоративная решетка прямоугольного сечения | C7: Рсп-700x400 | E7: Сигмавент | F7: шт. | G7: 60
B8: Заглушка воздуховода торцевая прямоугольного сечения из оцинкованной стали S=0,8мм 700x500 | F8: шт. | G8: 6
B9: Клапан прямоугольный противопожарный нормально закрытый с двумя присоединительными фланцами с электроприводом Belimo без возвратной пружины огнестойкостью EI120 | C9: Сигмавент-120-НЗ(КЛ)-500x700-СН-ВЕ(220) | E9: Сигмавент | F9: шт. | G9: 60
B10: Клапан прямоугольный противопожарный нормально закрытый с одним присоединительным фланцем с электроприводом Belimo без возвратной пружины огнестойкостью EI120 | C10: Сигмавент-120-НЗ(СЛ)-700x400-ВН-ВЕ(220) | E10: Сигмавент | F10: шт. | G10: 12
B11: Огнезащитное покрытие EI30 толщиной 5мм | C11: 5,0 мм | E11: PRO-МБОР | F11: м² | G11: 751
B12: Отвод круглого сечения из оцинкованной стали 45° S=0,8мм Ø630-Ø630 | F12: шт. | G12: 14
B13: Отвод круглого сечения из оцинкованной стали 90° S=0,8мм Ø630-Ø630 | F13: шт. | G13: 10
B14: Отвод прямоугольного сечения из оцинкованной стали 90° S=0,8мм 700x500-700x500 | F14: шт. | G14: 8
B15: Переход с круглого на прямоугольное сечение из оцинкованной стали S=0,8мм 500x700-Ø630 | F15: шт. | G15: 6
B16: Сетка защитная металлическая оцинкованная 20х20 мм Ø630 | C16: ГОСТ 3826-82 | F16: m² | G16: 2.4
