Workbook

Sheet 6.1.1+паркинг+площади дизайн
D3: Экспликация помещений -1 этаж. | K3: Паркинг
C5: -1-11 | D5: Тамбур-шлюз | F5: 45.31 | J5: -1-53 | K5: Паркинг | M5: 2988.07
C6: -1-13 | D6: Лестничная клетка | F6: 15.35 | J6: 1-51 | K6: Паркинг | M6: 1628.56
C7: -1-32 | D7: Тамбур-шлюз ПБЗ | F7: 16.14 | J7: 1-281 | K7: Паркинг | M7: 1804.66
L8: Итого: | M8: =SUM(M5:N7) -> 6421.29
E9: Итого: | F9: =SUM(F5:G7) -> 76.8 | J9: 1-144 | K9: Помещение хранения автомобилей | M9: 2054.09
J10: 1-145 | K10: Помещение хранения автомобилей | M10: 2620.27
L11: Итого: | M11: =SUM(M9:M10) -> 4674.36
D15: Экспликация помещений 1 этаж.
C16: 1-23 | D16: ПУИ | F16: 2.61 | H16: В4 | L16: =F9+G40+G51+G59 -> 503.6
C17: 1-24 | D17: Санузел | F17: 2.8 | K17: Итого 6.1: | L17: =L16+'6.1.2'!K5+'6.1.3'!L4+'6.1.4'!K5 -> 2083.988
C18: 1-69 | D18: Тамбур | F18: 8.1
C19: 1-107 | D19: Колясочная | F19: 24.57 | K19: Паркинг | L19: =M8+M11 -> 11095.65
C20: 1-116 | D20: Помещение консьержа | F20: 14.51
C21: 1-132 | D21: Вестибюль | F21: 81.79
C22: 1-158 | D22: ПХУТ/ТБО | F22: 31.14 | H22: В1
C23: 1-193 | D23: Зона хранения | F23: 6.32
C24: 1-211 | D24: Тамбур | F24: 8.45
C25: 1-232 | D25: Проход блока кладовых | F25: 16.78
C26: 1-234 | D26: Зона хранения | F26: 6.38 | H26: В3
C27: 1-236 | D27: Зона хранения | F27: 5.04 | H27: В3
C28: 1-348 | D28: Зона хранения | F28: 6.68 | H28: В3
C29: 1-354 | D29: Зона хранения | F29: 7.27 | H29: В3
C30: 1-355 | D30: Зона хранения | F30: 5.16 | H30: В3
C31: 1-356 | D31: Зона хранения | F31: 6.78 | H31: В3
C32: 1-357 | D32: Зона хранения | F32: 7.36 | H32: В3
C33: 1-358 | D33: Зона хранения | F33: 7.25 | H33: В3
C34: 1-445 | D34: Лапо- мойка | F34: 3.7 | R34: ПЛОЩАДИ ДИЗАЙН-ПРОЕКТ (1ЭТАП)
C36: 1-73 | D36: Тамбур -шлюз (автостоянка) | F36: 31,92
C37: 1-79 | D37: Лестничная клетка | F37: 46.76 | R37: 1 этаж | S37: 6.1.1 | T37: 6.1.2 | U37: 6.1.3 | V37: 6.1.4
C38: 1-82 | D38: Лестничная клетка | F38: 23.44 | R38: Вестибюли | S38: =F21 -> 81.79 | T38: ='6.1.2'!F20 -> 75.96 | U38: ='6.1.3'!F15 -> 77.3 | V38: ='6.1.4'!F22 -> 79.288 | W38: =SUM(S38:V38) -> 314.338
R39: Тамбуры | S39: =F18+F24 -> 16.55 | T39: ='6.1.2'!F17+'6.1.2'!F29 -> 15.14 | W39: =SUM(S39:V39) -> 31.69
E40: Итого: | G40: =SUM(F16:G21,F24,F34,F36,F37:G38) -> 216.73 | R40: Консьерж | T40: ='6.1.2'!F18 -> 15.69 | W40: =SUM(S40:V40) -> 15.69
R41: Колясочная | T41: ='6.1.2'!F19 -> 25.49 | W41: =SUM(S41:V41) -> 25.49
R42: ПУИ | S42: =F16 -> 2.61 | W42: =SUM(S42:V42) -> 2.61
C43: Экспликация помещений 2 этажа | R43: Лапомойка | S43: =F34 -> 3.7 | W43: =SUM(S43:V43) -> 3.7
C44: МОП | R44: С.у при консьерже | T44: ='6.1.2'!F15 -> 2.65 | W44: =SUM(S44:V44) -> 2.65
C45: 2.03 | D45: Межквартирный коридор | G45: 50.16 | R45: Л.к. | S45: =F38 -> 23.44 | W45: =SUM(S45:V45) -> 23.44
C46: 2.02 | D46: Лифтовой холл с ПБЗ МГН | G46: 18.29 | R46: Тамбур-шлюз | S46: =F36 -> 31,92 | W46: =S46+T46+U46+V46 -> 31.92
C47: 2.01 | D47: Лестничная клетка Н2 | G47: 13.83 | R47: Участки паркинга | S47: 540 | W47: =SUM(S47:V47) -> 540
...

Sheet 6.1.2
D3: Экспликация помещений -1 этаж.
C5: 1-265 | D5: Тамбур-шлюз | F5: 15.41 | K5: =F9+F44+G58+G68 -> 490.03
C6: -1-29 | D6: Лестничная клетка | F6: 15.93
C7: -1-16 | D7: Тамбур-шлюз ПБЗ | F7: 20.46
E9: Итого: | F9: =SUM(F5:G7) -> 51.8
D12: Экспликация помещений 1 этаж.
C14: ПО жилья №2
C15: 1-31 | D15: Санузел | F15: 2.65
C16: 1-60 | D16: ПУИ | F16: 2.46 | H16: В4
C17: 1-74 | D17: Тамбур | F17: 7.3
C18: 1-81 | D18: Помещение консьержа | F18: 15.69
C19: 1-113 | D19: Колясочная | F19: 25.49
C20: 1-133 | D20: Вестибюль | F20: 75.96
C21: 1-161 | D21: ПХУТ/ТБО | F21: 18.22 | H21: В1
C22: 1-239 | D22: Проход блока кладовых | F22: 27.67
C23: 1-241 | D23: Зона хранения | F23: 3.95 | H23: В3
C24: 1-242 | D24: Зона хранения | F24: 3.3 | H24: В3
C25: 1-243 | D25: Зона хранения | F25: 5.87 | H25: В3
C26: 1-245 | D26: Зона хранения | F26: 5.03 | H26: В3
C27: 1-249 | D27: Зона хранения | F27: 3.08 | H27: В3
C28: 1-250 | D28: Зона хранения | F28: 3.86 | H28: В3
C29: 1-270 | D29: Тамбур | F29: 7.84
C30: 1-273 | D30: Зона хранения | F30: 9.81 | H30: В3
C31: 1-283 | D31: Зона хранения | F31: 5.78 | H31: В3
C32: 1-289 | D32: Зона хранения | F32: 4.63 | H32: В3
C33: 1-363 | D33: Зона хранения | F33: 3.7 | H33: В3
C34: 1-364 | D34: Зона хранения | F34: 3.73 | H34: В3
C35: 1-365 | D35: Зона хранения | F35: 3.03 | H35: В3
C36: 1-369 | D36: Зона хранения | F36: 7.47 | H36: В3
C37: 1-372 | D37: Зона хранения | F37: 6.44 | H37: В3
C38: 1-374 | D38: Зона хранения | F38: 7.5 | H38: В3
C39: 1-446 | D39: Лапо- мойка | F39: 3.85
C40: 1-78 | D40: Тамбур -шлюз (автостоянка) | F40: 22.71
C41: 1-108 | D41: Лестничная клетка | F41: 32.14
C42: 1-97 | D42: Лестничная клетка | F42: 27.87
E44: Итого: | F44: =SUM(F15:G20,F29,F39,F40,F41:G42) -> 223.96
C49: Экспликация для 2 этаж
C50: МОП
C51: 11.1980 | D51: Лестничная клетка Н2 | G51: 15.59
C52: 11.1993 | D52: Лифтовой холл с ПБЗ МГН | G52: 9.08
...

Sheet 6.1.3
D2: Экспликация помещений -1 этаж.
C4: -1,07 | D4: Тамбур-шлюз | F4: 39.29 | L4: =F8+F26+F37+F46 -> 497.01
C5: -1-24 | D5: Лестничная клетка | F5: 15.64
C6: -1-21 | D6: Тамбур-шлюз ПБЗ | F6: 17.84
E8: Итого: | F8: =SUM(F4:G6) -> 72.77
D10: Экспликация помещений 1 этаж.
C11: ПО жилья №3
C12: 1-84 | D12: Колясочная | F12: 26.01
C13: 1-86 | D13: Тамбур | F13: 7.11
C14: 1-101 | D14: Помещение консьержа | F14: 13.01
C15: 1-134 | D15: Вестибюль | F15: 77.3
C16: 1-147 | D16: С/У | F16: 2.51
C17: 1-150 | D17: ПУИ | F17: 3.33 | H17: В4
C18: 1-167 | D18: ПХУТ/ТБО | F18: 16.27 | H18: В1
C19: 1-268 | D19: Тамбур | F19: 6.27
C20: 1-443 | D20: Лапо- мойка | F20: 3.78
C22: - | D22: Тамбур -шлюз (автостоянка) | F22: 26.36
C23: 1-114 | D23: Лестничная клетка | F23: 29.76
C24: 1-104 | D24: Лестничная клетка | F24: 25.22
E26: Итого: | F26: =SUM(F12:G17,F19,F20,F22,F23:G24) -> 220.66
C28: Экспликация 2 этажа
C29: МОП
C30: 3.1827 | D30: Межквартирный коридор | G30: 48.98
C31: 3.1828 | D31: Лифтовой холл с ПБЗ МГН | G31: 18.45
C32: 3.1829 | D32: Лестничная клетка Н2 | G32: 15.3
C33: 3.1830 | D33: Тамбур | G33: 21.55
C34: 3.1831 | D34: Тамбур | G34: 16.57
E37: Итого: | F37: =SUM(G30:G34) -> 120.85
C39: Экспликация для этажей 3-7
C40: МОП
C41: 3.1780 | D41: Межквартирный коридор | G41: 48.98
C42: 3.1781 | D42: Лифтовой холл с ПБЗ МГН | G42: 18.45
C43: 3.1782 | D43: Лестничная клетка Н2 | G43: 15.3
E46: Итого: | F46: =SUM(G41:G43) -> 82.73

Sheet 6.1.4
D3: Экспликация помещений -1 этаж.
C5: -1-184 | D5: Тамбур-шлюз | F5: 32.95 | K5: =F9+F59+F72+F84 -> 593.348
C6: -1-29 | D6: Лестничная клетка | F6: 15.93
C7: -1-18 | D7: Тамбур-шлюз ПБЗ | F7: 27.29
E9: Итого: | F9: =SUM(F5:G7) -> 76.17
D13: Экспликация помещений 1 этаж.
C15: ПО жилья №4
C16: 1-33 | D16: Санузел | F16: 2.34
C17: 1-58 | D17: Тамбур | F17: 8.4
C18: 1-67 | D18: ПУИ | F18: 3.56 | H18: В4
C19: 1-83 | D19: Помещение консьержа | F19: 16.2
C20: 1-112 | D20: Колясочная | F20: 22.68
C21: 1-118 | D21: Узловое Помещение Связи | F21: 33.78 | H21: В3
C22: 1-135 | D22: Вестибюль | F22: 79.288
C23: 1-155 | D23: ПХУТ/ТБО | F23: 18.25 | H23: В1
C24: 1-195 | D24: Зона хранения | F24: 6.26 | H24: В3
C25: 1-196 | D25: Зона хранения | F25: 6.09 | H25: В3
C26: 1-197 | D26: Зона хранения | F26: 8.2 | H26: В3
C27: 1-226 | D27: Зона хранения | F27: 8.55 | H27: В3
C28: 1-227 | D28: Зона хранения | F28: 4.91 | H28: В3
C29: 1-228 | D29: Зона хранения | F29: 7.37 | H29: В3
C30: 1-229 | D30: Зона хранения | F30: 6.33 | H30: В3
C31: 1-230 | D31: Зона хранения | F31: 6.04 | H31: В3
C32: 1-231 | D32: Проход блока кладовых | F32: 27.5 | H32: В3
C33: 1-252 | D33: Зона хранения | F33: 4.67 | H33: В3
C34: 1-253 | D34: Зона хранения | F34: 6.23 | H34: В3
C35: 1-266 | D35: Тамбур | F35: 7.17
C36: 1-352 | D36: Зона хранения | F36: 7.17 | H36: В3
C37: 1-353 | D37: Зона хранения | F37: 6.84 | H37: В3
C38: 1-410 | D38: Зона хранения | F38: 5.31 | H38: В3
C39: 1-411 | D39: Зона хранения | F39: 5.31 | H39: В3
C40: 1-412 | D40: Зона хранения | F40: 5.6 | H40: В3
C41: 1-413 | D41: Зона хранения | F41: 5.52 | H41: В3
C42: 1-414 | D42: Зона хранения | F42: 4.26 | H42: В3
C43: 1-415 | D43: Зона хранения | F43: 8.21 | H43: В3
C44: 1-416 | D44: Зона хранения | F44: 3.98 | H44: В3
C45: 1-417 | D45: Зона хранения | F45: 3.98 | H45: В3
C46: 1-418 | D46: Зона хранения | F46: 5.9 | H46: В3
C47: 1-419 | D47: Зона хранения | F47: 3.18 | H47: В3
... C52: 1-424 | D52: Проход блока кладовых | F52: 25.43 | H52: В3
...
