Workbook

Sheet 6.2.1+паркинг+площади дизайн
D3: Экспликация помещений -1 этаж. | J3: Паркинг
C5: -1-03 | D5: Лифтовой холл/ тамбур-шлюз/ ПБЗ для МГН | E5: 16.49 | I5: -1-142 | J5: Помещение автостоянки | L5: 2975.91
C6: -1-04 | D6: Лестничная клетка | E6: 19.06 | I6: -1-141 | J6: Помещение автостоянки | L6: 2522.36
C7: -1-01 | D7: Тамбур-шлюз | E7: 12.79
K8: Итого: | L8: =SUM(L5:L7) -> 5498.27
D9: Итого: | E9: =SUM(E5:E7) -> 48.34 | I9: 1-75 | J9: Помещение автостоянки | L9: 3914.19
K11: Итого: | L11: =SUM(L9:L10) -> 3914.19
D13: Экспликация помещений 1 этаж.
C15: 1-01 | D15: Тамбур-шлюз | E15: 33.13 | F15: - | K15: =E9+E29+E40+E48 -> 477.77
C16: 1-02 | D16: Вестибюль | E16: 82.71 | F16: - | J16: Итого 6.1: | K16: =K15+'6.2.2'!I8+'6.2.3'!I7+'6.2.4'!I7 -> 1796.34
C17: 1-10 | D17: Помещение уборочного инвентаря | E17: 2.86 | F17: В4
C18: 1-11 | D18: Помещение хранения уборочной техники с возможностью временного размещения ТКО | E18: 15.59 | F18: В1 | J18: Паркинг | K18: =L11+L8 -> 9412.46
C19: 1-18 | D19: Колясочная | E19: 28.26 | F19: В3
C20: 1-19 | D20: Тамбур | E20: 8.44 | F20: -
C21: 1-20 | D21: Помещение консьержа | E21: 12.4 | F21: -
C22: 1-21 | D22: Сан.узел | E22: 1.61 | F22: -
C23: 1-73 | D23: Помещение для мытья лап животных | E23: 3.92 | F23: -
C24: 1-161 | D24: Тамбур | E24: 9.11 | F24: -
C26: 1-03 | D26: Лестничная клетка Н2 №1 | E26: 27.07
C27: 1-04 | D27: Лестничная клетка Л1 №1 | E27: 25.6
D29: Итого: | E29: =SUM(E19:E27,E17,E16,E15) -> 235.11
D32: Экспликация помещений 2 этаж.
C34: 1.2.01 | D34: Тамбур | E34: 7.55
C35: 1.2.02 | D35: Тамбур | E35: 33.72 | P35: ПЛОЩАДИ ПО ДИЗАЙН ПРОЕТКТУ (1 ЭТАП)
C36: 1.2.03 | D36: Межквартирный коридор | E36: 46.73
C37: 1.2.04 | D37: Тамбур-шлюз ПБЗ МГН | E37: 16.03
C38: 1.2.05 | D38: Лестничная клетка Н2 | E38: 13.83 | P38: 1 этаж | Q38: 6.2.1 | R38: 6.2.2 | S38: 6.2.3 | T38: 6.2.4
P39: Вестибюли | Q39: =E16 -> 82.71 | R39: ='6.2.2'!E20 -> 86.82 | S39: ='6.2.3'!E21 -> 96.46 | T39: ='6.2.4'!E21 -> 84.87 | U39: =SUM(Q39:T39) -> 350.86
D40: Итого: | E40: =SUM(E34:E38) -> 117.86 | P40: Тамбуры | U40: =SUM(Q40:T40) -> 0
P41: Консьерж | U41: =SUM(Q41:T41) -> 0
D42: Экспликация помещений 3 этаж. | P42: Колясочная | U42: =SUM(Q42:T42) -> 0
P43: ПУИ | U43: =SUM(Q43:T43) -> 0
C44: 1.3.01 | D44: Тамбур-шлюз ПБЗ МГН | E44: 16.05 | P44: Лапомойка | U44: =SUM(Q44:T44) -> 0
C45: 1.3.02 | D45: Лестничная клетка Н2 | E45: 13.83 | P45: С.у при консьерже | U45: =SUM(Q45:T45) -> 0
C46: 1.3.03 | D46: Межквартирный коридор | E46: 46.58 | P46: Л.к. | U46: =SUM(Q46:T46) -> 0
P47: Тамбур-шлюз | U47: =Q47+R47+S47+T47 -> 0
D48: Итого: | E48: =SUM(E44:E46) -> 76.46 | P48: Участки паркинга | Q48: 270 | U48: =SUM(Q48:T48) -> 270
P49: -1 этаж
P50: Участки паркинга | Q50: 280 | U50: =SUM(Q50:T50) -> 280
P51: Итого: | U51: =SUM(U39:U50) -> 900.86
...

Sheet 6.2.2
D4: Экспликация помещений -1 этаж.
C6: -1-28 | D6: Лифтовой холл/ тамбур-шлюз/ ПБЗ для МГН | E6: 11.82
C7: -1-30 | D7: Лестничная клетка | E7: 13.99
C8: -1-27 | D8: Тамбур-шлюз | E8: 31.78 | I8: =E10+E33+E44+E53 -> 509.16
D10: Итого: | E10: =SUM(E6:E8) -> 57.59
D17: Экспликация помещений 1 этаж.
C19: 1-35 | D19: Тамбур-шлюз | E19: 41.02 | F19: -
C20: 1-36 | D20: Вестибюль | E20: 86.82 | F20: -
C21: 1-37 | D21: Колясочная | E21: 23.58 | F21: В3
C22: 1-44 | D22: Помещение хранения уборочной техники с возможностью временного размещения ТКО | E22: 13.17 | F22: В1
C23: 1-48 | D23: Тамбур | E23: 9.74 | F23: -
C24: 1-49 | D24: Помещение консьержа | E24: 13.92 | F24: -
C25: 1-50 | D25: Сан.узел | E25: 2.11 | F25: -
C26: 1-54 | D26: Помещение уборочного инвентаря | E26: 2.78 | F26: В4
C27: 1-72 | D27: Помещение для мытья лап животных | E27: 3.91 | F27: -
C28: 1-160 | D28: Тамбур | E28: 11.05 | F28: -
C30: 1-57 | D30: Лестничная клетка Л1 №2 | E30: 20.13
C31: 1-58 | D31: Лестничная клетка Л1 №2 | E31: 19.39
D33: Итого: | E33: =SUM(E23:E31,E21,E20,E19) -> 234.45
D36: Экспликация помещений 2 этаж.
C37: 2.2.01 | D37: Тамбур | E37: 7.5
C38: 2.2.02 | D38: Тамбур | E38: 33.78
C39: 2.2.03 | D39: Лестничная клетка Н2 | E39: 14.82
C40: 2.2.04 | D40: Тамбур-шлюз с ПБЗ МГН | E40: 10.76
C41: 2.2.05 | D41: Межквартирный коридор | E41: 30.75
C42: 2.2.06 | D42: Межквартирный коридор | E42: 31.55
D44: Итого: | E44: =SUM(E37:E42) -> 129.16
D47: Экспликация помещений 3-8 этаж.
C48: 2.3.01 | D48: Лестничная клетка Н2 | E48: 14.82
C49: 2.3.02 | D49: Тамбур-шлюз с ПБЗ МГН | E49: 10.76
C50: 2.3.03 | D50: Межквартирный коридор | E50: 31.59
C51: 17.13 | D51: Межквартирный коридор | E51: 30.79
D53: Итого: | E53: =SUM(E48:E51) -> 87.96

Sheet 6.2.3
D4: Экспликация помещений -1 этаж.
C6: -1-80 | D6: Лифтовой холл/ тамбур-шлюз/ ПБЗ для МГН | E6: 16.41
C7: -1-77 | D7: Лестничная клетка | E7: 41.67 | I7: =E10+E31+E41+E50 -> 489.76
C8: -1-79 | D8: Тамбур-шлюз | E8: 17.72
D10: Итого: | E10: =SUM(E6:E8) -> 75.8
D17: Экспликация помещений 1 этаж.
C19: 1-63 | D19: Помещение для мытья лап животных | E19: 3.64 | F19: -
C20: 1-74 | D20: Тамбур-шлюз | E20: 12.98 | F20: -
C21: 1-76 | D21: Вестибюль | E21: 96.46 | F21: -
C22: 1-78 | D22: Колясочная | E22: 30.73 | F22: -
C23: 1-79 | D23: Тамбур | E23: 6.78 | F23: -
C24: 1-80 | D24: Помещение консьержа | E24: 13.85 | F24: -
C25: 1-81 | D25: Сан.узел | E25: 1.73 | F25: -
C26: 1-86 | D26: Помещение уборочного инвентаря | E26: 2.99 | F26: В4
C27: 1-97 | D27: Помещение хранения уборочной техники с возможностью временного размещения ТКО | E27: 23.23 | F27: В1
C28: 1-91 | D28: Лестничная клетка Н2 №3 | E28: 21.46
C29: 1-90 | D29: Лестничная клетка Л1 №3 | E29: 18.37
D31: Итого: | E31: =SUM(E28,E29,E19:E26) -> 208.99
D33: Экспликация помещений 2 этаж.
C34: 3.2.01 | D34: Тамбур | E34: 8.29
C35: 3.2.02 | D35: Тамбур | E35: 33.08
C36: 3.2.03 | D36: Межквартирный коридор | E36: 24.85
C37: 3.2.04 | D37: Тамбур-шлюз ПБЗ МГН | E37: 16.76
C38: 3.2.05 | D38: Лестничная клетка Н2 | E38: 13.83
C39: 3.2.06 | D39: Межквартирный коридор | E39: 26.36
D41: Итого: | E41: =SUM(E34:E39) -> 123.17
D44: Экспликация помещений 3-6 этаж.
C45: 3.3.01 | D45: Межквартирный коридор | E45: 24.85
C46: 3.3.02 | D46: Тамбур-шлюз ПБЗ МГН | E46: 16.76
C47: 3.3.03 | D47: Лестничная клетка Н2 | E47: 13.83
C48: 3.3.04 | D48: Межквартирный коридор | E48: 26.36
D50: Итого: | E50: =SUM(E45:E48) -> 81.8

Sheet 6.2.4
D5: Экспликация помещений -1 этаж.
C7: -1-98 | D7: Лифтовой холл/ тамбур-шлюз/ ПБЗ для МГН | E7: 12.56 | I7: =E11+E32+E43+E52 -> 319.65
C8: -1-99 | D8: Лестничная клетка | E8: 14.82
C9: -1-97 | D9: Тамбур-шлюз | E9: 8.4
C10: -1-124 | D10: Коридор | E10: 99.33
D11: Итого: | E11: =SUM(E7:E10) -> 135.11
D17: Экспликация помещений 1 этаж.
C19: 1-71 | D19: Помещение для мытья лап животных | E19: 4.07 | F19: -
C20: 1-104 | D20: Тамбур | E20: 9.66 | F20: -
C21: 1-105 | D21: Вестибюль | E21: 84.87 | F21: -
C22: 1-106 | D22: Помещение консьержа | E22: 11.24 | F22: -
C23: 1-107 | D23: Сан.узел | E23: 1.99 | F23: -
C24: 1-108 | D24: Колясочная | E24: 30.87 | F24: В3
C25: 1-115 | D25: Помещение уборочного инвентаря | E25: 2.58 | F25: В4
C26: 1-116 | D26: Тамбур-шлюз | E26: 22.65 | F26: -
C27: 1-129 | D27: Помещение хранения уборочной техники с возможностью временного размещения ТКО | E27: 22.98 | F27: В1
C29: 1-117 | D29: Лестничная клетка Н2 №4 | E29: 30.67
C30: 1-118 | D30: Лестничная клетка Л1 №4 | E30: 16.05
D32: Итого: | E32: =SUM(E28:E31) -> 46.72
D35: Экспликация помещений 2 этаж.
C36: 4.2.01 | D36: Тамбур | E36: 7.12
C37: 4.2.02 | D37: Тамбур | E37: 33.37
C38: 4.2.03 | D38: Межквартирный коридор | E38: 32
C39: 4.2.04 | D39: Межквартирный коридор | E39: 33.52
C40: 4.2.05 | D40: Тамбур-шлюз ПБЗ МГН | E40: 11.99
C41: 4.2.06 | D41: Лестничная клетка Н2 | E41: 14.82
D43: Итого: | E43: =SUM(E39:E42) -> 60.33
D46: Экспликация помещений 4-6 этаж.
C47: 4.4.01 | D47: Лестничная клетка Н2 | E47: 14.82
C48: 4.4.02 | D48: Тамбур-шлюз с ПБЗ МГН | E48: 11.99
C49: 4.4.03 | D49: Межквартирный коридор | E49: 33.52
C50: 4.4.04 | D50: Межквартирный коридор | E50: 31.98
D52: Итого: | E52: =SUM(E48:E51) -> 77.49
