Workbook

Sheet ИТОГ
A1: ОКРУГ | B1: РАЙОН | C1: МИКРОРАЙОН или КВАРТАЛ | D1: ЗОНА по ППТ | E1: УЛИЦА по ГПЗУ | F1: № ДОМА по ГПЗУ | G1: ДОП. | H1: ДОП.
A2: Наименование объекта по договору
A3: Ход проверки:
A4: № итерации | B4: Дата | C4: Объем проверки
A10: Результаты проверки АПР по чек-листам МФС:
A11: Чек-лист МФС | B11: Всего | C11: ДА | D11: НЕТ | E11: Отсутствует | F11: Не применяется | G11: Согласовано с МФР | H11: Не отвеченные
A12: ТИПОВОЙ ЭТАЖ | B12: ='ТИП'!A4 -> 148 | C12: ='ТИП'!C3 -> 107 | D12: ='ТИП'!C4 -> 11 | E12: ='ТИП'!C5 -> 0 | F12: ='ТИП'!C6 -> 27 | G12: ='ТИП'!C7 -> 2 | H12: ='ТИП'!C8 -> 1
A13: 1 ЭТАЖ | B13: ='1+ТЕХ+КР'!A4 -> 80 | C13: ='1+ТЕХ+КР'!C3 -> 50 | D13: ='1+ТЕХ+КР'!C4 -> 6 | E13: ='1+ТЕХ+КР'!C5 -> 0 | F13: ='1+ТЕХ+КР'!C6 -> 6 | G13: ='1+ТЕХ+КР'!C7 -> 0 | H13: ='1+ТЕХ+КР'!C8 -> 18
A14: ПОДЗЕМНЫЙ ЭТАЖ | B14: ='ПОДЗ'!A4 -> 65 | C14: ='ПОДЗ'!C3 -> 34 | D14: ='ПОДЗ'!C4 -> 5 | E14: ='ПОДЗ'!C5 -> 5 | F14: ='ПОДЗ'!C6 -> 18 | G14: 0 | H14: ='ПОДЗ'!C8 -> 1
A15: ГЕНПЛАН | B15: ='ГЕНПЛАН'!A4 -> 50 | C15: ='ГЕНПЛАН'!C3 -> 32 | D15: ='ГЕНПЛАН'!C4 -> 6 | E15: ='ГЕНПЛАН'!C5 -> 4 | F15: ='ГЕНПЛАН'!C6 -> 7 | G15: ='КОНСТР'!C7 -> 0 | H15: ='ГЕНПЛАН'!C8 -> -1
A16: КОНСТРУКТИВ | B16: =SUM(C16:H16) -> 24 | C16: ='КОНСТР'!C3 -> 5 | D16: ='КОНСТР'!C4 -> 16 | E16: ='КОНСТР'!C5 -> 0 | F16: ='КОНСТР'!C6 -> 0 | G16: ='ГЕНПЛАН'!C7 -> 2 | H16: ='КОНСТР'!C8 -> 1
A17: ИТОГО | B17: =SUM(B12:B16) -> 367 | C17: =SUM(C12:C16) -> 228 | D17: =SUM(D12:D16) -> 44 | E17: =SUM(E12:E16) -> 9 | F17: =SUM(F12:F16) -> 58 | G17: =SUM(G12:G16) -> 4 | H17: =SUM(H12:H16) -> 20
A18: Результаты проверки АПР по чек-листам и замечаниям МФР:
A19: Чек-лист МФР 1 этапа
A21: Чек-лист МФР 2 этапа
A23: Замечания МФР
A26: Что необходимо учесть и предусмотреть при разработке ПД:
A27: заполняется в случае, если работы по разработке АПР уже завершены
A31: Требования НД | B31: ='ТИП'!F4+'1+ТЕХ+КР'!F4+'ПОДЗ'!F4+'КОНСТР'!F4+'ГЕНПЛАН'!F4 -> 128 | C31: ГП | D31: =B15 -> 50
A32: Рекомендации МФР | B32: ='ТИП'!F5+'1+ТЕХ+КР'!F5+'ПОДЗ'!F5+'КОНСТР'!F5+'ГЕНПЛАН'!F5 -> 139 | C32: АР | D32: ='ТИП'!I4+'1+ТЕХ+КР'!I4+'ПОДЗ'!I4 -> 219
A33: ПИК-стандарт | B33: ='ТИП'!F6+'1+ТЕХ+КР'!F6+'ПОДЗ'!F6+'КОНСТР'!F6+'ГЕНПЛАН'!F6 -> 42 | C33: КР | D33: =B16 -> 24
A34: МФС | B34: ='ТИП'!F7+'1+ТЕХ+КР'!F7+'ПОДЗ'!F7+'КОНСТР'!F7+'ГЕНПЛАН'!F7 -> 54 | C34: ИОС | D34: =B17-D31-D32-D33 -> 74
B35: =SUM(B31:B34) -> 363 | D35: =SUM(D31:D34) -> 367

Sheet ИРД
B2: Исходные данные: | C2: Дата | D2: Обозначение | E2: Примечание
B3: Постановление правительства | D3: 914
B4: Техническое задание (приложение к договору генподряда)
B5: Задание на проектирование
B6: Квартирография
B7: Проект планировки территории | D7: Постановлением Правительства Москвы от 18 августа 2020 № 1331-ПП. «Об утверждении проекта планировки территории по адресу: Сиреневый бульвар, вл.4 района Измайлово города Москвы»,
B8: Градостроительный план ЗУ
B9: Облик реновации (фасадные решения)
B10: Прочие
B11: Прочие

Sheet ТЭПы
B1: Наименование | C1: Об. | D1: Ед. изм | E1: Значение | F1: в том числе | I1: Примечание
F2: К1 | G2: К2 | H2: К3
A3: 1 | B3: Общая площадь квартир (сумма площадей отапливаемых комнат и помещений квартир, а также неотапливаемых (летних) помещений, определяемых согласно СП 54.13330.2022]. | C3: Sкв | D3: м2 | E3: =F3+G3+H3 -> 37366.4 | F3: 19626.8 | G3: 6647.2 | H3: 11092.4 | I3: от 11.03.2024
A4: 2 | B4: Общая площадь нежилых помещений 1 этажа (БКТ, ЦИН, ОДС) | C4: Sбкт | D4: м2 | E4: =F4+G4+H4 -> 2429 | F4: 1224.3 | G4: 545.3 | H4: 659.4 | I4: от 11.03.2024
B6: Суммарная поэтажная площадь 1 этажа в габаритах наружных стен | C6: Sспп1 | D6: м2 | E6: =F6+G6+H6 -> 4133.2 | F6: 2106.3 | G6: 801.6 | H6: 1225.3 | I6: от 11.03.2024
A7: 3 | B7: Общая площадь наземной части здания (сумма площадей этажей за исключением подземных, измеряемая между внутренними поверхностями наружных стен на уровне пола, с учётом (в пределах только одного этажа) лифтовых и других шахт) | C7: Sобщ | D7: м2 | E7: =F7+G7+H7 -> 54537.9 | F7: 28739 | G7: 9741.6 | H7: 16057.3 | I7: от 11.03.2024
A10: 4 | B10: К общ. (Коэффициент выхода полезной площади от общей наземной площади) | C10: Кобщ=(Sкв+Sбкт)/Sобщ. | E10: =(E3+E4)/E7 -> 0.72968339 | F10: =(F3+F4)/F7 -> 0.72553325 | G10: =(G3+G4)/G7 -> 0.73832841 | H10: =(H3+H4)/H7 -> 0.7318665 | I10: См. №ФР-11-35435/23 от 05.09.2023
B12: Кж | C12: Кж=Sкв/Sобщ | E12: =E3/E7 -> 0.68514556 | F12: =F3/F7 -> 0.6829326 | G12: =G3/G7 -> 0.68235197 | H12: =H3/H7 -> 0.69080107
B13: Кэт | C13: Кэт=Sкв/(Sобщ-Sспп1) | E13: =E3/(E7-E6) -> 0.74132769 | F13: =F3/(F7-F6) -> 0.73694368 | G13: =G3/(G7-G6) -> 0.74353468 | H13: =H3/(H7-H6) -> 0.74786947

Sheet ТИП
B1: ИТОГ
A2: № | B2: Требования к проектным решениям | C2: СТАТУС | D2: Комментарий | F2: Ссылка на требование | G2: Ответ разработчика | H2: Обоснование необходимости требования | I2: Специалист, заполняющий позицию
A3: ВСЕГО | B3: ДА | C3: =COUNTIF(C10:C180,"ДА") -> 107 | F3: =SUM(F4:F7) -> 150
A4: =COUNTA(A10:A180) -> 148 | B4: НЕТ | C4: =COUNTIF(C10:C180,"НЕТ") -> 11 | D4: Требования НД | E4: НД | F4: =COUNTIF(E10:E180,"НД") -> 40 | H4: АР | I4: 97
B5: ОТСУТСТВУЕТ | C5: =COUNTIF(C10:C180,"ОТСУТСТВУЕТ") -> 0 | D5: Рекомендации МФР | E5: МФР | F5: =COUNTIF(E10:E180,"МФР") -> 73 | H5: ИОС | I5: =F3-I4 -> 53
B6: НЕ ПРИМЕНЯЕТСЯ | C6: =COUNTIF(C10:C180,"НЕ ПРИМЕНЯЕТСЯ") -> 27 | D6: ПИК-стандарт | E6: ПИК | F6: =COUNTIF(E10:E180,"ПИК") -> 25
B7: МФР | C7: =COUNTIF(C10:C180,"МФР") -> 2 | D7: МФС | E7: МФС | F7: =COUNTIF(E10:E180,"МФС") -> 12
B8: НЕ ОТВЕЧЕННЫЕ | C8: =A4-C3-C4-C5-C6-C7 -> 1
B10: ОБЩИЕ
A11: =1 -> 1 | B11: Габариты и площади помещений указаны с учетом отделки. | C11: ДА | E11: МФР | F11: Чек-лист МФР 1 этапа | I11: АР
A12: =A11+1 -> 2 | B12: На планах показаны конструктивные элементы здания (на планах несущие монолитные конструкции показаны отличающейся штриховкой) | C12: ДА | E12: МФР | F12: Чек-лист МФР 1 этапа | G12: принято Добавлены размеры кирпича, утеплителя.240227 | I12: АР
A13: =A12+1 -> 3 | B13: Межэтажное расстояние между типовыми этажами = 3000 мм | C13: ДА | E13: ПИК | F13: Унификация, связанная с габаритами навесных панелей и сборных лестничных маршей с учетом требований МФР. Рекомендации по проектированию от 03.12.2020, стр 16 | I13: АР
B14: Толщина стен предусмотрена не менее:
A15: =A13+1 -> 4 | B15: - 220 мм (10отделка+200монолит+10отделка) (подтверждено расчетом конструктивной модели) или 240 мм (10отделка+220монолит+10отделка) (без подтверждения расчетом) межквартирные монолитные стены, перпендикулярные фасадам, выполняющими функцию диафрагм | C15: ДА | D15: 2024.02.05 Зайцева М.С.: на АПР согласована стена в 200 мм монолит. На ПД необходимо актуализировать с учетом расчета и конструктивной модели. | E15: ПИК | F15: Правила проектирования. Внутренние ненесущие стены и перегородки. Толщины, состав, описание. 09.08.2021 | G15: Не принято. Расчет строительных конструкций производится на стадии ПД | H15: Для оптимизации технических решений и строительно -монтажных работ | I15: АР
A16: =A15+1 -> 5 | B16: -220 мм (10отделка+200монолит+10отделка) межквартирные монолитные прямолинейные (длина более 2,0 м) участки стен, не являющиеся диафрагмами, в том числе на участках между квартирой и МОП или шахтой | C16: ДА | E16: ПИК | F16: Правила проектирования. Внутренние ненесущие стены и перегородки. Толщины, состав, описание. 09.08.2021 | G16: Подтверждение сечения конструкции 200 мм подтверждается на стадии ПД статическим расчетом. Без расчет может быть принято сечение 240 мм | H16: Для оптимизации технических решений и строительно -монтажных работ | I16: АР
A17: =A16+1 -> 6 | B17: - 290мм (20отделка+250газоблок+20отделка) межквартирные стены из газобетонного блока плотностью Д600 на криволинейных участках (длина прямого участка менее 2,0 м) , в том числе на участках между квартирой и МОП или шахтой | C17: ДА | E17: ПИК | F17: Правила проектирования. Внутренние ненесущие стены и перегородки. Толщины, состав, описание. 09.08.2021мп | G17: С учетом пирога: 250 мм газоблок и по 20 мм отделки получается итоговое значение 290 мм | H17: Для оптимизации технических решений и строительно -монтажных работ | I17: АР
A18: =A17+1 -> 7 | B18: - 220 мм (200газоблок + 20 отделка) наружные (ограждающая самонесущая стена из газобетонного блока плотностью Д600, без утепления, в случае панельного фасада толщина стены между квартирой и лоджией) | C18: ДА | E18: ПИК | F18: Правила проектирования. Внутренние ненесущие стены и перегородки. Толщины, состав, описание. 09.08.2021 | G18: принято | H18: Для оптимизации технических решений и строительно -монтажных работ | I18: АР
A19: =A18+1 -> 8 | B19: - 120мм (10отделка +100плита+10отделка) межкомнатные стены из пазогребневой плиты | C19: ДА | E19: ПИК | F19: Правила проектирования. Внутренние ненесущие стены и перегородки. Толщины, состав, описание. 09.08.2021 | G19: Отделка ПГП принята по типовому альбому АР20v3 ЖД-ТА-РЕН-ОП для жилых комнат (ОС-37) 10 мм штукатурка+ 2 мм Шпатлевка. | I19: АР
A20: =A19+1 -> 9 | B20: - 120мм (100плита +20отделка) перегородка между СТМ и жилой комнатой | C20: ДА | E20: ПИК | F20: Правила проектирования. Внутренние ненесущие стены и перегородки. Толщины, состав, описание. 09.08.2021 | G20: Отделка ПГП принята по типовому альбому АР20v3 ЖД-ТА-РЕН-ОП для жилых комнат (ОС-38) 17 мм штукатурка+ 2 мм Шпатлевка. | I20: АР
A21: =A20+1 -> 10 | B21: Для многосекционных жилых домов приведены отдельные листы с планами секций | C21: ДА | E21: НД | F21: ГОСТ Р 21.101-2020, п. 5.5.11 | H21: Необходимо для оценки эффективности планировочных решений отдельной секции, чтобы сохранять удачные секции и избавляться от неудачных | I21: АР
B22: Для каждой квартиры указан маркер, сорержащий
A23: =A21+1 -> 11 | B23: - тип квартиры по квартирографии | C23: ДА | E23: МФС | I23: АР
A24: =A23+1 -> 12 | B24: - номер квартиры по плану | C24: ДА | E24: МФС | I24: АР
A25: =A24+1 -> 13 | B25: - жилую площадь (общую площадь жилых комнат) | C25: ДА | E25: МФС | I25: АР
A26: =A25+1 -> 14 | B26: - общую площадь квартиры без летних помещений | C26: ДА | E26: МФС | I26: АР
A27: =A26+1 -> 15 | B27: - общую приведенную площадь квартиры (летние помещения с коэффициентами 0,5 для лоджии, 0,3 для балкона) | C27: ДА | E27: МФС | I27: АР
A28: =A27+1 -> 16 | B28: - общую площадь квартиры с летними помещениями | C28: ДА | E28: МФС | I28: АР
B29: На плане этажа (секции) в экспликации приведены площади: | D29: По всем Секциям предоставлены только планы 2-го этажа.. Необходимо предоставить планы Типового этажа, с указанием разной этажности Секции.
A30: =A28+1 -> 17 | B30: - квартир (жилая, общая, общая приведенная, общая с летними помещениями, Sкв) | C30: ДА | E30: НД | F30: ГОСТ 21.501-2018, Прилож. А Форма 2 | G30: принято | H30: Для проверки соответствия площадных показателей квартир заданию МФР | I30: АР
A31: =A30+1 -> 18 | B31: - общая для всех квартир на этаже (секции), Sкв.общ | C31: ДА | E31: МФС | F31: МФС | G31: принято | H31: Для проверки выбора решения по устройству лестничной клетки | I31: АР
A32: =A31+1 -> 19 | B32: - МОП | C32: ДА | E32: МФС | F32: МФС | G32: принято | H32: Для расчета экономического показателя эффективности планировочных решений | I32: АР
A33: =A32+1 -> 20 | B33: - общая для этажа (секции) Sэт | C33: ДА | E33: МФС | F33: МФС | G33: принято | H33: Для расчета экономического показателя эффективности планировочных решений | I33: АР
A34: =A33+1 -> 21 | B34: - площадь этажа (секции) в габаритах наружных стен | C34: ДА | E34: МФС | F34: МФС | G34: принято | H34: Необходимо для возможности контроля и последующей проверке расчетов подрядчика соблюдения ограничений ГПЗУ | I34: АР
A35: =A34+1 -> 22 | B35: Приведен коэффициент выхода площади квартир с этажа (этажа секции) Кэфф=Sкв.общ/Sэт, значение Кэфф не менее 0,75 | C35: НЕТ | D35: Отсутствуют | E35: МФР | F35: №ФР-11-35435/23-12 от 31.10.2023 | G35: В соответствии с переданной ГП МФС квартирографий обеспечить коэф 0,75 не представляется возможным (необходимо согласование с МФР) | H35: Коэфф. Необходимо проговорить с МФР. | I35: АР
A36: =A35+1 -> 23 | B36: На планах этажей изображена общая схема объекта (контур надземной и подземной частей). На схеме выделен участок отображаемого плата, показаны номера секций и их этажность | C36: ДА | E36: НД | F36: ГОСТ Р 21.101-2020, п. 5.5.11 | H36: Для удобства чтения чертежа | I36: АР
A37: =A36+1 -> 24 | B37: Оси объекта показаны и пронумерованы в соответствии с требованиями НД | C37: ДА | E37: НД | F37: ГОСТ Р 21.101-2020, п. 5.3 | H37: Для удобства чтения чертежа | I37: АР
A38: =A37+1 -> 25 | B38: Примененные на объекте светопрозрачные конструкции (окна, двери, витражи остекления лоджий, МОП, БКТ) соответствуют ПИК-стандарт в части номенклатуры, размеров, узлов примыканий и сопряжений и т.д. | C38: НЕТ | D38: файл DWG получен, замечания прописаны в ЧЛ. | E38: ПИК | F38: ЖД-ТА-РЕН-АР-ВКЛ, ЖД-ТА-РЕН-АР-В.ПБ, ЖД-ТА-РЕН-АР-ПЭ, ЖД-ТА-РЕН-АР-В.ПЭ.ВГ | G38: Маркировочный план светопрозрачных конструкций предоставлен. | H38: Необходимо на стадии АПР использовать типовые СПК от ПИК, чтобы на последующей стадии при разработке фасадных решений не допускать нестыковок в конструкциях и некорректного отображения фасадов , в том числе для АГР. Также позволяет избежать нетиповых дорогих или сложых решений, трудно реализуемых на панельных фасадах | I38: АР
A39: =A38+1 -> 26 | B39: Типы наружных стен, покрытий, применяемые для отделки материалы выполнены в соответствиим с ПИК-стандарт | C39: ДА | E39: ПИК | F39: ЖД-ТА-РЕН-АР-НК.С | G39: Прописаны. На данном этапе предварительные типы ограждающих конструкций и кровель замаркированы на разрезах и плане кровли. | I39: АР
A40: =A39+1 -> 27 | B40: На планах показаны радиаторы отопления. Расположение радиаторов учитывает габаритные размеры помещений, расположение дверных и оконных проемов, а также типы применяемых шкаф-пакетов | C40: ДА | E40: МФС | F40: Для проверки обеспечения минимальных размеров помещений с учетом размещения в них отопительных приборов | G40: Радиаторы условно добавлены на планы АР. 240228 | I40: АР
B41: МОП
...

Sheet 1+ТЕХ+КР
B1: ИТОГ
A2: № | B2: ='ТИП'!B2 -> Требования к проектным решениям | C2: СТАТУС | D2: Комментарий | F2: Ссылка на норматив | G2: Ответ разработчика | H2: Обоснование необходимости требования | I2: Специалист, заполняющий позицию
A3: ВСЕГО | B3: ДА | C3: =COUNTIF(C9:C100,"ДА") -> 50 | F3: =SUM(F4:F7) -> 79
A4: =COUNTA(A9:A100) -> 80 | B4: НЕТ | C4: =COUNTIF(C9:C100,"НЕТ") -> 6 | D4: Требования НД | E4: НД | F4: =COUNTIF(E10:E156,"НД") -> 18 | H4: АР | I4: 71
B5: ОТСУТСТВУЕТ | C5: =COUNTIF(C9:C100,"ОТСУТСТВУЕТ") -> 0 | D5: Рекомендации МФР | E5: МФР | F5: =COUNTIF(E10:E156,"МФР") -> 44 | H5: ИОС | I5: =F3-I4 -> 8
B6: НЕ ПРИМЕНЯЕТСЯ | C6: =COUNTIF(C9:C100,"НЕ ПРИМЕНЯЕТСЯ") -> 6 | D6: ПИК-стандарт | E6: ПИК | F6: =COUNTIF(E10:E156,"ПИК") -> 5
B7: Согласовано с МФР | C7: =COUNTIF(C9:C100,"МФР") -> 0 | D7: МФС | E7: МФС | F7: =COUNTIF(E10:E156,"МФС") -> 12
B8: НЕ ОТВЕЧЕННЫЕ | C8: =A4-C3-C4-C5-C6-C7 -> 18
B9: ОБЩИЕ
A10: =1 -> 1 | B10: Габариты и площади помещений указаны с учетом отделки | C10: ДА | E10: МФР | F10: Чек-лист МФР 1 этапа | I10: АР
A11: =A10+1 -> 2 | B11: На планах показаны конструктивные элементы здания | C11: ДА | E11: МФР | F11: Чек-лист МФР 1 этапа | G11: Прописано на планах | I11: АР
A12: =A11+1 -> 3 | B12: Расстояние между чистым полом 1 и 2 этажей не менее 4800 мм и кратно 150 мм | C12: ДА | E12: ПИК | F12: Унификация, связанная с устройством лестницы между 2 и 1 этажами с учетом требований МФР. Рекомендации по проектированию от 03.12.2020, стр. 13 | I12: АР
A13: =A12+1 -> 4 | B13: Над всеми входами предусмотрены козырьки (входная группа с козырьком, стеклянный козырек на двери, ниша в фасаде и т.д) | C13: ДА | E13: МФР | F13: МФР. Рекомендации по проектированию от 03.12.2020, стр 80 | H13: Позволяет отследить правильность применения альбомов ПИК в части устройства входных групп и применения СПК | I13: АР
A14: =A13+1 -> 5 | B14: На планах показаны абсолютные и относительне отметки пола входных груп | C14: ДА | E14: МФР | F14: МФР. Рекомендации по проектированию от 03.12.2020, стр 6, ПП№305 от 21.05.2015, п. 2.3.3 | G14: принято | I14: АР
A15: =A14+1 -> 6 | B15: На разрезе показана линия поверхности земли, приведены абсолютные и относительные отметки в местах расположения входных групп | C15: ДА | E15: МФР | F15: МФР. Рекомендации по проектированию от 03.12.2020, стр 6, ПП№305 от 21.05.2015, п. 2.3.3 | G15: принято | I15: АР
A16: =A15+1 -> 7 | B16: Во входных тамбурах предусмотрен и показан приямок, от порога витражной двери на 300 мм, по ширине тамбура на длину трех плиток, в который уложена грязезащитная решетка. | C16: ДА | E16: ПИК | F16: ПИК-стандарт | H16: Позволяет отследить правильность применения альбомов ПИК в части устройства входных групп | I16: АР
A17: =A16+1 -> 8 | B17: Примененные на объекте светопрозрачные конструкции (окна, двери, витражи остекления лоджий, МОП, БКТ) соответствуют ПИК-стандарт в части номенклатуры, размеров, узлов примыканий и сопряжений и т.д. | C17: НЕТ | D17: файл DWG получен, замечания прописаны в ЧЛ. | E17: ПИК | F17: ЖД-ТА-РЕН-АР-ВКЛ, ЖД-ТА-РЕН-АР-В.ПБ, ЖД-ТА-РЕН-АР-ПЭ, ЖД-ТА-РЕН-АР-В.ПЭ.ВГ | G17: Подготовлен план с СПК | H17: Позволяет отследить правильность применения альбомов ПИК в части применения СПК для последующего корректного отображения фасадов | I17: АР
A18: =A17+1 -> 9 | B18: Типы наружных стен и применяемые для отделки материалы выполнены в соответствиим с ПИК-стандарт | C18: ДА | E18: ПИК | F18: ЖД-ТАС-РЕН-АР-НК.С | G18: Пироги показаны на плане кровли и на разрезе 3-3, 5-5 | H18: Позволяет отследить правильность применения альбомов ПИК в части устройства ограждающих конструкций (стен) | I18: АР
B19: На плане 1 этажа, а также технического этажа и кровли в случае размещения на них помещений, с высотой потолка более 1,8 м в экспликации приведены площади:
A20: =A18+1 -> 10 | B20: - каждого помещения | C20: ДА | E20: МФС | F20: МФС | I20: АР
A21: =A20+1 -> 11 | B21: - общая для всех помещений | C21: ДА | E21: МФС | F21: МФС | I21: АР
A22: =A21+1 -> 12 | B22: - общая для этажа | C22: ДА | E22: МФС | F22: МФС | I22: АР
A23: =A22+1 -> 13 | B23: Коэффициент выхода площади с этажа (Sбкт/Sэт) | C23: ДА | E23: МФС | F23: МФС | H23: Дтя того чтобы исключить недосчет машинных помещений лифтов, помещений СС и т.д.) Были случаи, когда в СПП ГНС забывали включать помещения на кровле | I23: АР
A24: =A23+1 -> 14 | B24: - суммарная поэтажная площадь этажа (секции) в габаритах наружных стен | C24: ДА
A25: =A24+1 -> 15 | B25: Предусмотрены и показаны места для размещения наружных блоков кондиционирования нежилых помещений 1 этажа: БКТ, ЦИН, ОДС, СС, МПТЦ | C25: НЕТ | D25: Сократить расходы на строй.мат. путем - все Кондиционры повесить на фасаде, в перфорированные короба, соответственно, восполнить Коэффициенты по Площадям. | E25: МФР | F25: Новое требование МФР | G25: Обозначены места ниш для наружных блоков кондиционеров на 1 этаже.240227 Исключены ниши, добавлены корзины на фасадах. 240315 | I25: АР
A26: =A25+1 -> 16 | B26: На планах предусмотрены и показаны шахты ВК и обстройки для разводки трубопроводов в мокрых зонах МОП и БКТ. | C26: НЕТ | D26: назначение шахт не указано 1. Секция 3. Не предусмотрена обстройка в помещениях 3.МОП.56, 3.МОП.57 Секция 5. Не предусмотрена обстройка в помещениях 5.МОП.23(или изменить планировку , чтобы исключить прокладку в лестничной клетке), 5.МОП.21 (для скрытой прокладки труб К1 ф110) Секция 6. Не предусмотрена обстройка в помещениях 6.МОП.23, 6.МОП.24 Секция 7. Не предусмотрена обстройка в помещениях 7.БКТ.85 , 7.МОП.46, 7.МОП.47 2.Исключить перекидки труб канализации на первом этаже. При невозможности исключить перекидки - согласовать трассировку с ГИПом и РП, МФР | E26: МФС | F26: МФС | G26: Подготовлены планы перекидок ВК. 240315. Уйти от перекидок в данных местах не предствляется возможным, так как стояки завязаны на СТМ на типовом этаже. | H26: Без проработки шахт габариты санузлов в последствии могут меняться, и как следствие - примыкания мокрых зон к помещениям ЭС и СС | I26: ВК
A27: =A26+1 -> 17 | B27: На планах показаны радиаторы отопления. Расположение радиаторов учитывает габаритные размеры помещений, (тамбуры, лестницы и т.д) и путей эвакуации, габариты дверных и оконных проемов | C27: ДА | E27: МФС | F27: МФС | G27: Радиаторы условно добавлены на планы АР. 240228 | I27: АР
A28: =A27+1 -> 18 | B28: На разрезах приведены все применяемые на объекте пироги покрытий кровли. | C28: ДА | E28: МФС | F28: МФС | G28: Просим указать тип кровли (летняя или зимняя), пирог добавим См. план кровли с пирогами, разрез 3-3 с типами стен. 240227 | I28: АР
A29: =A28+1 -> 19 | B29: Высота здания не превышает предельную, указанную в ГПЗУ (высота должна быть указана на разрезе, должен учитываться рельеф) | C29: ДА | E29: НД | F29: ??? | G29: Согласно методическим рекомендациям МКА предельная высота здания это вертикальный линейный размер здания, строения, сооружения от каждой существующей отметки земли в границах земельного участка до наивысшей отметки конструктивного элемента здания. Если делать проекцию +70метров от каждой точки рельефа нарушения по высотности отсутствуют. В том числе прилагаем разрезы с обоснованием высотности. Просим уточнить в каком месте у нас превышение | H29: https://archsovet.msk.ru/article/faq/raschet-tep | I29: АР
B30: МОП
A31: =A29+1 -> 20 | B31: Предусмотрены 2 входа в МОП жилой части со стороны улицы и двора с устройством сквозного прохода (кроме односекционных ЖД) | C31: ДА | E31: МФР | F31: МФР. Рекомендации по проектированию от 03.12.2020, стр 7 ПП№305 от 21.05.2015, п.2.3.1 | I31: АР
A32: =A31+1 -> 21 | B32: Предусмотрены обособленные входы в нежилые помещения БКТ со стороны улицы | C32: ДА | E32: МФР | F32: МФР. Рекомендации по проектированию от 03.12.2020, стр 6,7 | I32: АР
A33: =A32+1 -> 22 | B33: Отсутствует перепад высот между планировочной отметкой улицы и отметкой пола МОП | C33: ДА | E33: МФР | F33: МФР. Рекомендации по проектированию от 03.12.2020, стр 6, ПП№305 от 21.05.2015, п. 2.3.3 | I33: АР
A34: =A33+1 -> 23 | B34: Расстояние по горизонтали между проемами лестничной клетки и проемами в наружной стене здания не менее 1,2 м; | C34: ДА | E34: НД | F34: СП 2.13130.2020, п. 5.4.16 д | H34: Для избежания решений с ненормативными расстояниями между выходами из эвакуационной лестницы и помещениями на 1 этаже | I34: АР
B35: Состав помещений МОП включает:
A36: =A34+1 -> 24 | B36: - тамбуры | C36: ДА | E36: МФР | F36: МФР. Рекомендации по проектированию от 03.12.2020, стр 8 | I36: АР
A37: =A36+1 -> 25 | B37: - вестибюль | C37: ДА | E37: МФР | F37: МФР. Рекомендации по проектированию от 03.12.2020, стр 8 | I37: АР
A38: =A37+1 -> 26 | B38: - помещение консьержа с санузлом | C38: ДА | E38: МФР | F38: МФР. Рекомендации по проектированию от 03.12.2020, стр 8 | I38: АР
A39: =A38+1 -> 27 | B39: - колясочная, площадью не менее 25 м, для секций 19 эажей и выше - не менее 35 м2 | C39: НЕТ | D39: Увеличить колясочные Секц.4 и Секц.5 - в 21 эт., излишние "тараканьи бега", излишние площеди лестниц, СУ, ПУИ. Особенно при увеличении этажности. | E39: МФР | F39: МФР. Рекомендации по проектированию от 03.12.2020, стр 8; Новые требования МФР | G39: По зам. в пдф: Секция 4. Высотная секция, необходимо расположить 140 шт. почтовых ящиков. Предлагаемое для них место у ниш ДУ и КДУ имеет недостаточный фронт, кроме того к нишам необходимо обеспечить доступ для расположения решеток инженерных систем. Соответственно увеличение площади колясочной не представляется возможным Секция 5. Предлагаемая выгородка невозможна из-за расположения и перекидок инженерных систем, кроме того к нишам ДУ и КДУ необходимо обеспечить доступ для расположения решеток. Увеличение колясочной в секции 5 возможно только за счет сокращения площадей БКТ 240227 | I39: АР
A40: =A39+1 -> 28 | B40: - ПУИ | C40: ДА | E40: МФР | F40: МФР. Рекомендации по проектированию от 03.12.2020, стр 8 | I40: АР
...

Sheet ПОДЗ
B1: ИТОГ
A2: № | B2: ='1+ТЕХ+КР'!B2 -> Требования к проектным решениям | C2: СТАТУС | D2: Комментарий | F2: Ссылка на требование | G2: Ответ разработчика | H2: Обоснование необходимости требования | I2: Специалист, заполняющий позицию
A3: ВСЕГО | B3: ДА | C3: =COUNTIF(C9:C87,"ДА") -> 34 | F3: =SUM(F4:F7) -> 62
A4: =COUNTA(A9:A87) -> 65 | B4: НЕТ | C4: =COUNTIF(C9:C87,"НЕТ") -> 5 | D4: Требования НД | E4: НД | F4: =COUNTIF(E9:E159,"НД") -> 40 | H4: АР | I4: 51
B5: ОТСУТСТВУЕТ | C5: =COUNTIF(C9:C87,"ОТСУТСТВУЕТ") -> 5 | D5: Рекомендации МФР | E5: МФР | F5: =COUNTIF(E9:E159,"МФР") -> 11 | H5: ИОС | I5: =F3-I4 -> 11
B6: НЕ ПРИМЕНЯЕТСЯ | C6: =COUNTIF(C9:C87,"НЕ ПРИМЕНЯЕТСЯ") -> 18 | D6: ПИК-стандарт | E6: ПИК | F6: =COUNTIF(E9:E159,"ПИК") -> 1
B7: Согласовано с МФР | C7: =COUNTIF(C9:C87,"МФР") -> 2 | D7: МФС | E7: МФС | F7: =COUNTIF(E9:E159,"МФС") -> 10
B8: НЕ ОТВЕЧЕННЫЕ | C8: =A4-C3-C4-C5-C6-C7 -> 1
B9: ОБЩИЕ | I9: Специалист, заполняющий позицию
A10: =1 -> 1 | B10: Габариты и площади помещений указаны с учетом отделки. | C10: ДА | E10: МФР | F10: Чек-лист МФР 1 этапа | G10: Дополнено 240227 | I10: АР
A11: =A10+1 -> 2 | B11: На планах показаны конструктивные элементы здания | C11: ДА | E11: МФР | F11: Чек-лист МФР 1 этапа | G11: Дополнено 240227 | I11: АР
A12: =A11+1 -> 3 | B12: Количество эвакуационных выходов и лестниц из -1 этажа принято в соответствии НД в зависимости от деления подземной части на пожарные отсеки, площади и назначения помещений | C12: ДА | E12: НД | F12: СП 1.13130.2020, гл. 4, 6, 8 | H12: Для устранения неоднократных случаев, когда подрядчики нерационально выполняют разбивку на пожарные отсеки и превышают необходимое количество эвакуационных лестниц | I12: АР
A13: =A12+1 -> 4 | B13: Ширина эвакуационных лестниц из подземной части здания определена в зависимости от функционального назначения помещений и расчетного количества эвакуирующихся | C13: ДА | E13: НД | F13: СП 1.13130.2020, п. 4.4.1, 8.4.6 | H13: Оптимизация планировочных решений. | I13: АР
A14: =A13+1 -> 5 | B14: В случае, если по расчету ширина эвакуационной лестницы не превышает 1,0 м, эвакуационные лестницы из подземного этажа в зоне высотной части располагаются непосредственно под лестницами, ведущими с верхних этажей (при количестве эвакуирующихся менее 50 чел) | C14: НЕ ПРИМЕНЯЕТСЯ | E14: НД | F14: СП 1.13130.2020, п. 8.4.6 | H14: Оптимизация связана с увеличением полезной площади 1 этажа и повышения К эфф | I14: АР
B15: АВТОСТОЯНКА
A16: =A14+1 -> 6 | B16: Количество парковочных мест в автостоянке соответствует потребности в соответствии с ТЗ или расчетым обоснованием | C16: НЕ ПРИМЕНЯЕТСЯ
A17: =A16+1 -> 7 | B17: Габаритные размеры парковочных мест не менее 5,3х2,5 м | C17: ДА | E17: НД | F17: Приказ Минэкономразвития РФ от 07.12.2016 № 792 | I17: АР
A18: =A17+1 -> 8 | B18: Габаритные размеры специализированных парковочных мест МГН не менее 6,0х3,6м, на плане обозначены символом "колясочник" (при наличии) | C18: ДА | E18: НД | F18: СП 59.13330.2020, п. 5.2.4 | H18: МФР требует размещать места постоянного хранения автотранспорта МГН ан территории участка | I18: АР
A19: =A18+1 -> 9 | B19: Все парковочные места выполнены независимыми | C19: ДА | E19: МФР | F19: МФР. Рекомендации по проектированию от 03.12.2020, стр. 26 | I19: АР
A20: =A19+1 -> 10 | B20: Минимальная высота проезда с учетом выступающих конструкций не менее 2,3 м | C20: ДА | D20: 2400мм - ворота | E20: МФС | F20: МФС | I20: АР
A21: =A20+1 -> 11 | B21: Радиусы поворота не менее 6,0 м | C21: ДА | E21: НД | F21: СП 113.13330.2023, ПриложениеА | I21: АР
B22: Уклон въездной рампы выполнен не более (указан на плане и разрезе):
A23: =A21+1 -> 12 | B23: - 18% для закрытой прямой рампы | C23: ДА | E23: НД | F23: СП 113.13330.2023, п. 5.26 | I23: АР
A24: =A23+1 -> 13 | B24: - 1:6 (16,7%) для закрытой прямой изолированной рампы в случае, если она используется как эвакуационный выход | C24: НЕ ПРИМЕНЯЕТСЯ | E24: НД | F24: СП 1.13130.2020, п . 8.4.3 | I24: АР
A25: =A24+1 -> 14 | B25: - 13% для закрытой криволинейной рампы | C25: НЕ ПРИМЕНЯЕТСЯ | E25: НД | F25: СП 113.13330.2023, п. 5.26 | I25: АР
A26: =A25+1 -> 15 | B26: - 10% для открытой рампы любой конфигурации | C26: НЕ ПРИМЕНЯЕТСЯ | E26: НД | F26: СП 113.13330.2023, п. 5.26 | I26: АР
A27: =A26+1 -> 16 | B27: Место сопряжения рампы и пола автостоянки выполняется плавным, обеспечивая минимальную высоту клиренса автомобиля не менее 0,1 м. Техническое решение подтверждается схемой разреза рампы с расположенными на ней эталонным автомобилем | C27: ДА | E27: НД | F27: СП 113.13330.2023, п.5.26г | H27: Неоднократные замечания МФР | I27: АР
A28: =A27+1 -> 17 | B28: Обеспечены требования по расстояниям до двух ближайших эвакуационных выходов не более 40 м от наиболее удаленной точки (не более 20 м от наиболее удаленной точки в тупиковом участке) | C28: ДА | E28: НД | F28: СП 1.13130.2020, п . 8.4.3, табл. 19 | H28: Для устранения неоднократных случаев, когда подрядчики нерационально выполняют разбивку на пожарные отсеки и превышают необходимое количество эвакуационных лестниц | I28: АР
B29: На путях эвакуации, в местах проходов к эвакуационным лестничным клеткам, пожаробезопасным зонам через участки размещения парковочных мест, предусмотрены и показаны тротуары (проходы, ограниченными колесоотбойниками, ограждениями или вертикальными строительными конструкциями
A30: =A28+1 -> 18 | B30: - на путях эвакуации из автостоянки не менее 1,2 м | C30: ДА | E30: НД | F30: СП 59.13330.2016, п. 6.2.21 | H30: Неоднократные замечания МФР | I30: АР
A31: =A30+1 -> 19 | B31: - из помещений не менее 0,6 м | C31: ОТСУТСТВУЕТ | D31: размер не указан, рекомендуем приписать в Прим. | E31: НД | F31: СП 1.13130 п.4.2.19. | H31: Неоднократные замечания МФР | I31: АР
B32: Минимальная ширина рампы в строительных конструкциях сооветствует требованиям НД и учитывает ширину колесоотбойников 0,15 м по краям, среднего барьера 0,2 м по центру, тротуара 0,8 м при наличии (на плане показаны размеры):
A33: =A31+1 -> 20 | B33: - 3,8 (0,15+3,5+0,15) м для однопутной рампы | C33: НЕ ПРИМЕНЯЕТСЯ | E33: НД | F33: СП 113.13330.2023, п. 5.1.26д, 5.1.40 | I33: АР
A34: =A33+1 -> 21 | B34: - 6,9 (0,15+3,2+0,2+3,2+0,15) м для двухпутной рампы | C34: ДА | E34: НД | F34: СП 113.13330.2023, п. 5.1.26д, 5.1.40 | I34: АР
A35: =A34+1 -> 22 | B35: - 4,45 (0,15+3,5+0,8) м для однопутной рампы с эвакуационным тротуаром | C35: НЕ ПРИМЕНЯЕТСЯ | E35: НД | F35: СП 113.13330.2023, п. 5.1.26д, 5.1.40 | I35: АР
B36: Обеспечивается доступ жильцов в помещение автостоянки из ЛЛУ жилой части здания с учетом требований НД, в том числе:
A37: =A35+1 -> 23 | B37: Сообщение между автостоянкой и жилой частью здания по вертикали выполняется лифтом, предназначенном для перевозки пожарных подразделений | C37: ДА | E37: НД | F37: СП 1.13130.2020, п. 9.2.2; СП 154.13130.2013, п. 5.2.10 или СП 506.1311500.2021, п. 5.13 или СП 113.13330.2023, п. 6.2.7 | H37: Неоднократные замечания МФР | I37: АР
A38: =A37+1 -> 24 | B38: При выходах из лифтов всех секций в помещение хранения автомобилей предусмотрены два последовательно расположенных тамбур-шлюза с подпором воздуха при пожаре. Первый (перед выходом из лифта) тамбур-шлюз совмещен с пожаробезопасной зоной | C38: ДА | E38: НД | F38: СП 1.13130.2020, п. 9.2.2, 9.2.4, 9.2.5; СП 7.13130.2013, п. 8.7; СП 154.13130.2013, п. 5.2.14 или СП 506.1311500.2021, п. 5.14, 5.15 или СП 113.13330.2023, п.6.2.9 | H38: Неоднократные замечания МФР | I38: АР
A39: =A38+1 -> 25 | B39: Габаритные размеры тамбур-шлюза перед лифтовым холлом не менее 2,45х1,6 м | C39: НЕТ | D39: Корп.1, Оси П.А-Б/П.11; Оси П.А-Б/П.7; Корп.3, Оси П.П-Р/П.11; Оси П.К-Л/П.11. | E39: НД | F39: СП 59.13330.2020, п.6.1.8 | G39: Откорректировано 2403015 | I39: АР
A40: =A39+1 -> 26 | B40: На плане показаны границы деления автостоянки на самостоятельные пожарные отсеки (секции) а также приведена площадь каждого из отсеков (секций) (ПО не более 3000 м2 или 6000 м2 при делении на секции не более 3000 м2) | C40: ДА | E40: НД | F40: СП 2.13130.2020, п. 6.3.1, табл. 6.5 | H40: Неоднократные замечания МФР | I40: АР
...

Sheet КОНСТР
B1: ИТОГ
A2: № | B2: ='ПОДЗ'!B2 -> Требования к проектным решениям | C2: СТАТУС | D2: Комментарий | F2: Ссылка на норматив | G2: Ответ разработчика | H2: Обоснование необходимости требования
A3: ВСЕГО | B3: ДА | C3: =COUNTIF(C9:C39,"ДА") -> 5 | F3: =SUM(F4:F7) -> 22
A4: =COUNTA(A9:A39) -> 22 | B4: НЕТ | C4: =COUNTIF(C9:C39,"НЕТ") -> 16 | D4: Требования НД | E4: НД | F4: =COUNTIF(E9:E153,"НД") -> 1
B5: ОТСУТСТВУЕТ | C5: =COUNTIF(C9:C39,"ОТСУТСТВУЕТ") -> 0 | D5: Рекомендации МФР | E5: МФР | F5: =COUNTIF(E9:E153,"МФР") -> 3
B6: НЕ ПРИМЕНЯЕТСЯ | C6: =COUNTIF(C9:C39,"НЕ ПРИМЕНЯЕТСЯ") -> 0 | D6: ПИК-стандарт | E6: ПИК | F6: =COUNTIF(E9:E153,"ПИК") -> 11
B7: Согласовано с МФР | C7: =COUNTIF(C9:C39,"МФР") -> 0 | D7: МФС | E7: МФС | F7: =COUNTIF(E9:E153,"МФС") -> 7
B8: НЕ ОТВЕЧЕННЫЕ | C8: =A4-C3-C4-C5-C6-C7 -> 1
B9: НАДЗЕМНАЯ ЧАСТЬ
A10: =A9+1 -> 1 | B10: Шаг осей выполнен с учетом облицовки фасада навесными панелями, а также плиткой или кирпичем на подсистеме, обеспечена кратность 150 мм | C10: НЕТ | D10: привести в соответствие с "Стандарт проектирования. Конструктивные решения.Реновация.2-я редакция" Не исправлино. См. С6 эт 2 3А-3Б С5 оси 2.2 - 2.4; 2.9 - 2.10 и далеее | E10: ПИК | F10: ПИК. Стандарт проектирования. Конструктивные решения. Реновация. 2-я ред. от 26.01.2022, п. 4.9, рис 11, п. 4.14.2
A11: =A10+1 -> 2 | B11: Расстояние от крайнего пилона (не в зоне стыковки секций) или пилона на повороте монолитных конструкций секции до оси должно быть 40 мм | C11: НЕТ | D11: привести в соответствие с "Стандарт проектирования. Конструктивные решения.Реновация.2-я редакция" Направить ДВГ | E11: ПИК | F11: ПИК. Стандарт проектирования. Конструктивные решения. Реновация. 2-я ред. от 26.01.2022, п. 4.14.2, рис. 28,29,31,32,33,34
A12: =A11+1 -> 3 | B12: Расстояние от края монолитной конструкции до оконного проема не менее 250 мм | C12: ДА | E12: ПИК | F12: ??? | G12: В проекте условие выполняется
A13: =A12+1 -> 4 | B13: Расстояние от монолитной конструкции ЛЛУ на кровле до крайней оси вдоль плиты покрытия тех этажа не менее 910 мм | C13: НЕТ | D13: перенести стену миним. на 910мм, Указать размеры на плане кровли. Зайцева М.С.: Обращаю внимание, что одна из концепций фасадов включает конструкцию "волны", которая должнва проходить между парапетом и ЛЛУ. | E13: ПИК | F13: ПИК. Альбом типовых узлов. Вертикальные конструкции технического пространства и кровли. ЖД-ТА-РЕН-КР-КЖ5.1/5.3 | G13: В проекте заложено расстояние 1450мм
A14: =A13+1 -> 5 | B14: Шаг контрфорсов на кровле не более 4200 мм | C14: НЕТ | D14: не показаны. Максимально сократить места с панелями более 4200мм | E14: ПИК | F14: ПИК. Стандарт проектирования. Конструктивные решения. Реновация. 2-я ред. от 26.01.2022, п. 4.10, рис 15 | G14: Согластно Стандарту, шаг контрофорсов до 7200 с устройством промежуточного крепления к закладной в плите покрытия. Стандарт проектирования. Конструктивные решения. Реновация. 2-я редакция пункт 4.10 рис.15
A15: =A14+1 -> 6 | B15: Максимальное расстояние между точками крепления панелей к вертикальным конструкциям не более 7200 мм | C15: ДА | E15: ПИК | F15: ПИК. Стандарт проектирования. Конструктивные решения. Реновация. 2-я ред. от 26.01.2022, п. 4.9, рис 11 | G15: В проекте условие выполняется
A16: =A15+1 -> 7 | B16: Минимальный горизонтальный размер применяемых панелей - не менее 1200 мм | C16: ДА | E16: ПИК | F16: ??? | G16: В проекте условие выполняется | H16: Для отслеживания изломов фасада
B17: При необходимости в устройстве деформационного шва между жилыми секциями межосевые расстояния между крайними осями смежных секций составляют | H17: Для сблокированных секций разной этажности не обязательно устройство деформационного шва, но его отсутствие должгно быть подтверждено ОСК
A18: =A16+1 -> 8 | B18: 680 мм при разной этажности | C18: НЕТ | D18: показать на плане оси смежных секций Направить ДВГ | E18: ПИК | F18: ПИК. Стандарт проектирования. Конструктивные решения. Реновация. 2-я ред. от 26.01.2022, п. 4.10, рис 25,26 | G18: Для оптимизации ОПР и технических решений рекомендуеся использовать деформационный шов шириной 50мм. При выполнении данного требования потребуется переосмысление всей квартирографии из-за огромного влияния на площади квартир. По аналогичным проектам данное отступление рассматривалось и принималось в рабочем порядке для достижения ТЭП. Данное решение не является риском проекта. Просьба рассмотреть текущее решение
A19: =A18+1 -> 9 | B19: 550 мм при одинаковой этажности | C19: НЕТ | D19: показать на плане оси смежных секций Направить ДВГ | E19: ПИК | F19: ПИК. Стандарт проектирования. Конструктивные решения. Реновация. 2-я ред. от 26.01.2022, п. 4.10, рис 27 | G19: Не применяется в рамках проекта
A20: =A19+1 -> 10 | B20: Лестничные пролеты надземных этажей выполнены с помощью сборных железобетонных лестничных маршей | C20: НЕТ | D20: уазать на разрезе | E20: ПИК | F20: ??? | G20: требование выполняется см разрез 5-5, 3-3 | H20: Оптимизация технических решений
A21: =A20+1 -> 11 | B21: Общий объем монолитных конструкций не менее 0,16 м3 на 1 м2 общей площади этажа (секции) | C21: НЕТ | D21: 0,143, добавить вертикальных стен. Направить ДВГ | E21: ПИК | F21: ??? | G21: КР уточнены. Условие выполняется 0,164м3/м2
B22: ПОДЗЕМНАЯ ЧАСТЬ
A23: =A21+1 -> 12 | B23: Максимальное расстояние между температурно-усадочными швами составляет не более 50 м | C23: ДА | E23: НД | F23: СП 63.13330.2018, п. 10.1а | G23: Принято. В корпусе 1 между секциями 1 и 2 используется временный температурно-осадочный шов на период строительно-монтажных работ. (отображено в альбоме на плане 1го этажа)
B24: Толщина фундаментной плиты принята: | H24: На АПР не будет подтверждения расчетами
A25: =A23+1 -> 13 | B25: - под жилыми секциями до 19 этажей - не более 800 мм | C25: НЕТ | D25: уазать на разрезе, лист не найден, рассм. АПР | E25: МФР | F25: № ФР-11-16216/22-7 | G25: выполнено - см. отдельный лист
A26: =A25+1 -> 14 | B26: - под жилыми секциями свыше 19 до 25 этажей - не более 900 мм | C26: НЕТ | D26: уазать на разрезе, лист не найден, рассм. АПР | E26: МФР | F26: № ФР-11-16216/22-7 | G26: выполнено - см. отдельный лист
A27: =A26+1 -> 15 | B27: - под подземной автостоянкой - не более 500 мм | C27: НЕТ | D27: уазать на разрезе, лист не найден, рассм. АПР | E27: МФР | F27: № ФР-11-16216/22-7 | G27: выполнено - см. отдельный лист
A28: =A27+1 -> 16 | B28: Фундаментная плита выполняется ровной, без перепадов, на одной отметке, допускаются локальные понижения в лифтовых шахтах | C28: НЕТ | D28: ФП показана условно, требуется датализация | E28: МФС | F28: МФС | G28: выполнено | H28: Оптимизация технических решений
A29: =A28+1 -> 17 | B29: При необходимости устройства перепадов фундаментной плиты для адаптации к рельефу, излом плиты допускается выполнять по деформационному шву между высотными секциями или между секциями и подземной частью автостоянки. | C29: ??? | E29: МФС | F29: МФС | G29: выполнено | H29: Оптимизация технических решений
A30: =A29+1 -> 18 | B30: Низ плиты автостоянки не должен быть заглублен ниже плиты высотной части | C30: ДА | E30: МФС | F30: МФС | G30: Условие в проекте выполняется | H30: Оптимизация технических решений
A31: =A30+1 -> 19 | B31: На плане -1 этажа показан деформационный шов между высотными секциями и автостоянкой | C31: НЕТ | D31: Направить ДВГ | E31: МФС | F31: МФС | G31: выполнено
A32: =A31+1 -> 20 | B32: Деформационный шов не пересекает технические помещения и эвакуационные коридоры | C32: НЕТ | D32: Оси на плане гаража не соответствуют осям секций. дать план гаража в двг с осями секций Направить ДВГ | E32: МФС | F32: МФС | G32: нет не выполнено !!!!
A33: =A32+1 -> 21 | B33: Деформационный шов выполнен максимально прямым, без незначительных выступов и уступов | C33: НЕТ | D33: нанести на план, направить ДВГ | E33: МФС | F33: МФС | G33: нет не выполнено !!!!
A34: =A33+1 -> 22 | B34: Контур подземной части здания выполнен максимально прямым, без незначительных выступов и уступов | C34: НЕТ | D34: нанести на план, направить ДВГ | E34: МФС | F34: МФС | G34: выполнено, см. план подземного этажа
B35: При наличии примыкающего подземного паркинга к жилой секции / башне 16 эт. и более и при отсечении их между собой деформационным швом, предусмотрен один из вариантов решения:
B36: - при западающих или выступающих частях фасада жилой части здания со стороны примыкающего паркинга, фундамент здания выпрямлен по выступающей части несущих конструкций здания, особенно в зоне деформационного шва между двумя жилыми секциями и подземных паркингом | G36: выполнено
B37: Деформационный шов, по-возможности, выполнен далее выступающей части несущих консрукций у фасада здания с отступом от жилой секции вглубь паркинга (вылет / уширение у фундаментной плиты жилой секции / башни). Оптимальный размер вылета 1000-1500мм, с учетом возможности расставить вертикальные несущие конструкции паркингаи обеспечением проезда машин. При меньшем вылете (особенно при его отсутствии), требуется обоснование, что рассмотрено несколько вариантов расстановки несущих конструкций подземного паркинга и иначе не получится. | G37: выполнено
B39: ------------------------------------------------------------------------------------------------

Sheet ГЕНПЛАН
B1: ИТОГ
A2: № | B2: ='ПОДЗ'!B2 -> Требования к проектным решениям | C2: СТАТУС | D2: Комментарий | F2: Ссылка на норматив | G2: Ответ разработчика | H2: Обоснование необходимости требования
A3: ВСЕГО | B3: ДА | C3: =COUNTIF(C9:C75,"ДА") -> 32 | F3: =SUM(F4:F7) -> 50
A4: =COUNTA(A9:A75) -> 50 | B4: НЕТ | C4: =COUNTIF(C9:C75,"НЕТ") -> 6 | D4: Требования НД | E4: НД | F4: =COUNTIF(E9:E165,"НД") -> 29
B5: ОТСУТСТВУЕТ | C5: =COUNTIF(C9:C75,"ОТСУТСТВУЕТ") -> 4 | D5: Рекомендации МФР | E5: МФР | F5: =COUNTIF(E9:E165,"МФР") -> 8
B6: НЕ ПРИМЕНЯЕТСЯ | C6: =COUNTIF(C9:C75,"НЕ ПРИМЕНЯЕТСЯ") -> 7 | D6: ПИК-стандарт | E6: ПИК | F6: =COUNTIF(E9:E165,"ПИК") -> 0
B7: Согласовано с МФР | C7: =COUNTIF(C9:C75,"МФР") -> 2 | D7: МФС | E7: МФС | F7: =COUNTIF(E9:E165,"МФС") -> 13
B8: НЕ ОТВЕЧЕННЫЕ | C8: =A4-C3-C4-C5-C6-C7 -> -1
B9: ОБЩИЕ
B10: Соблюдены требования ГПЗУ по размещению объекта в части:
A11: 1 | B11: - границ земельного участка | C11: ДА | E11: МФР | F11: Чек-лист МФР 1 этапа
A12: =A11+1 -> 2 | B12: - суммарной поэтажной площади в ГНС | C12: ДА | D12: АПР - 64961,80 ГПЗУ - 70377,66 | E12: МФР | F12: Чек-лист МФР 1 этапа | H12: Вопрос снимется новым ГПЗУ после согласования посадки
A13: =A12+1 -> 3 | B13: - высотности | C13: ДА | D13: АПР - 69,940 ГПЗУ - 85,000 | E13: МФР | F13: Чек-лист МФР 1 этапа | H13: Вопрос снимется новым ГПЗУ после согласования посадки
A14: =A13+1 -> 4 | B14: Контуры наземной и подземной частей здания размещены в границах подзоны, выделенной для размещения Объекта с учётом козырьков и прочих навесных конструкций здания. | C14: ОТСУТСТВУЕТ | D14: Требуется подтверждение проектировщика | E14: МФР | F14: Чек-лист МФР 1 этапа
A15: =A14+1 -> 5 | B15: Посадка объекта выполнена в соответствии с градостроительной концепцией, представленной в ППТ или в градостроительном обосновании (при отсутствии ППТ) | C15: ДА | E15: НД | F15: ???
A16: =A15+1 -> 6 | B16: Посадка объекта обеспечивает требования к инсоляции и КЕО жилых комнат и площадок проектируемого объекта и окружающей застройки | C16: ОТСУТСТВУЕТ | D16: Инсоляцонный расчёт не предоставлен | E16: НД | F16: СанПиН 2.1.3684-21, п. 125, 130; СанПиН 1.2.3685-21, п. 138... 168;
B17: Размещение объекта относительно соседних жилых домов обеспечивает минимальные расстояния:
A18: =A16+1 -> 7 | B18: - не менее 20 м между продольными фасадами, ориентированными друг напротив друга | C18: ДА | E18: НД | F18: СП 42.13330.2016 изм 3 от 31.05.2022, п. 7.1
A19: =A18+1 -> 8 | B19: - не менее 10 м между продольным фасадом и торцом здания, не имеющим окон | C19: ДА | E19: НД | F19: СП 42.13330.2016 изм 3 от 31.05.2022, п. 7.1
A20: =A19+1 -> 9 | B20: Размещение объекта на участке и благоустройство территории выполнены с учетом существующего и проектируемого рельефа местности, перепадов высот между наиболее удаленными точками участка | C20: ОТСУТСТВУЕТ | D20: План организации рельефа не предоставлен. | E20: НД | F20: ??? | H20: На площадках со значительным перепадом высот (2,0 м и более) не всегда получается организовать транспортное обслуживание как в ППТ, необходимо разрабатывать индивидуальные решения, влияющие на планировки этажей зданий
A21: =A20+1 -> 10 | B21: Ширина пешеходных путей для МГН не менее 2,0 м | C21: ДА | E21: НД | F21: СП 59.13330.2020, п. 5.1.7
A22: =A21+1 -> 11 | B22: Продольные уклоны пешеходных путей, предназначенных для движения МГН не превышают 4% | C22: ОТСУТСТВУЕТ | D22: План организации рельефа не предоставлен | E22: НД | F22: СП 59.13330.2020, п. 5.1.7
A23: =A22+1 -> 12 | B23: Размещение объекта выполнено с учетом решений по сетям и сооружениям инженерной инфраструктуры, предусмотренной КСИО, а также проектами сноса объектов и демонтажа сетей, расположенных в непосредственной близости к проектируемому Объекту | C23: ДА | E23: НД | F23: ??? | H23: Необходимо учитывать проектные решения, которые были разработаны для объектов сноса или демонтажа сетей, объемы работ к по которым не входят в этап строительства Обхекта
A24: =A23+1 -> 13 | B24: Схемы транспортного обслуживания объекта обеспечивают доступ пешеходов и транспорта к Объекту на всех этапах реализации решений по окружающей застройке | C24: ДА | E24: НД | F24: № МКА-03-2380/23 от 12.04.2023 | H24: Количество этапов должно быть не менее двух (существующее на момент ввода в эксплуатацию Объекта и проектное на момент ввода в эксплуатацию всех объектов окружающей застройки и УДС). Большее колиество этапов определяется последовательностью строительства и ввода в эксплуатацию окружающих объектов и их влиянием на доступ к Объекту
A25: =A24+1 -> 14 | B25: Проезды в границах земельного участка исключают их использование как дублеров для соседних улиц в красных линиях | C25: ДА | E25: НД | F25: № МКА-03-2380/23 от 12.04.2023
A26: =A25+1 -> 15 | B26: Предусматривается устройство дворовой территории с ограничением доступа автомобилей и транзитного движения | C26: ДА | E26: МФР | F26: МФР. Рекомендации по проектированию от 03.12.2020, стр. 92
A27: =A26+1 -> 16 | B27: Предусматривается устройство пожарных проездов и площадок для размещения пожарной техники в соответствии с НД | C27: ДА | D27: При условии использования тротуара в Пр.пр. №7993 Исключить штриховку зоны движения пожарной техники (красная клетка) и отображение площадок для пож. техники. | E27: НД | F27: СП 4.13130.2013 в ред. от 15.06.2022, гл 8 | H27: Требуется тщательная проверка соблюдения требований, в том числе для определения необходимости в разработке индивидуального плана расстановки пожарной техники или для дополнительного благоустройства вне границ участка. Особенно критична ситуация, когда линия фасада проходит вдоль красной линии УДС
A28: =A27+1 -> 17 | B28: При расположении фасада здания вдоль УДС проезд пожарной техники обеспечивается в границах Красных линий УДС | C28: ДА | D28: При условии использования тротуара в Пр.пр. №7993 | E28: НД | F28: Постановление Правительства Москвы от 11.04.2023 №558-ПП, п. 3.4
A29: =A28+1 -> 18 | B29: Тупиковые проезды протяженностью не более 150 м. | C29: ДА | E29: НД | F29: СП 42.13330.2016 Изм3 от 31.05.2022, п. 11.7
A30: =A29+1 -> 19 | B30: Тупиковые проезды заканчиваются разворотной площадкой 15х15м. | C30: ДА | E30: НД | F30: СП 42.13330.2016 Изм3 от 31.05.2022, п. 11.7, 11.11
B31: Соблюдены расстояния от въездов в автостоянку до:
A32: =A30+1 -> 20 | B32: - 50 м до перекрестков магистральных улиц | C32: НЕ ПРИМЕНЯЕТСЯ | E32: НД | F32: СП 42.13330.2016 Изм3 от 31.05.2022, п. 11.38
A33: =A32+1 -> 21 | B33: - 20 м до улиц местного значения | C33: НЕ ПРИМЕНЯЕТСЯ | E33: НД | F33: СП 42.13330.2016 Изм3 от 31.05.2022, п. 11.38
A34: =A33+1 -> 22 | B34: - 30 м до остановок общественного транспорта | C34: НЕ ПРИМЕНЯЕТСЯ | E34: НД | F34: СП 42.13330.2016 Изм3 от 31.05.2022, п. 11.38
B35: Перед въездом в подземную автостоянку предусмотрена накопительная площадка, длиной | C35: МФР
A36: =A34+1 -> 23 | B36: - не менее 12 м при вместимости более 100 м\м | C36: МФР | E36: МФР | F36: МФР. Рекомендации по проектированию от 03.12.2020, стр. 104
A37: =A36+1 -> 24 | B37: - не менее 6 м при вместимости менее 100 м\м | C37: НЕ ПРИМЕНЯЕТСЯ | E37: МФР | F37: МФР. Рекомендации по проектированию от 03.12.2020, стр. 104
B38: Потребность Объекта в парковочных местах для постоянного хранения автомобилей определен одним из способов:
A39: =A37+1 -> 25 | B39: - не менее, чем по расчету, выполненному в соответствии с НД | C39: НЕ ПРИМЕНЯЕТСЯ | E39: НД | F39: СП 42.13330 или РНГП, утв. №945-ПП от 23.12.2015 в ред от 24.12.2019 или СТУ | H39: Подрядчики как правило не соблюдают минимально необходимые требования к размещению парковочных мест в соотетствии с потребностью объекта
A40: =A39+1 -> 26 | B40: - не менее, чем в по расчету, выполненному на основании протокола ГЗК в случае, если Объект включен в Перечень, утверждаемый на ГЗК Москвы | C40: НЕТ | D40: В расчёте машино-мест актуализировать общую площадь квартир и БКТ в соответствии с ТЭП и экспликации помещений 1 этажа Дефицит: 20 м/м - гостевые 23 м/м - приобъектные | E40: НД | F40: Протокол ГЗК Москвы №22 от 07.07.2022; РНГП, утв. №945-ПП от 23.12.2015 в ред от 24.12.2019 | G40: Расчет м/м выполнен в соответствии с ЗнП и заданием Заказчика. Расчет прилагаем | H40: Подрядчики как правило не соблюдают минимально необходимые требования к размещению парковочных мест в соотетствии с потребностью объекта
...

Sheet !
A1: ДА
A2: НЕТ
A3: ОТСУТСТВУЕТ
A4: НЕ ПРИМЕНЯЕТСЯ
A5: МФР
A6: ???
