Workbook

Sheet ИТОГ
A1: ОКРУГ | B1: РАЙОН | C1: МИКРОРАЙОН или КВАРТАЛ | D1: ЗОНА по ППТ | E1: УЛИЦА по ГПЗУ | F1: № ДОМА по ГПЗУ | G1: ДОП. | H1: ДОП.
A2: Наименование объекта по договору
A3: Ход проверки:
A4: № итерации | B4: Дата | C4: Объем проверки
A10: Результаты проверки АПР по чек-листам МФС:
A11: Чек-лист МФС | B11: Всего | C11: ДА | D11: НЕТ | E11: Отсутствует | F11: Не применяется | G11: Согласовано с МФР | H11: Не отвеченные
A12: ТИПОВОЙ ЭТАЖ | B12: ='ТИП'!A4 -> 148 | C12: ='ТИП'!C3 -> 107 | D12: ='ТИП'!C4 -> 11 | E12: ='ТИП'!C5 -> 0 | F12: ='ТИП'!C6 -> 27 | G12: ='ТИП'!C7 -> 2 | H12: ='ТИП'!C8 -> 1
A13: 1 ЭТАЖ | B13: ='1+ТЕХ+КР'!A4 -> 80 | C13: ='1+ТЕХ+КР'!C3 -> 50 | D13: ='1+ТЕХ+КР'!C4 -> 6 | E13: ='1+ТЕХ+КР'!C5 -> 0 | F13: ='1+ТЕХ+КР'!C6 -> 6 | G13: ='1+ТЕХ+КР'!C7 -> 0 | H13: ='1+ТЕХ+КР'!C8 -> 18
A14: ПОДЗЕМНЫЙ ЭТАЖ | B14: ='ПОДЗ'!A4 -> 65 | C14: ='ПОДЗ'!C3 -> 34 | D14: ='ПОДЗ'!C4 -> 5 | E14: ='ПОДЗ'!C5 -> 5 | F14: ='ПОДЗ'!C6 -> 18 | G14: 0 | H14: ='ПОДЗ'!C8 -> 1
A15: ГЕНПЛАН | B15: ='ГЕНПЛАН'!A4 -> 50 | C15: ='ГЕНПЛАН'!C3 -> 32 | D15: ='ГЕНПЛАН'!C4 -> 6 | E15: ='ГЕНПЛАН'!C5 -> 4 | F15: ='ГЕНПЛАН'!C6 -> 7 | G15: ='КОНСТР'!C7 -> 0 | H15: ='ГЕНПЛАН'!C8 -> -1
A16: КОНСТРУКТИВ | B16: =SUM(C16:H16) -> 24 | C16: ='КОНСТР'!C3 -> 5 | D16: ='КОНСТР'!C4 -> 16 | E16: ='КОНСТР'!C5 -> 0 | F16: ='КОНСТР'!C6 -> 0 | G16: ='ГЕНПЛАН'!C7 -> 2 | H16: ='КОНСТР'!C8 -> 1
A17: ИТОГО | B17: =SUM(B12:B16) -> 367 | C17: =SUM(C12:C16) -> 228 | D17: =SUM(D12:D16) -> 44 | E17: =SUM(E12:E16) -> 9 | F17: =SUM(F12:F16) -> 58 | G17: =SUM(G12:G16) -> 4 | H17: =SUM(H12:H16) -> 20
A18: Результаты проверки АПР по чек-листам и замечаниям МФР:
A19: Чек-лист МФР 1 этапа
A21: Чек-лист МФР 2 этапа
A23: Замечания МФР
A26: Что необходимо учесть и предусмотреть при разработке ПД:
A27: заполняется в случае, если работы по разработке АПР уже завершены
A31: Требования НД | B31: ='ТИП'!F4+'1+ТЕХ+КР'!F4+'ПОДЗ'!F4+'КОНСТР'!F4+'ГЕНПЛАН'!F4 -> 128 | C31: ГП | D31: =B15 -> 50
A32: Рекомендации МФР | B32: ='ТИП'!F5+'1+ТЕХ+КР'!F5+'ПОДЗ'!F5+'КОНСТР'!F5+'ГЕНПЛАН'!F5 -> 139 | C32: АР | D32: ='ТИП'!I4+'1+ТЕХ+КР'!I4+'ПОДЗ'!I4 -> 219
A33: ПИК-стандарт | B33: ='ТИП'!F6+'1+ТЕХ+КР'!F6+'ПОДЗ'!F6+'КОНСТР'!F6+'ГЕНПЛАН'!F6 -> 42 | C33: КР | D33: =B16 -> 24
A34: МФС | B34: ='ТИП'!F7+'1+ТЕХ+КР'!F7+'ПОДЗ'!F7+'КОНСТР'!F7+'ГЕНПЛАН'!F7 -> 54 | C34: ИОС | D34: =B17-D31-D32-D33 -> 74
B35: =SUM(B31:B34) -> 363 | D35: =SUM(D31:D34) -> 367

Sheet ИРД
B2: Исходные данные: | C2: Дата | D2: Обозначение | E2: Примечание
B3: Постановление правительства | D3: 914
B4: Техническое задание (приложение к договору генподряда)
B5: Задание на проектирование
B6: Квартирография
B7: Проект планировки территории | D7: Постановлением Правительства Москвы от 18 августа 2020 № 1331-ПП. «Об утверждении проекта планировки территории по адресу: Сиреневый бульвар, вл.4 района Измайлово города Москвы»,
B8: Градостроительный план ЗУ
B9: Облик реновации (фасадные решения)
B10: Прочие
B11: Прочие

Sheet ТЭПы
B1: Наименование | C1: Об. | D1: Ед. изм | E1: Значение | F1: в том числе | I1: Примечание
F2: К1 | G2: К2 | H2: К3
A3: 1 | B3: Общая площадь квартир (сумма площадей отапливаемых комнат и помещений квартир, а также неотапливаемых (летних) помещений, определяемых согласно СП 54.13330.2022]. | C3: Sкв | D3: м2 | E3: =F3+G3+H3 -> 37366.4 | F3: 19626.8 | G3: 6647.2 | H3: 11092.4 | I3: от 11.03.2024
A4: 2 | B4: Общая площадь нежилых помещений 1 этажа (БКТ, ЦИН, ОДС) | C4: Sбкт | D4: м2 | E4: =F4+G4+H4 -> 2429 | F4: 1224.3 | G4: 545.3 | H4: 659.4 | I4: от 11.03.2024
B6: Суммарная поэтажная площадь 1 этажа в габаритах наружных стен | C6: Sспп1 | D6: м2 | E6: =F6+G6+H6 -> 4133.2 | F6: 2106.3 | G6: 801.6 | H6: 1225.3 | I6: от 11.03.2024
A7: 3 | B7: Общая площадь наземной части здания (сумма площадей этажей за исключением подземных, измеряемая между внутренними поверхностями наружных стен на уровне пола, с учётом (в пределах только одного этажа) лифтовых и других шахт) | C7: Sобщ | D7: м2 | E7: =F7+G7+H7 -> 54537.9 | F7: 28739 | G7: 9741.6 | H7: 16057.3 | I7: от 11.03.2024
A10: 4 | B10: К общ. (Коэффициент выхода полезной площади от общей наземной площади) | C10: Кобщ=(Sкв+Sбкт)/Sобщ. | E10: =(E3+E4)/E7 -> 0.72968339 | F10: =(F3+F4)/F7 -> 0.72553325 | G10: =(G3+G4)/G7 -> 0.73832841 | H10: =(H3+H4)/H7 -> 0.7318665 | I10: См. №ФР-11-35435/23 от 05.09.2023
B12: Кж | C12: Кж=Sкв/Sобщ | E12: =E3/E7 -> 0.68514556 | F12: =F3/F7 -> 0.6829326 | G12: =G3/G7 -> 0.68235197 | H12: =H3/H7 -> 0.69080107
B13: Кэт | C13: Кэт=Sкв/(Sобщ-Sспп1) | E13: =E3/(E7-E6) -> 0.74132769 | F13: =F3/(F7-F6) -> 0.73694368 | G13: =G3/(G7-G6) -> 0.74353468 | H13: =H3/(H7-H6) -> 0.74786947

Sheet ТИП
B1: ИТОГ
A2: № | B2: Требования к проектным решениям | C2: СТАТУС | D2: Комментарий | F2: Ссылка на требование | G2: Ответ разработчика | H2: Обоснование необходимости требования | I2: Специалист, заполняющий позицию
A3: ВСЕГО | B3: ДА | C3: =COUNTIF(C10:C180,"ДА") -> 107 | F3: =SUM(F4:F7) -> 150
A4: =COUNTA(A10:A180) -> 148 | B4: НЕТ | C4: =COUNTIF(C10:C180,"НЕТ") -> 11 | D4: Требования НД | E4: НД | F4: =COUNTIF(E10:E180,"НД") -> 40 | H4: АР | I4: 97
B5: ОТСУТСТВУЕТ | C5: =COUNTIF(C10:C180,"ОТСУТСТВУЕТ") -> 0 | D5: Рекомендации МФР | E5: МФР | F5: =COUNTIF(E10:E180,"МФР") -> 73 | H5: ИОС | I5: =F3-I4 -> 53
B6: НЕ ПРИМЕНЯЕТСЯ | C6: =COUNTIF(C10:C180,"НЕ ПРИМЕНЯЕТСЯ") -> 27 | D6: ПИК-стандарт | E6: ПИК | F6: =COUNTIF(E10:E180,"ПИК") -> 25
B7: МФР | C7: =COUNTIF(C10:C180,"МФР") -> 2 | D7: МФС | E7: МФС | F7: =COUNTIF(E10:E180,"МФС") -> 12
B8: НЕ ОТВЕЧЕННЫЕ | C8: =A4-C3-C4-C5-C6-C7 -> 1
B10: ОБЩИЕ
A11: =1 -> 1 | B11: Габариты и площади помещений указаны с учетом отделки. | C11: ДА | E11: МФР | F11: Чек-лист МФР 1 этапа | I11: АР
A12: =A11+1 -> 2 | B12: На планах показаны конструктивные элементы здания (на планах несущие монолитные конструкции показаны отличающейся штриховкой) | C12: ДА | E12: МФР | F12: Чек-лист МФР 1 этапа | G12: принято Добавлены размеры кирпича, утеплителя.240227 | I12: АР
A13: =A12+1 -> 3 | B13: Межэтажное расстояние между типовыми этажами = 3000 мм | C13: ДА | E13: ПИК | F13: Унификация, связанная с габаритами навесных панелей и сборных лестничных маршей с учетом требований МФР. Рекомендации по проектированию от 03.12.2020, стр 16 | I13: АР
B14: Толщина стен предусмотрена не менее:
A15: =A13+1 -> 4 | B15: - 220 мм (10отделка+200монолит+10отделка) (подтверждено расчетом конструктивной модели) или 240 мм (10отделка+220монолит+10отделка) (без подтверждения расчетом) межквартирные монолитные стены, перпендикулярные фасадам, выполняющими функцию диафрагм | C15: ДА | D15: 2024.02.05 Зайцева М.С.: на АПР согласована стена в 200 мм монолит. На ПД необходимо актуализировать с учетом расчета и конструктивной модели. | E15: ПИК | F15: Правила проектирования. Внутренние ненесущие стены и перегородки. Толщины, состав, описание. 09.08.2021 | G15: Не принято. Расчет строительных конструкций производится на стадии ПД | H15: Для оптимизации технических решений и строительно -монтажных работ | I15: АР
A16: =A15+1 -> 5 | B16: -220 мм (10отделка+200монолит+10отделка) межквартирные монолитные прямолинейные (длина более 2,0 м) участки стен, не являющиеся диафрагмами, в том числе на участках между квартирой и МОП или шахтой | C16: ДА | E16: ПИК | F16: Правила проектирования. Внутренние ненесущие стены и перегородки. Толщины, состав, описание. 09.08.2021 | G16: Подтверждение сечения конструкции 200 мм подтверждается на стадии ПД статическим расчетом. Без расчет может быть принято сечение 240 мм | H16: Для оптимизации технических решений и строительно -монтажных работ | I16: АР
A17: =A16+1 -> 6 | B17: - 290мм (20отделка+250газоблок+20отделка) межквартирные стены из газобетонного блока плотностью Д600 на криволинейных участках (длина прямого участка менее 2,0 м) , в том числе на участках между квартирой и МОП или шахтой | C17: ДА | E17: ПИК | F17: Правила проектирования. Внутренние ненесущие стены и перегородки. Толщины, состав, описание. 09.08.2021мп | G17: С учетом пирога: 250 мм газоблок и по 20 мм отделки получается итоговое значение 290 мм | H17: Для оптимизации технических решений и строительно -монтажных работ | I17: АР
A18: =A17+1 -> 7 | B18: - 220 мм (200газоблок + 20 отделка) наружные (ограждающая самонесущая стена из газобетонного блока плотностью Д600, без утепления, в случае панельного фасада толщина стены между квартирой и лоджией) | C18: ДА | E18: ПИК | F18: Правила проектирования. Внутренние ненесущие стены и перегородки. Толщины, состав, описание. 09.08.2021 | G18: принято | H18: Для оптимизации технических решений и строительно -монтажных работ | I18: АР
A19: =A18+1 -> 8 | B19: - 120мм (10отделка +100плита+10отделка) межкомнатные стены из пазогребневой плиты | C19: ДА | E19: ПИК | F19: Правила проектирования. Внутренние ненесущие стены и перегородки. Толщины, состав, описание. 09.08.2021 | G19: Отделка ПГП принята по типовому альбому АР20v3 ЖД-ТА-РЕН-ОП для жилых комнат (ОС-37) 10 мм штукатурка+ 2 мм Шпатлевка. | I19: АР
A20: =A19+1 -> 9 | B20: - 120мм (100плита +20отделка) перегородка между СТМ и жилой комнатой | C20: ДА | E20: ПИК | F20: Правила проектирования. Внутренние ненесущие стены и перегородки. Толщины, состав, описание. 09.08.2021 | G20: Отделка ПГП принята по типовому альбому АР20v3 ЖД-ТА-РЕН-ОП для жилых комнат (ОС-38) 17 мм штукатурка+ 2 мм Шпатлевка. | I20: АР
A21: =A20+1 -> 10 | B21: Для многосекционных жилых домов приведены отдельные листы с планами секций | C21: ДА | E21: НД | F21: ГОСТ Р 21.101-2020, п. 5.5.11 | H21: Необходимо для оценки эффективности планировочных решений отдельной секции, чтобы сохранять удачные секции и избавляться от неудачных | I21: АР
B22: Для каждой квартиры указан маркер, сорержащий
A23: =A21+1 -> 11 | B23: - тип квартиры по квартирографии | C23: ДА | E23: МФС | I23: АР
A24: =A23+1 -> 12 | B24: - номер квартиры по плану | C24: ДА | E24: МФС | I24: АР
A25: =A24+1 -> 13 | B25: - жилую площадь (общую площадь жилых комнат) | C25: ДА | E25: МФС | I25: АР
A26: =A25+1 -> 14 | B26: - общую площадь квартиры без летних помещений | C26: ДА | E26: МФС | I26: АР
A27: =A26+1 -> 15 | B27: - общую приведенную площадь квартиры (летние помещения с коэффициентами 0,5 для лоджии, 0,3 для балкона) | C27: ДА | E27: МФС | I27: АР
A28: =A27+1 -> 16 | B28: - общую площадь квартиры с летними помещениями | C28: ДА | E28: МФС | I28: АР
B29: На плане этажа (секции) в экспликации приведены площади: | D29: По всем Секциям предоставлены только планы 2-го этажа.. Необходимо предоставить планы Типового этажа, с указанием разной этажности Секции.
A30: =A28+1 -> 17 | B30: - квартир (жилая, общая, общая приведенная, общая с летними помещениями, Sкв) | C30: ДА | E30: НД | F30: ГОСТ 21.501-2018, Прилож. А Форма 2 | G30: принято | H30: Для проверки соответствия площадных показателей квартир заданию МФР | I30: АР
A31: =A30+1 -> 18 | B31: - общая для всех квартир на этаже (секции), Sкв.общ | C31: ДА | E31: МФС | F31: МФС | G31: принято | H31: Для проверки выбора решения по устройству лестничной клетки | I31: АР
A32: =A31+1 -> 19 | B32: - МОП | C32: ДА | E32: МФС | F32: МФС | G32: принято | H32: Для расчета экономического показателя эффективности планировочных решений | I32: АР
A33: =A32+1 -> 20 | B33: - общая для этажа (секции) Sэт | C33: ДА | E33: МФС | F33: МФС | G33: принято | H33: Для расчета экономического показателя эффективности планировочных решений | I33: АР
A34: =A33+1 -> 21 | B34: - площадь этажа (секции) в габаритах наружных стен | C34: ДА | E34: МФС | F34: МФС | G34: принято | H34: Необходимо для возможности контроля и последующей проверке расчетов подрядчика соблюдения ограничений ГПЗУ | I34: АР
A35: =A34+1 -> 22 | B35: Приведен коэффициент выхода площади квартир с этажа (этажа секции) Кэфф=Sкв.общ/Sэт, значение Кэфф не менее 0,75 | C35: НЕТ | D35: Отсутствуют | E35: МФР | F35: №ФР-11-35435/23-12 от 31.10.2023 | G35: В соответствии с переданной ГП МФС квартирографий обеспечить коэф 0,75 не представляется возможным (необходимо согласование с МФР) | H35: Коэфф. Необходимо проговорить с МФР. | I35: АР
A36: =A35+1 -> 23 | B36: На планах этажей изображена общая схема объекта (контур надземной и подземной частей). На схеме выделен участок отображаемого плата, показаны номера секций и их этажность | C36: ДА | E36: НД | F36: ГОСТ Р 21.101-2020, п. 5.5.11 | H36: Для удобства чтения чертежа | I36: АР
A37: =A36+1 -> 24 | B37: Оси объекта показаны и пронумерованы в соответствии с требованиями НД | C37: ДА | E37: НД | F37: ГОСТ Р 21.101-2020, п. 5.3 | H37: Для удобства чтения чертежа | I37: АР
A38: =A37+1 -> 25 | B38: Примененные на объекте светопрозрачные конструкции (окна, двери, витражи остекления лоджий, МОП, БКТ) соответствуют ПИК-стандарт в части номенклатуры, размеров, узлов примыканий и сопряжений и т.д. | C38: НЕТ | D38: файл DWG получен, замечания прописаны в ЧЛ. | E38: ПИК | F38: ЖД-ТА-РЕН-АР-ВКЛ, ЖД-ТА-РЕН-АР-В.ПБ, ЖД-ТА-РЕН-АР-ПЭ, ЖД-ТА-РЕН-АР-В.ПЭ.ВГ | G38: Маркировочный план светопрозрачных конструкций предоставлен. | H38: Необходимо на стадии АПР использовать типовые СПК от ПИК, чтобы на последующей стадии при разработке фасадных решений не допускать нестыковок в конструкциях и некорректного отображения фасадов , в том числе для АГР. Также позволяет избежать нетиповых дорогих или сложых решений, трудно реализуемых на панельных фасадах | I38: АР
A39: =A38+1 -> 26 | B39: Типы наружных стен, покрытий, применяемые для отделки материалы выполнены в соответствиим с ПИК-стандарт | C39: ДА | E39: ПИК | F39: ЖД-ТА-РЕН-АР-НК.С | G39: Прописаны. На данном этапе предварительные типы ограждающих конструкций и кровель замаркированы на разрезах и плане кровли. | I39: АР
A40: =A39+1 -> 27 | B40: На планах показаны радиаторы отопления. Расположение радиаторов учитывает габаритные размеры помещений, расположение дверных и оконных проемов, а также типы применяемых шкаф-пакетов | C40: ДА | E40: МФС | F40: Для проверки обеспечения минимальных размеров помещений с учетом размещения в них отопительных приборов | G40: Радиаторы условно добавлены на планы АР. 240228 | I40: АР
B41: МОП
A42: =A40+1 -> 28 | B42: Внеквартирные коридоры не имеют выступающих конструкций, в том числе ограждений инженерных коммуникаций | C42: ДА | E42: МФР | F42: МФР. Рекомендации по проектированию от 03.12.2020, стр. 16 | I42: АР
A43: =A42+1 -> 29 | B43: На типовом этаже размещено не более 6 входных дверей квартир в одном внеквартирном коридоре, при этом общее количество квартир не превышает 8 шт. на этаже здания (на этаже секции). | C43: НЕ ПРИМЕНЯЕТСЯ | E43: МФР | F43: Чек-лист МФР 1 этапа | H43: Требование как правило для секционных компоновок, в башнях возможно количество квартир более, чем 8 | I43: АР
A44: =A43+1 -> 30 | B44: Открывание дверей квартир осуществляется наружу в сторону пути эвакуации | C44: ДА | D44: за счет 180 гр.откр. | E44: МФР | F44: МФР. Рекомендации по проектированию от 03.12.2020, стр 10 | I44: АР
A45: =A44+1 -> 31 | B45: Предусмотрено и показано открывание двери квартиры на угол 180 гр. кроме дверей, расположенных в торцах межквартирного коридора | C45: ДА | E45: МФР | F45: Новое требование | I45: АР
A46: =A45+1 -> 32 | B46: Ширина внеквартирных коридоров с учетом отделки, как правило, не менее 1,46м с организацией разъездов (карманов) для кресел-колясок длиной не менее 2 м при общей с коридором ширине не менее 1,86 м в пределах прямой видимости следующего кармана. В отдельных случаях допускается ширина коридора 1,86 м | C46: ДА | E46: НД | F46: Оптимизация планипровочных решений с учетом требований СП 59.13330.2020, п. 6.2.1, только для №815-ПП; с учетом СП 1.13130,2020, п. 6.1.19, СП 70.13330.2012 в ред. 30.12.2020, п. 5.18.3 | H46: Величина 0,06 м (6 см) принята в качестве запаса для обеспечения нормативной ширины коридора не менее 1,4 м или 1,8 м с учетом максимально возможного отклонения бетонных конструкций с выравниванием штукатурным слоем, толщиной не менее 10 мм | I46: АР
A47: =A46+1 -> 33 | B47: На каждом из этажей в МОП предусмотрена и показана пожаробезопасная зона МГН, площадь которой подтверждена расчетом (на плане обозначена штриховкой и образмерена) | C47: ДА | E47: НД | F47: СП 1.13130.2020, п.9.2.5; СП 59.13330.2020, п. 6.2.25, 6.2.26; Приказ МЧС РФ от 30.06.2009 №382 в ред от 02.12.2015 | I47: АР
A48: =A47+1 -> 34 | B48: Для ствола мусоропровода предусмотрено отдельное помещение | C48: НЕ ПРИМЕНЯЕТСЯ | D48: В соответствии с письмом №ФР-11-35435/23 от 05.09.2023 | E48: МФР | F48: МФР, Рекомендации по проектированию от 03.12.2020, стр. 14; Только для объектов по ПП985, в которых остается мусоропровод (см. перечень) | I48: АР
A49: =A48+1 -> 35 | B49: При наличии стены между квартирой и лестницей, для звукоизоляции, предусмотрен утеплитель со стороны лестницы, толщиной не менее 100 мм. Для лестниц Н1 и Н2. Меньшей толщины только при предоставлении расчета по звукоизоляции. | C49: ДА | E49: МФР | F49: МФР. Рекомендации по проектированию от 03.12.2020, стр. 10, новые требования МФР | G49: Принято | H49: Для лестниц Н1 и Н2 | I49: АР
B50: Отсутствуют общие стены между помещениями квартир и:
A51: =A49+1 -> 36 | B51: - лифтовыми шахтами | C51: ДА | E51: НД | F51: СанПиН 2.1.3684-21, п. 137; МФР. Рекомендации по проектированию от 03.12.2020 | I51: АР
A52: =A51+1 -> 37 | B52: - помещениями ствола мусоропроводов | C52: НЕ ПРИМЕНЯЕТСЯ | D52: В соответствии с письмом №ФР-11-35435/23 от 05.09.2023 | E52: НД | F52: СанПиН 2.1.3684-21, п. 137; МФР, Рекомендации по проектированию от 03.12.2020, стр. 14; Только для объектов по ПП985, в которых остается мусоропровод (см. перечень) | I52: АР
B53: Для этажа (секции) предусмотрено:
A54: =A52+1 -> 38 | B54: - одна лестничная клетка если высота верхнего этажа не более 28 м и площадь квартир на этаже (секции) с учетом площади балконов и лоджий не превышает 550 м2 | C54: НЕ ПРИМЕНЯЕТСЯ | E54: НД | F54: СП 1.13130.2020, п 6.1.1 | H54: Проверка правильности выбора типа ЛК в зависимости от этажности и общей площади квартир на этаже | I54: АР
A55: =A54+1 -> 39 | B55: - одна лестничная клетка если высота верхнего этажа не более 50 м и площадь квартир на этаже (секции) с учетом площади балконов и лоджий не превышает 500 м2 с учетом доп. требований ПБ к планировочным решениям | C55: НЕ ПРИМЕНЯЕТСЯ | E55: НД | F55: СП 1.13130.2020, п 6.1.3 | G55: Принято | H55: Проверка правильности выбора типа ЛК в зависимости от этажности и общей площади квартир на этаже | I55: АР
A56: =A55+1 -> 40 | B56: - одна незадымляемая лестничная клетка типа Н1 если высота верхнего этажа более 28 м (до 75 м) и площадь квартир на этаже (секции) с учетом площади балконов и лоджий не превышает 550 м2 | C56: НЕ ПРИМЕНЯЕТСЯ | D56: В соответствии с письмом №ФР-11-35435/23 от 05.09.2023 | E56: НД | F56: СП 1.13130.2020, п 6.1.1 | H56: Для оптимизации планировочных решений и повышения К эфф | I56: АР
A57: =A56+1 -> 41 | B57: - одна незадымляемая лестничная клетка типа Н2 или Н3, если высота верхнего этажа не более 75 м и площадь квартир на этаже (секции) с учетом площади балконов и лоджий не превышает 550 м2 | C57: ДА | D57: При изменении высоты по ГПЗУ до 80 м - необходимо отследить. | E57: МФР | F57: Письмо №ФР-11-35435/23 от 05.09.2023 | G57: Принято | I57: АР
A58: =A57+1 -> 42 | B58: - две лестничные клетки при площади квартир на этаже (секции) с учетом площади балконов и лоджий превышает 550 м2 | C58: НЕ ПРИМЕНЯЕТСЯ | E58: НД | F58: СП 1.13130.2020, п 6.1.1 | H58: Проверка правильности выбора типа ЛК в зависимости от этажности и общей площади квартир на этаже | I58: АР
A59: =A58+1 -> 43 | B59: - одна незадымляемая лестничная клетка типа Н2 или Н3, если высота верхнего этажа более 75 м и площадь этажа (секции) с учетом площади балконов и лоджий не превышает 550 м2 | C59: НЕ ПРИМЕНЯЕТСЯ | E59: НД | F59: СП 477.1325800.2020, п. 5.15 | G59: Принято | H59: Для высотных зданий | I59: АР
A60: =A59+1 -> 44 | B60: - две незадымляемые лестничные клетки типа Н2 или Н3, если высота верхнего этажа более 75 м и площадь тажа (секции) с учетом площади балконов и лоджий более 550 м2 | C60: НЕ ПРИМЕНЯЕТСЯ | E60: НД | F60: СП 477.1325800.2020, п. 5.15 | H60: Для высотных зданий | I60: АР
B61: Тип и габаритные размеры лестничных клеток соответствует требованиям НД, в том числе:
A62: =A60+1 -> 45 | B62: - У поэтажных перходов через наружную воздушную зону лестничных клеток типа Н1 обеспечены нормируемые габаритные размеры и расстояния от проемов до окон смежных помещений (не менее 2,0 м по горизонтали) | C62: НЕ ПРИМЕНЯЕТСЯ | E62: НД | F62: СП 1.13130.2020, п. 4.4.14; СП 7.13130.2013 в ред 12.03.2020, Приложение Г | H62: В случае, если нормируемые расстояния не соблюдаются, последующая перекомпоновка влияет на площади квартир | I62: АР
A63: =A62+1 -> 46 | B63: - У поэтажных перходов через наружную воздушную зону лестничных клеток типа Н1 обеспечены нормируемые габаритные размеры и расстояния от проемов до границ лоджий (не менее 2,0 м по горизонтали) либо лоджии не примыкают к ЛЛУ (на плане указан размер простенка между проемом и лоджией) | C63: НЕ ПРИМЕНЯЕТСЯ | E63: МФР | F63: Новое требование МФР на основании письма ВНИИПО от 18.08.2022 №ИВ-117-3500-13-2 | H63: Вариант с огнестойким витражом не рассматривается | I63: АР
A64: =A63+1 -> 47 | B64: Соблюдены расстояния по горизонтали между проемами лестничных клеток типа Н2 и проемами смежных помещений, либо для заполнения таких проемов используются огнестойкие светопрозрачные конструкции (на плане указана ширина простенка или степень огнестойкости СПК) | C64: ДА | E64: НД | F64: СП 2.13130.2020, п. 5.4.16 | G64: Принято | H64: В случае, если нормируемые расстояния не соблюдаются, последующая перекомпоновка влияет на площади квартир | I64: АР
A65: =A64+1 -> 48 | B65: Ширина лестничной площадки достаточна для обеспечения пути эвакуации при открытой двери (на плане показана дверь в открытом положении и ширина пути эвакуации) | C65: ДА | E65: НД | F65: СП 1.13130.2020, п. 4.4.2 | H65: В случае, если нормируемые расстояния не соблюдаются, последующая перекомпоновка влияет на площади квартир | I65: АР
A66: =A65+1 -> 49 | B66: Соблюдены предельно допустимые расстояния от дверей квартир до выхода на лестничную клетку (на плане показано расстояние от эвакуационного выхода до наиболее удаленной двери квартиры) | C66: ДА | E66: НД | F66: СП 1.31330.2020, п. 6.1.8 | G66: Принято | H66: В случае, если нормируемые расстояния не соблюдаются, последующая перекомпоновка влияет на площади квартир | I66: АР
A67: =A66+1 -> 50 | B67: На пути от квартиры до незадымляемой лестничной клетки предусмотрено не менее двух (не считая дверей из квартиры) последовательно расположенных самозакрывающихся дверей. | C67: ДА | E67: НД | F67: СП 1.31330.2020, п. 6.1.10 | H67: В случае, если нормируемые расстояния не соблюдаются, последующая перекомпоновка влияет на площади квартир | I67: АР
A68: =A67+1 -> 51 | B68: На лестницах Н2 предусмотрены световые проемы с площадью остекления не менее 1,2 м2 с одним из габаритных размеров остекленной части не менее 0,6 м в наружных стенах на каждом этаже. | C68: ДА | E68: НД | F68: СП 1.13130.2020, п. 4.4.12 | G68: Световые проемы на лестницах предусмотрены. см. разрез 1, 2, 3, 5 Применено заполнение проема в ЛК окном ОП.7-208 в соответствии со стандартом, площадь остекления не менее 1,2 кв.м.240227 | I68: АР
A69: =A68+1 -> 52 | B69: Промежуточные лестничные площадки не примыкают к фасадной стене | C69: НЕ ПРИМЕНЯЕТСЯ | E69: ПИК | F69: ПИК-стандарт | H69: Устаревшее требование | I69: АР
B70: Тип, количество и габариты кабин лифтов соответствует требованиям НД (предоставлены расчеты по времени эвакуации МГН), количетсво принято не менее, чем: | D70: предоставлен расчет, но проверить при повышении этажности | E70: НД | F70: Чек-лист МФР 1 этапа; СП 54.13330.2022, Приложение В; СП 59.13330.2020, Приложение А, ГОСТ Р 52941.2008 или СП 267.1325800.2016, Приложение Д | H70: Проверка целесообразности заявленного количества лифтов | I70: АР
A71: =A69+1 -> 53 | B71: - 1 лифт по этажности до 9 включительно | C71: НЕ ПРИМЕНЯЕТСЯ | E71: НД | F71: СП 54.13330.2022, приложение В | G71: Расчеты по лифтам предоставлены | I71: АР
A72: =A71+1 -> 54 | B72: - 2 лифта при 10-12 этажах | C72: ДА | E72: НД | F72: СП 54.13330.2022, приложение В | I72: АР
A73: =A72+1 -> 55 | B73: - 2 лифта при 13-19 этажах и площади квартир не более 450 м2 | C73: ДА | E73: НД | F73: СП 54.13330.2022, приложение В | I73: АР
A74: =A73+1 -> 56 | B74: - 3 лифта при 20 и более этажах и площади квартир не более 350 м2 | C74: ДА | E74: НД | F74: СП 54.13330.2022, приложение В | I74: АР
A75: =A74+1 -> 57 | B75: - 4 лифта при 20 и более этажах и площади квартир не более 450 м2 | C75: НЕ ПРИМЕНЯЕТСЯ | E75: НД | F75: СП 54.13330.2022, приложение В | I75: АР
B76: Габаритные размеры лифтовых шахт (указаны на плане):
A77: =A75+1 -> 58 | B77: - для лифта 400 кг не менее 1550 (ширина) 1700 (глубина) | C77: ДА | E77: ПИК | F77: ПИК-стандарт | G77: Принято Значение грузоподъемности добавлено.240227 | I77: АР
A78: =A77+1 -> 59 | B78: - для лифта 630 кг не менее 1950 (ширина) 1750 (глубина) | C78: ДА | E78: ПИК | F78: ПИК-стандарт | G78: Принято Значение грузоподъемности добавлено.240227 | I78: АР
A79: =A78+1 -> 60 | B79: - для лифта 1000 кг не менее 1750 (ширина) 2650 (глубина) | C79: ДА | E79: ПИК | F79: ПИК-стандарт | G79: Принято Значение грузоподъемности добавлено.240227 | I79: АР
A80: =A79+1 -> 61 | B80: - для лифта 1000 кг не менее 2650 (ширина) 1700 (глубина) | C80: ДА | E80: ПИК | F80: ПИК-стандарт | G80: Принято Значение грузоподъемности добавлено.240227 | I80: АР
A81: =A80+1 -> 62 | B81: Лифтовые шахты не располагаются вдоль фасадов здания, расстояние от фасадной стены и шахтой лифта не менее 910 мм | C81: ДА | E81: ПИК | F81: ПИК-стандарт | H81: Для организации парапета из навесных панелей | I81: АР
B82: Ширина лифтового холла предусмотрена в зависимости от габаритных размеров лифтовых кабин (ширина - больший размер, глубина - меньший размер):
A83: =A81+1 -> 63 | B83: - 1,5 м при однорядном расположении и шириной кабины менее 2100 мм | C83: ДА | E83: НД | F83: СП 54.13330.2022, п. 5.14 | I83: АР
A84: =A83+1 -> 64 | B84: - 2,1 м при однорядном расположении и глубиной кабины 2100 мм и более | C84: ДА | E84: НД | F84: СП 54.13330.2022, п. 5.14 | I84: АР
A85: =A84+1 -> 65 | B85: - 1,8 м при двухрядном расположении и глубиной кабин менее 2100 мм | C85: НЕ ПРИМЕНЯЕТСЯ | E85: НД | F85: СП 54.13330.2022, п. 5.14 | I85: АР
A86: =A85+1 -> 66 | B86: - 2,5 м при двухрядном расположении и глубиной одной из кабин 2100 мм и более | C86: НЕ ПРИМЕНЯЕТСЯ | E86: НД | F86: СП 54.13330.2022, п. 5.14 | I86: АР
A87: =A86+1 -> 67 | B87: При размещении в лифтовом холле пожаробезопасной зоны, размер простенка между окном и смежным помещением квартиры не менее 2,0 м | C87: ДА | E87: НД | F87: СП 1.13130.2020, п. 9.2.2 | G87: Размеры от окна лифтового холла до окон квартиры проставлены, см. планы типовых этажей. | I87: АР
A88: =A87+1 -> 68 | B88: Вертикальные инженерные коммуникации располагаются в шахт-пакетах с доступом из внеквартирного коридора | C88: ДА | E88: МФР | F88: МФР. Рекомендации по проектированию от 03.12.2020, стр. 186 | I88: АР
A89: =A88+1 -> 69 | B89: Предусмотрены шахт-пакеты ОВ/ВК в соответствии с типовым альбомом ПИК Стандарта (габариты в соответствии с альбомом указаны на планах) из учета 1 шахт-пакет на 1-2 квартиры в непосредственной близости к квартирам. Длина подводяхищ трубопроводов от ШП до СТМ не более 7 м. | C89: НЕТ | D89: Для проверки соответствия должен быть представлен план в формате DWG с замаркированными СПК Предоставить трассировку систем В1Т3 от Шахт-пакетов к с/у в квартирах с подписанными длинами участков или полилинией. Длина подводящей магистрали не более 7 метров(от ШП до точек подключения к СТМ с учетом вертикальных участков)! В случае превышения указанных показателей, рассмотреть возможность перекомпоновки шахт в межквартирном коридоре. При невозможности избежать превышения длины подводящей магистрали, необходимо направить нам материалы для согласования данных отступлений с МФР. Для согласования с МФР, необходимо предоставить поэтажный план с трассировкой подводящих магистралей полилинией, с указанием длины (L) подводящей магистрали в формате DWG и PDF. 2024.03.12: 1.см. замечания к трассировке в файле 2.Расположить шахты систем К2 и Т3 согласно типовому решению ПИК-Стандарта см. Альбом типовых решений. Узлы ВК | E89: ПИК | F89: ЖД-ТА-РЕН-ИОС-ОВ-ВК | G89: шахт - пакеты расставлены. Схема подключения подготовлена | H89: Необходимо для проверки правильности выбора и размещения подрядчиками продукта | I89: ОВ, ВК
A90: =A89+1 -> 70 | B90: Для зданий любой высоты предусматривается устройство металлических воздуховодов из сборных вентмодулей | C90: ДА | E90: НД | F90: СП 60.13330.2020 п.7.1.11; Письмо МФР от 11.04.2023 №ФР-11-7610/23-1 ЖД-ТА-РЕН-ИОС-ВМ от 08.2023; | G90: Принято | I90: ОВ
A91: =A90+1 -> 71 | B91: Для зданий, высотой более 75 м, предусматривается зонирование воздуховодов по вертикали с устройством самостоятельных воздуховодов для каждой из зон. | C91: НЕ ПРИМЕНЯЕТСЯ | D91: ожидается изменения высоты по ГПЗУ до 80 м - необходимо отследить. | E91: НД | F91: СП 253.1325800.2016 | H91: Для высотных зданий | I91: ОВ
B92: На планах показаны шахты и нишы для инженерных коммуникаций (габариты указаны по внутренним поверхностям нишы и без учета толщины зашивки):
A93: =A91+1 -> 72 | B93: шахта системы дымоудаления (ДУ, не менее 900 х 600 мм или 1400х400 мм) | C93: ДА | E93: МФР | F93: Чек-лист МФР 2 этапа | G93: Шахта ДУ указана и подписана на плане 2 секции. Дополнено в 5 секции 2 корпуса.240227 | I93: ОВ
A94: =A93+1 -> 73 | B94: шахта системы компенсации (КДУ, не менее 800х500 или 1000х400) | C94: ДА | D94: Не подписаны на планах, не указаны размеры | E94: МФР | F94: Чек-лист МФР 2 этапа | I94: ОВ
A95: =A94+1 -> 74 | B95: ниша электроблок (УЭРВ, не менее 1450 х400 мм) с шахтой 1200х300 | C95: НЕТ | D95: Показать размеры шахт. | E95: ПИК | F95: СПЭМ.656576.224, СПЭМ.656576.225 | G95: Шахта УЭРВ указана и подписана с габаритными размерами на планах АР. Исправлено на 1450.240227 | H95: Необходимо для проверки правильности выбора и размещения подрядчиками типовых технически решений ПИК | I95: ЭОМ
A96: =A95+1 -> 75 | B96: ниша СС (с доступом из МОП, 400х150 мм. В случае прокладки сетей СС в УЭРВ со слаботочным отсеком это должно быть отображено (УЭРВ с СС)) | C96: ДА | E96: ПИК | F96: СПЭМ.656576.224, СПЭМ.656576.225 | G96: Поправили | I96: СС
A97: =A96+1 -> 76 | B97: ниша СПА (сети пожарной автоматики, доступ из МОП 300х150 мм) | C97: ДА | E97: МФР | F97: Чек-лист МФР 2 этапа | I97: СС
A98: =A97+1 -> 77 | B98: шахта ЭОМ (300х300 мм, транзит) | C98: ДА | E98: МФР | F98: Чек-лист МФР 2 этапа | I98: ЭОМ
A99: =A98+1 -> 78 | B99: ниша КП МПТЦ (не менее 1000 х 400 мм) | C99: ДА | E99: МФР | F99: Чек-лист МФР 2 этапа | G99: Добавили | I99: СС
A100: =A99+1 -> 79 | B100: ниша узлов учета ХВС, ГВС, поквартирной системы отопления размещены в непосредственной близости к основному санузлу (не более 7 м). Для одной квартиры 1100х450 мм, для двух квартир 1600х450 мм. По возможности, одна шина применяется на 2 квартиры | C100: ДА | D100: Не подписаны на планах, не указаны размеры Предоставить трассировку систем В1Т3 от Шахт-пакетов к с/у в квартирах с подписанными длинами участков или полилинией. Определить тип шахт-пакета при совместном расположении с станциями ОВ в нише. Принять размер ниши в зависисмости от кол-ва подключаемых квартир Для одной квартиры 1100х450 мм, для двух квартир 1600х450 мм. | E100: ПИК | F100: ЖД-ТА-РЕН-ИОС-ОВ-ВК | G100: Схема подключения подготовлена | I100: ВК, ОВ
A101: =A100+1 -> 80 | B101: шахта водостока 300x300 мм | C101: ДА | E101: МФР | F101: Чек-лист МФР 2 этапа | I101: ВК
...

Sheet 1+ТЕХ+КР
B1: ИТОГ
A2: № | B2: ='ТИП'!B2 -> Требования к проектным решениям | C2: СТАТУС | D2: Комментарий | F2: Ссылка на норматив | G2: Ответ разработчика | H2: Обоснование необходимости требования | I2: Специалист, заполняющий позицию
A3: ВСЕГО | B3: ДА | C3: =COUNTIF(C9:C100,"ДА") -> 50 | F3: =SUM(F4:F7) -> 79
A4: =COUNTA(A9:A100) -> 80 | B4: НЕТ | C4: =COUNTIF(C9:C100,"НЕТ") -> 6 | D4: Требования НД | E4: НД | F4: =COUNTIF(E10:E156,"НД") -> 18 | H4: АР | I4: 71
B5: ОТСУТСТВУЕТ | C5: =COUNTIF(C9:C100,"ОТСУТСТВУЕТ") -> 0 | D5: Рекомендации МФР | E5: МФР | F5: =COUNTIF(E10:E156,"МФР") -> 44 | H5: ИОС | I5: =F3-I4 -> 8
B6: НЕ ПРИМЕНЯЕТСЯ | C6: =COUNTIF(C9:C100,"НЕ ПРИМЕНЯЕТСЯ") -> 6 | D6: ПИК-стандарт | E6: ПИК | F6: =COUNTIF(E10:E156,"ПИК") -> 5
B7: Согласовано с МФР | C7: =COUNTIF(C9:C100,"МФР") -> 0 | D7: МФС | E7: МФС | F7: =COUNTIF(E10:E156,"МФС") -> 12
B8: НЕ ОТВЕЧЕННЫЕ | C8: =A4-C3-C4-C5-C6-C7 -> 18
B9: ОБЩИЕ
A10: =1 -> 1 | B10: Габариты и площади помещений указаны с учетом отделки | C10: ДА | E10: МФР | F10: Чек-лист МФР 1 этапа | I10: АР
A11: =A10+1 -> 2 | B11: На планах показаны конструктивные элементы здания | C11: ДА | E11: МФР | F11: Чек-лист МФР 1 этапа | G11: Прописано на планах | I11: АР
A12: =A11+1 -> 3 | B12: Расстояние между чистым полом 1 и 2 этажей не менее 4800 мм и кратно 150 мм | C12: ДА | E12: ПИК | F12: Унификация, связанная с устройством лестницы между 2 и 1 этажами с учетом требований МФР. Рекомендации по проектированию от 03.12.2020, стр. 13 | I12: АР
A13: =A12+1 -> 4 | B13: Над всеми входами предусмотрены козырьки (входная группа с козырьком, стеклянный козырек на двери, ниша в фасаде и т.д) | C13: ДА | E13: МФР | F13: МФР. Рекомендации по проектированию от 03.12.2020, стр 80 | H13: Позволяет отследить правильность применения альбомов ПИК в части устройства входных групп и применения СПК | I13: АР
A14: =A13+1 -> 5 | B14: На планах показаны абсолютные и относительне отметки пола входных груп | C14: ДА | E14: МФР | F14: МФР. Рекомендации по проектированию от 03.12.2020, стр 6, ПП№305 от 21.05.2015, п. 2.3.3 | G14: принято | I14: АР
A15: =A14+1 -> 6 | B15: На разрезе показана линия поверхности земли, приведены абсолютные и относительные отметки в местах расположения входных групп | C15: ДА | E15: МФР | F15: МФР. Рекомендации по проектированию от 03.12.2020, стр 6, ПП№305 от 21.05.2015, п. 2.3.3 | G15: принято | I15: АР
A16: =A15+1 -> 7 | B16: Во входных тамбурах предусмотрен и показан приямок, от порога витражной двери на 300 мм, по ширине тамбура на длину трех плиток, в который уложена грязезащитная решетка. | C16: ДА | E16: ПИК | F16: ПИК-стандарт | H16: Позволяет отследить правильность применения альбомов ПИК в части устройства входных групп | I16: АР
A17: =A16+1 -> 8 | B17: Примененные на объекте светопрозрачные конструкции (окна, двери, витражи остекления лоджий, МОП, БКТ) соответствуют ПИК-стандарт в части номенклатуры, размеров, узлов примыканий и сопряжений и т.д. | C17: НЕТ | D17: файл DWG получен, замечания прописаны в ЧЛ. | E17: ПИК | F17: ЖД-ТА-РЕН-АР-ВКЛ, ЖД-ТА-РЕН-АР-В.ПБ, ЖД-ТА-РЕН-АР-ПЭ, ЖД-ТА-РЕН-АР-В.ПЭ.ВГ | G17: Подготовлен план с СПК | H17: Позволяет отследить правильность применения альбомов ПИК в части применения СПК для последующего корректного отображения фасадов | I17: АР
A18: =A17+1 -> 9 | B18: Типы наружных стен и применяемые для отделки материалы выполнены в соответствиим с ПИК-стандарт | C18: ДА | E18: ПИК | F18: ЖД-ТАС-РЕН-АР-НК.С | G18: Пироги показаны на плане кровли и на разрезе 3-3, 5-5 | H18: Позволяет отследить правильность применения альбомов ПИК в части устройства ограждающих конструкций (стен) | I18: АР
B19: На плане 1 этажа, а также технического этажа и кровли в случае размещения на них помещений, с высотой потолка более 1,8 м в экспликации приведены площади:
A20: =A18+1 -> 10 | B20: - каждого помещения | C20: ДА | E20: МФС | F20: МФС | I20: АР
A21: =A20+1 -> 11 | B21: - общая для всех помещений | C21: ДА | E21: МФС | F21: МФС | I21: АР
A22: =A21+1 -> 12 | B22: - общая для этажа | C22: ДА | E22: МФС | F22: МФС | I22: АР
A23: =A22+1 -> 13 | B23: Коэффициент выхода площади с этажа (Sбкт/Sэт) | C23: ДА | E23: МФС | F23: МФС | H23: Дтя того чтобы исключить недосчет машинных помещений лифтов, помещений СС и т.д.) Были случаи, когда в СПП ГНС забывали включать помещения на кровле | I23: АР
A24: =A23+1 -> 14 | B24: - суммарная поэтажная площадь этажа (секции) в габаритах наружных стен | C24: ДА
A25: =A24+1 -> 15 | B25: Предусмотрены и показаны места для размещения наружных блоков кондиционирования нежилых помещений 1 этажа: БКТ, ЦИН, ОДС, СС, МПТЦ | C25: НЕТ | D25: Сократить расходы на строй.мат. путем - все Кондиционры повесить на фасаде, в перфорированные короба, соответственно, восполнить Коэффициенты по Площадям. | E25: МФР | F25: Новое требование МФР | G25: Обозначены места ниш для наружных блоков кондиционеров на 1 этаже.240227 Исключены ниши, добавлены корзины на фасадах. 240315 | I25: АР
A26: =A25+1 -> 16 | B26: На планах предусмотрены и показаны шахты ВК и обстройки для разводки трубопроводов в мокрых зонах МОП и БКТ. | C26: НЕТ | D26: назначение шахт не указано 1. Секция 3. Не предусмотрена обстройка в помещениях 3.МОП.56, 3.МОП.57 Секция 5. Не предусмотрена обстройка в помещениях 5.МОП.23(или изменить планировку , чтобы исключить прокладку в лестничной клетке), 5.МОП.21 (для скрытой прокладки труб К1 ф110) Секция 6. Не предусмотрена обстройка в помещениях 6.МОП.23, 6.МОП.24 Секция 7. Не предусмотрена обстройка в помещениях 7.БКТ.85 , 7.МОП.46, 7.МОП.47 2.Исключить перекидки труб канализации на первом этаже. При невозможности исключить перекидки - согласовать трассировку с ГИПом и РП, МФР | E26: МФС | F26: МФС | G26: Подготовлены планы перекидок ВК. 240315. Уйти от перекидок в данных местах не предствляется возможным, так как стояки завязаны на СТМ на типовом этаже. | H26: Без проработки шахт габариты санузлов в последствии могут меняться, и как следствие - примыкания мокрых зон к помещениям ЭС и СС | I26: ВК
A27: =A26+1 -> 17 | B27: На планах показаны радиаторы отопления. Расположение радиаторов учитывает габаритные размеры помещений, (тамбуры, лестницы и т.д) и путей эвакуации, габариты дверных и оконных проемов | C27: ДА | E27: МФС | F27: МФС | G27: Радиаторы условно добавлены на планы АР. 240228 | I27: АР
A28: =A27+1 -> 18 | B28: На разрезах приведены все применяемые на объекте пироги покрытий кровли. | C28: ДА | E28: МФС | F28: МФС | G28: Просим указать тип кровли (летняя или зимняя), пирог добавим См. план кровли с пирогами, разрез 3-3 с типами стен. 240227 | I28: АР
A29: =A28+1 -> 19 | B29: Высота здания не превышает предельную, указанную в ГПЗУ (высота должна быть указана на разрезе, должен учитываться рельеф) | C29: ДА | E29: НД | F29: ??? | G29: Согласно методическим рекомендациям МКА предельная высота здания это вертикальный линейный размер здания, строения, сооружения от каждой существующей отметки земли в границах земельного участка до наивысшей отметки конструктивного элемента здания. Если делать проекцию +70метров от каждой точки рельефа нарушения по высотности отсутствуют. В том числе прилагаем разрезы с обоснованием высотности. Просим уточнить в каком месте у нас превышение | H29: https://archsovet.msk.ru/article/faq/raschet-tep | I29: АР
B30: МОП
A31: =A29+1 -> 20 | B31: Предусмотрены 2 входа в МОП жилой части со стороны улицы и двора с устройством сквозного прохода (кроме односекционных ЖД) | C31: ДА | E31: МФР | F31: МФР. Рекомендации по проектированию от 03.12.2020, стр 7 ПП№305 от 21.05.2015, п.2.3.1 | I31: АР
A32: =A31+1 -> 21 | B32: Предусмотрены обособленные входы в нежилые помещения БКТ со стороны улицы | C32: ДА | E32: МФР | F32: МФР. Рекомендации по проектированию от 03.12.2020, стр 6,7 | I32: АР
A33: =A32+1 -> 22 | B33: Отсутствует перепад высот между планировочной отметкой улицы и отметкой пола МОП | C33: ДА | E33: МФР | F33: МФР. Рекомендации по проектированию от 03.12.2020, стр 6, ПП№305 от 21.05.2015, п. 2.3.3 | I33: АР
A34: =A33+1 -> 23 | B34: Расстояние по горизонтали между проемами лестничной клетки и проемами в наружной стене здания не менее 1,2 м; | C34: ДА | E34: НД | F34: СП 2.13130.2020, п. 5.4.16 д | H34: Для избежания решений с ненормативными расстояниями между выходами из эвакуационной лестницы и помещениями на 1 этаже | I34: АР
B35: Состав помещений МОП включает:
A36: =A34+1 -> 24 | B36: - тамбуры | C36: ДА | E36: МФР | F36: МФР. Рекомендации по проектированию от 03.12.2020, стр 8 | I36: АР
A37: =A36+1 -> 25 | B37: - вестибюль | C37: ДА | E37: МФР | F37: МФР. Рекомендации по проектированию от 03.12.2020, стр 8 | I37: АР
A38: =A37+1 -> 26 | B38: - помещение консьержа с санузлом | C38: ДА | E38: МФР | F38: МФР. Рекомендации по проектированию от 03.12.2020, стр 8 | I38: АР
A39: =A38+1 -> 27 | B39: - колясочная, площадью не менее 25 м, для секций 19 эажей и выше - не менее 35 м2 | C39: НЕТ | D39: Увеличить колясочные Секц.4 и Секц.5 - в 21 эт., излишние "тараканьи бега", излишние площеди лестниц, СУ, ПУИ. Особенно при увеличении этажности. | E39: МФР | F39: МФР. Рекомендации по проектированию от 03.12.2020, стр 8; Новые требования МФР | G39: По зам. в пдф: Секция 4. Высотная секция, необходимо расположить 140 шт. почтовых ящиков. Предлагаемое для них место у ниш ДУ и КДУ имеет недостаточный фронт, кроме того к нишам необходимо обеспечить доступ для расположения решеток инженерных систем. Соответственно увеличение площади колясочной не представляется возможным Секция 5. Предлагаемая выгородка невозможна из-за расположения и перекидок инженерных систем, кроме того к нишам ДУ и КДУ необходимо обеспечить доступ для расположения решеток. Увеличение колясочной в секции 5 возможно только за счет сокращения площадей БКТ 240227 | I39: АР
A40: =A39+1 -> 28 | B40: - ПУИ | C40: ДА | E40: МФР | F40: МФР. Рекомендации по проектированию от 03.12.2020, стр 8 | I40: АР
A41: =A40+1 -> 29 | B41: Размеры тамбура МОП предусмотрены глубиной не менее 2,45м и шириной не менее 1,6 м, угловые тамбуры не менее 2,45х2,45 без учета места, занимаемого радиатором отопления | C41: ДА | E41: МФР | F41: МФР. Рекомендации по проектированию от 03.12.2020, стр 8 | G41: принято | I41: АР
A42: =A41+1 -> 30 | B42: Помещение консьержа обеспечивает визуальный обзор двери, ведущей из тамбура в вестибюль и/или проход к лифтам и лестничной клетке | C42: ДА | E42: МФР | F42: МФР. Рекомендации по проектированию от 03.12.2020, стр 8 | G42: принято | I42: АР
A43: =A42+1 -> 31 | B43: Вестибюль выполнен в виде цельного открытого пространства, с естественным освещением, без расположенных внутри строительных конструкций или инженерных сетей | C43: ДА | E43: МФР | F43: МФР. Рекомендации по проектированию от 03.12.2020, стр 8; Новые требования МФР | H43: Для того, чтобы избежать МОП в виде коридора из за того, что вертикальные коммуникации не позволдяют сделать общее открытое пространство | I43: АР
B44: В вестибюле предусмотрены и показаны места для размещения:
A45: =A43+1 -> 32 | B45: - почтовых шкафов | C45: ДА | E45: МФР | F45: МФР. Рекомендации по проектированию от 03.12.2020, стр 8 | G45: Подписали 240227 | I45: АР
A46: =A45+1 -> 33 | B46: - двух вендинговых автоматов, габаритами 2000х1000 каждый | C46: ДА | E46: МФР | F46: МФР. Рекомендации по проектированию от 03.12.2020, стр 8 | G46: См. условные обозначения Подписали 240228 | I46: АР
A47: =A46+1 -> 34 | B47: - инфомата | C47: ДА | E47: МФР | F47: МФР. Рекомендации по проектированию от 03.12.2020, стр 8 | G47: Подписали 240228 | I47: АР
B48: НЕЖИЛЫЕ ПОМЕЩЕНИЯ БКТ
A49: =A47+1 -> 35 | B49: Входы и пути движения по помещениям выполнены с учетом доступности МГН | C49: ДА | E49: НД | F49: СП 59.13330.2020, п | G49: принято | I49: АР
A50: =A49+1 -> 36 | B50: Количество и расположение эвакуационных выходов предусмотрено в соответствии с требованиями НД в зависимости от назначения, площади, протяженности помещения | C50: ДА | E50: НД | F50: СП 1.13130.2020, гл 4.2 | G50: принято Дополнено обозначение тепловых завес в БКТ. 240227 | H50: Для проверки достаточности эвакуационных выходов помещений 1 этажа. Как обоснование одного ЭВ должен предоставляться расчет количества человек - не более 50 | I50: АР
A51: =A50+1 -> 37 | B51: Предусмотрено не менее одного санузла с доступом МГН | C51: ДА | E51: МФР | F51: МФР. Рекомендации по проектированию от 03.12.2020, стр. 13 | G51: принято | I51: АР
A52: =A51+1 -> 38 | B52: Окна помещений БКТ предусмотрены преимущественно на уличный фасад, на внутридворовой фасад ориентированы только эвакуационные выходы | C52: ДА | E52: МФС | F52: МФС | H52: Очень часто подрядчики делают нефункциональные БКТ, например без окон на уличном фасаде | I52: АР
A53: =A52+1 -> 39 | B53: Остекление выполнено с большим процентом светопрозрачных конструкций по сравнению с типовыми этажами (увеличенные окна, витражное остекление и т.д) | C53: ДА | E53: НД | F53: ПП№305 от 21.05.2015, п. 2.4.4 | H53: ???????? | I53: АР
B54: Центр информирования населения (ЦИН)
A55: =A53+1 -> 40 | B55: Общая площадь помещени ЦИН не менее 125…150 м2 | C55: НЕ ПРИМЕНЯЕТСЯ | E55: МФР | F55: МФР. Рекомендации по проектированию от 03.12.2020, стр. 13, 78 | I55: АР
A56: =A55+1 -> 41 | B56: На плане ЦИН показано размещение постоянных рабочих мест, общее количество постоянных рабочих мест не менее 9 | C56: ??? | E56: МФР | F56: МФР. Требования к оснащению ЦИН от 21.04.2020 | I56: АР
B57: На плане помещения ЦИН предусмотрены и показаны
A58: =A56+1 -> 42 | B58: Входная группа | C58: ??? | E58: МФР | F58: МФР. Рекомендации по проектированию от 03.12.2020, стр. 13, 78 | I58: АР
A59: =A58+1 -> 43 | B59: Ресепшн | C59: ??? | E59: МФР | F59: МФР. Рекомендации по проектированию от 03.12.2020, стр. 13, 78 | I59: АР
A60: =A59+1 -> 44 | B60: Зона ожидания | C60: ??? | E60: МФР | F60: МФР. Рекомендации по проектированию от 03.12.2020, стр. 13, 78 | I60: АР
A61: =A60+1 -> 45 | B61: Зона детского уголка | C61: ??? | E61: МФР | F61: МФР. Рекомендации по проектированию от 03.12.2020, стр. 13, 78 | I61: АР
A62: =A61+1 -> 46 | B62: Информационная зона | C62: ??? | E62: МФР | F62: МФР. Рекомендации по проектированию от 03.12.2020, стр. 13, 78 | I62: АР
A63: =A62+1 -> 47 | B63: Рабочая зона | C63: ??? | E63: МФР | F63: МФР. Рекомендации по проектированию от 03.12.2020, стр. 13, 78 | I63: АР
A64: =A63+1 -> 48 | B64: служебное помещение | C64: ??? | E64: МФР | F64: МФР. Рекомендации по проектированию от 03.12.2020, стр. 13, 78 | I64: АР
A65: =A64+1 -> 49 | B65: санузел универсальный с доступом МГН | C65: ??? | E65: МФР | F65: МФР. Рекомендации по проектированию от 03.12.2020, стр. 13, 78 | I65: АР
A66: =A65+1 -> 50 | B66: санузел для персонала | C66: ??? | E66: МФР | F66: МФР. Рекомендации по проектированию от 03.12.2020, стр. 13, 78 | I66: АР
A67: =A66+1 -> 51 | B67: ПУИ | C67: ??? | E67: МФР | F67: МФР. Рекомендации по проектированию от 03.12.2020, стр. 13, 78 | I67: АР
B68: Объединенная диспетчерская служба (ОДС)
A69: =A67+1 -> 52 | B69: Площадь помещения ОДС не менее 200 м2 | C69: НЕ ПРИМЕНЯЕТСЯ | E69: НД | F69: РПМ от 04.06.2013 №05-14-169/3, п. 3.1 | H69: Нет документа, однозначно определяющего минимальную площадь ОДС | I69: АР
B70: На плане помещения ОДС предусмотрены и показаны
A71: =A69+1 -> 53 | B71: рабочий зал для установки оборудования диспетчерского пульта; | C71: ??? | E71: НД | F71: РПМ от 04.06.2013 №05-14-169/3, п. 3.1 | I71: АР
A72: =A71+1 -> 54 | B72: помещение для технического персонала специализированной организации, осуществляющей техническое обслуживание АС ДКиУ; | C72: ??? | E72: НД | F72: РПМ от 04.06.2013 №05-14-169/3, п. 3.1 | I72: АР
A73: =A72+1 -> 55 | B73: помещение для отдыха персонала диспетчерской службы; | C73: ??? | E73: НД | F73: РПМ от 04.06.2013 №05-14-169/3, п. 3.1 | I73: АР
A74: =A73+1 -> 56 | B74: помещение для приема пищи; | C74: ??? | E74: НД | F74: РПМ от 04.06.2013 №05-14-169/3, п. 3.1 | I74: АР
A75: =A74+1 -> 57 | B75: гардероб; | C75: ??? | E75: НД | F75: РПМ от 04.06.2013 №05-14-169/3, п. 3.1 | I75: АР
A76: =A75+1 -> 58 | B76: душевую; | C76: ??? | E76: НД | F76: РПМ от 04.06.2013 №05-14-169/3, п. 3.1 | I76: АР
A77: =A76+1 -> 59 | B77: санузел. | C77: ??? | E77: НД | F77: РПМ от 04.06.2013 №05-14-169/3, п. 3.1 | I77: АР
B78: ТЕХНИЧЕСКИЕ ПОМЕЩЕНИЯ,ЧЕРДАК,КРОВЛЯ
A79: =A77+1 -> 60 | B79: Помещения электрощитовых не расположены под жилыми комнатами либо над электрощитовой дополнительно предусмотрено устройство технического пространства, высотой не менее 1,2 м с доступом через люк. Высота электрощитовой должна быть не менее 3,0 м в чистоте | C79: НЕ ПРИМЕНЯЕТСЯ | E79: НД | F79: СанПиН 2.1.3684-21, п. 137; МФР. Рекомендации по проектированию от 03.12.2020, стр. 14; | I79: АР
A80: =A79+1 -> 61 | B80: Предусмотрено помещение КП МПТЦ прямоугольной формы и площадью не менее 23 м2, выход непосредственно наружу | C80: НЕТ | D80: Корп.1, Сец.4, только 11,5 м2; Корп.2, Секц.5, только 10,8 м2 - есть возможность добавить при излишней площади лестницы - вернуть в БКТ. Сократить расходы на строй.мат. путем - все Кондиционры повесить на фасаде, в перфорированные короба, соответственно, восполнить Коэффициенты по Площадям. | E80: МФР | F80: МФР. Письмо №ФР-11-24350/22 от 07.09.2022 | G80: Такое помещение предусмотрено в К3. Остальные помещения выполнены меньшей площади по опыту согласования с МФР объекта 1191- там потребовал МФР одно помещение 23 м2 остальные- 10-15 м2 | I80: АР
A81: =A80+1 -> 62 | B81: Предусмотрены помещения слаботочных систем (одно на каждый надземный пожарный отсек, но не менее, чем одно на 3 секции), площадью не менее 10 м2. Количество помещений определено из расчета длины линии распределительной сети (от телекоммуникационного шкафа до квартирного телекоммуникационного шкафа) не более 90 метров. | C81: НЕ ПРИМЕНЯЕТСЯ | E81: МФР | F81: МФР. Рекомендации по проектированию от 03.12.2020, стр. 14 | I81: АР
A82: =A81+1 -> 63 | B82: Помещения электрощитовых и связи и слаботочных систем не расположены под или смежно с "мокрыми" помещениями либо приняты специальные меры по гидроизоляции таких помещений, в том числе устройство дополнительного технического пространства, высотой не менее 1,2 м с доступом через люк. Высота тех. помещения должна быть не менее 3,0 м в чистоте | C82: ДА | D82: предусмотрено тех.простр. h=1,75 м. | E82: МФР | F82: МФР. Рекомендации по проектированию от 03.12.2020, стр. 14; Замечания МФР | G82: Над помещением МПТЦ 1 этажа в 6 секции 6.Т.1 устроено перекрытие, доступ в тех. пространство через люк из вестибюля 6.МОП.7.
A83: =A82+1 -> 64 | B83: Размещение технических помещений выполнено преимущественно у наружной стены | C83: ДА | D83: все подземные, приемущественно у наружной стены | E83: МФС | F83: МФС | G83: принято | H83: Для того, чтобы оставить на уличном фасаде больше места для окон БКТ | I83: АР
A84: =A83+1 -> 65 | B84: Входы в технические помещения выполнены обособлено от входов в жилую часть и непосредственно с улицы | C84: ДА | E84: МФР | F84: МФР. Рекомендации по проектированию от 03.12.2020, стр 14 | I84: АР
A85: =A84+1 -> 66 | B85: Габариты мусоросборной камеры без учета коридора (при необходимости его устройства) не менее 2,5х2,5 м (допускается 2,5х2,0 м) | C85: НЕ ПРИМЕНЯЕТСЯ | E85: МФР | F85: МФР, Рекомендации по проектированию от 03.12.2020, стр. 14; Только для объектов по ПП985, в которых остается мусоропровод (см. перечень) | I85: АР
A86: =A85+1 -> 67 | B86: Выходы из мусоросборной камеры предусмотрены со стороны улицы | C86: НЕ ПРИМЕНЯЕТСЯ | E86: МФР | F86: МФР, Рекомендации по проектированию от 03.12.2020, стр. 14, 103 Только для объектов по ПП985, в которых остается мусоропровод (см. перечень) | I86: АР
A87: =A86+1 -> 68 | B87: При наличии венткамер в подземном этаже на плане 1 этажа предусмотрены и показаны форшахты и места забора воздуха на фасаде | C87: ДА | E87: МФС | F87: МФС | G87: принято | H87: Для проверки возможности организации забора воздуха для подземной автостоянки | I87: АР
A88: =A87+1 -> 69 | B88: Предусмотрено устройство технического пространства, высотой не более1,8 м | C88: ДА | E88: МФР | F88: МФР. Рекомендации по проектированию от 03.12.2020, стр. 24 | I88: АР
A89: =A88+1 -> 70 | B89: Доступ в техническое пространство выполнен непосредственно с лестничной клетки (для Н1-через переходной балкон, для Н2-через тамбур-шлюз) | C89: ДА | E89: МФС | F89: МФС | H89: Оптимизация технических решений | I89: АР
A90: =A89+1 -> 71 | B90: Доступ на кровлю выполняется через лестничные клетки по маршевым лестницам | C90: ДА | E90: НД | F90: СП 4.13130.2013, п.7.6 | H90: Оптимизация технических решений | I90: АР
A91: =A90+1 -> 72 | B91: В лестничных клетках предусмотрено устройство световых проемов на каждом этаже (на уровне технического пространства допускается не предусматривать) | C91: ДА | E91: НД | F91: СП 1.13130.2020, п.4.4.12, СП 2.13130.2020, п. 5.4.16 с учетом СП 4.13130.2013, п.3.53 | H91: Неоднократные замечания МФР | I91: АР
A92: =A91+1 -> 73 | B92: Доступ в помещения, расположенные на кровле, выполнен непосредственно с отметки кровли, без устрйоства перепадов (лестниц, пандусов) | C92: ДА | E92: МФС | F92: МФС | H92: Неоднократные замечания МФР | I92: АР
A93: =A92+1 -> 74 | B93: Высота пути эвакуации по лестничным клеткам, в отм числе из технического пространства и с кровли предусмотреть не менее 2,2 м | C93: ДА | E93: НД | F93: СП 1.13130.2020, п.4.4.1 | H93: Неоднократные замечания МФР | I93: АР
A94: =A93+1 -> 75 | B94: Предусмотрена технологическая ниша МПТЦ с доступом из МОП или колясочной шириной и глубиной не менее 1000х600 мм с размещенными в ней двумя вертикальными телекоммуникационными стояками, размером не менее 400х100 мм. (ТУ КП МПТЦ, требование МФР) | C94: ДА | E94: МФР | F94: Новое требование МФР | G94: принято | I94: СС
A95: =A94+1 -> 76 | B95: ниша СПА (сети пожарной автоматики, доступ из МОП 300х150 мм) | C95: НЕТ | D95: нет доступа из МОП в с.6 | E95: МФР | F95: Новое требование МФР | G95: Доступ к шахте СС-СПА в секции 6 предусмотрен из зоны техпространства над помещением МПТЦ. Доступ в это техпространство осуществляется из МОП (6.МОП.7) через люк. | I95: СС
A96: =A95+1 -> 77 | B96: ниша КП МПТЦ (не менее 1000 х 600 мм) | C96: ДА | E96: МФР | F96: Новое требование МФР | G96: принято Исправлено 240227 | I96: СС
A97: =A96+1 -> 78 | B97: На каждой жилой секции на кровле предумотрено помещение, площадью не менее 10 м2, высотой не менее 2,0 м для размещения щитов управления противодымной защитой, диспетчеризацией инженерных систем, телекоммуникационных шкафов | C97: ДА | E97: МФР | F97: Новое требование МФР | G97: принято | I97: АР
A98: =A97+1 -> 79 | B98: Помещения на кровле не располагаются вдоль фасадов, расстояние между стеной помещения и парапетом кровли не менее 910 мм | C98: ДА | E98: ПИК | F98: ПИК-стандарт | I98: АР
A99: =A98+1 -> 80 | B99: В машинном помещении лифтов и на техническом пространстве предусмотрены и показаны люки для вертикальной транспортировки оборудования между машинным помещением и площадкой верхнего посадочного этажа лифтов | C99: ДА | E99: НД | F99: ГОСТ 33984.1-2016, п. 0.3.17, 5.2.2.2, 5.2.3, 5.2.4, | I99: АР
B100: ------------------------------------------------------------------------------------------------

Sheet ПОДЗ
B1: ИТОГ
A2: № | B2: ='1+ТЕХ+КР'!B2 -> Требования к проектным решениям | C2: СТАТУС | D2: Комментарий | F2: Ссылка на требование | G2: Ответ разработчика | H2: Обоснование необходимости требования | I2: Специалист, заполняющий позицию
A3: ВСЕГО | B3: ДА | C3: =COUNTIF(C9:C87,"ДА") -> 34 | F3: =SUM(F4:F7) -> 62
A4: =COUNTA(A9:A87) -> 65 | B4: НЕТ | C4: =COUNTIF(C9:C87,"НЕТ") -> 5 | D4: Требования НД | E4: НД | F4: =COUNTIF(E9:E159,"НД") -> 40 | H4: АР | I4: 51
B5: ОТСУТСТВУЕТ | C5: =COUNTIF(C9:C87,"ОТСУТСТВУЕТ") -> 5 | D5: Рекомендации МФР | E5: МФР | F5: =COUNTIF(E9:E159,"МФР") -> 11 | H5: ИОС | I5: =F3-I4 -> 11
B6: НЕ ПРИМЕНЯЕТСЯ | C6: =COUNTIF(C9:C87,"НЕ ПРИМЕНЯЕТСЯ") -> 18 | D6: ПИК-стандарт | E6: ПИК | F6: =COUNTIF(E9:E159,"ПИК") -> 1
B7: Согласовано с МФР | C7: =COUNTIF(C9:C87,"МФР") -> 2 | D7: МФС | E7: МФС | F7: =COUNTIF(E9:E159,"МФС") -> 10
B8: НЕ ОТВЕЧЕННЫЕ | C8: =A4-C3-C4-C5-C6-C7 -> 1
B9: ОБЩИЕ | I9: Специалист, заполняющий позицию
A10: =1 -> 1 | B10: Габариты и площади помещений указаны с учетом отделки. | C10: ДА | E10: МФР | F10: Чек-лист МФР 1 этапа | G10: Дополнено 240227 | I10: АР
A11: =A10+1 -> 2 | B11: На планах показаны конструктивные элементы здания | C11: ДА | E11: МФР | F11: Чек-лист МФР 1 этапа | G11: Дополнено 240227 | I11: АР
A12: =A11+1 -> 3 | B12: Количество эвакуационных выходов и лестниц из -1 этажа принято в соответствии НД в зависимости от деления подземной части на пожарные отсеки, площади и назначения помещений | C12: ДА | E12: НД | F12: СП 1.13130.2020, гл. 4, 6, 8 | H12: Для устранения неоднократных случаев, когда подрядчики нерационально выполняют разбивку на пожарные отсеки и превышают необходимое количество эвакуационных лестниц | I12: АР
A13: =A12+1 -> 4 | B13: Ширина эвакуационных лестниц из подземной части здания определена в зависимости от функционального назначения помещений и расчетного количества эвакуирующихся | C13: ДА | E13: НД | F13: СП 1.13130.2020, п. 4.4.1, 8.4.6 | H13: Оптимизация планировочных решений. | I13: АР
A14: =A13+1 -> 5 | B14: В случае, если по расчету ширина эвакуационной лестницы не превышает 1,0 м, эвакуационные лестницы из подземного этажа в зоне высотной части располагаются непосредственно под лестницами, ведущими с верхних этажей (при количестве эвакуирующихся менее 50 чел) | C14: НЕ ПРИМЕНЯЕТСЯ | E14: НД | F14: СП 1.13130.2020, п. 8.4.6 | H14: Оптимизация связана с увеличением полезной площади 1 этажа и повышения К эфф | I14: АР
B15: АВТОСТОЯНКА
A16: =A14+1 -> 6 | B16: Количество парковочных мест в автостоянке соответствует потребности в соответствии с ТЗ или расчетым обоснованием | C16: НЕ ПРИМЕНЯЕТСЯ
A17: =A16+1 -> 7 | B17: Габаритные размеры парковочных мест не менее 5,3х2,5 м | C17: ДА | E17: НД | F17: Приказ Минэкономразвития РФ от 07.12.2016 № 792 | I17: АР
A18: =A17+1 -> 8 | B18: Габаритные размеры специализированных парковочных мест МГН не менее 6,0х3,6м, на плане обозначены символом "колясочник" (при наличии) | C18: ДА | E18: НД | F18: СП 59.13330.2020, п. 5.2.4 | H18: МФР требует размещать места постоянного хранения автотранспорта МГН ан территории участка | I18: АР
A19: =A18+1 -> 9 | B19: Все парковочные места выполнены независимыми | C19: ДА | E19: МФР | F19: МФР. Рекомендации по проектированию от 03.12.2020, стр. 26 | I19: АР
A20: =A19+1 -> 10 | B20: Минимальная высота проезда с учетом выступающих конструкций не менее 2,3 м | C20: ДА | D20: 2400мм - ворота | E20: МФС | F20: МФС | I20: АР
A21: =A20+1 -> 11 | B21: Радиусы поворота не менее 6,0 м | C21: ДА | E21: НД | F21: СП 113.13330.2023, ПриложениеА | I21: АР
B22: Уклон въездной рампы выполнен не более (указан на плане и разрезе):
A23: =A21+1 -> 12 | B23: - 18% для закрытой прямой рампы | C23: ДА | E23: НД | F23: СП 113.13330.2023, п. 5.26 | I23: АР
A24: =A23+1 -> 13 | B24: - 1:6 (16,7%) для закрытой прямой изолированной рампы в случае, если она используется как эвакуационный выход | C24: НЕ ПРИМЕНЯЕТСЯ | E24: НД | F24: СП 1.13130.2020, п . 8.4.3 | I24: АР
A25: =A24+1 -> 14 | B25: - 13% для закрытой криволинейной рампы | C25: НЕ ПРИМЕНЯЕТСЯ | E25: НД | F25: СП 113.13330.2023, п. 5.26 | I25: АР
A26: =A25+1 -> 15 | B26: - 10% для открытой рампы любой конфигурации | C26: НЕ ПРИМЕНЯЕТСЯ | E26: НД | F26: СП 113.13330.2023, п. 5.26 | I26: АР
A27: =A26+1 -> 16 | B27: Место сопряжения рампы и пола автостоянки выполняется плавным, обеспечивая минимальную высоту клиренса автомобиля не менее 0,1 м. Техническое решение подтверждается схемой разреза рампы с расположенными на ней эталонным автомобилем | C27: ДА | E27: НД | F27: СП 113.13330.2023, п.5.26г | H27: Неоднократные замечания МФР | I27: АР
A28: =A27+1 -> 17 | B28: Обеспечены требования по расстояниям до двух ближайших эвакуационных выходов не более 40 м от наиболее удаленной точки (не более 20 м от наиболее удаленной точки в тупиковом участке) | C28: ДА | E28: НД | F28: СП 1.13130.2020, п . 8.4.3, табл. 19 | H28: Для устранения неоднократных случаев, когда подрядчики нерационально выполняют разбивку на пожарные отсеки и превышают необходимое количество эвакуационных лестниц | I28: АР
B29: На путях эвакуации, в местах проходов к эвакуационным лестничным клеткам, пожаробезопасным зонам через участки размещения парковочных мест, предусмотрены и показаны тротуары (проходы, ограниченными колесоотбойниками, ограждениями или вертикальными строительными конструкциями
A30: =A28+1 -> 18 | B30: - на путях эвакуации из автостоянки не менее 1,2 м | C30: ДА | E30: НД | F30: СП 59.13330.2016, п. 6.2.21 | H30: Неоднократные замечания МФР | I30: АР
A31: =A30+1 -> 19 | B31: - из помещений не менее 0,6 м | C31: ОТСУТСТВУЕТ | D31: размер не указан, рекомендуем приписать в Прим. | E31: НД | F31: СП 1.13130 п.4.2.19. | H31: Неоднократные замечания МФР | I31: АР
B32: Минимальная ширина рампы в строительных конструкциях сооветствует требованиям НД и учитывает ширину колесоотбойников 0,15 м по краям, среднего барьера 0,2 м по центру, тротуара 0,8 м при наличии (на плане показаны размеры):
A33: =A31+1 -> 20 | B33: - 3,8 (0,15+3,5+0,15) м для однопутной рампы | C33: НЕ ПРИМЕНЯЕТСЯ | E33: НД | F33: СП 113.13330.2023, п. 5.1.26д, 5.1.40 | I33: АР
A34: =A33+1 -> 21 | B34: - 6,9 (0,15+3,2+0,2+3,2+0,15) м для двухпутной рампы | C34: ДА | E34: НД | F34: СП 113.13330.2023, п. 5.1.26д, 5.1.40 | I34: АР
A35: =A34+1 -> 22 | B35: - 4,45 (0,15+3,5+0,8) м для однопутной рампы с эвакуационным тротуаром | C35: НЕ ПРИМЕНЯЕТСЯ | E35: НД | F35: СП 113.13330.2023, п. 5.1.26д, 5.1.40 | I35: АР
B36: Обеспечивается доступ жильцов в помещение автостоянки из ЛЛУ жилой части здания с учетом требований НД, в том числе:
A37: =A35+1 -> 23 | B37: Сообщение между автостоянкой и жилой частью здания по вертикали выполняется лифтом, предназначенном для перевозки пожарных подразделений | C37: ДА | E37: НД | F37: СП 1.13130.2020, п. 9.2.2; СП 154.13130.2013, п. 5.2.10 или СП 506.1311500.2021, п. 5.13 или СП 113.13330.2023, п. 6.2.7 | H37: Неоднократные замечания МФР | I37: АР
A38: =A37+1 -> 24 | B38: При выходах из лифтов всех секций в помещение хранения автомобилей предусмотрены два последовательно расположенных тамбур-шлюза с подпором воздуха при пожаре. Первый (перед выходом из лифта) тамбур-шлюз совмещен с пожаробезопасной зоной | C38: ДА | E38: НД | F38: СП 1.13130.2020, п. 9.2.2, 9.2.4, 9.2.5; СП 7.13130.2013, п. 8.7; СП 154.13130.2013, п. 5.2.14 или СП 506.1311500.2021, п. 5.14, 5.15 или СП 113.13330.2023, п.6.2.9 | H38: Неоднократные замечания МФР | I38: АР
A39: =A38+1 -> 25 | B39: Габаритные размеры тамбур-шлюза перед лифтовым холлом не менее 2,45х1,6 м | C39: НЕТ | D39: Корп.1, Оси П.А-Б/П.11; Оси П.А-Б/П.7; Корп.3, Оси П.П-Р/П.11; Оси П.К-Л/П.11. | E39: НД | F39: СП 59.13330.2020, п.6.1.8 | G39: Откорректировано 2403015 | I39: АР
A40: =A39+1 -> 26 | B40: На плане показаны границы деления автостоянки на самостоятельные пожарные отсеки (секции) а также приведена площадь каждого из отсеков (секций) (ПО не более 3000 м2 или 6000 м2 при делении на секции не более 3000 м2) | C40: ДА | E40: НД | F40: СП 2.13130.2020, п. 6.3.1, табл. 6.5 | H40: Неоднократные замечания МФР | I40: АР
A41: =A40+1 -> 27 | B41: Въезд в подземную автостоянку не располагается напротив окон фасадов существующих и проектируемых жилых зданий либо предусмотрены мероприятия, препятствующие засвечиванию окон квартир фарами выезжающих автомобилей | C41: ДА | E41: МФР | F41: Новое требование МФР | I41: АР
A42: =A41+1 -> 28 | B42: Помещение автостоянки, в том числе въездной рампы не располагается непосредственно под помещениями квартир либо отделено нежилым или техническим этажом (на разрезе показано размещение помещений автостоянки или рампы и расположенных выше квартир) | C42: ДА | E42: НД | F42: СанПиН 2.1.3684-21, п. 134; СП 54.13330.2022, п. 7.35 | I42: АР
B43: При устройстве въезда в автостоянку со стороны фасада жилой части предусмотрено одно из технических решений:
A44: =A42+1 -> 29 | B44: - расстояние от края проема въездных ворот до низа ближайшего вышележащих окон квартир не менее 4,0 м | C44: НЕ ПРИМЕНЯЕТСЯ | D44: нависает кровля на 4230мм, пристроенной, одно-этажной, рампы въезда | E44: НД | F44: СП 4.13130.2013, п. 6.11.8; СП 506.1311500.2021, п. 5.10 или СП 113.13330.2023, п. 6.2.6 | H44: Для въездов в автостоянки со стороны фасадов с окнами | I44: АР
A45: =A44+1 -> 30 | B45: - над въездными воротами предусмотрен глухой козырек (балкон), выступающий от плоскости стены не менее 1,0 м и перекрывающий ширину проема с каждой стороны не менее чем на 0,5 м | C45: НЕ ПРИМЕНЯЕТСЯ | D45: нависает кровля на 4230мм, пристроенной, одно-этажной, рампы въезда | E45: НД | F45: СП 4.13130.2013, п. 6.11.8; СП 506.1311500.2021, п. 5.10 или СП 113.13330.2023, п. 6.2.6 | G45: Предусмотрен навес над въездом в подземную автостоянку. см. разрез 3-3 и план 1 этажа секции 7 | H45: Для въездов в автостоянки со стороны фасадов с окнами | I45: АР
A46: =A45+1 -> 31 | B46: - над въездными воротами перед оконным проемом квартиры располагается балкон или лоджия, шириной не менее 1,0 м | C46: НЕ ПРИМЕНЯЕТСЯ | E46: НД | F46: СП 506.1311500.2021, п. 5.10 или СП 113.13330.2023, п. 6.2.6 | I46: АР
A47: =A46+1 -> 32 | B47: В случае размещения проемов помещений иного назначения в радиусе менее 4 м от проема автостоянки предусмотрено их противопожарное заполнение | C47: ДА | D47: Указано в Прим. 1эт. | E47: НД | F47: СП 4.13130.2013, п. 6.11.8; | I47: АР
A48: =A47+1 -> 33 | B48: В случае, если кровля над рампой выходит за пределы высотной части здания, примыкающий фасад выполнен без окон на высоту не менее 8 м по вертикали и 4 м по горизонтали, либо покрытие кровли выполнено с пределом огнестойкости не менее RE60 (пирог кровли должен быть показан на разрезе) | C48: НЕ ПРИМЕНЯЕТСЯ | D48: нависает кровля на 4230мм, пристроенной, одно-этажной, рампы въезда | E48: НД | F48: СП 2.13130.2013, п. 5.4.13 | I48: АР
B49: На плане предусмотрены и показаны:
A50: =A48+1 -> 34 | B50: - помещение охраны (с естественным освещением) | C50: ДА | E50: МФР | F50: МФР. Рекомендации по проектированию от 03.12.2020, стр. 27 | I50: АР
A51: =A50+1 -> 35 | B51: - помещение уборочной техники (одно на автостоянку) | C51: ДА | E51: МФР | F51: МФР. Рекомендации по проектированию от 03.12.2020, стр. 27 | I51: АР
A52: =A51+1 -> 36 | B52: - помещение электрощитовой (одно на автостоянку) | C52: ??? | E52: МФС | F52: МФС | H52: Оптимизация технических решений | I52: ЭОМ
A53: =A52+1 -> 37 | B53: - помещение венткамер для систем общеобменной вентиляции для каждого пожарного отсека | C53: НЕТ | D53: 2024.03.12 Отсутствует в ПО 1 | E53: МФР | F53: МФР. Рекомендации по проектированию от 03.12.2020, стр. 27 | G53: Откорректировано 2403015 | I53: ОВ
A54: =A53+1 -> 38 | B54: - помещение венткамер для систем противодымной защиты для каждого пожарного отсека | C54: НЕТ | D54: 2024.03.12 Площадь венткамер ПД подземной части и жилых секций принять не менее 25 м2 каждая | E54: МФР | F54: МФР. Рекомендации по проектированию от 03.12.2020, стр. 27 | G54: Откорректировано 2403015 | I54: ОВ
A55: =A54+1 -> 39 | B55: - помещение насосной станции пожаротушения (АУПТ, одно на автостоянку) | C55: ДА | E55: МФР | F55: МФР. Рекомендации по проектированию от 03.12.2020, стр. 27 | I55: ВК
A56: =A55+1 -> 40 | B56: - пути движения автомобилей | C56: ДА | E56: МФС | F56: МФС | H56: Неоднократные замечания МФР | I56: АР
A57: =A56+1 -> 41 | B57: - пути эвакуации пешеходов | C57: ДА | E57: МФС | F57: МФС | H57: Неоднократные замечания МФР | I57: АР
A58: =A57+1 -> 42 | B58: - лотки для сбора воды от системы пожаротушения в зоне парковки, в том числе лотки у въездной рампы и между пожарными отсеками, все лотки должны быть объединены в одну систему ливнестока автостоянки | C58: НЕТ | D58: см. также: Согласовать решение (уточнить необходимость устройства) с разделом МПБ по устройству лотка на въезде/выезде в рампу - как правило в местах выезда (въезда) на рампу должны предусматриваться мероприятия по предотвращению возможного растекания топлива ( лотки для стекания топлива ). Лоток для сбора топлива подключается к отдельному приямку без установки дренажного насоса. 2024.03.12: Обосновать два лотка на въезде в рампу. Не обозначен приямок, к которому подключается лоток между осями П.6-П.7 и П.Д-П.Ж. Рассмотреть возможность устройства одного лотка и приямка на въезде в рампу. ( для защиты от растекания топлива) | E58: НД | F58: СП 30.13330.2020 п.20.14; СП 113.13330.2016, Изм1 от 17.09.2019, п. 5.1.36 | G58: Лотки добавлены в АР.240227 | I58: ВК
A59: =A58+1 -> 43 | B59: - приямки в технических помещениях | C59: НЕТ | D59: Предусмотреть приямки в технических помещениях(в т.ч. в венткамерах). Принять рекомендуемые размеры согласно ПИК-Стандарту(для возможности размещения оборудования): 1. для установки одного дренажного насоса в тех помещениях - не менее 600х600х600h, 2.для установки двух дренажных насосов в тех помещениях (НС, ИТП, УУТ, ВУ и т.д.) - не менее 1000х600х800h, 3. для установки двух дренажных насосов в автостоянке - не менее 2000х1000х1000h. см. ПИК-Стандарт "Альбом типовых решений. Узлы ВК" 2024.03.12: 1. Добавить приямок в ИТП 2. Обозначить размеры приямков согласно ПИК-Стандарту 3. В помещениях 1.Т.1, 2.Т.2, 3.Т.1 и т.д.(венткамеры) не предусмотрены приямки - согласовать с разделом ОВ необходиость их установки в помещениях венткамер. При необходимости - добавить на план | E59: НД | F59: СП 30.13330.2020 п.20.14; Чек-лист МФР 2 этап, | G59: приямки добавлены 1.В ИТП приямки добавлены. 2.Размеры приямков добавлены. | I59: ВК
B60: Предусмотрено размещение насосной АУПТ, выход из которой предусмотрен одним из способов: | H60: Необходима проверка правильности расположения относительно эвакуационных лестниц, есть возможность последующей оптимизации
A61: =A59+1 -> 44 | B61: - непосредственно наружу | C61: НЕ ПРИМЕНЯЕТСЯ | E61: НД | F61: СП 485.1311500.2020, п. 6.10.10 | I61: АР
A62: =A61+1 -> 45 | B62: - на эвакуационную лестничную клетку | C62: ДА | E62: НД | F62: СП 485.1311500.2020, п. 6.10.10 | I62: АР
A63: =A62+1 -> 46 | B63: - в коридор, ведущий в эвакуационную лестничную клетку | C63: НЕ ПРИМЕНЯЕТСЯ | E63: НД | F63: СП 485.1311500.2020, п. 6.10.10 | I63: АР
B64: На разрезе показаны пироги покрытия автостоянки минимум для 3-х вариантов покрытий (пожарный проезд, тротуар, газон), путем комбинации пирогов ГП и АР - учитывая различные составы:
A65: =A63+1 -> 47 | B65: - архитектурный пирог соответствует требованиям ПИК-стандарт | C65: ОТСУТСТВУЕТ | E65: ПИК | F65: Правила проектирования. Наружные ограждающие конструкции. Покрытие, кровля от 09.08.2021 | I65: АР, ГП
A66: =A65+1 -> 48 | B66: - пирог ГП соответствует требованиям альбома типовых дорожных конструкций Москвы | C66: ОТСУТСТВУЕТ | E66: НД | F66: Альбом типовых дорожных конструкций для города Москвы, МАДИ, 2020 г | I66: АР, ГП
A67: =A66+1 -> 49 | B67: - суммарная толщина пирога покрытия автостоянки не менее 1,46 м, что обеспечивает размещение кабельной канализации с железобетонными колодцами типа ККСр-1 (1155мм) и полимерными колодцами типа КК2 (900 мм) | C67: ОТСУТСТВУЕТ | E67: НД | F67: Распоряжение ДИТ Москвы №64-16-129/18 от 23.03.2018 г. п. 5.2.2.3, пп. 4.; ВСН 116-93, табл. 6.5 | H67: Толщина менее 0,6 м требует индивидуальной разработки пирога и требует обоснования Толщина более 1,6 м ведет к удорожанию и требует обоснования | I67: АР, ГП
A68: =A67+1 -> 50 | B68: - в локальных местах толщина пирога покрытия не менее 0,6м при отсустсвии на этих участках опор освещения и кабельной канализации | C68: ОТСУТСТВУЕТ | E68: МФС | F68: МФС | I68: АР, ГП
B69: ОБЩЕДОМОВЫЕ ТЕХНИЧЕСКИЕ ПОМЕЩЕНИЯ
A70: =A68+1 -> 51 | B70: Предусмотрены помещения для размещения Узла учета тепловой энергии и индивидуального теплового пункта (возможно их объединение в одном помещении). Площади достаточны для размещения оборудования расчетной тепловой мощности). | C70: ДА | D70: Исключить прокладку систем ВК через помещение ИТП | E70: МФС | F70: МФС | H70: Подрядчики не прорабатывают вопрос достаточности площади ИТП, что в последствии приводит к необходимости корректировки планировочных решений | I70: ОВ
A71: =A70+1 -> 52 | B71: Размещение ИТП в зании и ввод теплосети предусмотрены непосредственно у наружной стены | C71: ДА | E71: НД | F71: СП 124.13330.2012 Изм 3 от 31.05.2022, п. 14.24; СП 60.13330.2020, п.6.1.6; СП 510.1325800, п. 7.5 | H71: Необходима проверка правильности расположения относительно эвакуационных лестниц, есть возможность последующей оптимизации | I71: АР
B72: Количество выходов из ИТП:
A73: =A71+1 -> 53 | B73: - при длине помещения менее 12 м один выход непосредственно на лестничную клетку | C73: НЕ ПРИМЕНЯЕТСЯ | E73: НД | F73: СП 60.13330.2020, п.6.1.6; | I73: АР
A74: =A73+1 -> 54 | B74: - при длине помещения более 12 м - 2 выхода, один из которых ведет в эвакуационную лестничную клетку | C74: ДА | E74: НД | F74: СП 60.13330.2020, п.6.1.6; | G74: В ИТП устроено 2 выхода, один из которых ведет в эвакуационную лестничную клетку. | I74: АР
A75: =A74+1 -> 55 | B75: Предусмотрено помещение для водопроводого ввода (ВВ) и повысительной насосной станции (ПНС). | C75: ДА | E75: МФС | F75: МФС | H75: Оптимизация технических решений | I75: АР
A76: =A75+1 -> 56 | B76: ВВ располагается непосредственно у наружной стены здания | C76: ДА | E76: МФС | F76: МФС | H76: Оптимизация технических решений | I76: АР
A77: =A76+1 -> 57 | B77: Помещения ИТП, ВВ, ПНС, и АУПТ размещены смежно или в непосредственной близости друг от друга | C77: ДА | E77: МФС | F77: МФС | H77: Оптимизация технических решений | I77: АР
A78: =A77+1 -> 58 | B78: Предусмотрены и условно показаны приямки для ввода электрокабелей, расположенные под помещениями электрощитовых, глубиной 1,0 м | C78: НЕ ПРИМЕНЯЕТСЯ | E78: МФР | F78: МФР. Рекомендации по проектированию от 03.12.2020, стр.
A79: =A77+1 -> 58 | B79: Предусмотрено размещение электрощитовых помещений. Помещения не располагаются под и смежно с "мокрыми помещениями" | C79: ДА | E79: НД | F79: СанПиН 2.1.3684-21, п. 137; МФР. Рекомендации по проектированию от 03.12.2020, стр. 14; | G79: Добавлено перекрытие над тех. помещениями -1 этажа с организацией тех. пространства. 240227 | I79: АР
A80: =A79+1 -> 59 | B80: Выход из электрощитовой в автостоянку организован через тамбур-шлюз | C80: МФР | D80: коридоры не устроены, подпор не обеспечен | G80: В соответствии с п.8.4.3 СП1.13130.2020 эвак. выходы из помещений технического назначения (для инженерного оборудования), допускается предусматривать через помещения для хранения автомобилей. Так же, в то же время, в соответствии с п.6.1.3 СП 506 от 2021 В зданиях (пожарных отсеках) стоянок автомобилей допускается предусматривать служебные помещения для персонала, технического назначения, помещения для посетителей в соответствии с СП 113.13330.
A81: =A80+1 -> 60 | B81: Предусмотрены помещения слаботочных систем (одно на каждый надземный пожарный отсек, но не менее, чем одно на 3 секции), площадью не менее 10 м2. Количество помещений определено из расчета длины линии распределительной сети (от телекоммуникационного шкафа до квартирного телекоммуникационного шкафа) не более 90 метров. | C81: ДА | E81: МФР | F81: МФР. Рекомендации по проектированию от 03.12.2020, стр. 14 | I81: АР
A82: =A81+1 -> 61 | B82: В случае расположения общедомовых электрощитовых и слаботочных систем в автостоянке, выходы из них предусмотрены в отдельных коридор с устройством дымоудаления | C82: МФР | D82: коридоры не устроены, подпор не обеспечен | G82: В соответствии с п.8.4.3 СП1.13130.2020 эвак. выходы из помещений технического назначения (для инженерного оборудования), допускается предусматривать через помещения для хранения автомобилей. Так же, в то же время, в соответствии с п.6.1.3 СП 506 от 2021 В зданиях (пожарных отсеках) стоянок автомобилей допускается предусматривать служебные помещения для персонала, технического назначения, помещения для посетителей в соответствии с СП 113.13330. | I82: АР
B83: ЗАЩИТНОЕ СООРУЖЕНИЕ ГО
A84: =A82+1 -> 62 | B84: Подтверждена емкость ЗСГО для возможности укрытия людей, в количестве, указанном в ЗнП (на плане изображена зонзмещения ЗСГО с расстановкой оборудования и обозначенными путями эвакуации) | C84: НЕ ПРИМЕНЯЕТСЯ | E84: МФС | F84: МФС | H84: Подрядчики не прорабатывают вопрос размещения ЗСГО | I84: АР
A85: =A84+1 -> 63 | B85: Количество и ширина входов в укрытие определены расчетом в соответстви с НД, но не менее 2-х | C85: НЕ ПРИМЕНЯЕТСЯ | E85: НД | F85: СП 88.13330.2022, п. 7.1.7 | I85: АР
A86: =A85+1 -> 64 | B86: Высота помещения укрытия не менее 1,9 м от отметки пола до низа выступающих конструкций потолка | C86: НЕ ПРИМЕНЯЕТСЯ | E86: НД | F86: СП 88.13330.2022, п. 7.1.2, 6.1.4 | I86: АР
B87: ------------------------------------------------------------------------------------------------

Sheet КОНСТР
B1: ИТОГ
A2: № | B2: ='ПОДЗ'!B2 -> Требования к проектным решениям | C2: СТАТУС | D2: Комментарий | F2: Ссылка на норматив | G2: Ответ разработчика | H2: Обоснование необходимости требования
A3: ВСЕГО | B3: ДА | C3: =COUNTIF(C9:C39,"ДА") -> 5 | F3: =SUM(F4:F7) -> 22
A4: =COUNTA(A9:A39) -> 22 | B4: НЕТ | C4: =COUNTIF(C9:C39,"НЕТ") -> 16 | D4: Требования НД | E4: НД | F4: =COUNTIF(E9:E153,"НД") -> 1
B5: ОТСУТСТВУЕТ | C5: =COUNTIF(C9:C39,"ОТСУТСТВУЕТ") -> 0 | D5: Рекомендации МФР | E5: МФР | F5: =COUNTIF(E9:E153,"МФР") -> 3
B6: НЕ ПРИМЕНЯЕТСЯ | C6: =COUNTIF(C9:C39,"НЕ ПРИМЕНЯЕТСЯ") -> 0 | D6: ПИК-стандарт | E6: ПИК | F6: =COUNTIF(E9:E153,"ПИК") -> 11
B7: Согласовано с МФР | C7: =COUNTIF(C9:C39,"МФР") -> 0 | D7: МФС | E7: МФС | F7: =COUNTIF(E9:E153,"МФС") -> 7
B8: НЕ ОТВЕЧЕННЫЕ | C8: =A4-C3-C4-C5-C6-C7 -> 1
B9: НАДЗЕМНАЯ ЧАСТЬ
A10: =A9+1 -> 1 | B10: Шаг осей выполнен с учетом облицовки фасада навесными панелями, а также плиткой или кирпичем на подсистеме, обеспечена кратность 150 мм | C10: НЕТ | D10: привести в соответствие с "Стандарт проектирования. Конструктивные решения.Реновация.2-я редакция" Не исправлино. См. С6 эт 2 3А-3Б С5 оси 2.2 - 2.4; 2.9 - 2.10 и далеее | E10: ПИК | F10: ПИК. Стандарт проектирования. Конструктивные решения. Реновация. 2-я ред. от 26.01.2022, п. 4.9, рис 11, п. 4.14.2
A11: =A10+1 -> 2 | B11: Расстояние от крайнего пилона (не в зоне стыковки секций) или пилона на повороте монолитных конструкций секции до оси должно быть 40 мм | C11: НЕТ | D11: привести в соответствие с "Стандарт проектирования. Конструктивные решения.Реновация.2-я редакция" Направить ДВГ | E11: ПИК | F11: ПИК. Стандарт проектирования. Конструктивные решения. Реновация. 2-я ред. от 26.01.2022, п. 4.14.2, рис. 28,29,31,32,33,34
A12: =A11+1 -> 3 | B12: Расстояние от края монолитной конструкции до оконного проема не менее 250 мм | C12: ДА | E12: ПИК | F12: ??? | G12: В проекте условие выполняется
A13: =A12+1 -> 4 | B13: Расстояние от монолитной конструкции ЛЛУ на кровле до крайней оси вдоль плиты покрытия тех этажа не менее 910 мм | C13: НЕТ | D13: перенести стену миним. на 910мм, Указать размеры на плане кровли. Зайцева М.С.: Обращаю внимание, что одна из концепций фасадов включает конструкцию "волны", которая должнва проходить между парапетом и ЛЛУ. | E13: ПИК | F13: ПИК. Альбом типовых узлов. Вертикальные конструкции технического пространства и кровли. ЖД-ТА-РЕН-КР-КЖ5.1/5.3 | G13: В проекте заложено расстояние 1450мм
A14: =A13+1 -> 5 | B14: Шаг контрфорсов на кровле не более 4200 мм | C14: НЕТ | D14: не показаны. Максимально сократить места с панелями более 4200мм | E14: ПИК | F14: ПИК. Стандарт проектирования. Конструктивные решения. Реновация. 2-я ред. от 26.01.2022, п. 4.10, рис 15 | G14: Согластно Стандарту, шаг контрофорсов до 7200 с устройством промежуточного крепления к закладной в плите покрытия. Стандарт проектирования. Конструктивные решения. Реновация. 2-я редакция пункт 4.10 рис.15
A15: =A14+1 -> 6 | B15: Максимальное расстояние между точками крепления панелей к вертикальным конструкциям не более 7200 мм | C15: ДА | E15: ПИК | F15: ПИК. Стандарт проектирования. Конструктивные решения. Реновация. 2-я ред. от 26.01.2022, п. 4.9, рис 11 | G15: В проекте условие выполняется
A16: =A15+1 -> 7 | B16: Минимальный горизонтальный размер применяемых панелей - не менее 1200 мм | C16: ДА | E16: ПИК | F16: ??? | G16: В проекте условие выполняется | H16: Для отслеживания изломов фасада
B17: При необходимости в устройстве деформационного шва между жилыми секциями межосевые расстояния между крайними осями смежных секций составляют | H17: Для сблокированных секций разной этажности не обязательно устройство деформационного шва, но его отсутствие должгно быть подтверждено ОСК
A18: =A16+1 -> 8 | B18: 680 мм при разной этажности | C18: НЕТ | D18: показать на плане оси смежных секций Направить ДВГ | E18: ПИК | F18: ПИК. Стандарт проектирования. Конструктивные решения. Реновация. 2-я ред. от 26.01.2022, п. 4.10, рис 25,26 | G18: Для оптимизации ОПР и технических решений рекомендуеся использовать деформационный шов шириной 50мм. При выполнении данного требования потребуется переосмысление всей квартирографии из-за огромного влияния на площади квартир. По аналогичным проектам данное отступление рассматривалось и принималось в рабочем порядке для достижения ТЭП. Данное решение не является риском проекта. Просьба рассмотреть текущее решение
A19: =A18+1 -> 9 | B19: 550 мм при одинаковой этажности | C19: НЕТ | D19: показать на плане оси смежных секций Направить ДВГ | E19: ПИК | F19: ПИК. Стандарт проектирования. Конструктивные решения. Реновация. 2-я ред. от 26.01.2022, п. 4.10, рис 27 | G19: Не применяется в рамках проекта
A20: =A19+1 -> 10 | B20: Лестничные пролеты надземных этажей выполнены с помощью сборных железобетонных лестничных маршей | C20: НЕТ | D20: уазать на разрезе | E20: ПИК | F20: ??? | G20: требование выполняется см разрез 5-5, 3-3 | H20: Оптимизация технических решений
A21: =A20+1 -> 11 | B21: Общий объем монолитных конструкций не менее 0,16 м3 на 1 м2 общей площади этажа (секции) | C21: НЕТ | D21: 0,143, добавить вертикальных стен. Направить ДВГ | E21: ПИК | F21: ??? | G21: КР уточнены. Условие выполняется 0,164м3/м2
B22: ПОДЗЕМНАЯ ЧАСТЬ
A23: =A21+1 -> 12 | B23: Максимальное расстояние между температурно-усадочными швами составляет не более 50 м | C23: ДА | E23: НД | F23: СП 63.13330.2018, п. 10.1а | G23: Принято. В корпусе 1 между секциями 1 и 2 используется временный температурно-осадочный шов на период строительно-монтажных работ. (отображено в альбоме на плане 1го этажа)
B24: Толщина фундаментной плиты принята: | H24: На АПР не будет подтверждения расчетами
A25: =A23+1 -> 13 | B25: - под жилыми секциями до 19 этажей - не более 800 мм | C25: НЕТ | D25: уазать на разрезе, лист не найден, рассм. АПР | E25: МФР | F25: № ФР-11-16216/22-7 | G25: выполнено - см. отдельный лист
A26: =A25+1 -> 14 | B26: - под жилыми секциями свыше 19 до 25 этажей - не более 900 мм | C26: НЕТ | D26: уазать на разрезе, лист не найден, рассм. АПР | E26: МФР | F26: № ФР-11-16216/22-7 | G26: выполнено - см. отдельный лист
A27: =A26+1 -> 15 | B27: - под подземной автостоянкой - не более 500 мм | C27: НЕТ | D27: уазать на разрезе, лист не найден, рассм. АПР | E27: МФР | F27: № ФР-11-16216/22-7 | G27: выполнено - см. отдельный лист
A28: =A27+1 -> 16 | B28: Фундаментная плита выполняется ровной, без перепадов, на одной отметке, допускаются локальные понижения в лифтовых шахтах | C28: НЕТ | D28: ФП показана условно, требуется датализация | E28: МФС | F28: МФС | G28: выполнено | H28: Оптимизация технических решений
A29: =A28+1 -> 17 | B29: При необходимости устройства перепадов фундаментной плиты для адаптации к рельефу, излом плиты допускается выполнять по деформационному шву между высотными секциями или между секциями и подземной частью автостоянки. | C29: ??? | E29: МФС | F29: МФС | G29: выполнено | H29: Оптимизация технических решений
A30: =A29+1 -> 18 | B30: Низ плиты автостоянки не должен быть заглублен ниже плиты высотной части | C30: ДА | E30: МФС | F30: МФС | G30: Условие в проекте выполняется | H30: Оптимизация технических решений
A31: =A30+1 -> 19 | B31: На плане -1 этажа показан деформационный шов между высотными секциями и автостоянкой | C31: НЕТ | D31: Направить ДВГ | E31: МФС | F31: МФС | G31: выполнено
A32: =A31+1 -> 20 | B32: Деформационный шов не пересекает технические помещения и эвакуационные коридоры | C32: НЕТ | D32: Оси на плане гаража не соответствуют осям секций. дать план гаража в двг с осями секций Направить ДВГ | E32: МФС | F32: МФС | G32: нет не выполнено !!!!
A33: =A32+1 -> 21 | B33: Деформационный шов выполнен максимально прямым, без незначительных выступов и уступов | C33: НЕТ | D33: нанести на план, направить ДВГ | E33: МФС | F33: МФС | G33: нет не выполнено !!!!
A34: =A33+1 -> 22 | B34: Контур подземной части здания выполнен максимально прямым, без незначительных выступов и уступов | C34: НЕТ | D34: нанести на план, направить ДВГ | E34: МФС | F34: МФС | G34: выполнено, см. план подземного этажа
B35: При наличии примыкающего подземного паркинга к жилой секции / башне 16 эт. и более и при отсечении их между собой деформационным швом, предусмотрен один из вариантов решения:
B36: - при западающих или выступающих частях фасада жилой части здания со стороны примыкающего паркинга, фундамент здания выпрямлен по выступающей части несущих конструкций здания, особенно в зоне деформационного шва между двумя жилыми секциями и подземных паркингом | G36: выполнено
B37: Деформационный шов, по-возможности, выполнен далее выступающей части несущих консрукций у фасада здания с отступом от жилой секции вглубь паркинга (вылет / уширение у фундаментной плиты жилой секции / башни). Оптимальный размер вылета 1000-1500мм, с учетом возможности расставить вертикальные несущие конструкции паркингаи обеспечением проезда машин. При меньшем вылете (особенно при его отсутствии), требуется обоснование, что рассмотрено несколько вариантов расстановки несущих конструкций подземного паркинга и иначе не получится. | G37: выполнено
B39: ------------------------------------------------------------------------------------------------

Sheet ГЕНПЛАН
B1: ИТОГ
A2: № | B2: ='ПОДЗ'!B2 -> Требования к проектным решениям | C2: СТАТУС | D2: Комментарий | F2: Ссылка на норматив | G2: Ответ разработчика | H2: Обоснование необходимости требования
A3: ВСЕГО | B3: ДА | C3: =COUNTIF(C9:C75,"ДА") -> 32 | F3: =SUM(F4:F7) -> 50
A4: =COUNTA(A9:A75) -> 50 | B4: НЕТ | C4: =COUNTIF(C9:C75,"НЕТ") -> 6 | D4: Требования НД | E4: НД | F4: =COUNTIF(E9:E165,"НД") -> 29
B5: ОТСУТСТВУЕТ | C5: =COUNTIF(C9:C75,"ОТСУТСТВУЕТ") -> 4 | D5: Рекомендации МФР | E5: МФР | F5: =COUNTIF(E9:E165,"МФР") -> 8
B6: НЕ ПРИМЕНЯЕТСЯ | C6: =COUNTIF(C9:C75,"НЕ ПРИМЕНЯЕТСЯ") -> 7 | D6: ПИК-стандарт | E6: ПИК | F6: =COUNTIF(E9:E165,"ПИК") -> 0
B7: Согласовано с МФР | C7: =COUNTIF(C9:C75,"МФР") -> 2 | D7: МФС | E7: МФС | F7: =COUNTIF(E9:E165,"МФС") -> 13
B8: НЕ ОТВЕЧЕННЫЕ | C8: =A4-C3-C4-C5-C6-C7 -> -1
B9: ОБЩИЕ
B10: Соблюдены требования ГПЗУ по размещению объекта в части:
A11: 1 | B11: - границ земельного участка | C11: ДА | E11: МФР | F11: Чек-лист МФР 1 этапа
A12: =A11+1 -> 2 | B12: - суммарной поэтажной площади в ГНС | C12: ДА | D12: АПР - 64961,80 ГПЗУ - 70377,66 | E12: МФР | F12: Чек-лист МФР 1 этапа | H12: Вопрос снимется новым ГПЗУ после согласования посадки
A13: =A12+1 -> 3 | B13: - высотности | C13: ДА | D13: АПР - 69,940 ГПЗУ - 85,000 | E13: МФР | F13: Чек-лист МФР 1 этапа | H13: Вопрос снимется новым ГПЗУ после согласования посадки
A14: =A13+1 -> 4 | B14: Контуры наземной и подземной частей здания размещены в границах подзоны, выделенной для размещения Объекта с учётом козырьков и прочих навесных конструкций здания. | C14: ОТСУТСТВУЕТ | D14: Требуется подтверждение проектировщика | E14: МФР | F14: Чек-лист МФР 1 этапа
A15: =A14+1 -> 5 | B15: Посадка объекта выполнена в соответствии с градостроительной концепцией, представленной в ППТ или в градостроительном обосновании (при отсутствии ППТ) | C15: ДА | E15: НД | F15: ???
A16: =A15+1 -> 6 | B16: Посадка объекта обеспечивает требования к инсоляции и КЕО жилых комнат и площадок проектируемого объекта и окружающей застройки | C16: ОТСУТСТВУЕТ | D16: Инсоляцонный расчёт не предоставлен | E16: НД | F16: СанПиН 2.1.3684-21, п. 125, 130; СанПиН 1.2.3685-21, п. 138... 168;
B17: Размещение объекта относительно соседних жилых домов обеспечивает минимальные расстояния:
A18: =A16+1 -> 7 | B18: - не менее 20 м между продольными фасадами, ориентированными друг напротив друга | C18: ДА | E18: НД | F18: СП 42.13330.2016 изм 3 от 31.05.2022, п. 7.1
A19: =A18+1 -> 8 | B19: - не менее 10 м между продольным фасадом и торцом здания, не имеющим окон | C19: ДА | E19: НД | F19: СП 42.13330.2016 изм 3 от 31.05.2022, п. 7.1
A20: =A19+1 -> 9 | B20: Размещение объекта на участке и благоустройство территории выполнены с учетом существующего и проектируемого рельефа местности, перепадов высот между наиболее удаленными точками участка | C20: ОТСУТСТВУЕТ | D20: План организации рельефа не предоставлен. | E20: НД | F20: ??? | H20: На площадках со значительным перепадом высот (2,0 м и более) не всегда получается организовать транспортное обслуживание как в ППТ, необходимо разрабатывать индивидуальные решения, влияющие на планировки этажей зданий
A21: =A20+1 -> 10 | B21: Ширина пешеходных путей для МГН не менее 2,0 м | C21: ДА | E21: НД | F21: СП 59.13330.2020, п. 5.1.7
A22: =A21+1 -> 11 | B22: Продольные уклоны пешеходных путей, предназначенных для движения МГН не превышают 4% | C22: ОТСУТСТВУЕТ | D22: План организации рельефа не предоставлен | E22: НД | F22: СП 59.13330.2020, п. 5.1.7
A23: =A22+1 -> 12 | B23: Размещение объекта выполнено с учетом решений по сетям и сооружениям инженерной инфраструктуры, предусмотренной КСИО, а также проектами сноса объектов и демонтажа сетей, расположенных в непосредственной близости к проектируемому Объекту | C23: ДА | E23: НД | F23: ??? | H23: Необходимо учитывать проектные решения, которые были разработаны для объектов сноса или демонтажа сетей, объемы работ к по которым не входят в этап строительства Обхекта
A24: =A23+1 -> 13 | B24: Схемы транспортного обслуживания объекта обеспечивают доступ пешеходов и транспорта к Объекту на всех этапах реализации решений по окружающей застройке | C24: ДА | E24: НД | F24: № МКА-03-2380/23 от 12.04.2023 | H24: Количество этапов должно быть не менее двух (существующее на момент ввода в эксплуатацию Объекта и проектное на момент ввода в эксплуатацию всех объектов окружающей застройки и УДС). Большее колиество этапов определяется последовательностью строительства и ввода в эксплуатацию окружающих объектов и их влиянием на доступ к Объекту
A25: =A24+1 -> 14 | B25: Проезды в границах земельного участка исключают их использование как дублеров для соседних улиц в красных линиях | C25: ДА | E25: НД | F25: № МКА-03-2380/23 от 12.04.2023
A26: =A25+1 -> 15 | B26: Предусматривается устройство дворовой территории с ограничением доступа автомобилей и транзитного движения | C26: ДА | E26: МФР | F26: МФР. Рекомендации по проектированию от 03.12.2020, стр. 92
A27: =A26+1 -> 16 | B27: Предусматривается устройство пожарных проездов и площадок для размещения пожарной техники в соответствии с НД | C27: ДА | D27: При условии использования тротуара в Пр.пр. №7993 Исключить штриховку зоны движения пожарной техники (красная клетка) и отображение площадок для пож. техники. | E27: НД | F27: СП 4.13130.2013 в ред. от 15.06.2022, гл 8 | H27: Требуется тщательная проверка соблюдения требований, в том числе для определения необходимости в разработке индивидуального плана расстановки пожарной техники или для дополнительного благоустройства вне границ участка. Особенно критична ситуация, когда линия фасада проходит вдоль красной линии УДС
A28: =A27+1 -> 17 | B28: При расположении фасада здания вдоль УДС проезд пожарной техники обеспечивается в границах Красных линий УДС | C28: ДА | D28: При условии использования тротуара в Пр.пр. №7993 | E28: НД | F28: Постановление Правительства Москвы от 11.04.2023 №558-ПП, п. 3.4
A29: =A28+1 -> 18 | B29: Тупиковые проезды протяженностью не более 150 м. | C29: ДА | E29: НД | F29: СП 42.13330.2016 Изм3 от 31.05.2022, п. 11.7
A30: =A29+1 -> 19 | B30: Тупиковые проезды заканчиваются разворотной площадкой 15х15м. | C30: ДА | E30: НД | F30: СП 42.13330.2016 Изм3 от 31.05.2022, п. 11.7, 11.11
B31: Соблюдены расстояния от въездов в автостоянку до:
A32: =A30+1 -> 20 | B32: - 50 м до перекрестков магистральных улиц | C32: НЕ ПРИМЕНЯЕТСЯ | E32: НД | F32: СП 42.13330.2016 Изм3 от 31.05.2022, п. 11.38
A33: =A32+1 -> 21 | B33: - 20 м до улиц местного значения | C33: НЕ ПРИМЕНЯЕТСЯ | E33: НД | F33: СП 42.13330.2016 Изм3 от 31.05.2022, п. 11.38
A34: =A33+1 -> 22 | B34: - 30 м до остановок общественного транспорта | C34: НЕ ПРИМЕНЯЕТСЯ | E34: НД | F34: СП 42.13330.2016 Изм3 от 31.05.2022, п. 11.38
B35: Перед въездом в подземную автостоянку предусмотрена накопительная площадка, длиной | C35: МФР
A36: =A34+1 -> 23 | B36: - не менее 12 м при вместимости более 100 м\м | C36: МФР | E36: МФР | F36: МФР. Рекомендации по проектированию от 03.12.2020, стр. 104
A37: =A36+1 -> 24 | B37: - не менее 6 м при вместимости менее 100 м\м | C37: НЕ ПРИМЕНЯЕТСЯ | E37: МФР | F37: МФР. Рекомендации по проектированию от 03.12.2020, стр. 104
B38: Потребность Объекта в парковочных местах для постоянного хранения автомобилей определен одним из способов:
A39: =A37+1 -> 25 | B39: - не менее, чем по расчету, выполненному в соответствии с НД | C39: НЕ ПРИМЕНЯЕТСЯ | E39: НД | F39: СП 42.13330 или РНГП, утв. №945-ПП от 23.12.2015 в ред от 24.12.2019 или СТУ | H39: Подрядчики как правило не соблюдают минимально необходимые требования к размещению парковочных мест в соотетствии с потребностью объекта
A40: =A39+1 -> 26 | B40: - не менее, чем в по расчету, выполненному на основании протокола ГЗК в случае, если Объект включен в Перечень, утверждаемый на ГЗК Москвы | C40: НЕТ | D40: В расчёте машино-мест актуализировать общую площадь квартир и БКТ в соответствии с ТЭП и экспликации помещений 1 этажа Дефицит: 20 м/м - гостевые 23 м/м - приобъектные | E40: НД | F40: Протокол ГЗК Москвы №22 от 07.07.2022; РНГП, утв. №945-ПП от 23.12.2015 в ред от 24.12.2019 | G40: Расчет м/м выполнен в соответствии с ЗнП и заданием Заказчика. Расчет прилагаем | H40: Подрядчики как правило не соблюдают минимально необходимые требования к размещению парковочных мест в соотетствии с потребностью объекта
A41: =A40+1 -> 27 | B41: Потребность в гостевых или приобъектных парковочных местах не менее, чем по расчету в соответствии с НД | C41: НЕТ | D41: Дефицит: 20 м/м - гостевые 23 м/м - приобъектные | E41: НД | F41: РНГП, утв. №945-ПП от 23.12.2015 в ред от 24.12.2019 | G41: Расчет м/м выполнен в соответствии с ЗнП и заданием Заказчика. Расчет прилагаем | H41: Подрядчики как правило не соблюдают минимально необходимые требования к размещению парковочных мест в соотетствии с потребностью объекта
A42: =A41+1 -> 28 | B42: При наличии на территории трансформатороной подстанции ПАО "МОЭСК" (отдельно стоящей или встроенной), предусмотрены пути подъезда к воротам и площадка для разгрузки трансформаторов | C42: ДА | E42: МФР | F42: Письмо №ФР-28-6776/19-2 от 26.12.2019; Письмо №МКС/01/22983 от 09.12.2019
A43: =A42+1 -> 29 | B43: Соблюдены минимально допустимые противопожарные расстояния между проектируемыми и существующими зданиями и сооружениями в зависимости от их функционального назначения и степени огнестойкости, в том числе от надземных эвакуационных выходов и вентиляционных шахт подземной автостоянки | C43: ДА | E43: НД | F43: СП 4.13130.2023 Изм 3 от 15.06.2022, таблица 1;
A44: =A43+1 -> 30 | B44: На территории предусмотрено размещение новой или использование существующей площадки для сбора, хранения и вывоза ТКО, на расстоянии не менее 20 м от объектов нормирования (окон жилых помещений, площадок для спорта и отдыха) и не более 100 м от наиболее удаленного входа в подъезд. | C44: ДА | E44: НД | F44: СанПиН 2.1.3684-21, гл II, п. 4
A45: =A44+1 -> 31 | B45: В случае невозможности соблюдения расстояния в 20 м, площадка ТКО (существующая или проектируемая) может располагаться на расстоянии не менее 8 м, при этом должно быть подтверждено, что расчетный уровень шума от источника (мусоровоза) до объекта нормирования (окна ж.д. или площадка отдыха) не превышает нормативного (предоставить предварительный акустический расчет) | C45: НЕ ПРИМЕНЯЕТСЯ | E45: НД | F45: СанПиН 2.1.3684-21, гл II, п. 4
A46: =A45+1 -> 32 | B46: Соблюдены минимальные противопожарные расстояния между площадкой ТКО и зданиями (сооружениями) в соответствии с их функциональным назначением и степенью огнестойкости, в том числе от надземных эвакуационных выходов и вентиляционных шахт подземной автостоянки не менее 6,0 м, отдельно стоящих ТП, ЦТП до площадки ТКО не менее 10 м. | C46: ДА | E46: НД | F46: СП 4.13130.2023 Изм 3 от 15.06.2022, таблица 1; Правила противопожарного режима в РФ, утв. ППРФ №1479 от 16.09.2020, в ред от 21.05.2021, п. 65
A47: =A46+1 -> 33 | B47: Обеспечены минимальные расстояния не менее 3,0 м от границы земельного участка до контура подземной части здания для размещения временных строительных конструкций (котлован, шпунт, стена в грунте и т.д.) | C47: НЕТ | D47: 2,10 м. до границы, совпадающей с кр. линией УДС | E47: МФС | F47: МФС | G47: по текущим решениям расстояние от границы ЗУ составляет 2,3 м. При корректировке до 3 метров необходимо будет пересматривать массин и все проектные решения | H47: Оптимизация технических решений для производства СМР
B48: Посадка здания выполнена с учетом обеспечения отступов от существующих объектов капитального строительства на величину опасных зон от падения грузов с кранов и со строящегося здания, оцененных предварительно:
A49: =A47+1 -> 34 | B49: - не менее 10 м для зданий до 75 м | C49: ДА | E49: НД | F49: Пр. Ростехнадзора от 26.11.2020 №461, Прилож. 2 РД 11-06-2007, рис 15
A50: =A49+1 -> 35 | B50: - не менее 18 м для зданий до 75 м с фасадом из НП (Приведен размер зоны для максимального габарита панели 7,0 м. В случае накрывания опасной зоной зданий и сооружений необходим уточняющий расчет, учитывающий конкретный габарит панели) | C50: ДА | E50: НД | F50: Пр. Ростехнадзора от 26.11.2020 №461, Прилож. 2 РД 11-06-2007, рис 15
A51: =A50+1 -> 36 | B51: - не менее 20 м для зданий до 150 м | C51: ДА | E51: НД | F51: Пр. Ростехнадзора от 26.11.2020 №461, Прилож. 2 РД 11-06-2007, рис 15
A52: =A51+1 -> 37 | B52: - не менее 25 м для зданий до 150 м с фасадом из НП (Приведен размер зоны для максимального габарита панели 7,0 м. В случае накрывания опасной зоной зданий и сооружений необходим уточняющий расчет, учитывающий конкретный габарит панели) | C52: ДА | E52: НД | F52: Пр. Ростехнадзора от 26.11.2020 №461, Прилож. 2 РД 11-06-2007, рис 15
B53: Ситуационный план 1:2000
B54: На плане показаны:
A55: =A52+1 -> 38 | B55: - существующие объекты окружающей застройки | C55: ДА | E55: МФС | F55: ??? | H55: Для удобства проверки
A56: =A55+1 -> 39 | B56: - увязка с проектными решениями смежных участков ОКС и УДС | C56: ДА | D56: Выполнить заливку существующих и проектируемых проездов и элементов УДС, использумых для транспортного обслуживания объекта | E56: МФС | F56: ??? | G56: Актуализирована окружающая застройка и УДС | H56: Для удобства проверки
A57: =A56+1 -> 40 | B57: - линии градостроительного регулирования | C57: ДА | E57: МФС | F57: ??? | H57: Для удобства проверки
A58: =A57+1 -> 41 | B58: - линии ограничения ЗОУИТ (СЗЗ, ЗСО и т.д) | C58: ДА | E58: МФС | F58: ???
A59: =A58+1 -> 42 | B59: - зоны от существующих (при условии их сохранения) площадок ТКО, наличие которых должно быть подтверждено действующей Территориальной схемой обращения с ТКО | C59: НЕ ПРИМЕНЯЕТСЯ | E59: МФС | F59: МФС, Распоряжение ДЖКХ Москвы №01-01-14-325/21 от 30.30.2021, Приложение 4 "Перечень адресов ТКО"
A60: =A59+1 -> 43 | B60: - границы подзон ГПЗУ | C60: НЕТ | D60: Границы подзон не читаются. Помимо схемы, показать границы подзон на ситуационном плане и на СПОЗУ. | E60: МФС | F60: ??? | G60: Схема с подзонами вынесена отдельно | H60: Для удобства проверки
B61: Генеральный план 1:500
B62: На плане предусмотрены и показаны:
A63: =A60+1 -> 44 | B63: - гостевые и приобъектные парковки | C63: НЕТ | D63: Дефицит: 20 м/м - гостевые 23 м/м - приобъектные | E63: МФС | F63: ??? | G63: Размещены гостевые и приобъектные машино-места на проектируемой УДС. На территории добавлено 1 гостевое машино-место. | H63: Для удобства проверки
A64: =A63+1 -> 45 | B64: - специализированные места МГН (постоянного храненения и/или гостевые) | C64: ДА | E64: НД | F64: СП 59.13330.2020, п. 3.25, 5.21, 5.24
A65: =A64+1 -> 46 | B65: - площадки отдыха | C65: ДА | D65: Указать в условных обозначениях | E65: МФС | F65: ??? | G65: Добавлено условное обозначение | H65: Для удобства проверки
A66: =A65+1 -> 47 | B66: - спортивные площалки | C66: ДА | D66: Указать в условных обозначениях | E66: МФС | F66: ??? | G66: Добавлено условное обозначение | H66: Для удобства проверки
A67: =A66+1 -> 48 | B67: - детские площадки | C67: ДА | D67: Указать в условных обозначениях | E67: МФС | F67: ??? | G67: Добавлено условное обозначение | H67: Для удобства проверки
A68: =A67+1 -> 49 | B68: - транспортное обслуживание и движение пешеходов, включая МГН, по территории участка | C68: НЕТ | D68: Не показано движение пешеходов Линии движения пешеходов показать от УДС | E68: МФС | F68: ??? | G68: Добавлен путь движения пешеходов | H68: Для удобства проверки
A69: =A68+1 -> 50 | B69: Приведены ТЭПы участка (площади покрытий) | C69: ДА | E69: МФС | F69: МФС | G69: ТЭПы актуализированы
B70: Схема транспортного обеспечения 1:500
B75: ------------------------------------------------------------------------------------------------

Sheet !
A1: ДА
A2: НЕТ
A3: ОТСУТСТВУЕТ
A4: НЕ ПРИМЕНЯЕТСЯ
A5: МФР
A6: ???
