Workbook

Sheet ТЭПы
A2: Наименование помещений | B2: Наименование | C2: Категория производственных процессов | D2: Площадь помещения/ зала | E2: Кол-во работников в смену | F2: Кол-во работников в сутки | G2: Списочный состав | H2: Время работы, продолжительность смены | I2: Наименование помещений от16.12.24
A3: корпус 1
A4: БКТ №1-11 | B4: Административный сотрудник | C4: 1а | D4: 1264 | E4: 63 | F4: 63 | G4: 63 | H4: 8 часов, с 9.00 до 18.00, 5 дней | I4: 1.БКТ.1
A5: корпус 2
A6: БКТ №12-15 | B6: Административный сотрудник | C6: 1а | D6: 575 | E6: 29 | F6: 29 | G6: 29 | H6: 8 часов, с 9.00 до 18.00, 5 дней | I6: 5.БКТ.45
A7: корпус 3
A8: БКТ №16-21 | B8: Административный сотрудник | C8: 1а | D8: 662.3 | E8: 33 | F8: 33 | G8: 33 | H8: 8 часов, с 9.00 до 18.00, 5 дней | I8: 6.БКТ.61
A9: Помещение охраны | B9: Охранник | C9: 1а | E9: 2 | F9: 4 | G9: 8 | H9: 2 смены в сутки по 12 часов
A10: Итого общее: | E10: 127 | F10: 129 | G10: 133

Sheet МВУ
A1: Задание на расчет местных вытяжных устройств
A2: № поз. | B2: Наименование оборудования | C2: Длина, м | D2: Ширина, м | E2: Мощность, кВт | F2: Режим работы оборудования | G2: Коэффициент загрузки | H2: Коэффициент одновременности | I2: Примечание
A3: 1 | B3: 2 | C3: 3 | D3: 4 | E3: 5 | F3: 6 | I3: 7
A4: Первый этаж
A5: Горячий цех с зоной холодного цеха
A6: 1 | B6: Электрическая плита | C6: 1.5 | D6: 0.8 | E6: 22 | F6: 6 дней в неделю, не более 10 часов в день
A7: 2 | B7: Пароконвектомат | C7: 1.2 | D7: 0.7 | E7: 12 | F7: 6 дней в неделю, 5 часов в день

Sheet ВК
A1: Задание на ВК
A2: № поз. | B2: Наименование оборудования | C2: Завод-изготовитель, поставщик | D2: Тип, марка, обозначение документа, опросного листа | E2: Кол-во | F2: Диаметр ХВ, мм | G2: Диаметр ГВ, мм | H2: Диаметр К, мм | I2: Тип канализации | J2: Тип подключения | K2: Расход ХВ, л/час | L2: Расход ГВ, л/час | M2: Расход К, л/час | N2: Режим работы оборудования | O2: Примечание
A3: 1 | B3: 2 | F3: 3 | G3: 4 | H3: 5 | I3: 6 | J3: 7 | K3: 8 | L3: 9 | M3: 10 | N3: 11 | O3: 12
A4: Первый этаж
A5: Горячий цех
A6: 2 | B6: Пароконвектомат | F6: 12.7 | H6: 50 | I6: К3 | J6: Труба
A7: 4 | B7: Котел пищеварочный | F7: 12.7 | H7: 50 | I7: К3 | J7: Лоток с трапом / Щелевой трап перед котлом
A8: 5 | B8: Моечная ванна | F8: 12.7 | G8: 12.7 | H8: 50 | I8: К3 | J8: Лоток с трапом / Щелевой трап перед котлом
A9: Постирочная
A10: 6 | B10: Стиральная машина | F10: 12.7 | H10: 40 | I10: К1 | J10: Труба | K10: 56 | M10: 56

Sheet ОВ
A1: Задание на микроклимат и кратность воздухообмена
A2: Номер помещения | B2: Наименование помещения | C2: Наличие постоянных рабочих мест | D2: Категория работ в производственных помещениях | E2: Оптимальные или допустимые параметры по СанПиН 2.2.4.548-96 | F2: Кат. (ГОСТ 30494-2011) | G2: Приток | H2: Вытяжка | I2: Температура, °C ХП | J2: Температура, °C ТП | K2: Отн. влажность, % ХП | L2: Отн. влажность, % ТП | M2: Примечания
A3: 1 | B3: 2 | C3: 3 | D3: 4 | E3: 5 | F3: 6 | G3: 7 | H3: 8 | I3: 9 | J3: 10 | K3: 11 | L3: 12 | M3: 13
B4: 1 ЭТАЖ
A5: 1.A.01 | B5: Комната матери и ребенка | C5: Нет | F5: 6 | G5: 50 м3/час на 1 унитаз, 25 м3/час на 1 писсуар | H5: 50 м3/час на 1 унитаз, 25 м3/час на 1 писсуар | I5: 16-18 | J5: 18-28 | K5: Не нормируется | L5: ≤ 65
A6: 1.A.02 | B6: Гардероб | C6: Да | F6: 6 | G6: - | H6: 2 | I6: 16-18 | J6: 18-28 | K6: Не нормируется | L6: ≤ 65
B7: 2 ЭТАЖ
A8: 2.A.02 | B8: Моечная столовой посуды | C8: да | D8: IIа (175 - 232) | E8: Допустимые | G8: 4 | H8: 6 | I8: 17 - 23 | J8: 18 - 27 | K8: 15 - 75 | L8: 15 - 75

Sheet ОЗДС
A2: Номер помещения | B2: Наименование помещения | C2: Площадь, кв. м | D2: Требования к наличию ОЗДС | E2: Примечание
A3: 1 | B3: 2 | C3: 3 | D3: 4 | E3: 5
B4: 1 ЭТАЖ
A5: 1.A.01 | B5: Мусорокамера | C5: 40 | D5: Требуется
A6: 1.A.02 | B6: Гардероб | C6: 15 | D6: Не требуется
B7: 2 ЭТАЖ
A8: 2.A.02 | B8: Моечная столовой посуды | C8: да | D8: IIа (175 - 232)

Sheet Освещение
A1: ЗАДАНИЕ на ОСВЕЩЕНИЕ
A2: № п/п | B2: Наименование помещения | C2: Требования к наличию ЕО | D2: Освещенность, лк | E2: Примечание
A3: =[1]Экспликация!A3 -> 2 | B3: =[1]Экспликация!B3 -> Санузел персонала (МГН) | C3: - | D3: =VLOOKUP(B3,[1]Данные_ПИО!$B$2:$C$779,2,0) -> 75
A4: =[1]Экспликация!A4 -> 3 | B4: =[1]Экспликация!B4 -> Помещение временного хранения упакованных экспонатов | C4: - | D4: =VLOOKUP(B4,[1]Данные_ПИО!$B$2:$C$779,2,0) -> 75
A5: =[1]Экспликация!A5 -> 4 | B5: =[1]Экспликация!B5 -> Помещение распаковки и упаковки | C5: - | D5: =VLOOKUP(B5,[1]Данные_ПИО!$B$2:$C$779,2,0) -> 150
A6: =[1]Экспликация!A6 -> 5 | B6: =[1]Экспликация!B6 -> Склад транспортной упаковки | C6: - | D6: =VLOOKUP(B6,[1]Данные_ПИО!$B$2:$C$779,2,0) -> 75
A7: =[1]Экспликация!A7 -> 6 | B7: =[1]Экспликация!B7 -> Склад упаковочных материалов | C7: - | D7: =VLOOKUP(B7,[1]Данные_ПИО!$B$2:$C$779,2,0) -> 75
A8: =[1]Экспликация!A8 -> 7 | B8: =[1]Экспликация!B8 -> Помещениие осмотра | C8: - | D8: =VLOOKUP(B8,[1]Данные_ПИО!$B$2:$C$779,2,0) -> 300/2000
A9: =[1]Экспликация!A9 -> 8 | B9: =[1]Экспликация!B9 -> Помещение изоляции экспонатов - карантин | C9: - | D9: =VLOOKUP(B9,[1]Данные_ПИО!$B$2:$C$779,2,0) -> 300
A10: =[1]Экспликация!A10 -> 9 | B10: =[1]Экспликация!B10 -> Коридор | C10: - | D10: =VLOOKUP(B10,[1]Данные_ПИО!$B$2:$C$779,2,0) -> 75
A11: =[1]Экспликация!A11 -> 10 | B11: =[1]Экспликация!B11 -> Тамбур-шлюз | C11: - | D11: =VLOOKUP(B11,[1]Данные_ПИО!$B$2:$C$779,2,0) -> 100
A12: =[1]Экспликация!A12 -> 11 | B12: =[1]Экспликация!B12 -> Временное хранилище - Транзитная зона | C12: - | D12: =VLOOKUP(B12,[1]Данные_ПИО!$B$2:$C$779,2,0) -> 75
A13: 12 | B13: Реставрационная мастерская | C13: + | D13: 500

Sheet ЭОМ
A1: Задание на ЭОМ
A2: № поз. | B2: Наименование оборудования | C2: Завод-изготовитель, поставщик | D2: Тип, марка, обозначение документа, опросного листа | E2: Кол-во | F2: Мощность, кВт | G2: Напряжение, В | H2: Тип присоединения | I2: Категория электроснабжения | J2: Коэффициент одновременности работы оборудования | K2: Примечание
A3: 1 | B3: 2 | C3: 3 | D3: 4 | E3: 5 | F3: 6 | G3: 7 | H3: 8 | I3: 9 | J3: 10 | K3: 11
A4: Первый этаж
A5: Горячий цех
A6: 1 | B6: Электрическая плита | F6: 22 | G6: 380 | I6: в соотв. с нормами | J6: в соотв. с нормами | K6: Указываются особые требования: требования по стабилизации напряжения/частоты, наличие ИБП, требования к наличию постов управления и т.п Если известно указывается cosf/ ток (А)
A7: 2 | B7: Пароконвектомат | F7: 12 | G7: 380 | J7: 0.6
A8: 3 | B8: Кофемолка | F8: 0.5 | G8: 220
F9: =SUM(F6:F8) -> 34.5
A10: Холодный цех
A11: 4 | B11: Холодильник | F11: 0.35 | G11: 220 | J11: 1
A12: 4 | B12: Холодильник | F12: 0.5 | G12: 220 | J12: 1
A13: 5 | B13: УКМ | F13: 0.9 | G13: 380 | J13: 0.8
F14: =SUM(F11:F13) -> 1.75
