Workbook

Sheet ИТОГ
A1: ОКРУГ | B1: РАЙОН | C1: МИКРОРАЙОН или КВАРТАЛ | D1: ЗОНА по ППТ | E1: УЛИЦА по ГПЗУ | F1: № ДОМА по ГПЗУ | G1: ДОП. | H1: ДОП.
A2: Наименование объекта по договору
A3: Ход проверки:
A4: № итерации | B4: Дата | C4: Объем проверки
A10: Результаты проверки АПР по чек-листам МФС:
A11: Чек-лист МФС | B11: Всего | C11: ДА | D11: НЕТ | E11: Отсутствует | F11: Не применяется | G11: Согласовано с МФР | H11: Не отвеченные
A12: ТИПОВОЙ ЭТАЖ | B12: ='ТИП'!A5 -> 155 | C12: ='ТИП'!C4 -> 59 | D12: ='ТИП'!C5 -> 26 | E12: ='ТИП'!C6 -> 51 | F12: ='ТИП'!C7 -> 18 | G12: ='ТИП'!C8 -> 0 | H12: ='ТИП'!C9 -> 1
A13: 1 ЭТАЖ | B13: ='1+ТЕХ+КР'!A4 -> 98 | C13: ='1+ТЕХ+КР'!C3 -> 32 | D13: ='1+ТЕХ+КР'!C4 -> 37 | E13: ='1+ТЕХ+КР'!C5 -> 21 | F13: ='1+ТЕХ+КР'!C6 -> 6 | G13: ='1+ТЕХ+КР'!C7 -> 0 | H13: ='1+ТЕХ+КР'!C8 -> 2
A14: ПОДЗЕМНЫЙ ЭТАЖ | B14: ='ПОДЗ'!A5 -> 82 | C14: ='ПОДЗ'!C4 -> 24 | D14: ='ПОДЗ'!C5 -> 49 | E14: ='ПОДЗ'!C6 -> 8 | F14: ='ПОДЗ'!C7 -> 1 | G14: 0 | H14: ='ПОДЗ'!C9 -> 0
A15: ГЕНПЛАН | B15: =ГЕНПЛАН!A4 -> 50 | C15: =ГЕНПЛАН!C3 -> 0 | D15: =ГЕНПЛАН!C4 -> 0 | E15: =ГЕНПЛАН!C5 -> 0 | F15: =ГЕНПЛАН!C6 -> 0 | G15: =КОНСТР!C7 -> 0 | H15: =ГЕНПЛАН!C8 -> 50
A16: КОНСТРУКТИВ | B16: =SUM(C16:H16) -> 22 | C16: =КОНСТР!C3 -> 2 | D16: =КОНСТР!C4 -> 18 | E16: =КОНСТР!C5 -> 0 | F16: =КОНСТР!C6 -> 2 | G16: =ГЕНПЛАН!C7 -> 0 | H16: =КОНСТР!C8 -> 0
A17: ИТОГО | B17: =SUM(B12:B16) -> 407 | C17: =SUM(C12:C16) -> 117 | D17: =SUM(D12:D16) -> 130 | E17: =SUM(E12:E16) -> 80 | F17: =SUM(F12:F16) -> 27 | G17: =SUM(G12:G16) -> 0 | H17: =SUM(H12:H16) -> 53
A18: Результаты проверки АПР по чек-листам и замечаниям МФР:
A19: Чек-лист МФР 1 этапа
A21: Чек-лист МФР 2 этапа
A23: Замечания МФР
A26: Что необходимо учесть и предусмотреть при разработке ПД:
A27: заполняется в случае, если работы по разработке АПР уже завершены
A31: Требования НД | B31: ='ТИП'!F5+'1+ТЕХ+КР'!F4+'ПОДЗ'!F5+'КОНСТР'!F4+ГЕНПЛАН!F4 -> 142 | C31: ГП | D31: =B15 -> 50
A32: Рекомендации МФР | B32: ='ТИП'!F6+'1+ТЕХ+КР'!F5+'ПОДЗ'!F6+'КОНСТР'!F5+ГЕНПЛАН!F5 -> 141 | C32: АР | D32: ='ТИП'!I5+'1+ТЕХ+КР'!I4+'ПОДЗ'!I5 -> 219
A33: ПИК-стандарт | B33: ='ТИП'!F7+'1+ТЕХ+КР'!F6+'ПОДЗ'!F7+'КОНСТР'!F6+ГЕНПЛАН!F6 -> 56 | C33: КР | D33: =B16 -> 22
A34: МФС | B34: ='ТИП'!F8+'1+ТЕХ+КР'!F7+'ПОДЗ'!F8+'КОНСТР'!F7+ГЕНПЛАН!F7 -> 67 | C34: ИОС | D34: =B17-D31-D32-D33 -> 116
B35: =SUM(B31:B34) -> 406 | D35: =SUM(D31:D34) -> 407

Sheet ИРД
B2: Исходные данные: | C2: Дата | D2: Обозначение | E2: Примечание/ссылка ни витрокад
B3: Постановление правительства | D3: от 6 мая 2024 г. N 589 | E3: Объект ПЕРЕСЕЛЕНИЯ по УПСС
B4: Техническое задание (приложение к договору с проектировщиком)
B5: Задание на проектирование
B6: Квартирография | E6: https://pdm-mfs.pik.ru/GpMfs/%D0%9E%D1%80%D0%B5%D0%BD%D0%B1%D1%83%D1%80%D0%B3%D1%81%D0%BA%D0%B0%D1%8F%2017/02%20%D0%9F%D0%A0%D0%9E%D0%95%D0%9A%D0%A2%D0%98%D0%A0%D0%9E%D0%92%D0%90%D0%9D%D0%98%D0%95/01%20%D0%98%D0%A0%D0%94/03%20%D0%9A%D0%92%D0%90%D0%A0%D0%A2%D0%98%D0%A0%D0%9E%D0%93%D0%A0%D0%90%D0%A4%D0%98%D0%AF
B7: Проект планировки территории
B8: Градостроительный план ЗУ | E8: https://pdm-mfs.pik.ru/GpMfs/%D0%9E%D1%80%D0%B5%D0%BD%D0%B1%D1%83%D1%80%D0%B3%D1%81%D0%BA%D0%B0%D1%8F%2017/02%20%D0%9F%D0%A0%D0%9E%D0%95%D0%9A%D0%A2%D0%98%D0%A0%D0%9E%D0%92%D0%90%D0%9D%D0%98%D0%95/01%20%D0%98%D0%A0%D0%94/02%20%D0%93%D0%9F%D0%97%D0%A3
B9: Облик реновации (фасадные решения)
B10: Типовые решения ГП-МФС | E10: https://pdm-mfs.pik.ru/GpMfs/%D0%9E%D1%80%D0%B5%D0%BD%D0%B1%D1%83%D1%80%D0%B3%D1%81%D0%BA%D0%B0%D1%8F%2017/02%20%D0%9F%D0%A0%D0%9E%D0%95%D0%9A%D0%A2%D0%98%D0%A0%D0%9E%D0%92%D0%90%D0%9D%D0%98%D0%95/01%20%D0%98%D0%A0%D0%94/01%20%D0%A2%D0%A0%D0%95%D0%91%D0%9E%D0%92%D0%90%D0%9D%D0%98%D0%AF%20%D0%93%D0%9F-%D0%9C%D0%A4%D0%A1
B11: Сведения об окружающей застройке | E11: https://pdm-mfs.pik.ru/GpMfs/%D0%9E%D1%80%D0%B5%D0%BD%D0%B1%D1%83%D1%80%D0%B3%D1%81%D0%BA%D0%B0%D1%8F%2017/02%20%D0%9F%D0%A0%D0%9E%D0%95%D0%9A%D0%A2%D0%98%D0%A0%D0%9E%D0%92%D0%90%D0%9D%D0%98%D0%95/01%20%D0%98%D0%A0%D0%94/07%20%D0%A1%D0%92%D0%95%D0%94%D0%95%D0%9D%D0%98%D0%AF%20%D0%9E%D0%91%20%D0%9E%D0%9A%D0%A0%20%D0%97%D0%90%D0%A1%D0%A2%D0%A0

Sheet ТЭПы
B1: Наименование | C1: Об. | D1: Ед. изм | E1: Значение | F1: Примечание
B3: Общая площадь квартир | C3: Sкв | D3: м2 | E3: 1000
B4: Общая площадь нежилых помещений 1 этажа (БКТ, ЦИН, ОДС) | C4: Sбкт | D4: м2 | E4: 100
B6: Суммарная поэтажная площадь 1 этажа в габаритах наружных стен | C6: Sспп1 | D6: м2 | E6: 200
B7: Суммарная поэтажная площадь в габаритах наружных стен | C7: Sспп | D7: м2 | E7: 1500
B9: К | C9: К=(Sкв+Sбкт)/Sспп | E9: =(E3+E4)/E7 -> 0.73333333
B10: Кж | C10: Кж=Sкв/Sспп | E10: =E3/E7 -> 0.66666667
B11: Кэт | C11: Кэт=Sкв/(Sспп-Sспп1) | E11: =E3/(E7-E6) -> 0.76923077

Sheet ТИП
B1: Ответ разработчика вносится в чек-лист после окончания проверки ГП-МФС. Оформление ответа - "ГГ.ММ.ДД_текст комментария", где дата соответсвует новой редакции загружаемой на витрокад. Не следует писать комментарии параллельно с работой специалистов ГП-МФС. Обещания учесть на последующих стадиях не учитываются, повторно фиксируется несоответсвие требованию.
B2: ИТОГ
A3: № | B3: Требования к проектным решениям | C3: СТАТУС | D3: Комментарий | F3: Ссылка на требование | G3: Ответ разработчика | H3: Обоснование необходимости требования | I3: Специалист, заполняющий позицию
A4: ВСЕГО | B4: ДА | C4: =COUNTIF(C11:C189,"ДА") -> 59 | F4: =SUM(F5:F8) -> 156
A5: =COUNTA(A11:A189) -> 155 | B5: НЕТ | C5: =COUNTIF(C11:C189,"НЕТ") -> 26 | D5: Требования НД | E5: НД | F5: =COUNTIF(E11:E189,"НД") -> 42 | H5: АР | I5: 97
B6: ОТСУТСТВУЕТ | C6: =COUNTIF(C11:C189,"ОТСУТСТВУЕТ") -> 51 | D6: Рекомендации МФР | E6: МФР | F6: =COUNTIF(E11:E189,"МФР") -> 67 | H6: ИОС | I6: =F4-I5 -> 59
B7: НЕ ПРИМЕНЯЕТСЯ | C7: =COUNTIF(C11:C189,"НЕ ПРИМЕНЯЕТСЯ") -> 18 | D7: ПИК-стандарт | E7: ПИК | F7: =COUNTIF(E11:E189,"ПИК") -> 35
B8: МФР | C8: =COUNTIF(C11:C189,"МФР") -> 0 | D8: МФС | E8: МФС | F8: =COUNTIF(E11:E189,"МФС") -> 12
B9: НЕ ОТВЕЧЕННЫЕ | C9: =A5-C4-C5-C6-C7-C8 -> 1
B11: ОБЩИЕ
A12: =1 -> 1 | B12: Габариты и площади помещений указаны с учетом отделки. | C12: ДА | E12: МФР | F12: Чек-лист МФР 1 этапа | I12: АР
A13: =A12+1 -> 2 | B13: На планах показаны конструктивные элементы здания (на планах несущие монолитные конструкции показаны отличающейся штриховкой) | C13: ОТСУТСТВУЕТ | D13: Усл.обозн. | E13: МФР | F13: Чек-лист МФР 1 этапа | G13: Принято, внесено в условные обозначения. 13.08.26 | I13: АР
A14: =A13+1 -> 3 | B14: Межэтажное расстояние между типовыми этажами равно 3000 мм | C14: ОТСУТСТВУЕТ | D14: Разрез | E14: ПИК | F14: Унификация, связанная с габаритами навесных панелей и сборных лестничных маршей с учетом требований МФР. Рекомендации по проектированию от 03.12.2020, стр 16 | I14: АР
B15: Толщина стен предусмотрена не менее:
A16: =A14+1 -> 4 | B16: - 220 мм (10отделка+200монолит+10отделка) (подтверждено расчетом конструктивной модели) или 240 мм (10отделка+220монолит+10отделка) (без подтверждения расчетом) межквартирные монолитные стены, перпендикулярные фасадам, выполняющими функцию диафрагм | C16: ОТСУТСТВУЕТ | E16: ПИК | F16: Правила проектирования. Внутренние ненесущие стены и перегородки. Толщины, состав, описание. 09.08.2021 | G16: Принято, внесено в условные обозначения. 13.08.26 | H16: Для оптимизации технических решений и строительно -монтажных работ | I16: АР
A17: =A16+1 -> 5 | B17: -220 мм (10отделка+200монолит+10отделка) межквартирные монолитные прямолинейные (длина более 2,0 м) участки стен, не являющиеся диафрагмами, в том числе на участках между квартирой и МОП или шахтой | C17: ОТСУТСТВУЕТ | E17: ПИК | F17: Правила проектирования. Внутренние ненесущие стены и перегородки. Толщины, состав, описание. 09.08.2021 | G17: Принято, внесено в условные обозначения. 13.08.26 | H17: Для оптимизации технических решений и строительно -монтажных работ | I17: АР
A18: =A17+1 -> 6 | B18: - 290мм (20отделка+250газоблок+20отделка) межквартирные стены из газобетонного блока плотностью Д600 на криволинейных участках (длина прямого участка менее 2,0 м) , в том числе на участках между квартирой и МОП или шахтой | C18: ОТСУТСТВУЕТ | E18: ПИК | F18: Правила проектирования. Внутренние ненесущие стены и перегородки. Толщины, состав, описание. 09.08.2021мп | G18: Принято, внесено в условные обозначения. 13.08.26 | H18: Для оптимизации технических решений и строительно -монтажных работ | I18: АР
A19: =A18+1 -> 7 | B19: - 220 мм (200газоблок + 20 отделка) наружные (ограждающая самонесущая стена из газобетонного блока плотностью Д600, без утепления, в случае панельного фасада толщина стены между квартирой и лоджией) | C19: ОТСУТСТВУЕТ | E19: ПИК | F19: Правила проектирования. Внутренние ненесущие стены и перегородки. Толщины, состав, описание. 09.08.2021 | G19: Принято, внесено в условные обозначения. 13.08.26 | H19: Для оптимизации технических решений и строительно -монтажных работ | I19: АР
A20: =A19+1 -> 8 | B20: - 120мм (10отделка +100плита+10отделка) межкомнатные стены из пазогребневой плиты | C20: ОТСУТСТВУЕТ | E20: ПИК | F20: Правила проектирования. Внутренние ненесущие стены и перегородки. Толщины, состав, описание. 09.08.2021 | G20: Принято, внесено в условные обозначения. 13.08.26 | I20: АР
A21: =A20+1 -> 9 | B21: - 120мм (100плита +20отделка) перегородка между СТМ и жилой комнатой | C21: ОТСУТСТВУЕТ | E21: ПИК | F21: Правила проектирования. Внутренние ненесущие стены и перегородки. Толщины, состав, описание. 09.08.2021 | G21: не принято, проектом предусматривается пазогребневая плита 80мм (по ЖД-ТАС-РЕН-АР-ВК.С 05/2024 версия 3) внесено в условные обозначения. 13.08.26 | I21: АР
A22: =A21+1 -> 10 | B22: Для многосекционных жилых домов приведены отдельные листы с планами секций | C22: ДА | E22: НД | F22: ГОСТ Р 21.101-2020, п. 5.5.11 | H22: Необходимо для оценки эффективности планировочных решений отдельной секции, чтобы сохранять удачные секции и избавляться от неудачных | I22: АР
B23: Для каждой квартиры указан маркер, сорержащий
A24: =A22+1 -> 11 | B24: - тип квартиры по квартирографии | C24: ДА | E24: МФС | I24: АР
A25: =A24+1 -> 12 | B25: - номер квартиры по плану | C25: ДА | E25: МФС | I25: АР
A26: =A25+1 -> 13 | B26: - жилую площадь (общую площадь жилых комнат) | C26: ДА | E26: МФС | I26: АР
A27: =A26+1 -> 14 | B27: - общую площадь квартиры без летних помещений | C27: ДА | E27: МФС | I27: АР
A28: =A27+1 -> 15 | B28: - общую приведенную площадь квартиры (летние помещения с коэффициентами 0,5 для лоджии, 0,3 для балкона) | C28: ДА | E28: МФС | I28: АР
A29: =A28+1 -> 16 | B29: - общую площадь квартиры с летними помещениями без коэффициента | C29: ДА | E29: МФС | I29: АР
B30: На плане этажа (секции) в экспликации приведены площади:
A31: =A29+1 -> 17 | B31: - квартир (жилая, общая, общая приведенная, общая с летними помещениями, Sкв) | C31: ОТСУТСТВУЕТ | E31: НД | F31: ГОСТ 21.501-2018, Прилож. А Форма 2 | G31: Принято, указана экспликация. 13.08.26 | H31: Для проверки соответствия площадных показателей квартир заданию МФР | I31: АР
A32: =A31+1 -> 18 | B32: - общая для всех квартир на этаже (секции), Sкв.общ | C32: ОТСУТСТВУЕТ | E32: МФС | F32: МФС | G32: Принято. 13.08.26 | H32: Для проверки выбора решения по устройству лестничной клетки | I32: АР
A33: =A32+1 -> 19 | B33: - МОП | C33: ОТСУТСТВУЕТ | E33: МФС | F33: МФС | G33: Принято. 13.08.26 | H33: Для расчета экономического показателя эффективности планировочных решений | I33: АР
A34: =A33+1 -> 20 | B34: - общая для этажа (секции) Sэт | C34: ОТСУТСТВУЕТ | E34: МФС | F34: МФС | G34: Принято. 13.08.26 | H34: Для расчета экономического показателя эффективности планировочных решений | I34: АР
A35: =A34+1 -> 21 | B35: - площадь этажа (секции) в габаритах наружных стен | C35: ОТСУТСТВУЕТ | E35: МФС | F35: МФС | G35: Принято. 13.08.26 | H35: Необходимо для возможности контроля и последующей проверке расчетов подрядчика соблюдения ограничений ГПЗУ | I35: АР
A36: =A35+1 -> 22 | B36: Приведен коэффициент выхода площади квартир с этажа (этажа секции) Кэфф=Sкв.общ/Sэт, значение Кэфф не менее 0,75 | C36: ДА | E36: МФР | F36: №ФР-11-35435/23-12 от 31.10.2023 | I36: АР
A37: =A36+1 -> 23 | B37: На планах этажей изображена общая схема объекта (контур надземной и подземной частей). На схеме выделен участок отображаемого плата, показаны номера секций и их этажность | C37: НЕТ | D37: необходимо уменьшить | E37: НД | F37: ГОСТ Р 21.101-2020, п. 5.5.11 | G37: Принято. 13.08.26 | H37: Для удобства чтения чертежа | I37: АР
A38: =A37+1 -> 24 | B38: Оси объекта показаны и пронумерованы в соответствии с требованиями НД | C38: НЕТ | D38: необходимо исправить | E38: НД | F38: ГОСТ Р 21.101-2020, п. 5.3 | G38: Принято. 13.08.26 | H38: Для удобства чтения чертежа | I38: АР
A39: =A38+1 -> 25 | B39: Примененные на объекте светопрозрачные конструкции (окна, двери, витражи остекления лоджий, МОП, БКТ) соответствуют ПИК-стандарт в части номенклатуры, размеров, узлов примыканий и сопряжений и т.д. | C39: ОТСУТСТВУЕТ | D39: Для проверки соответствия должен быть представлен план в формате DWG с замаркированными СПК | E39: ПИК | F39: ЖД-ТА-РЕН-АР-ВКЛ, ЖД-ТА-РЕН-АР-В.ПБ, ЖД-ТА-РЕН-АР-ПЭ, ЖД-ТА-РЕН-АР-В.ПЭ.ВГ | G39: Принято. 13.08.26. Направленно отдельным файлом | H39: Необходимо на стадии АПР использовать типовые СПК от ПИК, чтобы на последующей стадии при разработке фасадных решений не допускать нестыковок в конструкциях и некорректного отображения фасадов , в том числе для АГР. Также позволяет избежать нетиповых дорогих или сложых решений, трудно реализуемых на панельных фасадах | I39: АР
A40: =A39+1 -> 26 | B40: Типы наружных стен, покрытий, применяемые для отделки материалы выполнены в соответствиим с ПИК-стандарт | C40: ОТСУТСТВУЕТ | E40: ПИК | F40: ЖД-ТА-РЕН-АР-НК.С | I40: АР
A41: =A40+1 -> 27 | B41: На планах показаны радиаторы отопления. Расположение радиаторов учитывает габаритные размеры помещений, расположение дверных и оконных проемов, а также типы применяемых шкаф-пакетов | C41: НЕТ | E41: МФС | F41: Для проверки обеспечения минимальных размеров помещений с учетом размещения в них отопительных приборов | G41: Принято. 13.08.26 | I41: АР
B42: МОП
A43: =A41+1 -> 28 | B43: Внеквартирные коридоры не имеют выступающих конструкций, в том числе ограждений инженерных коммуникаций | C43: ДА | E43: МФР | F43: МФР. Рекомендации по проектированию от 03.12.2020, стр. 16 | I43: АР
A44: =A43+1 -> 29 | B44: Открывание дверей квартир осуществляется наружу в сторону пути эвакуации | C44: ДА | D44: только за счет 180 гр. | E44: МФР | F44: МФР. Рекомендации по проектированию от 03.12.2020, стр 10 | I44: АР
A45: =A44+1 -> 30 | B45: Предусмотрено и показано открывание двери квартиры на угол 180 гр. кроме дверей, расположенных в торцах межквартирного коридора | C45: ДА | E45: МФР | F45: Новое требование | I45: АР
A46: =A45+1 -> 31 | B46: Ширина внеквартирных коридоров с учетом отделки, как правило, не менее 1,46м с организацией разъездов (карманов) для кресел-колясок длиной не менее 2 м при общей с коридором ширине не менее 1,86 м в пределах прямой видимости следующего кармана. В отдельных случаях допускается ширина коридора 1,86 м | C46: ОТСУТСТВУЕТ | D46: дополнить размеры | E46: НД | F46: Оптимизация планипровочных решений с учетом требований СП 59.13330.2020, п. 6.2.1, только для №815-ПП; с учетом СП 1.13130,2020, п. 6.1.19, СП 70.13330.2012 в ред. 30.12.2020, п. 5.18.3 | G46: Принято. 13.08.26 | H46: Величина 0,06 м (6 см) принята в качестве запаса для обеспечения нормативной ширины коридора не менее 1,4 м или 1,8 м с учетом максимально возможного отклонения бетонных конструкций с выравниванием штукатурным слоем, толщиной не менее 10 мм | I46: АР
A47: =A46+1 -> 32 | B47: На каждом из этажей в МОП предусмотрена и показана пожаробезопасная зона МГН, площадь которой подтверждена расчетом (на плане обозначена штриховкой и образмерена) | C47: ДА | E47: НД | F47: СП 1.13130.2020, п.9.2.5; СП 59.13330.2020, п. 6.2.25, 6.2.26; Приказ МЧС РФ от 30.06.2009 №382 в ред от 02.12.2015 | I47: АР
A48: =A47+1 -> 33 | B48: При наличии стены между квартирой и лестницей, для звукоизоляции, предусмотрен утеплитель со стороны лестницы, толщиной не менее 100 мм. Для лестниц Н1 и Н2. Меньшей толщины только при предоставлении расчета по звукоизоляции. | C48: НЕ ПРИМЕНЯЕТСЯ | E48: НД | F48: СП 51.13330.2011 п.6.3, табл.1. | G48: В корпусе 3 предусмотрена звукоизоляция толщиной 100мм, поскольку лестничные клетки примыкают к квартирам и имеют толщину стены 200мм | H48: Для лестниц Н1 и Н2 | I48: АР
A49: =A48+1 -> 34 | B49: Стены (газоблок толщиной 250мм, монолит 200мм с утеплителем 100м, монолит 250мм) между квартирами и МОП, обеспечивают звукоизоляцию. Меньшей толщины только при предоставлении расчета по звукоизоляции. | C49: ОТСУТСТВУЕТ | D49: Усл.обозн. | E49: НД | F49: СП 51.13330.2011 п.6.3; МФР. ЖД-ПП-РЕН-КР. Стандарт проектирования. Конструктивные решения | G49: Принято. 13.08.26 | H49: Для лестниц Н1 и Н2 | I49: АР
A50: =A49+1 -> 35 | B50: Толщина этажных/межэтажных площадок изменена на 180 мм вместо 200 мм - это влияет на высоту эвакуационного прохода в свету. | C50: ОТСУТСТВУЕТ | D50: Усл.обозн. | E50: ПИК | F50: ЖД-ТА-РЕН-КР-КЖ6.1/6.2 | H50: КостенковАС_2026.05.21 | I50: АР
A51: =A50+1 -> 36 | B51: Исключено применение лестничных маршей с количеством ступеней более 10 - это влияет на допустимые высоты первого этажа жилой части (min 4800 max 6000 мм) и на габариты помещения лестничной клетки (не рекомендуется проектировать высоту первого этажа более 6000 мм, это влечет за собой увеличение габаритов лестничной клетки). | C51: ДА | E51: ПИК | F51: ЖД-ТА-РЕН-КР-КЖ6.1/6.2 | H51: КостенковАС_2026.05.22 | I51: АР
A52: =A51+1 -> 37 | B52: На планах лестничной клетки исключен зазор по умолчанию 50 мм между маршем и стеной для устройства утепления. Теперь утепление следует проектировать адресно только в целях выравнивания стены из бетонного блока между монолитными конструкциями. | C52: НЕ ПРИМЕНЯЕТСЯ | E52: ПИК | F52: ЖД-ТА-РЕН-КР-КЖ6.1/6.2 | G52: В корпусе 3 предусмотрена звукоизоляция толщиной 100мм, поскольку лестничные клетки примыкают к квартирам и имеют толщину стены 200мм | H52: КостенковАС_2026.05.23 | I52: АР
A53: =A52+1 -> 38 | B53: Поручни лестничных маршей и площадок внутренних лестниц, доступных для МГН, следует располагать на высоте 0,9 м. | C53: ОТСУТСТВУЕТ | E53: НД | F53: ЗнП новое 24.03.2026, в соответствии с ГОСТ Р 51261-2022. | I53: АР
A54: =A53+1 -> 39 | B54: Лестничные марши и площадки внутренних лестниц должны иметь непрерывные ограждения высотой не менее 0,9 м, а при наличии зазора между маршами лестниц или ограждениями более 0,12 м (в свету по горизонтали) высота ограждения должна быть 1,2 м. | C54: ОТСУТСТВУЕТ | E54: НД | F54: ЗнП новое 24.03.2026, в соответствии с СП 54.13330 | I54: АР
B55: Отсутствуют общие стены между помещениями квартир и:
A56: =A54+1 -> 40 | B56: - лифтовыми шахтами | C56: ДА | E56: НД | F56: СанПиН 2.1.3684-21, п. 137, МФР. Рекомендации по проектированию от 03.12.2020. | I56: АР
B57: Для этажа (секции) предусмотрено:
A58: =A56+1 -> 41 | B58: - одна лестничная клетка если высота верхнего этажа не более 28 м и площадь квартир на этаже (секции) с учетом площади балконов и лоджий не превышает 550 м2 | C58: ОТСУТСТВУЕТ | E58: НД | F58: СП 1.13130.2020, п 6.1.1 -отсутствует | H58: Проверка правильности выбора типа ЛК в зависимости от этажности и общей площади квартир на этаже | I58: АР
A59: =A58+1 -> 42 | B59: - одна лестничная клетка если высота верхнего этажа не более 50 м и площадь квартир на этаже (секции) с учетом площади балконов и лоджий не превышает 500 м2 с учетом доп. требований ПБ к планировочным решениям | C59: ОТСУТСТВУЕТ | E59: НД | F59: СП 1.13130.2020, п 6.1.3 - отсутствует | H59: Проверка правильности выбора типа ЛК в зависимости от этажности и общей площади квартир на этаже | I59: АР
A60: =A59+1 -> 43 | B60: - одна незадымляемая лестничная клетка типа Н2 или Н3, если высота верхнего этажа не более 75 м и площадь квартир на этаже (секции) с учетом площади балконов и лоджий не превышает 550 м2 | C60: ОТСУТСТВУЕТ | E60: МФР | F60: Письмо №ФР-11-35435/23 от 05.09.2023 | I60: АР
A61: =A60+1 -> 44 | B61: - две лестничные клетки при площади квартир на этаже (секции) с учетом площади балконов и лоджий превышает 550 м2 | C61: ОТСУТСТВУЕТ | E61: НД | F61: СП 1.13130.2020, п 6.1.1 | H61: Проверка правильности выбора типа ЛК в зависимости от этажности и общей площади квартир на этаже | I61: АР
A62: =A61+1 -> 45 | B62: - одна незадымляемая лестничная клетка типа Н2 или Н3, если высота верхнего этажа более 75 м и площадь этажа (секции) с учетом площади балконов и лоджий не превышает 550 м2 | C62: ОТСУТСТВУЕТ | E62: НД | F62: СП 477.1325800.2020, п. 5.15 - исключен | H62: Для высотных зданий | I62: АР
A63: =A62+1 -> 46 | B63: - две незадымляемые лестничные клетки типа Н2 или Н3, если высота верхнего этажа более 75 м и площадь тажа (секции) с учетом площади балконов и лоджий более 550 м2 | C63: ОТСУТСТВУЕТ | E63: НД | F63: СП 477.1325800.2020, п. 5.15 - исключен, п 6.1.1 | H63: Для высотных зданий | I63: АР
A64: =A63+1 -> 47 | B64: Устройство одного эвакуационного выхода с этажа при общей площади квартир на этаже секции от 550 до 650 м2 при условии разработки и согласования в установленном порядке СТУ. | C64: ОТСУТСТВУЕТ | E64: МФР | F64: Письмо №ФР-11-24128/25 от 18.06.2025 | H64: Для высотных зданий | I64: АР
B65: Тип и габаритные размеры лестничных клеток соответствует требованиям НД, в том числе:
A66: =A64+1 -> 48 | B66: Соблюдены расстояния по горизонтали между проемами лестничных клеток типа Н2 и проемами смежных помещений, либо для заполнения таких проемов используются огнестойкие светопрозрачные конструкции (на плане указана ширина простенка или степень огнестойкости СПК) | C66: НЕ ПРИМЕНЯЕТСЯ | E66: НД | F66: СП 2.13130.2020, п. 5.4.16 | G66: Принято. На планах указаны размеры. 13.08.26 | H66: В случае, если нормируемые расстояния не соблюдаются, последующая перекомпоновка влияет на площади квартир | I66: АР
A67: =A66+1 -> 49 | B67: Ширина лестничной площадки достаточна для обеспечения пути эвакуации при открытой двери (на плане показана дверь в открытом положении и ширина пути эвакуации) | C67: ДА | E67: НД | F67: СП 1.13130.2020, п. 4.4.2 | H67: В случае, если нормируемые расстояния не соблюдаются, последующая перекомпоновка влияет на площади квартир | I67: АР
A68: =A67+1 -> 50 | B68: Соблюдены предельно допустимые расстояния от дверей квартир до выхода на лестничную клетку (на плане показано расстояние от эвакуационного выхода до наиболее удаленной двери квартиры) | C68: ДА | E68: НД | F68: СП 1.31330.2020, п. 6.1.8 | H68: В случае, если нормируемые расстояния не соблюдаются, последующая перекомпоновка влияет на площади квартир | I68: АР
A69: =A68+1 -> 51 | B69: На пути от квартиры до незадымляемой лестничной клетки предусмотрено не менее двух (не считая дверей из квартиры) последовательно расположенных самозакрывающихся дверей. | C69: ДА | E69: НД | F69: СП 1.31330.2020, п. 6.1.10 | H69: В случае, если нормируемые расстояния не соблюдаются, последующая перекомпоновка влияет на площади квартир | I69: АР
A70: =A69+1 -> 52 | B70: На лестницах Н2 предусмотрены световые проемы с площадью остекления не менее 1,2 м2 с одним из габаритных размеров остекленной части не менее 0,6 м в наружных стенах на каждом этаже. | C70: НЕ ПРИМЕНЯЕТСЯ | E70: НД | F70: СП 1.13130.2020, п. 4.4.12 | G70: Проектом приняты окна в соответвии с стандартом ЖД-ПП-РЕН-АР-ОБ версия 8 10.2025 | I70: АР
B71: Тип, количество и габариты кабин лифтов соответствует требованиям НД (предоставлены расчеты по времени эвакуации МГН), количетсво принято не менее, чем: | E71: НД | F71: Чек-лист МФР 1 этапа; СП 54.13330.2022, Приложение В; СП 59.13330.2020, Приложение А, ГОСТ Р 52941.2008 или СП 267.1325800.2016, Приложение Д | H71: Проверка целесообразности заявленного количества лифтов | I71: АР
A72: =A70+1 -> 53 | B72: - 1 лифт по этажности до 9 включительно | C72: НЕ ПРИМЕНЯЕТСЯ | E72: НД | F72: СП 54.13330.2022, приложение В | I72: АР
A73: =A72+1 -> 54 | B73: - 2 лифта при 10-12 этажах | C73: ДА | E73: НД | F73: СП 54.13330.2022, приложение В | I73: АР
A74: =A73+1 -> 55 | B74: - 2 лифта при 13-19 этажах и площади квартир не более 450 м2 | C74: НЕ ПРИМЕНЯЕТСЯ | E74: НД | F74: СП 54.13330.2022, приложение В | I74: АР
A75: =A74+1 -> 56 | B75: - 3 лифта при 20 и более этажах и площади квартир не более 350 м2 | C75: НЕ ПРИМЕНЯЕТСЯ | E75: НД | F75: СП 54.13330.2022, приложение В | I75: АР
A76: =A75+1 -> 57 | B76: - 4 лифта при 20 и более этажах и площади квартир не более 450 м2 | C76: ДА | E76: НД | F76: СП 54.13330.2022, приложение В | I76: АР
B77: Габаритные размеры лифтовых шахт (указаны на плане):
A78: =A76+1 -> 58 | B78: - для лифта 400 кг не менее 1550 (ширина) 1700 (глубина) | C78: ОТСУТСТВУЕТ | E78: ПИК | F78: ПИК-стандарт | G78: Принято, указаны габариты шахты и грузоподъемность на планах. 13.08.26 | I78: АР
A79: =A78+1 -> 59 | B79: - для лифта 630 кг не менее 1950 (ширина) 1750 (глубина) | C79: НЕ ПРИМЕНЯЕТСЯ | D79: в КЛЗ отсутвует данная грузоподъемность | E79: ПИК | F79: ПИК-стандарт | I79: АР
A80: =A79+1 -> 60 | B80: - для лифта 1000 кг не менее 1750 (ширина) 2650 (глубина) | C80: ОТСУТСТВУЕТ | E80: ПИК | F80: ПИК-стандарт | G80: Принято, указаны габариты шахты и грузоподъемность на планах. 13.08.26 | I80: АР
A81: =A80+1 -> 61 | B81: - для лифта 1000 кг не менее 2650 (ширина) 1700 (глубина) | C81: ОТСУТСТВУЕТ | E81: ПИК | F81: ПИК-стандарт | G81: Принято, указаны габариты шахты и грузоподъемность на планах. 13.08.26 | I81: АР
A82: =A81+1 -> 62 | B82: Глубина приямка 1450 мм от уровня чистого пола для всех типов лифтов. | C82: ОТСУТСТВУЕТ | E82: ПИК | F82: ПИК-стандарт
A83: =A82+1 -> 63 | B83: Высота от чистого пола машинного помещения до нижней отметки монорельса (балки) 2100 мм. | C83: ОТСУТСТВУЕТ | E83: ПИК | F83: ПИК-стандарт
A84: =A83+1 -> 64 | B84: Высота машинного помещения не менее 2300 мм от ур. чистого пола. | C84: ОТСУТСТВУЕТ | E84: ПИК | F84: ПИК-стандарт
A85: =A84+1 -> 65 | B85: Внутренние габариты шахты, размеры заплечиков, высота верхнего этажа и глубина приямка соответствуют типовым СЗ. | C85: ОТСУТСТВУЕТ | E85: ПИК | F85: ПИК-стандарт | G85: Принято, указаны размеры заплечиков на планах | I85: АР
B86: Ширина лифтового холла предусмотрена в зависимости от габаритных размеров лифтовых кабин (ширина - больший размер, глубина - меньший размер):
A87: =A85+1 -> 66 | B87: - 1,5 м при однорядном расположении и шириной кабины менее 2100 мм | C87: ДА | E87: НД | F87: СП 54.13330.2022, п. 5.14 | I87: АР
A88: =A87+1 -> 67 | B88: - 2,1 м при однорядном расположении и глубиной кабины 2100 мм и более | C88: ДА | E88: НД | F88: СП 54.13330.2022, п. 5.14 | I88: АР
A89: =A88+1 -> 68 | B89: - 1,8 м при двухрядном расположении и глубиной кабин менее 2100 мм | C89: НЕ ПРИМЕНЯЕТСЯ | E89: НД | F89: СП 54.13330.2022, п. 5.14 | I89: АР
A90: =A89+1 -> 69 | B90: - 2,5 м при двухрядном расположении и глубиной одной из кабин 2100 мм и более | C90: НЕ ПРИМЕНЯЕТСЯ | E90: НД | F90: СП 54.13330.2022, п. 5.14 | I90: АР
A91: =A90+1 -> 70 | B91: При размещении в лифтовом холле пожаробезопасной зоны, размер простенка между окном и смежным помещением квартиры не менее 2,0 м | C91: ОТСУТСТВУЕТ | E91: НД | F91: СП 1.13130.2020, п. 9.2.2 | G91: Принято. На планах указаны размеры. 13.08.26 | I91: АР
A92: =A91+1 -> 71 | B92: Вертикальные инженерные коммуникации располагаются в шахт-пакетах с доступом из внеквартирного коридора | C92: ДА | E92: МФР | F92: МФР. Рекомендации по проектированию от 03.12.2020, стр. 186 | I92: АР
A93: =A92+1 -> 72 | B93: Предусмотрены шахт-пакеты ОВ/ВК в соответствии с типовым альбомом ПИК Стандарта (габариты в соответствии с альбомом указаны на планах) из учета 1 шахт-пакет на 1-2 квартиры в непосредственной близости к квартирам. Длина подводящих трубопроводов от ШП до СУ (до каждой мокрой зоны) или точек подключения к СТМ не более 7м | C93: НЕТ | D93: В части ВК: Размер ниш принять с учетом требований ЗнП (раздел Отопление). Предоставить планы с трассировкой коммуникаций В1, Т3 (полилинией) от ШП до точек подключения к СТМ и с/у с указанием длины трасс (не более 7м) | E93: ПИК | F93: ПИК-стандарт | G93: Принято. 13.08.26. Марки ШПК указаны на плане с трассировкой систем ВК (отдельный файл) | H93: Необходимо для проверки правильности выбора и размещения подрядчиками типовых технически решений ПИК | I93: ОВ, ВК
A94: =A93+1 -> 73 | B94: Для зданий любой высоты предусматривается устройство металлических воздуховодов из сборных вентмодулей | C94: ДА | D94: Корпус 1: применить вент модули по стандарту ЖД-ТАС-РЕН-ИОС.ВМ2 сечением 500х350 согласно СП60.13330.2020 табл. Л.3. | E94: НД | F94: СП 60.13330.2020 п.7.1.11; Письмо МФР от 11.04.2023 №ФР-11-7610/23-1 ЖД-ТА-РЕН-ИОС-ВМ от 08.2023; | I94: ОВ
A95: =A94+1 -> 74 | B95: Для зданий, высотой более 75 м, предусматривается зонирование воздуховодов по вертикали с устройством самостоятельных воздуховодов для каждой из зон. | C95: НЕ ПРИМЕНЯЕТСЯ | E95: НД | F95: СП 253.1325800.2016 | H95: Для высотных зданий | I95: ОВ
A96: 64 | B96: Каждый этаж здания должен обслуживаться не менее, чем одним лифтом для перевозки подразделений пожарной охраны (ЛПП). Соответственно, каждая секция должна быть обеспечена ЛПП, опускающимся на подземный этаж. | C96: ОТСУТСТВУЕТ | D96: не прописано | E96: НД | F96: п. 5.1.5, п.5.1.2, ГОСТ Р 53296-2009 | G96: Принято, внесено в условные обозначения. 13.08.26 | I96: АР
B97: На планах показаны шахты и нишы для инженерных коммуникаций (габариты указаны по внутренним поверхностям нишы и без учета толщины зашивки):
A98: 65 | B98: На планах типовых этажей предусмотрены две шахты для систем дымоудаления на каждый межквартирный коридор. В случае обоснования и предоставления расчета необходимого количества дымоприемных устройств согласно СП7.13130.2013 п. 7.8, приложение Е допускается принять количество шахт ДУ равным количеству дымоприемных устройств. Габариты шахт ДУ не менее 900 х 600 мм или 1400х400 мм | C98: НЕТ | E98: НД | F98: СП7.13130.2013 п. 7.8, приложение Е Чек-лист МФР 2 этапа | I98: ОВ
A99: =A98+1 -> 66 | B99: шахта системы компенсации (КДУ, не менее 800х500 или 1000х400) | C99: ДА | E99: МФР | F99: Чек-лист МФР 2 этапа | I99: ОВ
A100: =A99+1 -> 67 | B100: ниша электроблок (УЭРВ, не менее 1450 х400 мм) с 2-мя шахтами: ЭОМ (450х150) и СС (450х150) на расстоянии 450 друг от друга | C100: НЕТ | D100: Показать шахты ЭОМ и СС, показать их размеры. Корпус 2 отсутствует в АПР | E100: ПИК | F100: Согласно каталога МЭЛ УЭРВ.ПИК-3.3У состоит из 2х отсеков ЭОМ и СС размерами 433х164мм | G100: Принято.13.08.26. Указано на планах | H100: Необходимо для проверки правильности выбора и размещения подрядчиками типовых технически решений ПИК | I100: ЭОМ, СС
A101: =A100+1 -> 68 | B101: В случае отсутствия УЭРВ с отсеком СС предусмотреть нишу СС (с доступом из МОП, размером не менее 400х150 мм) | C101: ДА | D101: По СС замечаний нет к корпусам 1 и 3. Корпус 2 отсутствует в АПР | E101: ПИК | F101: СПЭМ.656576.224, СПЭМ.656576.225 | I101: СС
...

Sheet 1+ТЕХ+КР
B1: ИТОГ
A2: № | B2: ='ТИП'!B3 -> Требования к проектным решениям | C2: СТАТУС | D2: Комментарий | F2: Ссылка на норматив | G2: Ответ разработчика | H2: Обоснование необходимости требования | I2: Специалист, заполняющий позицию
A3: ВСЕГО | B3: ДА | C3: =COUNTIF(C9:C119,"ДА") -> 32 | F3: =SUM(F4:F7) -> 99
A4: =COUNTA(A9:A119) -> 98 | B4: НЕТ | C4: =COUNTIF(C9:C119,"НЕТ") -> 37 | D4: Требования НД | E4: НД | F4: =COUNTIF(E10:E185,"НД") -> 21 | H4: АР | I4: 71
B5: ОТСУТСТВУЕТ | C5: =COUNTIF(C9:C119,"ОТСУТСТВУЕТ") -> 21 | D5: Рекомендации МФР | E5: МФР | F5: =COUNTIF(E10:E185,"МФР") -> 50 | H5: ИОС | I5: =F3-I4 -> 28
B6: НЕ ПРИМЕНЯЕТСЯ | C6: =COUNTIF(C9:C119,"НЕ ПРИМЕНЯЕТСЯ") -> 6 | D6: ПИК-стандарт | E6: ПИК | F6: =COUNTIF(E10:E185,"ПИК") -> 6
B7: Согласовано с МФР | C7: =COUNTIF(C9:C119,"МФР") -> 0 | D7: МФС | E7: МФС | F7: =COUNTIF(E10:E185,"МФС") -> 22
B8: НЕ ОТВЕЧЕННЫЕ | C8: =A4-C3-C4-C5-C6-C7 -> 2
B9: ОБЩИЕ
A10: =1 -> 1 | B10: Габариты и площади помещений указаны с учетом отделки | C10: НЕТ | D10: Не во всех помещениях указаны габариты. Например, отсутствуют в помещениях и тамбурах МОП корпуса 3 секции 1 | E10: МФР | F10: Чек-лист МФР 1 этапа | I10: АР
A11: =A10+1 -> 2 | B11: На планах показаны конструктивные элементы здания | C11: НЕТ | D11: В связи с тем, что в Условных обозначениях неверно указаны обозначения материалов внутренних стен, нет понимания, какие из стен являются жб конструкциями. Исправить штриховку стен на плане. Добавить условное обозначение кладки из ячеистобетонных блоков | E11: МФР | F11: Чек-лист МФР 1 этапа | I11: АР
A12: =A11+1 -> 3 | B12: Расстояние между чистым полом 1 и 2 этажей не менее 4800 мм и кратно 150 мм | C12: ОТСУТСТВУЕТ | D12: На момент проверки 03.08.26 разрезы не предоставлены | E12: ПИК | F12: Унификация, связанная с устройством лестницы между 2 и 1 этажами с учетом требований МФР. Рекомендации по проектированию от 03.12.2020, стр. 13 | H12: Для оптимизации планировочных решений 1 этажа и повышения К эфф | I12: АР
A13: =A12+1 -> 4 | B13: Над всеми входами предусмотрены козырьки (стеклянный козырек над дверью, ниша в фасаде и т.д) | C13: НЕТ | D13: Показать пунктирной линией границы козырьков над входами в тамбуры МОП, БКТ, ОДС (исключение - эвакуационные выходы из БКТ, ЦИН, лестничных клеток) | E13: МФР | F13: МФР. Рекомендации по проектированию от 03.12.2020, стр 80 | H13: Позволяет отследить правильность применения альбомов ПИК в части устройства входных групп и применения СПК | I13: АР
A14: =A13+1 -> 5 | B14: На планах показаны абсолютные и относительне отметки пола входных групп | C14: НЕТ | D14: Показать абсолютные и относительне отметки чистого пола у всех входов | E14: МФР | F14: МФР. Рекомендации по проектированию от 03.12.2020, стр 6, ПП№305 от 21.05.2015, п. 2.3.3 | I14: АР
A15: =A14+1 -> 6 | B15: На разрезе показана линия поверхности земли, приведены абсолютные и относительные отметки в местах расположения входных групп | C15: ОТСУТСТВУЕТ | D15: На момент проверки 03.08.26 разрезы не предоставлены | E15: МФР | F15: МФР. Рекомендации по проектированию от 03.12.2020, стр 6, ПП№305 от 21.05.2015, п. 2.3.3 | I15: АР
A16: =A15+1 -> 7 | B16: В тамбурах приямок Грязезащитной решетки выполнен на ширину дверного проема и на всю длину тамбура, допускается 100 мм отступ. Для поворотного тамбура - до границы дверного проема внутренней конструкции (миним.расст. до противоположной стены 300 мм., при невозмож. -"в ноль"). При открывании двери "от себя" грязезащитная решетка располагается на расстоянии 300 мм. | C16: НЕТ | D16: Показать грязезащитные решетки в тамбурах МОП, ЦИН, БКТ, ОДС | E16: ПИК | F16: ПИК-стандарт. Правила размещения грязезащитной решетки МОП (мест общего пользования). Версия 1, 09/2024. | H16: Позволяет отследить правильность применения альбомов ПИК в части устройства входных групп | I16: АР
A17: =A16+1 -> 8 | B17: Примененные на объекте светопрозрачные конструкции (окна, двери, витражи остекления лоджий, МОП, БКТ) соответствуют ПИК-стандарт в части номенклатуры, размеров, узлов примыканий и сопряжений и т.д. | C17: НЕТ | D17: Наружные витражные двери не соответствуют ЖД-ТА-РЕН-АР-В.ПЭ, Версия 2, 12/2025 Корпуса 1, 2 - двери в БКТ,тамбуры МОП равнопольные, некоторые шириной 1950 (2000 в осях стоек) вместо 1680 (1730 в осях стоек) - двери в лестничные клетки двупольные вместо однопольных шириной 1480 мм (в проем в стене шириной 1600 мм) Корпус 3 секции 1, 2 - двери в лестничные клетки недопустимо узкие - ширина проемов в стене под них 1050 вместо 1600; - дверь в БКТ секции 2 шириной 1450 вместо 1680 Одноэтажная пристройка, помещение охраны - витраж +двупольная дверь шириной 1680 вместо однопольной двери шириной 1280 На момент проверки 03.08.26 не предоставлены фасады, поэтому нет возможности оценить необходимость применения нестандартных витражей. | E17: ПИК | F17: высота | H17: Позволяет отследить правильность применения альбомов ПИК в части применения СПК для последующего корректного отображения фасадов | I17: АР
A18: =A17+1 -> 9 | B18: Типы наружных стен и применяемые для отделки материалы выполнены в соответствиим с ПИК-стандарт | C18: НЕТ | D18: Не предоставлено | E18: ПИК | F18: ПИК-стандарт | H18: Позволяет отследить правильность применения альбомов ПИК в части устройства ограждающих конструкций (стен) | I18: АР
A19: =A18+1 -> 10 | B19: На 1 этаже обеспечена возможность подключения воздуходов БКТ, и тех.помещений к шахтам ОВ | C19: ??? | E19: МФС | F19: МФС | I19: ОВ
A20: =A18+1 -> 10 | B20: На 1 этаже, в секциях выше 50м, предусмотрены шахты ОВ для опусков воздуховодов систем приточной противодымной вентиляции зон ПБЗ (2 шахты: одна не менее 500х300мм, вторая не менее 800х400мм) , компенсации с типовых этажей для подключения к вентустановкам в подземной части (КДУ, не менее 800х500 или 1000х400). | C20: ??? | E20: МФС | F20: МФС | I20: ОВ
A21: =A18+1 -> 10 | B21: Оси и межосевые размеры на планах соответствуют по всем этажам. Оси и межосевые размеры на разрезах соответствуют осям и размерам на планах. | C21: ОТСУТСТВУЕТ | D21: На момент проверки 03.08.26 разрезы не предоставлены | E21: МФР | I21: АР
A22: =A19+1 -> 11 | B22: Для объектов с подземной парковкой в непосредственной близости к рампе предусмотрено помещение охраны с санузлом. В помещении охраны обеспечено естественное освещение и прямой обзор зоны въезда/выезда. Вход в помещение с улицы, без тамбура. | C22: НЕТ | D22: Откорректировать планировочное решение: - уменьшить площадь помещения охраны; - заменить наружный витраж на витражную дверь; - исправить тамбур БКТ | E22: МФР | I22: АР
B23: На плане 1 этажа, а также технического этажа и кровли в случае размещения на них помещений, с высотой потолка более 1,8 м в экспликации приведены площади:
A24: =A22+1 -> 12 | B24: - каждого помещения | C24: НЕТ | D24: Для Корпуса 1 не учтены помещение консьержа, туалет и ПУИ. Выполнить Экспликации помещений по корпусам со сквозной нумерацией для каждого корпуса, не делить нумерацию по функциональному назначению. Не должно быть помещений с одинаковыми номерами в пределах одного корпуса | E24: МФС | F24: МФС | I24: АР
A25: =A24+1 -> 13 | B25: - общая для всех помещений | C25: НЕТ | E25: МФС | F25: МФС | I25: АР
A26: =A25+1 -> 14 | B26: - общая для этажа | C26: НЕТ | E26: МФС | F26: МФС | I26: АР
A27: =A26+1 -> 15 | B27: Коэффициент выхода площади с этажа (Sбкт/Sэт) | C27: НЕТ | E27: МФС | F27: МФС | H27: Дтя того чтобы исключить недосчет машинных помещений лифтов, помещений СС и т.д.) Были случаи, когда в СПП ГНС забывали включать помещения на кровле | I27: АР
A28: =A27+1 -> 16 | B28: - суммарная поэтажная площадь этажа (секции) в габаритах наружных стен | C28: НЕТ
A29: =A28+1 -> 17 | B29: Предусмотрены и показаны места для размещения наружных блоков кондиционирования нежилых помещений 1 этажа: БКТ, ЦИН, ОДС, СС, МПТЦ | C29: НЕТ | D29: На плане показать пунктирной линией и подписать наружные блоки кондиционеров | E29: МФР | F29: Новое требование МФР | I29: АР
A30: =A29+1 -> 18 | B30: На планах предусмотрены и показаны шахты ВК и обстройки для разводки трубопроводов в мокрых зонах МОП и БКТ. | C30: НЕТ | E30: МФС | F30: МФС | H30: Без проработки шахт габариты санузлов в последствии могут меняться, и как следствие - примыкания мокрых зон к помещениям ЭС и СС | I30: ВК
A31: =A30+1 -> 19 | B31: На планах показаны радиаторы отопления. Расположение радиаторов учитывает габаритные размеры помещений, (тамбуры, лестницы и т.д) и путей эвакуации, габариты дверных и оконных проемов | C31: НЕТ | D31: Во вторых тамбурах МОП должны быть предусмотрены места под устройство ниш в каркасной облицовке стен для приборов отопления глубиной min 250 мм. Учесть ниши при проектировании внутренних и наружных витражей | E31: МФС | F31: МФС | I31: АР
A32: =A31+1 -> 20 | B32: На разрезах приведены все применяемые на объекте пироги покрытий кровли. | C32: ОТСУТСТВУЕТ | D32: На момент проверки 03.08.26 разрезы не предоставлены | E32: МФС | F32: МФС | I32: АР
A33: =A32+1 -> 21 | B33: Высота здания не превышает предельную, указанную в ГПЗУ (высота должна быть указана на разрезе, должен учитываться рельеф) | C33: ОТСУТСТВУЕТ | D33: На момент проверки 03.08.26 разрезы не предоставлены | E33: НД | F33: ГПЗУ | H33: https://archsovet.msk.ru/article/faq/raschet-tep | I33: АР
B34: МОП
A35: =A33+1 -> 22 | B35: Предусмотрены 2 входа в МОП жилой части со стороны улицы и двора с устройством сквозного прохода (кроме односекционных ЖД) | C35: ДА | D35: Предусмотрено в Корпусах 1, 2. В Корпусе 3, секции 1, 2 сквозные проходы отсутствуют | E35: МФР | F35: МФР. Рекомендации по проектированию от 03.12.2020, стр 7 ПП№305 от 21.05.2015, п.2.3.1 | I35: АР
A36: =A35+1 -> 23 | B36: Предусмотрены обособленные входы в нежилые помещения БКТ со стороны улицы | C36: ДА | D36: Учтено | E36: МФР | F36: МФР. Рекомендации по проектированию от 03.12.2020, стр 6,7 | I36: АР
A37: =A36+1 -> 24 | B37: Отсутствует перепад высот между планировочной отметкой улицы и отметкой пола МОП | C37: ОТСУТСТВУЕТ | D37: На момент проверки 03.08.26 информация не предоставлена | E37: МФР | F37: МФР. Рекомендации по проектированию от 03.12.2020, стр 6, ПП№305 от 21.05.2015, п. 2.3.3 | I37: АР
A38: =A36+1 -> 24 | B38: Расстояние по горизонтали между проемами лестничной клетки и проемами в наружной стене здания не менее 1,2 м; | C38: НЕТ | D38: Во всех корпусах расстояние между выходами из лестничных клеток и соседними наружными проемами менее 1200 мм. Показать расстояния, предел огнестойкости витражных конструкций | E38: НД | F38: СП 2.13130.2020, п. 5.4.16 д | H38: Для избежания решений с ненормативными расстояниями между выходами из эвакуационной лестницы и помещениями на 1 этаже | I38: АР
A39: =A38+1 -> 25 | B39: На 1 этаже предусмотрены места размещения коллекторов отопления для МОП (при необходимости). Коллекторы отопления для МОП не расположены в вестибюле. | C39: НЕТ | E39: МФС | F39: МФС | I39: АР, ОВ
B40: Состав помещений МОП включает:
A41: =A39+1 -> 26 | B41: - тамбуры | C41: ДА | D41: Учтено | E41: МФР | F41: МФР. Рекомендации по проектированию от 03.12.2020, стр 8 | I41: АР
A42: =A41+1 -> 27 | B42: - вестибюль | C42: ДА | D42: Учтено | E42: МФР | F42: МФР. Рекомендации по проектированию от 03.12.2020, стр 8 | I42: АР
A43: =A42+1 -> 28 | B43: - помещение консьержа с санузлом | C43: ДА | D43: Учтено | E43: МФР | F43: МФР. Рекомендации по проектированию от 03.12.2020, стр 8 | I43: АР
A44: =A43+1 -> 29 | B44: помещение консьержа необходимо предусматривать площадью 6–7 м2. | C44: НЕТ | D44: Во всех корпусах помещения консьержа предусмотрены площадью более требуемой (12,9 м2 - 27,2 м2) | E44: МФР | F44: ЗнП 2026.02.11, п.2.2, Требования к план. Реш. Первого нежилого этажа.
A45: =A44+1 -> 30 | B45: помещение колясочной площадью от 20 до 30 м2 в зависимости от количества этажей жилого дома (до 9 эт. – не менее 20 м², 10-18 эт. – не менее 25 м², свыше 18 эт. – не менее 30 м²). | C45: ДА | D45: Учтено | E45: МФР | F45: ЗнП новое 24.03.2026 | I45: АР
A46: =A45+1 -> 31 | B46: При помещении консьержа необходимо размещать и помещение для уборочного инвентаря (ПУИ). | C46: ДА | D46: Учтено | E46: МФР | F46: ЗнП 2026.02.11, п.2.2, Требования к план. Реш. Первого нежилого этажа. | I46: АР
A47: =A46+1 -> 32 | B47: Размеры тамбура МОП предусмотрены глубиной не менее 2,45м и шириной не менее 1,6 м, угловые тамбуры не менее 2,45х2,45 без учета места, занимаемого радиатором отопления | C47: НЕТ | D47: Корпус 3, секция 1: глубина тамбуров менее 2450 мм - перенести стену между тамбуром и вестибюлем | E47: МФР | F47: МФР. Рекомендации по проектированию от 03.12.2020, стр 8 | I47: АР
A48: =A47+1 -> 33 | B48: Учтено утепление тамбура | C48: НЕТ | D48: Учесть, что утепляются только первые входные тамбуры МОП, во вторых при необходимости выполняется каркасная облицовка стен без утеплителя. Стены тамбуров БКТ, ЦИН, ОДС, в том числе наружные, тоже должны утепляться - показать везде | E48: МФР | F48: МФР. Рекомендации по проектированию от 03.12.2020, стр 9
A49: =A48+1 -> 34 | B49: Помещение консьержа обеспечивает визуальный обзор двери, ведущей из тамбура в вестибюль и/или проход к лифтам и лестничной клетке | C49: ДА | D49: Учтено | E49: МФР | F49: МФР. Рекомендации по проектированию от 03.12.2020, стр 8 | I49: АР
A50: =A49+1 -> 35 | B50: Вестибюль выполнен в виде цельного открытого пространства, с естественным освещением, без расположенных внутри строительных конструкций или инженерных сетей | C50: НЕТ | D50: Корпус 3, секции 1, 2: вестибюли не выполнены в виде общего пространства - откорректировать | E50: МФР | F50: МФР. Рекомендации по проектированию от 03.12.2020, стр 8; Новые требования МФР | H50: Для того, чтобы избежать МОП в виде коридора из за того, что вертикальные коммуникации не позволдяют сделать общее открытое пространство | I50: АР
A51: =A50+1 -> 36 | B51: Отсутствует доступ в технические помещения (люк, дверь). | C51: НЕ ПРИМЕНЯЕТСЯ | D51: Не применяется | E51: МФР | F51: Штаб БОАР Реновация | I51: АР
A52: =A51+1 -> 37 | B52: Для помещения колясочной следует применять огнестойкую металлическую дверь Д-18 | C52: НЕТ | D52: Показать двери в колясочные (двупольные металлические, противопожарные, в проем 1400х2100(h), см ЖД-ТАС-РЕН-АР-ДВ, Версия 4, 12/2025 | E52: МФС | F52: МФС | H52: по новому стандарту дверей версии 4. Стандарт ЖД-ПП-РЕН-АР-ОВК (ВТР #22) | I52: АР
B53: В вестибюле предусмотрены и показаны места для размещения:
A54: =A52+1 -> 38 | B54: - почтовых шкафов | C54: НЕТ | D54: Учтено, но требует корректировки местоположения в Корпусе 3 | E54: МФР | F54: МФР. Рекомендации по проектированию от 03.12.2020, стр 8 | I54: АР
A55: =A54+1 -> 39 | B55: - постамата размерами 2100х1650х475мм (ВхШхГ) | C55: НЕТ | D55: Показать места для постаматов, а не для вендинговых аппаратов | E55: МФР | F55: ЗнП новое 24.03.2026, Постановлением Правительства Москвы от 10.06.2022 № 1058-ПП «О реализации в городе Москве проекта «Московский постамат» и Смарт-Стандартами. | I55: АР
A56: =A55+1 -> 40 | B56: размещения вертикально ориентированной навесной информационной ЖК-панели диагональю 24-32 дюйма на высоте не менее 1.2м и не более 1.25м от пола до нижней границы экрана | C56: НЕТ | E56: МФР | F56: ЗнП новое 24.03.2026, в соответствии с требованиями Смарт-Стандартов | I56: АР
B57: Дополнения
A58: =A56+1 -> 41 | B58: Предусмотрен блок помещений для персонала, выполняющего уборку территории, площадью не более 15 м2, включающий общее помещение для инвентаря, сан.узел, раздевалку с душевой. Вход в основное помещение с улицы, без тамбура. Без козырька | C58: НЕТ | D58: Предусмотреть блок помещений для персонала, выполняющего уборку территории | E58: МФР | F58: ЗнП новое 24.03.2026 | I58: АР
A59: =A58+1 -> 42 | B59: В помещениях 1-го этажа (консьерж, колясочная) наружная жалюзийная решетка для забора воздуха, расположена за пределами 8-ми метровой зоны от ворот рампы. | C59: ДА | D59: Учтено | E59: МФС | F59: МФС | H59: Памятка по размещению ниш ПОС и помещений ПОС при формировании планировок для строений стандартной этажности. Версия 2.8, изм. от 06.04.2026
A60: =A59+1 -> 43 | B60: Приточные клапаны - КИВ. Для обеспечения поступления в помещения МОП 1 этажа (консьерж, колясочная), должен быть предусмотрен клапан КИВ. КИВ должен быть расположен не выше 2500 мм от уровня чистого пола. | C60: ОТСУТСТВУЕТ | D60: На момент проверки 03.08.26 фасады не предоставлены | E60: МФС | F60: МФС | H60: Памятка по размещению ниш ПОС и помещений ПОС при формировании планировок для строений стандартной этажности. Версия 2.8, изм. от 06.04.2026
B61: НЕЖИЛЫЕ ПОМЕЩЕНИЯ БКТ
A62: =A60+1 -> 44 | B62: Входы и пути движения по помещениям выполнены с учетом доступности МГН | C62: ОТСУТСТВУЕТ | D62: На момент проверки 03.08.26 отметки ч пола и благоустройства при входах не предоставлены | E62: НД | F62: СП 59.13330.2020, п | I62: АР
A63: =A62+1 -> 45 | B63: Количество и расположение эвакуационных выходов предусмотрено в соответствии с требованиями НД в зависимости от назначения, площади, протяженности помещения | C63: ДА | D63: Учтено | E63: НД | F63: СП 1.13130.2020, гл 4.2 | H63: Для проверки достаточности эвакуационных выходов помещений 1 этажа. Как обоснование одного ЭВ должен предоставляться расчет количества человек - не более 50 | I63: АР
A64: =A63+1 -> 46 | B64: Предусмотрено не менее одного санузла с доступом МГН | C64: НЕТ | D64: Корпус 3, секция 2: в БКТ 69 не предусмотрены сан.узел, ПУИ и входной тамбур | E64: МФР | F64: МФР. Рекомендации по проектированию от 03.12.2020, стр. 13 | I64: АР
A65: =A64+1 -> 47 | B65: Окна помещений БКТ предусмотрены преимущественно на уличный фасад, на внутридворовой фасад ориентированы только эвакуационные выходы | C65: ДА | D65: Учтено | E65: МФС | F65: МФС | H65: Очень часто подрядчики делают нефункциональные БКТ, например без окон на уличном фасаде | I65: АР
A66: =A65+1 -> 48 | B66: Остекление выполнено с большим процентом светопрозрачных конструкций по сравнению с типовыми этажами (увеличенные окна, витражное остекление и т.д) | C66: ДА | D66: Учтено | E66: НД | F66: ПП№305 от 21.05.2015, п. 2.4.4 | I66: АР
A67: =A66+1 -> 49 | B67: Предусмотреть помещения БКТ с площадью каждого не более 250 м2. | C67: ДА | D67: Учтено | E67: МФР | F67: ЗнП 2026.02.11, п. 2.2 Требования к план. Реш. Первого нежилого этажа. | I67: АР
A68: =A67+1 -> 50 | B68: Предусмотреть на фасаде места для размещения наружных блоков кондиционеров для каждого помещения БКТ, ЦИН (не менее 1 наружного блока на одно помещение) и узлового помещения связи (из расчета не менее 2 наружных блоков на одно помещение). | C68: ОТСУТСТВУЕТ | D68: На момент проверки 03.08.26 фасады не предоставлены | E68: МФР | F68: ЗнП 2026.02.11, п. 2.3.2.5_Требования к наружным стенам и наружной отделке (фасадным решениям): | I68: АР, СС
A69: =A68+1 -> 51 | B69: На 1 этаже предусмотрены места размещения коллекторов отопления в БКТ. Допускается размещения коллектора для БКТ в ПУИ. | C69: НЕТ | E69: МФС | F69: МФС | I69: ОВ
B70: Центр информирования населения (ЦИН)
A71: =A69+1 -> 52 | B71: Общая площадь помещени ЦИН не менее 125…150 м2 | C71: ДА | D71: Учтено | E71: МФР | F71: МФР. Рекомендации по проектированию от 03.12.2020, стр. 13, 78 | I71: АР
A72: =A71+1 -> 53 | B72: На плане ЦИН, ОДС показано размещение постоянных рабочих мест, общее количество постоянных рабочих мест не менее 9 | C72: ДА | D72: Учтено | E72: МФР | F72: МФР. Требования к оснащению ЦИН от 21.04.2020 | I72: АР
A73: =A72+1 -> 54 | B73: Предусмотрена тепловая завеса на входной группе в тамбуре ОДС. При втором эвакуационном выходе без тамбура из БКТ - не предусматривается | C73: НЕТ | D73: Показать пунктирной линией и подписать тепловую завесу в тамбуре ЦИН | E73: НД | F73: СП 1.13130.2020, гл 4.2 | I73: АР
B74: На плане помещения ЦИН предусмотрены и показаны
A75: =A73+1 -> 55 | B75: Информационная зона | C75: ДА | D75: Учтено | E75: МФР | F75: ЗнП 2026.02.11, п.2.4.5.3_Технологические решения ЦИН | I75: АР
A76: =A75+1 -> 56 | B76: Зона ожидания с детским уголком | C76: ДА | D76: Учтено | E76: МФР | F76: ЗнП 2026.02.11, п.2.4.5.3_Технологические решения ЦИН | I76: АР
A77: =A76+1 -> 57 | B77: Рабочие зоны специалистов (без разделения перегородками) | C77: ДА | D77: Учтено | E77: МФР | F77: ЗнП 2026.02.11, п.2.4.5.3_Технологические решения ЦИН | I77: АР
A78: =A77+1 -> 58 | B78: Зона службы охраны | C78: ДА | D78: Учтено | E78: МФР | F78: ЗнП 2026.02.11, п.2.4.5.3_Технологические решения ЦИН | I78: АР
A79: =A78+1 -> 59 | B79: Служебное помещение | C79: ДА | D79: Учтено | E79: МФР | F79: ЗнП 2026.02.11, п.2.4.5.3_Технологические решения ЦИН | I79: АР
A80: =A79+1 -> 60 | B80: Санузел персонала. | C80: ДА | D80: Учтено | E80: МФР | F80: ЗнП 2026.02.11, п.2.4.5.3_Технологические решения ЦИН | I80: АР
A81: =A80+1 -> 61 | B81: Санузел доступный для инвалидов-колясочников. | C81: ДА | D81: Учтено | E81: МФР | F81: ЗнП 2026.02.11, п.2.4.5.3_Технологические решения ЦИН | I81: АР
A82: =A81+1 -> 62 | B82: Помещение уборочного инвентаря. | C82: ДА | D82: Учтено | E82: МФР | F82: ЗнП 2026.02.11, п.2.4.5.3_Технологические решения ЦИН | I82: АР
A83: =A82+1 -> 63 | B83: На 1 этаже предусмотрены места размещения коллекторов отопления в ЦИН. Допускается размещения коллектора для ЦИН в ПУИ. | C83: НЕТ | E83: МФС | F83: МФС | I83: ОВ
B84: Объединенная диспетчерская служба (ОДС)
A85: =A83+1 -> 64 | B85: Площадь помещения ОДС не менее 200 м2 | C85: НЕТ | D85: Общая площадь ОДС менее 200 м2 Согласно письмам МФР от 09.04.26, 13.07.26 ОДС должна быть не менее 200 м2 | E85: НД | F85: РПМ от 04.06.2013 №05-14-169/3, п. 3.1 | H85: Нет документа, однозначно определяющего минимальную площадь ОДС | I85: АР
B86: На плане помещения ОДС предусмотрены и показаны
A87: =A85+1 -> 65 | B87: рабочий зал для установки оборудования диспетчерского пульта; | C87: ДА | D87: Учтено | E87: НД | F87: РПМ от 04.06.2013 №05-14-169/3, п. 3.1 | I87: АР
A88: =A87+1 -> 66 | B88: помещение для технического персонала специализированной организации, осуществляющей техническое обслуживание АС ДКиУ; | C88: ДА | D88: Учтено | E88: НД | F88: РПМ от 04.06.2013 №05-14-169/3, п. 3.1 | I88: АР
A89: =A88+1 -> 67 | B89: помещение для отдыха персонала диспетчерской службы; | C89: ДА | D89: Учтено | E89: НД | F89: РПМ от 04.06.2013 №05-14-169/3, п. 3.1 | I89: АР
A90: =A89+1 -> 68 | B90: помещение для приема пищи; | C90: ДА | D90: Учтено | E90: НД | F90: РПМ от 04.06.2013 №05-14-169/3, п. 3.1 | I90: АР
A91: =A90+1 -> 69 | B91: гардероб; | C91: ДА | D91: Учтено | E91: НД | F91: РПМ от 04.06.2013 №05-14-169/3, п. 3.1 | I91: АР
A92: =A91+1 -> 70 | B92: душевую; | C92: ДА | D92: Учтено | E92: НД | F92: РПМ от 04.06.2013 №05-14-169/3, п. 3.1 | I92: АР
A93: =A92+1 -> 71 | B93: санузел. | C93: ДА | D93: Учтено | E93: НД | F93: РПМ от 04.06.2013 №05-14-169/3, п. 3.1 | I93: АР
A94: =A93+1 -> 72 | B94: На 1 этаже предусмотрены места размещения коллекторов отопления в ОДС. Допускается размещения коллектора для ОДС в ПУИ. | C94: НЕТ | E94: МФС | F94: МФС | I94: ОВ
B95: ТЕХНИЧЕСКИЕ ПОМЕЩЕНИЯ,ЧЕРДАК,КРОВЛЯ
A96: =A94+1 -> 73 | B96: Предусмотрено помещение КП МПТЦ прямоугольной формы и площадью не менее 23 м2, выход непосредственно наружу | C96: ОТСУТСТВУЕТ | D96: На момент проверки 03.08.26 план кровли не предоставлен | E96: МФР | F96: МФР. Письмо №ФР-11-24350/22 от 07.09.2022 | I96: АР
A97: =A96+1 -> 74 | B97: Помещения электрощитовых и связи и слаботочных систем не расположены под или смежно с "мокрыми" помещениями либо приняты специальные меры по гидроизоляции таких помещений, в том числе устройство дополнительного технического пространства, высотой не менее 1,2 м с доступом через люк. Высота тех. помещения должна быть не менее 3,0 м в чистоте. | C97: НЕ ПРИМЕНЯЕТСЯ | D97: Помещения электрощитовых и связи и слаботочных систем располагаются в подземном этаже | E97: МФР | F97: МФР. Рекомендации по проектированию от 03.12.2020, стр. 14; Замечания МФР, ЗнП 2026.02.11, п.2.2 Требования к план. Реш. Подз. части здания.
A98: =A97+1 -> 75 | B98: Исключить возможность размещения помещений слаботочных систем и электрощитовых непосредственно под санузлами и другими помещениями, связанными с мокрыми технологическими процессами. Принятие специальных мерых по гидроизоляции таких помещений НЕ допускаютя. Размещение смежно с "мокрыми" помещениями стараться Исключить. | C98: НЕ ПРИМЕНЯЕТСЯ | D98: Помещения электрощитовых и связи и слаботочных систем располагаются в подземном этаже | E98: МФР | F98: ЗнП 2026.02.11, п.2.2 Требования к план. Реш. Подз. части здания.
A99: =A98+1 -> 76 | B99: Размещение технических помещений выполнено преимущественно со стороны двора | C99: НЕ ПРИМЕНЯЕТСЯ | D99: На первом этаже технические помещения отсутствуют | E99: МФС | F99: МФС | H99: Для того, чтобы оставить на уличном фасаде больше места для окон БКТ | I99: АР
A100: =A99+1 -> 77 | B100: Входы в технические помещения выполнены обособлено от входов в жилую часть и непосредственно наружу | C100: НЕ ПРИМЕНЯЕТСЯ | D100: На первом этаже технические помещения отсутствуют | E100: МФР | F100: МФР. Рекомендации по проектированию от 03.12.2020, стр 14 | I100: АР
...

Sheet ПОДЗ
B1: Ответ разработчика вносится в чек-лист после окончания проверки ГП-МФС. Оформление ответа - "ГГ.ММ.ДД_текст комментария", где дата соответсвует новой редакции загружаемой на витрокад. Не следует писать комментарии параллельно с работой специалистов ГП-МФС. Обещания учесть на последующих стадиях не учитываются, повторно фиксируется несоответсвие требованию.
B2: ИТОГ
A3: № | B3: ='1+ТЕХ+КР'!B2 -> Требования к проектным решениям | C3: СТАТУС | D3: Комментарий | F3: Ссылка на требование | G3: Ответ разработчика | H3: Обоснование необходимости требования | I3: Специалист, заполняющий позицию
A4: ВСЕГО | B4: ДА | C4: =COUNTIF(C10:C105,"ДА") -> 24 | F4: =SUM(F5:F8) -> 79
A5: =COUNTA(A10:A105) -> 82 | B5: НЕТ | C5: =COUNTIF(C10:C105,"НЕТ") -> 49 | D5: Требования НД | E5: НД | F5: =COUNTIF(E10:E177,"НД") -> 49 | H5: АР | I5: 51
B6: ОТСУТСТВУЕТ | C6: =COUNTIF(C10:C105,"ОТСУТСТВУЕТ") -> 8 | D6: Рекомендации МФР | E6: МФР | F6: =COUNTIF(E10:E177,"МФР") -> 13 | H6: ИОС | I6: =F4-I5 -> 28
B7: НЕ ПРИМЕНЯЕТСЯ | C7: =COUNTIF(C10:C105,"НЕ ПРИМЕНЯЕТСЯ") -> 1 | D7: ПИК-стандарт | E7: ПИК | F7: =COUNTIF(E10:E177,"ПИК") -> 4
B8: Согласовано с МФР | C8: =COUNTIF(C10:C105,"МФР") -> 0 | D8: МФС | E8: МФС | F8: =COUNTIF(E10:E177,"МФС") -> 13
B9: НЕ ОТВЕЧЕННЫЕ | C9: =A5-C4-C5-C6-C7-C8 -> 0
B10: ОБЩИЕ | I10: Специалист, заполняющий позицию
A11: =1 -> 1 | B11: Габариты и площади помещений указаны с учетом отделки. | C11: НЕТ | D11: Информация об учёте отделки отсутствует | E11: МФР | F11: Чек-лист МФР 1 этапа | I11: АР
A12: =A11+1 -> 2 | B12: На планах показаны конструктивные элементы здания | C12: ДА | E12: МФР | F12: Чек-лист МФР 1 этапа | I12: АР
A13: =A12+1 -> 3 | B13: Количество эвакуационных выходов и лестниц из подземного этажа принято в соответствии с НД в зависимости от деления подземной части на пожарные отсеки, площади и назначения помещений. | C13: НЕТ | D13: В лестничной клетке 05 не показаны двери. Открывание всех дверей показать в сторону эвакуации | E13: НД | F13: СП 1.13130.2020, гл. 4, 6, 8 | H13: Для устранения неоднократных случаев, когда подрядчики нерационально выполняют разбивку на пожарные отсеки и превышают необходимое количество эвакуационных лестниц | I13: АР
A14: =A13+1 -> 4 | B14: Ширина эвакуационных лестниц из подземной части здания определена в зависимости от функционального назначения помещений и расчетного количества эвакуирующихся. Ширина лестничных маршей, габариты площадок указаны "в свету" и с учетом полотна открытой двери. Ширина площадок не менее ширины марша. | C14: НЕТ | D14: Ширина маршей и площадок не указана | E14: НД | F14: СП 1.13130.2020, п. 4.4.1, 4.4.2. АТУ_Металлические ограждения лестниц подземной части здания и входов ЖД-ТА-РЕН-КР-КМ3 | H14: Оптимизация планировочных решений. | I14: АР
A15: =A14+1 -> 5 | B15: В случае, если по расчету ширина эвакуационной лестницы не превышает 1,0 м, эвакуационные лестницы из подземного этажа в зоне высотной части располагаются непосредственно под лестницами, ведущими с верхних этажей (при количестве эвакуирующихся менее 50 чел), с выгородкой от остальной части лестничной клетки глухой противопожарной перегородкой 1-го типа и с обособленным выходом наружу. | C15: ОТСУТСТВУЕТ | E15: НД | F15: СП 1.13130.2020, п. 4.4.1, 4.4.2. АТУ_Металлические ограждения лестниц подземной части здания и входов ЖД-ТА-РЕН-КР-КМ3 | H15: Оптимизация связана с увеличением полезной площади 1 этажа и повышения К эфф | I15: АР
A16: =A15+1 -> 6 | B16: Предусмотрены правила размещения навигационных элементов в помещениях подземного этажа | C16: НЕТ | D16: На данный момент информация отсутствует | E16: МФС | F16: МФС | I16: АР
A17: =A16+1 -> 7 | B17: На плане указана ширина "в свету" эвакуационных выходов из помещений подземного этажа в лестничные клетки в зависимости от функционального назначения помещений и количества эвакуирующихся. | C17: НЕТ | D17: Ширина эвакуационных выходов не указана | E17: НД | F17: СП 1.13130.2020, п. 4.1.4, 4.2.19, 8.4.6.
A18: =A17+1 -> 8 | B18: Оси и межосевые размеры на планах подземной части соответствуют осям надземной части. Оси и межосевые размеры на разрезах соответствуют осям и размерам на планах. | C18: НЕТ | D18: Зазрезы на данный момент не предоставлены | E18: НД | F18: ГОСТ Р 21.101-2020, п. 5.3 | I18: АР
A19: =A18+1 -> 9 | B19: Деформационный шов не пересекает технические помещения и эвакуационные коридоры | C19: НЕТ | D19: ДШ на плане не показан. | E19: НД | F19: СП 1.13130, п. 4.3.5. | H19: по факту паркинг осядет меньше чем жилой дом
B20: АВТОСТОЯНКА
A21: =A19+1 -> 10 | B21: Габаритные размеры парковочных мест не менее 5,3х2,5 м | C21: ДА | E21: НД | F21: Приказ Минэкономразвития РФ от 07.12.2016 № 792 СП 113.13330.2023 Прил.А. | I21: АР
A22: =A21+1 -> 11 | B22: Все парковочные места выполнены независимыми | C22: ДА | E22: МФР | F22: МФР. Рекомендации по проектированию от 03.12.2020, стр. 26 | I22: АР
A23: =A22+1 -> 12 | B23: Высота автостоянки, в том числе в местах проездов, над рампами и воротами - не менее 2,2м от пола до низа выступающих строительных конструкций, инженерных коммуникаций или подвесного оборудования. | C23: НЕТ | D23: На данный момент информация отсутствует | E23: НД | F23: СП 154.13130.2013, п. 5.2.27. | I23: АР
A24: =A23+1 -> 13 | B24: Радиусы поворота не менее 6,0 м | C24: НЕТ | D24: Радиусы на плане не указаны | E24: НД | F24: СП 113.13330.2023, ПриложениеА | I24: АР
A25: =A24+1 -> 14 | B25: Количество машино-мест, в одноуровневой подземной автостоянке, предусмотреть не менее 70 машино-мест. | C25: ДА | E25: МФР | F25: ЗнП 2026.02.11, стр.65, п. Требования к план. Реш. Подз. части здания. | I25: АР
A26: =A25+1 -> 15 | B26: Сдвоенные («семейные») машино-места, а также места для хранения мототранспорта или иных транспортных средств в подземной автостоянке (при наличии) не предусматривать. | C26: ДА | E26: МФР | F26: ЗнП новое 24.03.2026 | I26: АР
B27: Уклон въездной рампы выполнен не более (указан на плане и разрезе):
A28: =A26+1 -> 16 | B28: - 18% для закрытой прямой рампы | C28: ОТСУТСТВУЕТ | E28: НД | F28: СП 113.13330.2023, п. 5.26 | I28: АР
A29: =A28+1 -> 17 | B29: - 1:6 (16,7%) для закрытой прямой изолированной рампы в случае, если она используется как эвакуационный выход | C29: ОТСУТСТВУЕТ | E29: НД | F29: СП 1.13130.2020, п . 8.4.3 | I29: АР
A30: =A29+1 -> 18 | B30: - 13% для закрытой криволинейной рампы | C30: НЕТ | D30: Уклоны показаны только на нижних участках рампы | E30: НД | F30: СП 113.13330.2023, п. 5.26 | I30: АР
A31: =A30+1 -> 19 | B31: - 10% для открытой рампы любой конфигурации | C31: ОТСУТСТВУЕТ | E31: НД | F31: СП 113.13330.2023, п. 5.26 | I31: АР
A32: =A31+1 -> 20 | B32: Место сопряжения рампы и пола автостоянки выполняется плавным, обеспечивая минимальную высоту клиренса автомобиля не менее 0,1 м. Техническое решение подтверждается схемой разреза рампы с расположенными на ней эталонным автомобилем. | C32: НЕТ | D32: На данный момент информация отсутствует. Разрез не предоставлен. | E32: НД | F32: СП 113.13330.2023, п.5.26г | H32: Неоднократные замечания МФР | I32: АР
A33: =A32+1 -> 21 | B33: Обеспечены требования по расстояниям до двух ближайших эвакуационных выходов не более 40 м от наиболее удаленной точки (не более 20 м от наиболее удаленной точки в тупиковом участке) На плане указаны расстояния от наиболее удаленного места хранения автомобиля до двух ближайших выходов. | C33: НЕТ | D33: На данный момент информация отсутствует. | E33: НД | F33: СП 1.13130.2020, п . 8.4.3, табл. 19 | H33: Для устранения неоднократных случаев, когда подрядчики нерационально выполняют разбивку на пожарные отсеки и превышают необходимое количество эвакуационных лестниц | I33: АР
B34: На путях эвакуации, в местах проходов к эвакуационным лестничным клеткам, пожаробезопасным зонам через участки размещения парковочных мест, предусмотрены и показаны тротуары (проходы, ограниченными колесоотбойниками, ограждениями или вертикальными строительными конструкциями
A35: =A33+1 -> 22 | B35: - на путях эвакуации из автостоянки не менее 1,2 м | C35: НЕТ | D35: Тротуары, ограниченные колесоотбойниками не показаны. | E35: НД | F35: СП 59.13330.2016, п. 6.2.21. СП 1.13130 п.4.3.3, 8.4.6. СП 59.13330.2016, п. 6.2.21 | H35: Неоднократные замечания МФР | I35: АР
A36: =A35+1 -> 23 | B36: - из помещений не менее 0,6 м | C36: ОТСУТСТВУЕТ | E36: НД | F36: СП 59.13330.2016, п. 6.2.21. СП 1.13130 п.4.3.3, 8.4.6. СП 59.13330.2016, п. 6.2.21 | H36: Неоднократные замечания МФР | I36: АР
A37: =A36+1 -> 24 | B37: При наличии парковки на плане указана ширина пути эвакуации через участки размещения машиномест мест в местах проходов к эвакуационным лестничным клеткам и пожаробезопасным зонам: - 1,2 м при количестве эвакуирующихся более 50 человек; - 0,7 м - для проходов к одиночным рабочим местам; - 1,0 м - во всех остальных случаях. В целях безопасности предусмотрены и показаны колесоотбойники, ограждения. | C37: НЕТ | D37: На данный момент информация отсутствует. | E37: НД | F37: СП 59.13330.2016, п. 6.2.21. СП 1.13130 п.4.3.3, 8.4.6.
B38: Минимальная ширина рампы в строительных конструкциях сооветствует требованиям НД. На плане показаны все элементы рампы и их размеры с учетом минимальной нормативной ширины проезда и колесоотбойников (0,15 м по краям, среднего барьера 0,2 м, тротуара 0,8м - при наличии):
A39: =A37+1 -> 25 | B39: _ 3,8 (0,15+3,5+0,15) м для однопутной рампы | C39: НЕТ | D39: Ширина рампы не указана. | E39: НД | F39: СП 113.13330.2023, п. 5.26, п. 5.40 | I39: АР
A40: =A39+1 -> 26 | B40: _ 7,5м (0,15+ 3,5+0,2+3,5+0,15) для двухпутной рампы | C40: ОТСУТСТВУЕТ | E40: НД | F40: СП 113.13330.2023, п. 5.26, п. 5.41 | I40: АР
A41: =A40+1 -> 27 | B41: _ 4,6м (0,15+3,5+0,15+0,8) для однопутной рампы с эвакуационным тротуаром. | C41: ОТСУТСТВУЕТ | E41: НД | F41: СП 113.13330.2023, п. 5.26, п. 5.42 | I41: АР
B42: Обеспечивается доступ жильцов в помещение автостоянки из ЛЛУ жилой части здания с учетом требований НД, в том числе:
A43: =A41+1 -> 28 | B43: Сообщение по вертикали между автостоянкой и жилой частью здания обеспечивается лифтом с возможностью перевозки пожарных подразделений, с учетом выполнения требований к огнестойкости шахты и дверей лифта. | C43: ДА | E43: НД | F43: СП 113.13330.2023, п. 6.2.7, п.6.2.8, 6.2.9. ГОСТР 53296—2009, гл.5. | H43: Неоднократные замечания МФР | I43: АР
A44: =A43+1 -> 29 | B44: При выходах из лифтов всех секций в помещение хранения автомобилей предусмотрены два последовательно расположенных тамбур-шлюза с подпором воздуха при пожаре. Первый (перед выходом из лифта) тамбур-шлюз совмещен с пожаробезопасной зоной | C44: НЕТ | D44: Пожаробезопасные зоны на плане не указаны. | E44: НД | F44: СП 1.13130.2020, п. 9.2.2, 9.2.4, 9.2.5; СП 7.13130.2013, п. 8.7; СП 113.13330.2023, п.6.2.9 | H44: Неоднократные замечания МФР | I44: АР
A45: =A44+1 -> 30 | B45: Габаритные размеры тамбур-шлюза перед лифтовым холлом не менее 2,45х1,6 м | C45: ДА | E45: НД | F45: СП 59.13330.2020, п.6.1.8 | I45: АР
A46: =A45+1 -> 31 | B46: На плане показаны границы деления автостоянки на самостоятельные пожарные отсеки (секции) а также приведена площадь каждого из отсеков (секций) (ПО не более 3000 м2 или 6000 м2 при делении на секции не более 3000 м2) | C46: НЕТ | D46: Деление на пожарные отсеки не показано. | E46: НД | F46: СП 2.13130.2020, п. 6.3.1, табл. 6.5 | H46: Неоднократные замечания МФР | I46: АР
A47: =A46+1 -> 32 | B47: Въезд в подземную автостоянку не располагается напротив окон фасадов существующих и проектируемых жилых зданий либо предусмотрены мероприятия, препятствующие засвечиванию окон квартир фарами выезжающих автомобилей (определяются подрядчиком). | C47: НЕТ | D47: Информация о существующих зданиях отсутствует | E47: МФР | F47: Новое требование МФР | I47: АР
A48: =A47+1 -> 33 | B48: Помещение автостоянки, в том числе въездной рампы, не располагается непосредственно под помещениями квартир либо отделено от них техническим этажом/пространством для прокладки коммуникаций. Предоставлен план технического этажа/пространства. На разрезе показано размещение помещений автостоянки или рампы и расположенных выше квартир. | C48: ДА | E48: НД | F48: СанПиН 2.1.3684-21, п. 134; СП 54.13330.2022, п. 7.35 | I48: АР
B49: При устройстве въезда в автостоянку со стороны фасада жилой части предусмотрено одно из технических решений:
A50: =A48+1 -> 34 | B50: - расстояние от края проема въездных ворот до низа ближайшего вышележащих окон квартир не менее 4,0 м | C50: ДА | E50: НД | F50: СП 4.13130.2013, п. 6.11.8; СП 113.13330.2023, п. 6.2.6 | H50: Для въездов в автостоянки со стороны фасадов с окнами | I50: АР
A51: =A50+1 -> 35 | B51: - над въездными воротами предусмотрен глухой козырек (балкон), выступающий от плоскости стены не менее 1,0 м и перекрывающий ширину проема с каждой стороны не менее чем на 0,5 м | C51: НЕТ | D51: На данный момент информация отсутствует. | E51: НД | F51: СП 4.13130.2013, п. 6.11.8; СП 113.13330.2023, п. 6.2.6 | H51: Для въездов в автостоянки со стороны фасадов с окнами | I51: АР
A52: =A51+1 -> 36 | B52: В случае размещения проемов помещений иного назначения в радиусе менее 4 м от проема автостоянки предусмотрено их противопожарное заполнение не менее Е15. | C52: НЕТ | D52: Информация о противопожарном заполнении проёмов, расположенных в радиусе менее 4 метров от въезда в автостоянку отсутствует. | E52: НД | F52: СП 4.13130.2013, п. 6.11.8; | I52: АР
A53: =A52+1 -> 37 | B53: В случае, если кровля над рампой выходит за пределы высотной части здания, примыкающий фасад выполнен без окон на высоту не менее 8 м по вертикали и 4 м по горизонтали, либо покрытие кровли выполнено с пределом огнестойкости не менее RE60 (указано на разрезе). | C53: НЕТ | D53: На данный момент информация отсутствует. | E53: НД | F53: СП 2.13130.2013, п. 5.4.13 | I53: АР
A54: =A53+1 -> 38 | B54: На разрезе по рампе показано основное покрытие/кровля выступающей части рампы. Пирог кровли принят стандартный, для зимнего периода строительства (в соответствии с Шаблоном ВОР АР), при необходимости указано дополнительное огнестойкое покрытие по основному. | C54: НЕТ | D54: На данный момент информация отсутствует. | E54: ПИК | F54: ПИК-стандарт Шаблон ВОР АР. Наружные ограждающие конструкции. Покрытие, кровля ЖД-ТАС-РЕН-АР-НК.К
B55: На плане предусмотрены и показаны:
A56: =A54+1 -> 39 | B56: Помещение охраны с санузлом для подземной автостоянки с естественным освещением (в зоне въезда-выезда надземной части рампы или на 1-м этаже жилого здания с возможностью прямого обзора въезда в автостоянку). | C56: ДА | E56: МФР | F56: ЗнП 2026.02.11, п.2.2 Требования к планировочным решениям первого нежилого этажа | I56: АР
A57: =A56+1 -> 40 | B57: Предусмотреть помещения для хранения уборочной техники площадью не менее 2 м2. | C57: ДА | E57: МФР | F57: ЗнП 2026.02.11, п.2.4.5.1_Технологические решения автостоянки | I57: АР
A58: =A57+1 -> 41 | B58: - помещение электрощитовой (одно на автостоянку) | C58: НЕТ | D58: Прописать в экспликации назначение электрощитовой. Над ЭЩ 13 корп.2 находится с/у | E58: МФС | F58: МФС | H58: Оптимизация технических решений | I58: ЭОМ
A59: =A58+1 -> 42 | B59: - помещение венткамер для систем общеобменной вентиляции для каждого пожарного отсека (Площадь венткамеры определить с учетом предполагаемого количества и назначения систем вентиляции) | C59: ДА | E59: МФР | F59: МФР. Рекомендации по проектированию от 03.12.2020, стр. 27 | I59: ОВ
A60: =A59+1 -> 43 | B60: - помещение венткамер для систем противодымной защиты для каждого пожарного отсека (Площадь венткамеры определить с учетом предполагаемого количества и назначения систем вентиляции) | C60: НЕТ | D60: Корпус 1 и 2: добавить отдельную венткамеру и форкамеру жилой части согласно СП60.13330.2020 п.9.13 (для компенсации дымоудаления и ПБЗ). Корпус 3: пом. СС №6 на плане с форкамерой?, пом. 5- два разных пом. подписаны №5, устранить несоответствия. | E60: МФР | F60: МФР. Рекомендации по проектированию от 03.12.2020, стр. 27 | I60: ОВ
A61: =A60+1 -> 44 | B61: - помещение насосной станции пожаротушения (АУПТ, одно на автостоянку) | C61: НЕТ | D61: При проектировании НУ АУПТ выполнить требование пункта 1 и пункта 3 часть 3, часть 4, часть 8 статья 89 Федерального закона от 22.07.2008 № 123-ФЗ "Технический регламент о требованиях пожарной безопасности" | E61: МФР | F61: МФР. Рекомендации по проектированию от 03.12.2020, стр. 27 | I61: ВК
A62: =A61+1 -> 45 | B62: - пути движения автомобилей | C62: НЕТ | D62: На данный момент информация отсутствует. | E62: МФС | F62: МФС | H62: Неоднократные замечания МФР | I62: АР
A63: =A62+1 -> 46 | B63: - пути эвакуации пешеходов | C63: НЕТ | D63: На данный момент информация отсутствует. | E63: МФС | F63: МФС | H63: Неоднократные замечания МФР | I63: АР
A64: =A63+1 -> 47 | B64: - лотки для сбора воды от системы пожаротушения в зоне парковки, в том числе лотки у въездной рампы и между пожарными отсеками, все лотки должны быть объединены в одну систему ливнестока автостоянки | C64: НЕТ | D64: Лотки на плане отсутствуют, показать | E64: НД | F64: СП 30.13330.2020 п.20.14; СП 113.13330.2016, Изм1 от 17.09.2019, п. 5.1.36 | I64: ВК
A65: =A64+1 -> 48 | B65: - приямки в технических помещениях | C65: НЕТ | D65: Приямки не показаны | E65: НД | F65: СП 30.13330.2020 п.20.14; Чек-лист МФР 2 этап, | I65: ВК
B66: Предусмотрено размещение насосной АУПТ, выход из которой предусмотрен одним из способов: | H66: Необходима проверка правильности расположения относительно эвакуационных лестниц, есть возможность последующей оптимизации
A67: =A65+1 -> 49 | B67: - непосредственно наружу | C67: НЕТ | D67: Эвакуация не обеспечена ни одним из указанных способов | E67: НД | F67: СП 485.1311500.2020, п. 6.10.10 | I67: АР
A68: =A67+1 -> 50 | B68: - на эвакуационную лестничную клетку | C68: НЕТ | E68: НД | F68: СП 485.1311500.2020, п. 6.10.10 | I68: АР
A69: =A68+1 -> 51 | B69: - в коридор, ведущий в эвакуационную лестничную клетку | C69: НЕТ | E69: НД | F69: СП 485.1311500.2020, п. 6.10.10 | I69: АР
B70: На разрезе показаны пироги покрытия автостоянки минимум для 3-х вариантов покрытий (пожарный проезд, тротуар, газон), путем комбинации пирогов ГП и АР - учитывая различные составы:
A71: =A69+1 -> 52 | B71: - архитектурный пирог соответствует требованиям ПИК-стандарт | C71: НЕТ | D71: На данный момент информация отсутствует. | E71: ПИК | F71: ПИК-стандарт | I71: АР
A72: =A71+1 -> 53 | B72: - пирог ГП соответствует требованиям альбома типовых дорожных конструкций Москвы | C72: НЕТ | D72: На данный момент информация отсутствует. | E72: НД | F72: Альбом типовых дорожных конструкций для города Москвы, МАДИ, 2020 г | I72: АР
A73: =A72+1 -> 54 | B73: - суммарная толщина пирога покрытия автостоянки не менее 1,46 м, что обеспечивает размещение кабельной канализации с железобетонными колодцами типа ККСр-1 (1155мм) и полимерными колодцами типа КК2 (900 мм) | C73: НЕТ | D73: На данный момент информация отсутствует. | E73: НД | F73: Распоряжение ДИТ Москвы №64-16-129/18 от 23.03.2018 г. п. 5.2.2.3, пп. 4.; ВСН 116-93, табл. 6.5 | H73: Толщина менее 0,6 м требует индивидуальной разработки пирога и требует обоснования Толщина более 1,6 м ведет к удорожанию и требует обоснования | I73: АР
A74: =A73+1 -> 55 | B74: - в локальных местах толщина пирога покрытия не менее 0,6м при отсустсвии на этих участках опор освещения и кабельной канализации | C74: НЕТ | D74: На данный момент информация отсутствует. | E74: МФС | F74: МФС | I74: АР, ГП
B75: ОБЩЕДОМОВЫЕ ТЕХНИЧЕСКИЕ ПОМЕЩЕНИЯ
A76: =A74+1 -> 56 | B76: Предусмотрены помещения для размещения Узла учета тепловой энергии и индивидуального теплового пункта (возможно их объединение в одном помещении). Площади достаточны для размещения оборудования расчетной тепловой мощности). | C76: НЕТ | D76: Для возможности расстановки оборудования с учётом соблюдения нормативной ширины проходов, площадь ИТП предусмотреть не менее 145 м2 | E76: МФС | F76: МФС | H76: Подрядчики не прорабатывают вопрос достаточности площади ИТП, что в последствии приводит к необходимости корректировки планировочных решений | I76: ОВ
A77: =A76+1 -> 57 | B77: Размещение ИТП в зании и ввод теплосети предусмотрены непосредственно у наружной стены | C77: ДА | E77: НД | F77: СП 124.13330.2012 Изм 3 от 31.05.2022, п. 14.24; СП 60.13330.2020, п.6.1.6; СП 510.1325800, п. 7.5 | H77: Необходима проверка правильности расположения относительно эвакуационных лестниц, есть возможность последующей оптимизации | I77: АР
A78: =A77+1 -> 58 | B78: Выполнено размещение насосной установки АУПТ в отдельном помещений с учетом требований к выходам из помещения. | C78: НЕТ | D78: Корпус 1 помещение 07. Не соблюдается требование к выходам (пункт 1 и пункт 3 часть 3, часть 4, часть 8 статьи 89 Федерального закона от 22.07.2008 № 123-ФЗ "Технический регламент о требованиях пожарной безопасности") | E78: МФС | F78: для ОД ВУ - ПИК-стандарт | I78: ВК, АР
A79: =A78+1 -> 59 | B79: Насосная станция ХПВ и ВПВ жилой части здания выполнена в отдельном помещении с учетом требований к выходам из помещения (отдельно от помещения водомерного узла) | C79: ДА | E79: МФС | F79: для ОД ВУ - ПИК-стандарт | I79: ВК, АР
A80: =A79+1 -> 60 | B80: Помещение общедомового водомерного узла выполнено отдельно от остальных помещений. Рекомендуемы размеры помещения минимум 7,0х3,0 м (без "помех" вдоль стен) | C80: ДА | E80: МФС | F80: для ОД ВУ - ПИК-стандарт | I80: ВК, АР
A81: =A80+1 -> 61 | B81: Предусмотрен отдельный лоток и сухой приямок (без установки дренажного насоса) на въезде/выезде в рампу для защиты от растекания топлива | C81: НЕТ | D81: Лоток и приямок отсутствуют | E81: НД | F81: СП 113.13330.2016 п.5.1.36 | I81: ВК, АР
A82: =A81+1 -> 62 | B82: Исключена прокладка транзитных трубопроводов систем ВК, ОВ и воздуховодов через помещение ИТП | C82: НЕТ | D82: Предоставить план техпространства с опусками инж. коммуникаций с вышерасположенных этажей, промаркировать коммуникации. | E82: НД | F82: Требование УП ПАО «МОЭК» | I82: ВК, ОВ, ТМ
A83: =A82+1 -> 63 | B83: Исключена прокладка трубопроводов систем ВК через помещения ЭОМ и СС | C83: НЕТ | D83: В части ВК: показать все опуски с вышерасположеных этажей В части СС замечаний нет | E83: НД | F83: СП 30.13330.2020 п.18.11 СП 134.13330.2022 п.6.14, 6.15 - в части СС | I83: ВК, ЭОМ, СС
A84: =A83+1 -> 64 | B84: Проверено обеспечение тушения рампы от ПК. При необходимости установки ШПК в рампе обеспечено размещение в нише или размещение в стене. ШПК не размещается на проезжей части рампы (не выступает на проезжую часть), не является преградой на пути эвакуации, не мешает размещению колесоотбойников | C84: НЕТ | E84: ПИК | F84: Правила проектирования для разделов ВК и АУПТ | I84: ВК
A85: =A84+1 -> 65 | B85: При наличии подземной автостоянки предусмотрен выход из ИТП в сторону автостоянки шириной не менее 1500мм в чистоте после установки двери (рекомендовано применение двери Д-57, Д-58 альбома типовых решений. Двери ЖД-ТАС-РЕН-АР-ДВ). | C85: ДА | D85: После корректировки АПР, выполнение требований текущего пункта будет проверено повторно | E85: ПИК | F85: Требование п.4.6 Правил проектирования ИТП ГП-МФС | I85: АР, ТМ
A86: =A85+1 -> 66 | B86: Наличие помещения СС и МПТЦ | C86: ОТСУТСТВУЕТ | D86: В части СС замечаний нет | E86: НД | F86: Требование к помещению СС указано в ЗнП Размещение пом. СС на -1 этаже - письмо 2023.09.05 №ФР-11-35435/23 Об увеличении доли полезной площади. Согласно требованиям к помещению МПТЦ, прописанное в ЗнП и ТУ МПТЦ - необходимо разместить на первом этаже, но его размещают на -1 этаже. Официальных писем на такое решение по размещению у меня нет. Так же нет разъяснения по поводу площади помещения. В ТУ и ЗнП указана площадь не менее 23 м.кв., а на стадии АПР его предусматривают общей площадью 15-16 м.кв. Это требование появляется в замечаниях от МФР к АПР. | I86: АР, СС
A87: =A86+1 -> 67 | B87: в подземном этаже размещение венткамер предусмотрено у внешнего контура секции | C87: ДА | E87: МФР | F87: Памятка от ИОС для АР на АПР типовых этажей и по подземному от ИОС от 2023.12.0 | I87: АР, ОВ
B88: Количество выходов из ИТП:
A89: =A87+1 -> 68 | B89: - при длине помещения менее 12 м один выход непосредственно на лестничную клетку | C89: НЕ ПРИМЕНЯЕТСЯ | E89: НД | F89: СП 60.13330.2020, п.6.1.6; | I89: АР
A90: =A89+1 -> 69 | B90: - при длине помещения более 12 м - 2 выхода, один из которых ведет в эвакуационную лестничную клетку | C90: ДА | D90: После корректировки АПР, выполнение требований текущего пункта будет проверено повторно | E90: НД | F90: СП 60.13330.2020, п.6.1.6; | I90: АР
A91: =A90+1 -> 70 | B91: Предусмотрено помещение для водопроводого ввода (ВВ) и повысительной насосной станции (ПНС). | C91: ДА | E91: МФС | F91: МФС | H91: Оптимизация технических решений | I91: АР
A92: =A91+1 -> 71 | B92: ВВ располагается непосредственно у наружной стены здания | C92: ДА | E92: МФС | F92: МФС | H92: Оптимизация технических решений | I92: АР
A93: =A92+1 -> 72 | B93: Помещения ИТП, ВВ, ПНС, и АУПТ размещены смежно или в непосредственной близости друг от друга | C93: ДА | E93: МФС | F93: МФС | H93: Оптимизация технических решений | I93: АР
A94: =A93+1 -> 73 | B94: Предусмотрено размещение электрощитовых помещений. Помещения не располагаются под и смежно с "мокрыми помещениями" | C94: НЕТ | D94: В корпусе 2 электрощитовая 13 находится под ПУИ ЦИН 05 | E94: НД | F94: СанПиН 2.1.3684-21, п. 137; МФР. Рекомендации по проектированию от 03.12.2020, стр. 14; | I94: АР
A95: =A94+1 -> 74 | B95: Выход из электрощитовой в автостоянку организован через тамбур-шлюз | C95: ДА | E95: НД | I95: АР
A96: =A95+1 -> 75 | B96: Предусмотрены помещения слаботочных систем (одно на каждый надземный пожарный отсек, но не менее, чем одно на 3 секции), площадью не менее 10 м2. Количество помещений определено из расчета длины линии распределительной сети (от телекоммуникационного шкафа до квартирного телекоммуникационного шкафа) не более 90 метров. | C96: ДА | E96: МФР | F96: МФР. Рекомендации по проектированию от 03.12.2020, стр. 14 | I96: АР
A97: =A96+1 -> 76 | B97: В случае расположения общедомовых электрощитовых и слаботочных систем в автостоянке, выходы из них предусмотрены в отдельных коридор с устройством дымоудаления | C97: ДА | E97: НД | I97: АР
B98: ЗАЩИТНОЕ СООРУЖЕНИЕ ГО
A99: =A97+1 -> 77 | B99: Подтверждена емкость ЗСГО для возможности укрытия людей, в количестве, указанном в ЗнП (на плане изображена зонзмещения ЗСГО с расстановкой оборудования и обозначенными путями эвакуации) | C99: НЕТ | D99: На данный момент информация отсутствует. | E99: МФС | F99: МФС | H99: Подрядчики не прорабатывают вопрос размещения ЗСГО | I99: АР
A100: =A99+1 -> 78 | B100: Количество и ширина входов в укрытие определены расчетом в соответстви с НД, но не менее 2-х | C100: НЕТ | D100: На данный момент информация отсутствует. | E100: НД | F100: СП 88.13330.2022, п. 7.1.7 | I100: АР
...

Sheet КОНСТР
B1: ИТОГ
A2: № | B2: ='ПОДЗ'!B3 -> Требования к проектным решениям | C2: СТАТУС | D2: Комментарий | F2: Ссылка на норматив | G2: Ответ разработчика | H2: Обоснование необходимости требования
A3: ВСЕГО | B3: ДА | C3: =COUNTIF(C9:C37,"ДА") -> 2 | F3: =SUM(F4:F7) -> 22
A4: =COUNTA(A9:A37) -> 22 | B4: НЕТ | C4: =COUNTIF(C9:C37,"НЕТ") -> 18 | D4: Требования НД | E4: НД | F4: =COUNTIF(E9:E151,"НД") -> 1
B5: ОТСУТСТВУЕТ | C5: =COUNTIF(C9:C37,"ОТСУТСТВУЕТ") -> 0 | D5: Рекомендации МФР | E5: МФР | F5: =COUNTIF(E9:E151,"МФР") -> 3
B6: НЕ ПРИМЕНЯЕТСЯ | C6: =COUNTIF(C9:C37,"НЕ ПРИМЕНЯЕТСЯ") -> 2 | D6: ПИК-стандарт | E6: ПИК | F6: =COUNTIF(E9:E151,"ПИК") -> 11
B7: Согласовано с МФР | C7: =COUNTIF(C9:C37,"МФР") -> 0 | D7: МФС | E7: МФС | F7: =COUNTIF(E9:E151,"МФС") -> 7
B8: НЕ ОТВЕЧЕННЫЕ | C8: =A4-C3-C4-C5-C6-C7 -> 0
B9: НАДЗЕМНАЯ ЧАСТЬ
A10: =A9+1 -> 1 | B10: Шаг осей выполнен с учетом облицовки фасада навесными панелями, а также плиткой или кирпичем на подсистеме, обеспечена кратность 150 мм | C10: НЕТ | D10: На планах кратность сетки осей 150мм обеспечена. На Компоновочной схеме название осей/общие размеры (кратность 150мм) необходимо привести в соответствие с планами (альбомы паркинг и жилые этажи). В альбоме паркинга для Корпуса 2 сетка осей начинается с 2.А, 2.1, а в альбоме жилых этажей с 1.А, 1.1 (как для Корпуса 1). Просим добавить недостающий план Корпуса 2 с корректными осями | E10: ПИК | F10: ПИК. Стандарт проектирования. Конструктивные решения. Реновация. 2-я ред. от 26.01.2022, п. 4.9, рис 11, п. 4.14.2
A11: =A10+1 -> 2 | B11: Определяем какое фасадное решение применяется на объекте в уровне типового этажа. В разных секциях может быть применено разное фасадное решение в уровне типового этажа. Для определения привязок монолита по наружному контуру см. Типовой альбом ЖД-ПП-РЕН-КЖС-НП.270. Также на данном объекте применяются навесные панели ограждения лоджий - см. Правила привязки в ЖД-ПП-РЕН-КР-КЖС-НП.ОЛ (необходимо согласование ОСК) | C11: НЕТ | D11: Согласно Типовому альбому КЖС-НП.270 для навесных панелей 270 (принятое фасадное решение) привязка монолита к наружным осям 160мм. Привязка частично не соблюдается (оси 1.7, 3.1, 3.5, 3.ДД). По оси 3.3 в зоне лоджии отсутствует монолит. Добавлены скрины. Просим устранить несоответствия или пояснить. В условные обозначения добавить обозначение навесных панелей ограждения лоджий | E11: ПИК | F11: ПИК. Стандарт проектирования. Конструктивные решения. Реновация. 2-я ред. от 26.01.2022, п. 4.14.2, рис. 28,29,31,32,33,34 | H11: Требует тщательной проверки и приведения в соответствие
A12: =A11+1 -> 3 | B12: Расстояние от края монолитной конструкции до оконного проема не менее 250 мм. В зоне ЛЛУ по согласованию ОСК данное требование не всегда обязательно (зазор 250 мм нужен только если в данном месте предполагается размещение монтажного узла или монтажной петли для притяжки панели во время монтажа в проектное положение и устройства временного крепления). Замечание при невыполнении условия (250мм привязка) дается всегда, но может быть снято по согласованию ОСК | C12: НЕТ | D12: Минимальный размер монолитного простенка частично не соблюдается в лестничных клетках Корпуса 3. Значительно не соблюдается на 1 этаже всех корпусов. Просим устранить несоответствия или пояснить | E12: ПИК | F12: ???
A13: =A12+1 -> 4 | B13: Расстояние от монолитной конструкции ЛЛУ на кровле до крайней оси вдоль плиты покрытия тех этажа не менее 910 мм | C13: НЕТ | D13: Для подтверждения данного требования необходимо добавить планы кровли | E13: ПИК | F13: ПИК. Альбом типовых узлов. Вертикальные конструкции технического пространства и кровли. ЖД-ТА-РЕН-КР-КЖ5.1/5.3
A14: =A13+1 -> 5 | B14: Расстояние между контрфорсами в осях не более 4200 мм, если расстояние между контрфорсами больше 4200 мм, выполняется дополнительное крепление к плите покрытия | C14: НЕТ | D14: Для подтверждения данного требования на план кровли необходимо добавить монолитные контрфорсы. Если шаг контрфорсов больше 4200мм (соосные конструкции с учетом нижележащих этажей), то на лист нужно добавить примечание о том, что на кровле требуется дополнительное крепление фасадных элементов к плите покрытия. Информация об этом не должна затеряться и учитывайте при дальнейшей разработке документации. См. Стандарт проектирования КР, п.4.10. | E14: ПИК | F14: ПИК. Стандарт проектирования. Конструктивные решения. Реновация. 2-я ред. от 26.01.2022, п. 4.10, рис 15
A15: =A14+1 -> 6 | B15: Максимальное расстояние между точками крепления панелей к вертикальным конструкциям не более 7200 мм | C15: ДА | E15: ПИК | F15: ПИК. Стандарт проектирования. Конструктивные решения. Реновация. 2-я ред. от 26.01.2022, п. 4.9, рис 11
A16: =A15+1 -> 7 | B16: Минимальный горизонтальный размер основных применяемых панелей - не менее 1200 мм. Панели величиной 300,600,900мм используются для вертикального смещения из плоскости фасада (вертикальная раскреповка в углах здания) См. ссылку на стандарт в ячейке F | C16: НЕТ | D16: Для подтверждения данного требования на планах в местах перегиба фасада просим проставить размеры (скрин для примера) | E16: ПИК | F16: см. Стандарт. Вертикальная раскреповка | H16: Для отслеживания изломов фасада
B17: При необходимости в устройстве деформационного шва между жилыми секциями межосевые расстояния между крайними осями смежных секций составляют | H17: Для сблокированных секций разной этажности не обязательно устройство деформационного шва, но его отсутствие должгно быть подтверждено ОСК
A18: =A16+1 -> 8 | B18: 680 мм при разной этажности | C18: НЕ ПРИМЕНЯЕТСЯ | E18: ПИК | F18: ПИК. Стандарт проектирования. Конструктивные решения. Реновация. 2-я ред. от 26.01.2022, п. 4.10, рис 25,26 | H18: Оптимизация технических решений
A19: =A18+1 -> 9 | B19: 550 мм при одинаковой этажности | C19: НЕ ПРИМЕНЯЕТСЯ | E19: ПИК | F19: ПИК. Стандарт проектирования. Конструктивные решения. Реновация. 2-я ред. от 26.01.2022, п. 4.10, рис 27 | H19: Оптимизация технических решений
A20: =A19+1 -> 10 | B20: Лестничные пролеты надземных этажей выполнены с помощью сборных железобетонных лестничных маршей | C20: НЕТ | D20: Для подтверждения данного требования необходимо добавить разрезы по корпусам в зоне ЛК. Сборные железобетонные марши замаркировать (на планах/разрезах), добавить выноски, примечание. Данное требование прописано для стадии АПР | E20: ПИК | F20: ??? | H20: Оптимизация технических решений
A21: =A20+1 -> 11 | B21: Показатели бетоноемкости на раздел для вертикальных конструкций типовых этажей в зависимости от этажности здания с учетом ярусов. 1. Для зданий до 20 этажей включительно – 0,095 м3 /м2 2. Для зданий до 25 этажей включительно – 0,103 м3 /м2 3. Для зданий до 33 этажей включительно – 0,115 м3 /м2 для нижнего яруса, 0,110 м3/м2 для среднего яруса, 0,100 м3/м2 для верхнего яруса. | C21: ДА | D21: Показатель бетоноемкости вертикалей типовых этажей для корпусов: К1 - 0,100м3/м2 (0,103м3/м2); К2 - 0,100м3/м2 (0,095м3/м2); К3 - 0,094м3/м2 (0,095м3/м2). В норме относительно целевых значений! | E21: ПИК | F21: см. Материалоемкость конструкций
B22: ПОДЗЕМНАЯ ЧАСТЬ
A23: =A21+1 -> 12 | B23: Максимальное расстояние между температурно-усадочными швами составляет не более 50 м | C23: НЕТ | D23: Данное требование не соблюдается для Корпуса 3 (длина 57,6м). При превышении необходимо выполнить расчет на температурное воздействие, см. СП430. Допускается при наличии расчетного обоснования в ПД КР.РР. Учитывайте в дальнейшей работе (наличие расчета) | E23: НД | F23: СП 63.13330.2018, п. 10.1а
B24: Толщина фундаментной плиты принята: | H24: На АПР не будет подтверждения расчетами
A25: =A23+1 -> 13 | B25: - под жилыми секциями до 19 этажей - не более 800 мм | C25: НЕТ | D25: Добавить разрезы по всем корпусам и паркингу. Подписать толщину фундаментной плиты для К2, К3 "не более 800". Добавлен скрин-пример (другой АПР) | E25: МФР | F25: № ФР-11-16216/22-7 | H25: Оптимизация технических решений
A26: =A25+1 -> 14 | B26: - под жилыми секциями свыше 19 до 25 этажей - не более 900 мм | C26: НЕТ | D26: Добавить разрезы по всем корпусам и паркингу. Подписать толщину фундаментной плиты для К1 "не более 900" | E26: МФР | F26: № ФР-11-16216/22-7 | H26: Оптимизация технических решений
A27: =A26+1 -> 15 | B27: - под подземной автостоянкой - не более 500 мм | C27: НЕТ | D27: Добавить разрезы по всем корпусам и паркингу. Подписать толщину фундаментной плиты паркинга "не более 500" | E27: МФР | F27: № ФР-11-16216/22-7 | H27: Оптимизация технических решений
A28: =A27+1 -> 16 | B28: Фундаментная плита выполняется ровной, без перепадов, на одной отметке, допускаются локальные понижения в лифтовых шахтах | C28: НЕТ | D28: Добавить разрезы по всем корпусам и паркингу | E28: МФС | F28: МФС | H28: Оптимизация технических решений
A29: =A28+1 -> 17 | B29: При необходимости устройства перепадов фундаментной плиты для адаптации к рельефу, излом плиты допускается выполнять по деформационному шву между высотными секциями или между секциями и подземной частью автостоянки. | C29: НЕТ | D29: Добавить разрезы по всем корпусам и паркингу. Показать деф. швы между корпусами и паркингом. Необходимость деф.шва в паркинге по результатам расчета | E29: МФС | F29: МФС | H29: Оптимизация технических решений
A30: =A29+1 -> 18 | B30: Низ плиты автостоянки не должен быть заглублен ниже плиты высотной части | C30: НЕТ | D30: Добавить разрезы по всем корпусам и паркингу | E30: МФС | F30: МФС | H30: Оптимизация технических решений
A31: =A30+1 -> 19 | B31: На плане -1 этажа показан деформационный шов между высотными секциями и автостоянкой | C31: НЕТ | D31: Показать на плане -1 этажа деф. швы между корпусами и паркингом. В отмеченной зоне корректно показать примыкание рампы к К1 (швы, двойные вертикальные конструкции). Добавить разрез (см. скрин) | E31: МФС | F31: МФС | H31: Оптимизация технических решений
A32: =A31+1 -> 20 | B32: Деформационный шов не пересекает технические помещения и эвакуационные коридоры | C32: НЕТ | D32: Добавить разрезы по всем корпусам и паркингу. Необходимость деф.шва в паркинге по результатам расчета | E32: МФС | F32: МФС | H32: Оптимизация технических решений
A33: =A32+1 -> 21 | B33: Деформационный шов выполнен максимально прямым, без незначительных выступов и уступов | C33: НЕТ | D33: Добавить разрезы по всем корпусам и паркингу. Необходимость деф.шва в паркинге по результатам расчета | E33: МФС | F33: МФС | H33: Оптимизация технических решений
A34: =A33+1 -> 22 | B34: Контур подземной части здания выполнен максимально прямым, без незначительных выступов и уступов | C34: НЕТ | D34: Подземная часть имеет сложную геометрию - множество уступов, наклонный контур. Обосновать технически и экономически невыгодное решение | E34: МФС | F34: МФС | H34: Оптимизация технических решений
B35: При наличии примыкающего подземного паркинга к жилой секции / башне 16 эт. и более и при отсечении их между собой деформационным швом, предусмотрен один из вариантов решения:
B36: - при западающих или выступающих частях фасада жилой части здания со стороны примыкающего паркинга, фундамент здания выпрямлен по выступающей части несущих конструкций здания, особенно в зоне деформационного шва между двумя жилыми секциями и подземных паркингом
B37: Деформационный шов, по-возможности, выполнен далее выступающей части несущих консрукций у фасада здания с отступом от жилой секции вглубь паркинга (вылет / уширение у фундаментной плиты жилой секции / башни). Оптимальный размер вылета 1000-1500мм, с учетом возможности расставить вертикальные несущие конструкции паркингаи обеспечением проезда машин. При меньшем вылете (особенно при его отсутствии), требуется обоснование, что рассмотрено несколько вариантов расстановки несущих конструкций подземного паркинга и иначе не получится.

Sheet ГЕНПЛАН
B1: ИТОГ
A2: № | B2: ='ПОДЗ'!B3 -> Требования к проектным решениям | C2: СТАТУС | D2: Комментарий | F2: Ссылка на норматив | G2: Ответ разработчика | H2: Обоснование необходимости требования
A3: ВСЕГО | B3: ДА | C3: =COUNTIF(C9:C75,"ДА") -> 0 | F3: =SUM(F4:F7) -> 50
A4: =COUNTA(A9:A75) -> 50 | B4: НЕТ | C4: =COUNTIF(C9:C75,"НЕТ") -> 0 | D4: Требования НД | E4: НД | F4: =COUNTIF(E9:E165,"НД") -> 29
B5: ОТСУТСТВУЕТ | C5: =COUNTIF(C9:C75,"ОТСУТСТВУЕТ") -> 0 | D5: Рекомендации МФР | E5: МФР | F5: =COUNTIF(E9:E165,"МФР") -> 8
B6: НЕ ПРИМЕНЯЕТСЯ | C6: =COUNTIF(C9:C75,"НЕ ПРИМЕНЯЕТСЯ") -> 0 | D6: ПИК-стандарт | E6: ПИК | F6: =COUNTIF(E9:E165,"ПИК") -> 0
B7: Согласовано с МФР | C7: =COUNTIF(C9:C75,"МФР") -> 0 | D7: МФС | E7: МФС | F7: =COUNTIF(E9:E165,"МФС") -> 13
B8: НЕ ОТВЕЧЕННЫЕ | C8: =A4-C3-C4-C5-C6-C7 -> 50
B9: ОБЩИЕ
B10: Соблюдены требования ГПЗУ по размещению объекта в части:
A11: 1 | B11: - границ земельного участка | C11: ??? | E11: МФР | F11: Чек-лист МФР 1 этапа
A12: =A11+1 -> 2 | B12: - суммарной поэтажной площади в ГНС | C12: ??? | E12: МФР | F12: Чек-лист МФР 1 этапа
A13: =A12+1 -> 3 | B13: - высотности | C13: ??? | E13: МФР | F13: Чек-лист МФР 1 этапа
A14: =A13+1 -> 4 | B14: Контуры наземной и подземной частей здания размещены в границах подзоны, выделенной для размещения Объекта с учётом козырьков и прочих навесных конструкций здания. | C14: ??? | E14: МФР | F14: Чек-лист МФР 1 этапа
A15: =A14+1 -> 5 | B15: Посадка объекта выполнена в соответствии с градостроительной концепцией, представленной в ППТ или в градостроительном обосновании (при отсутствии ППТ) | C15: ??? | E15: НД | F15: ???
A16: =A15+1 -> 6 | B16: Посадка объекта обеспечивает требования к инсоляции и КЕО жилых комнат и площадок проектируемого объекта и окружающей застройки | C16: ??? | E16: НД | F16: СанПиН 2.1.3684-21, п. 125, 130; СанПиН 1.2.3685-21, п. 138... 168;
B17: Размещение объекта относительно соседних жилых домов обеспечивает минимальные расстояния:
A18: =A16+1 -> 7 | B18: - не менее 20 м между продольными фасадами, ориентированными друг напротив друга | C18: ??? | E18: НД | F18: СП 42.13330.2016 изм 3 от 31.05.2022, п. 7.1
A19: =A18+1 -> 8 | B19: - не менее 10 м между продольным фасадом и торцом здания, не имеющим окон | C19: ??? | E19: НД | F19: СП 42.13330.2016 изм 3 от 31.05.2022, п. 7.1
A20: =A19+1 -> 9 | B20: Размещение объекта на участке и благоустройство территории выполнены с учетом существующего и проектируемого рельефа местности, перепадов высот между наиболее удаленными точками участка | C20: ??? | E20: НД | F20: ??? | H20: На площадках со значительным перепадом высот (2,0 м и более) не всегда получается организовать транспортное обслуживание как в ППТ, необходимо разрабатывать индивидуальные решения, влияющие на планировки этажей зданий
A21: =A20+1 -> 10 | B21: Ширина пешеходных путей для МГН не менее 2,0 м | C21: ??? | E21: НД | F21: СП 59.13330.2020, п. 5.1.7
A22: =A21+1 -> 11 | B22: Продольные уклоны пешеходных путей, предназначенных для движения МГН не превышают 4% | C22: ??? | E22: НД | F22: СП 59.13330.2020, п. 5.1.7
A23: =A22+1 -> 12 | B23: Размещение объекта выполнено с учетом решений по сетям и сооружениям инженерной инфраструктуры, предусмотренной КСИО, а также проектами сноса объектов и демонтажа сетей, расположенных в непосредственной близости к проектируемому Объекту | C23: ??? | E23: НД | F23: ??? | H23: Необходимо учитывать проектные решения, которые были разработаны для объектов сноса или демонтажа сетей, объемы работ к по которым не входят в этап строительства Обхекта
A24: =A23+1 -> 13 | B24: Схемы транспортного обслуживания объекта обеспечивают доступ пешеходов и транспорта к Объекту на всех этапах реализации решений по окружающей застройке | C24: ??? | E24: НД | F24: № МКА-03-2380/23 от 12.04.2023 | H24: Количество этапов должно быть не менее двух (существующее на момент ввода в эксплуатацию Объекта и проектное на момент ввода в эксплуатацию всех объектов окружающей застройки и УДС). Большее колиество этапов определяется последовательностью строительства и ввода в эксплуатацию окружающих объектов и их влиянием на доступ к Объекту
A25: =A24+1 -> 14 | B25: Проезды в границах земельного участка исключают их использование как дублеров для соседних улиц в красных линиях | C25: ??? | E25: НД | F25: № МКА-03-2380/23 от 12.04.2023
A26: =A25+1 -> 15 | B26: Предусматривается устройство дворовой территории с ограничением доступа автомобилей и транзитного движения | C26: ??? | E26: МФР | F26: МФР. Рекомендации по проектированию от 03.12.2020, стр. 92
A27: =A26+1 -> 16 | B27: Предусматривается устройство пожарных проездов и площадок для размещения пожарной техники в соответствии с НД | C27: ??? | E27: НД | F27: СП 4.13130.2013 в ред. от 15.06.2022, гл 8 | H27: Требуется тщательная проверка соблюдения требований, в том числе для определения необходимости в разработке индивидуального плана расстановки пожарной техники или для дополнительного благоустройства вне границ участка. Особенно критична ситуация, когда линия фасада проходит вдоль красной линии УДС
A28: =A27+1 -> 17 | B28: При расположении фасада здания вдоль УДС проезд пожарной техники обеспечивается в границах Красных линий УДС | C28: ??? | E28: НД | F28: Постановление Правительства Москвы от 11.04.2023 №558-ПП, п. 3.4
A29: =A28+1 -> 18 | B29: Тупиковые проезды протяженностью не более 150 м. | C29: ??? | E29: НД | F29: СП 42.13330.2016 Изм3 от 31.05.2022, п. 11.7
A30: =A29+1 -> 19 | B30: Тупиковые проезды заканчиваются разворотной площадкой 15х15м. | C30: ??? | E30: НД | F30: СП 42.13330.2016 Изм3 от 31.05.2022, п. 11.7, 11.11
B31: Соблюдены расстояния от въездов в автостоянку до:
A32: =A30+1 -> 20 | B32: - 50 м до перекрестков магистральных улиц | C32: ??? | E32: НД | F32: СП 42.13330.2016 Изм3 от 31.05.2022, п. 11.38
A33: =A32+1 -> 21 | B33: - 20 м до улиц местного значения | C33: ??? | E33: НД | F33: СП 42.13330.2016 Изм3 от 31.05.2022, п. 11.38
A34: =A33+1 -> 22 | B34: - 30 м до остановок общественного транспорта | C34: ??? | E34: НД | F34: СП 42.13330.2016 Изм3 от 31.05.2022, п. 11.38
B35: Перед въездом в подземную автостоянку предусмотрена накопительная площадка, длиной
A36: =A34+1 -> 23 | B36: - не менее 12 м при вместимости более 100 м\м | C36: ??? | E36: МФР | F36: МФР. Рекомендации по проектированию от 03.12.2020, стр. 104
A37: =A36+1 -> 24 | B37: - не менее 6 м при вместимости менее 100 м\м | C37: ??? | E37: МФР | F37: МФР. Рекомендации по проектированию от 03.12.2020, стр. 104
B38: Потребность Объекта в парковочных местах для постоянного хранения автомобилей определен одним из способов:
A39: =A37+1 -> 25 | B39: - не менее, чем по расчету, выполненному в соответствии с НД | C39: ??? | E39: НД | F39: СП 42.13330 или РНГП, утв. №945-ПП от 23.12.2015 в ред от 24.12.2019 или СТУ | H39: Подрядчики как правило не соблюдают минимально необходимые требования к размещению парковочных мест в соотетствии с потребностью объекта
A40: =A39+1 -> 26 | B40: - не менее, чем в по расчету, выполненному на основании протокола ГЗК в случае, если Объект включен в Перечень, утверждаемый на ГЗК Москвы | C40: ??? | E40: НД | F40: Протокол ГЗК Москвы №22 от 07.07.2022; РНГП, утв. №945-ПП от 23.12.2015 в ред от 24.12.2019 | H40: Подрядчики как правило не соблюдают минимально необходимые требования к размещению парковочных мест в соотетствии с потребностью объекта
A41: =A40+1 -> 27 | B41: Потребность в гостевых или приобъектных парковочных местах не менее, чем по расчету в соответствии с НД | C41: ??? | E41: НД | F41: РНГП, утв. №945-ПП от 23.12.2015 в ред от 24.12.2019 | H41: Подрядчики как правило не соблюдают минимально необходимые требования к размещению парковочных мест в соотетствии с потребностью объекта
A42: =A41+1 -> 28 | B42: При наличии на территории трансформатороной подстанции ПАО "МОЭСК" (отдельно стоящей или встроенной), предусмотрены пути подъезда к воротам и площадка для разгрузки трансформаторов | C42: ??? | E42: МФР | F42: Письмо №ФР-28-6776/19-2 от 26.12.2019; Письмо №МКС/01/22983 от 09.12.2019
A43: =A42+1 -> 29 | B43: Соблюдены минимально допустимые противопожарные расстояния между проектируемыми и существующими зданиями и сооружениями в зависимости от их функционального назначения и степени огнестойкости, в том числе от надземных эвакуационных выходов и вентиляционных шахт подземной автостоянки | C43: ??? | E43: НД | F43: СП 4.13130.2023 Изм 3 от 15.06.2022, таблица 1;
A44: =A43+1 -> 30 | B44: На территории предусмотрено размещение новой или использование существующей площадки для сбора, хранения и вывоза ТКО, на расстоянии не менее 20 м от объектов нормирования (окон жилых помещений, площадок для спорта и отдыха) и не более 100 м от наиболее удаленного входа в подъезд. | C44: ??? | E44: НД | F44: СанПиН 2.1.3684-21, гл II, п. 4
A45: =A44+1 -> 31 | B45: В случае невозможности соблюдения расстояния в 20 м, площадка ТКО (существующая или проектируемая) может располагаться на расстоянии не менее 8 м, при этом должно быть подтверждено, что расчетный уровень шума от источника (мусоровоза) до объекта нормирования (окна ж.д. или площадка отдыха) не превышает нормативного (предоставить предварительный акустический расчет) | C45: ??? | E45: НД | F45: СанПиН 2.1.3684-21, гл II, п. 4
A46: =A45+1 -> 32 | B46: Соблюдены минимальные противопожарные расстояния между площадкой ТКО и зданиями (сооружениями) в соответствии с их функциональным назначением и степенью огнестойкости, в том числе от надземных эвакуационных выходов и вентиляционных шахт подземной автостоянки не менее 6,0 м, отдельно стоящих ТП, ЦТП до площадки ТКО не менее 10 м. | C46: ??? | E46: НД | F46: СП 4.13130.2023 Изм 3 от 15.06.2022, таблица 1; Правила противопожарного режима в РФ, утв. ППРФ №1479 от 16.09.2020, в ред от 21.05.2021, п. 65
A47: =A46+1 -> 33 | B47: Обеспечены минимальные расстояния не менее 3,0 м от границы земельного участка до контура подземной части здания для размещения временных строительных конструкций (котлован, шпунт, стена в грунте и т.д.) | C47: ??? | E47: МФС | F47: МФС | H47: Оптимизация технических решений для производства СМР
B48: Посадка здания выполнена с учетом обеспечения отступов от существующих объектов капитального строительства на величину опасных зон от падения грузов с кранов и со строящегося здания, оцененных предварительно:
A49: =A47+1 -> 34 | B49: - не менее 10 м для зданий до 75 м | C49: ??? | E49: НД | F49: Пр. Ростехнадзора от 26.11.2020 №461, Прилож. 2 РД 11-06-2007, рис 15
A50: =A49+1 -> 35 | B50: - не менее 18 м для зданий до 75 м с фасадом из НП (Приведен размер зоны для максимального габарита панели 7,0 м. В случае накрывания опасной зоной зданий и сооружений необходим уточняющий расчет, учитывающий конкретный габарит панели) | C50: ??? | E50: НД | F50: Пр. Ростехнадзора от 26.11.2020 №461, Прилож. 2 РД 11-06-2007, рис 15
A51: =A50+1 -> 36 | B51: - не менее 20 м для зданий до 150 м | C51: ??? | E51: НД | F51: Пр. Ростехнадзора от 26.11.2020 №461, Прилож. 2 РД 11-06-2007, рис 15
A52: =A51+1 -> 37 | B52: - не менее 25 м для зданий до 150 м с фасадом из НП (Приведен размер зоны для максимального габарита панели 7,0 м. В случае накрывания опасной зоной зданий и сооружений необходим уточняющий расчет, учитывающий конкретный габарит панели) | C52: ??? | E52: НД | F52: Пр. Ростехнадзора от 26.11.2020 №461, Прилож. 2 РД 11-06-2007, рис 15
B53: Ситуационный план 1:2000
B54: На плане показаны:
A55: =A52+1 -> 38 | B55: - существующие объекты окружающей застройки | C55: ??? | E55: МФС | F55: ??? | H55: Для удобства проверки
A56: =A55+1 -> 39 | B56: - увязка с проектными решениями смежных участков ОКС и УДС | C56: ??? | E56: МФС | F56: ??? | H56: Для удобства проверки
A57: =A56+1 -> 40 | B57: - линии градостроительного регулирования | C57: ??? | E57: МФС | F57: ??? | H57: Для удобства проверки
A58: =A57+1 -> 41 | B58: - линии ограничения ЗОУИТ (СЗЗ, ЗСО и т.д) | C58: ??? | E58: МФС | F58: ???
A59: =A58+1 -> 42 | B59: - зоны от существующих (при условии их сохранения) площадок ТКО, наличие которых должно быть подтверждено действующей Территориальной схемой обращения с ТКО | C59: ??? | E59: МФС | F59: МФС, Распоряжение ДЖКХ Москвы №01-01-14-325/21 от 30.30.2021, Приложение 4 "Перечень адресов ТКО" | H59: Для удобства проверки
A60: =A59+1 -> 43 | B60: - границы подзон ГПЗУ | C60: ??? | E60: МФС | F60: ??? | H60: Для удобства проверки
B61: Генеральный план 1:500
B62: На плане предусмотрены и показаны:
A63: =A60+1 -> 44 | B63: - гостевые и приобъектные парковки | C63: ??? | E63: МФС | F63: ??? | H63: Для удобства проверки
A64: =A63+1 -> 45 | B64: - специализированные места МГН (постоянного храненения и/или гостевые) | C64: ??? | E64: НД | F64: СП 59.13330.2020, п. 3.25, 5.21, 5.24
A65: =A64+1 -> 46 | B65: - площадки отдыха | C65: ??? | E65: МФС | F65: ??? | H65: Для удобства проверки
A66: =A65+1 -> 47 | B66: - спортивные площалки | C66: ??? | E66: МФС | F66: ??? | H66: Для удобства проверки
A67: =A66+1 -> 48 | B67: - детские площадки | C67: ??? | E67: МФС | F67: ??? | H67: Для удобства проверки
A68: =A67+1 -> 49 | B68: - транспортное обслуживание и движение пешеходов, включая МГН, по территории участка | C68: ??? | E68: МФС | F68: ??? | H68: Для удобства проверки
A69: =A68+1 -> 50 | B69: Приведены ТЭПы участка (площади покрытий) | C69: ??? | E69: МФС | F69: МФС | H69: Для удобства проверки
B70: Схема транспортного обеспечения 1:2000
B75: ------------------------------------------------------------------------------------------------

Sheet СТМ, ШП, СПК, внеш.подкл.
A1: № | B1: Текст замечания | C1: Эскиз / ссылка на стандарт / комментарий | D1: ФИО проверяющего | E1: Дата выдачи замечаний | F1: Ответ субподрядчика на замечания | G1: Статус замечаия | H1: Дата получения на повторную проверку | I1: Комментарий/ замечание | J1: Ответ субподрядчика на замечания | K1: Дата получения на повторную проверку | L1: Комментарий/ замечание | M1: Ответ субподрядчика на замечания | N1: Дата получения на повторную проверку | O1: Комментарий/ замечание | P1: Ответ субподрядчика на замечания | Q1: Дата согласования
A2: ВСЕГО | B2: ДА | C2: =COUNTIF(C9:C13,"ДА") -> 0 | F2: =SUM(F3:F6) -> 0
A3: =COUNTA(A9:A13) -> 0 | B3: НЕТ | C3: =COUNTIF(C9:C13,"НЕТ") -> 0 | D3: Требования НД | E3: НД | F3: =COUNTIF(E9:E13,"НД") -> 0 | H3: 97
B4: ОТСУТСТВУЕТ | C4: =COUNTIF(C9:C13,"ОТСУТСТВУЕТ") -> 0 | D4: Рекомендации МФР | E4: МФР | F4: =COUNTIF(E9:E13,"МФР") -> 0 | H4: =F2-H3 -> -97
B5: НЕ ПРИМЕНЯЕТСЯ | C5: =COUNTIF(C9:C13,"НЕ ПРИМЕНЯЕТСЯ") -> 0 | D5: ПИК-стандарт | E5: ПИК | F5: =COUNTIF(E9:E13,"ПИК") -> 0
B6: МФР | C6: =COUNTIF(C9:C13,"МФР") -> 0 | D6: МФС | E6: МФС | F6: =COUNTIF(E9:E13,"МФС") -> 0
B7: НЕ ОТВЕЧЕННЫЕ | C7: =A3-C2-C3-C4-C5-C6 -> 0
G11: ???
G12: ???
G13: ???
B14: СТМ
A15: =A14+1 -> 1 | B15: Предоставить Общую ведомость СТМ (включая разделение по Секциям), с указанием кол-ва, в соответствии с согласованными планами. | D15: КураеваЕА | E15: 46226 | G15: ОТСУТСТВУЕТ
A16: =A15+1 -> 2 | B16: Предоставить отдельные планы предпоследнего и последнего этажей с расстановкой соответствующего типа СТМ. Марка СТМ указана точно, уделено особое внимание этажам. | D16: КураеваЕА | E16: 46226 | G16: ОТСУТСТВУЕТ
A17: =A16+1 -> 3 | B17: Расположение, привязку, габариты привести в соответствие с матрицей СТМ: - вентблоков; - вентрешеток; - место расположение вводов систем; - кол-во вводов; - наименования систем; - порядок расположения труб по системам с привязками; - сантехприборов и оборудования; - марка отопительного прибора; - предусмотрены и показаны подключения кухни (раковина в углу кухни). | D17: КураеваЕА | E17: 46226 | G17: ОТСУТСТВУЕТ
A18: =A17+1 -> 4 | B18: Предусмотреть минимально-допустимый зазор 20 мм от всех вертикальных конструкций. Обосновать зазор более 20мм | D18: КураеваЕА | E18: 46226 | G18: ОТСУТСТВУЕТ
A19: =A18+1 -> 5 | B19: Исключить применение "отзеркаленных" СТМ. Применять правые или левые СТМ в соответствии с матрицей. | D19: КураеваЕА | E19: 46226 | G19: НЕ ПРИМЕНЯЕТСЯ
A20: =A19+1 -> 6 | B20: Минимизировать применение Индивидуальных СТМ - очевидны решения согласно Стандарта. | D20: КураеваЕА | E20: 46226 | G20: НЕ ПРИМЕНЯЕТСЯ
A21: =A20+1 -> 7 | B21: Исключить СТМ с ванной без унитаза 4,0 м2 и более, применять только 3,6 м2 | D21: КураеваЕА | E21: 46226 | G21: ДА
B23: СПК
A24: =A21+1 -> 8 | B24: Предоставить Общую ведомость СПК (включая разделение по Секциям), с указанием кол-ва, в соответствии с согласованными планами. | D24: КураеваЕА | E24: 46226 | G24: ОТСУТСТВУЕТ
A25: =A24+1 -> 9 | B25: Предоставить планы всех этажей с замаркированными СПК. | D25: КураеваЕА | E25: 46226 | G25: ОТСУТСТВУЕТ
A26: =A25+1 -> 10 | B26: Предоставить фасады с замаркированными СПК. | D26: КураеваЕА | E26: 46226 | G26: ОТСУТСТВУЕТ
A27: =A26+1 -> 11 | B27: Минимизировать применение Индивидуальных СПК - очевидны решения согласно Стандарта. | D27: КураеваЕА | E27: 46226 | G27: ОТСУТСТВУЕТ
A28: =A27+1 -> 12 | B28: На 1эт. Предусмотреть витражи панарамные, остекление в пол. Подоконные группы выполнены Индивидуально, по ситуации Вертикальной планировки. | D28: КураеваЕА | E28: 46226 | G28: ОТСУТСТВУЕТ
B30: ШП, Внешние подключения +
A31: =A28+1 -> 13 | B31: Предоставить Общую ведомость ШП (включая разделение по Секциям), с указанием кол-ва, в соответствии с согласованными планами. | D31: КураеваЕА | E31: 46226 | G31: ОТСУТСТВУЕТ
A32: =A31+1 -> 14 | B32: Привести тип, марки ШП в соответствии с действующей матрицей. | D32: КураеваЕА | E32: 46226 | G32: ОТСУТСТВУЕТ
A33: =A32+1 -> 15 | B33: Подобрать Шкаф-пакет(ШП) в соответствии с типовым альбомом, в том числе для квартир МГН. Указать Марку и размер (глубину, ширину). Полновстраиваемые внутрь для: 4комнКварт. = 905мм; 3комнКварт. = 855мм; 2комнКварт. = 755мм; 1комнКварт. = 655мм. Привстраиваемые (угловые) для: 4комнКварт. = 930мм; 3комнКварт. = 880мм; 2комнКварт. = 780мм; 1комнКварт. = 680мм. Приставные для: 4комнКварт. = 955мм; 3комнКварт. = 905мм; 2комнКварт. = 805мм; 1комнКварт. = 705мм. | D33: КураеваЕА | E33: 46226 | G33: ОТСУТСТВУЕТ
A34: =A33+1 -> 16 | B34: Исключить коллизию между подключением СТМ и установкой шкаф-пакета(ШП). | D34: КураеваЕА | E34: 46226 | G34: ОТСУТСТВУЕТ
A35: =A34+1 -> 17 | B35: Отслеживать длину внешних подключений шахт ВК/ОВ, не более 7м (заложена возможность внутренней разводки подключений - внутри СТМ, итого - суммарная не более 10 м), рассмотреть возможность размещение внешних ШП. | D35: КураеваЕА | E35: 46226 | G35: ОТСУТСТВУЕТ
A36: =A35+1 -> 18 | B36: Предусмотреть величину заплечика у двери - 100мм (не менее 70 мм), для обеспечения возможности установки дверного наличника. Так же в местах примыкания шкаф-пакета (ШП) - необходимо обеспечить величину заплечика. | D36: КураеваЕА | E36: 46226 | G36: ОТСУТСТВУЕТ
A37: =A36+1 -> 19 | B37: Исключить не соответствие отверстий, смещение/наличие/отсутствие оборудования ОВ, ВК, СС, ЭОМ. | D37: КураеваЕА | E37: 46226 | G37: ОТСУТСТВУЕТ
A41: Заполняется при первой проверке | G41: Заполняется после выдачи замечаний | J41: Заполняется после согласования
A42: Корпус | B42: Секция | C42: Этажность | D42: Общее количество СУ | E42: СУ в строительном исполнении (+ МГН) | F42: Сколько СТМ применено подрядчиком | G42: Сколько выявлено СТМ с нарушениями установки/применения | H42: Сколько СТМ заменено на СУ в строит исполнении, в т.ч. гоствые СУ МГН | I42: Сколько СУ в строит исполнении заменено на СТМ | J42: СУ в строительном исполнении (без учета МГН) | K42: С/У МГН | L42: СТМ | M42: Кол-во проверок
A43: 1 | B43: 1 | C43: 24 | D43: 322 | F43: 322
E44: 0
A45: 2 | B45: 1 | C45: 18 | D45: 238 | F45: 238
E46: 0
A47: 3 | B47: 1 | C47: 12 | D47: 80 | F47: 66
E48: 14
B49: 2 | D49: 80 | F49: 80
E50: 0
A62: ИТОГО | D62: =SUM(D43:D61) -> 720 | E62: =SUM(E43:E61) -> 14 | F62: =SUM(F43:F61) -> 706 | G62: =SUM(G43:G61) -> 0 | H62: =SUM(H43:H61) -> 0 | I62: =SUM(I43:I61) -> 0 | J62: =SUM(J43:J61) -> 0 | K62: =SUM(K43:K61) -> 0 | L62: =SUM(L43:L61) -> 0 | M62: =M43 -> 0
A64: Информация по объекту
A65: ПП
A66: СП54
A67: Тип воздуховодов (вентблок/оцинковка)
A68: Стадия проектирования на дату первичной проверки | D68: проектирование
A70: Нарушения установки/применения СТМ: 1. Невозможность монтажа вентблоков 2. Не учитывается расположение вентрешетки в СТМ - вентблок/вентканал расположен так, что невозможно подключение вентрешетки к вентблоку/вентканалу 3. Габариты СТМ не соответствуют матрице. 4. Гостевой с/у в квартирах МГН выполнен в виде СТМ - не в строительном исполнении 5. Не учитывается расположение точек присоединения СТМ к системам ВК/ОВ - коллизия с стенами/несущими стенами/пилонами

Sheet !
A1: ДА
A2: НЕТ
A3: ОТСУТСТВУЕТ
A4: НЕ ПРИМЕНЯЕТСЯ
A5: МФР
A6: ???
