Workbook

Sheet ИТОГ
A1: ОКРУГ | B1: РАЙОН | C1: МИКРОРАЙОН или КВАРТАЛ | D1: ЗОНА по ППТ | E1: УЛИЦА по ГПЗУ | F1: № ДОМА по ГПЗУ | G1: ДОП. | H1: ДОП.
A2: Наименование объекта по договору
A3: Ход проверки:
A4: № итерации | B4: Дата | C4: Объем проверки
A10: Результаты проверки АПР по чек-листам МФС:
A11: Чек-лист МФС | B11: Всего | C11: ДА | D11: НЕТ | E11: Отсутствует | F11: Не применяется | G11: Согласовано с МФР | H11: Не отвеченные
A12: ТИПОВОЙ ЭТАЖ | B12: ='ТИП'!A5 -> 155 | C12: ='ТИП'!C4 -> 59 | D12: ='ТИП'!C5 -> 26 | E12: ='ТИП'!C6 -> 51 | F12: ='ТИП'!C7 -> 18 | G12: ='ТИП'!C8 -> 0 | H12: ='ТИП'!C9 -> 1
A13: 1 ЭТАЖ | B13: ='1+ТЕХ+КР'!A4 -> 98 | C13: ='1+ТЕХ+КР'!C3 -> 32 | D13: ='1+ТЕХ+КР'!C4 -> 37 | E13: ='1+ТЕХ+КР'!C5 -> 21 | F13: ='1+ТЕХ+КР'!C6 -> 6 | G13: ='1+ТЕХ+КР'!C7 -> 0 | H13: ='1+ТЕХ+КР'!C8 -> 2
A14: ПОДЗЕМНЫЙ ЭТАЖ | B14: ='ПОДЗ'!A5 -> 82 | C14: ='ПОДЗ'!C4 -> 24 | D14: ='ПОДЗ'!C5 -> 49 | E14: ='ПОДЗ'!C6 -> 8 | F14: ='ПОДЗ'!C7 -> 1 | G14: 0 | H14: ='ПОДЗ'!C9 -> 0
A15: ГЕНПЛАН | B15: =ГЕНПЛАН!A4 -> 50 | C15: =ГЕНПЛАН!C3 -> 0 | D15: =ГЕНПЛАН!C4 -> 0 | E15: =ГЕНПЛАН!C5 -> 0 | F15: =ГЕНПЛАН!C6 -> 0 | G15: =КОНСТР!C7 -> 0 | H15: =ГЕНПЛАН!C8 -> 50
A16: КОНСТРУКТИВ | B16: =SUM(C16:H16) -> 22 | C16: =КОНСТР!C3 -> 2 | D16: =КОНСТР!C4 -> 18 | E16: =КОНСТР!C5 -> 0 | F16: =КОНСТР!C6 -> 2 | G16: =ГЕНПЛАН!C7 -> 0 | H16: =КОНСТР!C8 -> 0
A17: ИТОГО | B17: =SUM(B12:B16) -> 407 | C17: =SUM(C12:C16) -> 117 | D17: =SUM(D12:D16) -> 130 | E17: =SUM(E12:E16) -> 80 | F17: =SUM(F12:F16) -> 27 | G17: =SUM(G12:G16) -> 0 | H17: =SUM(H12:H16) -> 53
A18: Результаты проверки АПР по чек-листам и замечаниям МФР:
A19: Чек-лист МФР 1 этапа
A21: Чек-лист МФР 2 этапа
A23: Замечания МФР
A26: Что необходимо учесть и предусмотреть при разработке ПД:
A27: заполняется в случае, если работы по разработке АПР уже завершены
A31: Требования НД | B31: ='ТИП'!F5+'1+ТЕХ+КР'!F4+'ПОДЗ'!F5+'КОНСТР'!F4+ГЕНПЛАН!F4 -> 142 | C31: ГП | D31: =B15 -> 50
A32: Рекомендации МФР | B32: ='ТИП'!F6+'1+ТЕХ+КР'!F5+'ПОДЗ'!F6+'КОНСТР'!F5+ГЕНПЛАН!F5 -> 141 | C32: АР | D32: ='ТИП'!I5+'1+ТЕХ+КР'!I4+'ПОДЗ'!I5 -> 219
A33: ПИК-стандарт | B33: ='ТИП'!F7+'1+ТЕХ+КР'!F6+'ПОДЗ'!F7+'КОНСТР'!F6+ГЕНПЛАН!F6 -> 56 | C33: КР | D33: =B16 -> 22
A34: МФС | B34: ='ТИП'!F8+'1+ТЕХ+КР'!F7+'ПОДЗ'!F8+'КОНСТР'!F7+ГЕНПЛАН!F7 -> 67 | C34: ИОС | D34: =B17-D31-D32-D33 -> 116
B35: =SUM(B31:B34) -> 406 | D35: =SUM(D31:D34) -> 407

Sheet ИРД
B2: Исходные данные: | C2: Дата | D2: Обозначение | E2: Примечание/ссылка ни витрокад
B3: Постановление правительства | D3: от 6 мая 2024 г. N 589 | E3: Объект ПЕРЕСЕЛЕНИЯ по УПСС
B4: Техническое задание (приложение к договору с проектировщиком)
B5: Задание на проектирование
B6: Квартирография | E6: https://pdm-mfs.pik.ru/GpMfs/%D0%9E%D1%80%D0%B5%D0%BD%D0%B1%D1%83%D1%80%D0%B3%D1%81%D0%BA%D0%B0%D1%8F%2017/02%20%D0%9F%D0%A0%D0%9E%D0%95%D0%9A%D0%A2%D0%98%D0%A0%D0%9E%D0%92%D0%90%D0%9D%D0%98%D0%95/01%20%D0%98%D0%A0%D0%94/03%20%D0%9A%D0%92%D0%90%D0%A0%D0%A2%D0%98%D0%A0%D0%9E%D0%93%D0%A0%D0%90%D0%A4%D0%98%D0%AF
B7: Проект планировки территории
B8: Градостроительный план ЗУ | E8: https://pdm-mfs.pik.ru/GpMfs/%D0%9E%D1%80%D0%B5%D0%BD%D0%B1%D1%83%D1%80%D0%B3%D1%81%D0%BA%D0%B0%D1%8F%2017/02%20%D0%9F%D0%A0%D0%9E%D0%95%D0%9A%D0%A2%D0%98%D0%A0%D0%9E%D0%92%D0%90%D0%9D%D0%98%D0%95/01%20%D0%98%D0%A0%D0%94/02%20%D0%93%D0%9F%D0%97%D0%A3
B9: Облик реновации (фасадные решения)
B10: Типовые решения ГП-МФС | E10: https://pdm-mfs.pik.ru/GpMfs/%D0%9E%D1%80%D0%B5%D0%BD%D0%B1%D1%83%D1%80%D0%B3%D1%81%D0%BA%D0%B0%D1%8F%2017/02%20%D0%9F%D0%A0%D0%9E%D0%95%D0%9A%D0%A2%D0%98%D0%A0%D0%9E%D0%92%D0%90%D0%9D%D0%98%D0%95/01%20%D0%98%D0%A0%D0%94/01%20%D0%A2%D0%A0%D0%95%D0%91%D0%9E%D0%92%D0%90%D0%9D%D0%98%D0%AF%20%D0%93%D0%9F-%D0%9C%D0%A4%D0%A1
B11: Сведения об окружающей застройке | E11: https://pdm-mfs.pik.ru/GpMfs/%D0%9E%D1%80%D0%B5%D0%BD%D0%B1%D1%83%D1%80%D0%B3%D1%81%D0%BA%D0%B0%D1%8F%2017/02%20%D0%9F%D0%A0%D0%9E%D0%95%D0%9A%D0%A2%D0%98%D0%A0%D0%9E%D0%92%D0%90%D0%9D%D0%98%D0%95/01%20%D0%98%D0%A0%D0%94/07%20%D0%A1%D0%92%D0%95%D0%94%D0%95%D0%9D%D0%98%D0%AF%20%D0%9E%D0%91%20%D0%9E%D0%9A%D0%A0%20%D0%97%D0%90%D0%A1%D0%A2%D0%A0

Sheet ТЭПы
B1: Наименование | C1: Об. | D1: Ед. изм | E1: Значение | F1: Примечание
B3: Общая площадь квартир | C3: Sкв | D3: м2 | E3: 1000
B4: Общая площадь нежилых помещений 1 этажа (БКТ, ЦИН, ОДС) | C4: Sбкт | D4: м2 | E4: 100
B6: Суммарная поэтажная площадь 1 этажа в габаритах наружных стен | C6: Sспп1 | D6: м2 | E6: 200
B7: Суммарная поэтажная площадь в габаритах наружных стен | C7: Sспп | D7: м2 | E7: 1500
B9: К | C9: К=(Sкв+Sбкт)/Sспп | E9: =(E3+E4)/E7 -> 0.73333333
B10: Кж | C10: Кж=Sкв/Sспп | E10: =E3/E7 -> 0.66666667
B11: Кэт | C11: Кэт=Sкв/(Sспп-Sспп1) | E11: =E3/(E7-E6) -> 0.76923077

Sheet ТИП
B1: Ответ разработчика вносится в чек-лист после окончания проверки ГП-МФС. Оформление ответа - "ГГ.ММ.ДД_текст комментария", где дата соответсвует новой редакции загружаемой на витрокад. Не следует писать комментарии параллельно с работой специалистов ГП-МФС. Обещания учесть на последующих стадиях не учитываются, повторно фиксируется несоответсвие требованию.
B2: ИТОГ
A3: № | B3: Требования к проектным решениям | C3: СТАТУС | D3: Комментарий | F3: Ссылка на требование | G3: Ответ разработчика | H3: Обоснование необходимости требования | I3: Специалист, заполняющий позицию
A4: ВСЕГО | B4: ДА | C4: =COUNTIF(C11:C189,"ДА") -> 59 | F4: =SUM(F5:F8) -> 156
A5: =COUNTA(A11:A189) -> 155 | B5: НЕТ | C5: =COUNTIF(C11:C189,"НЕТ") -> 26 | D5: Требования НД | E5: НД | F5: =COUNTIF(E11:E189,"НД") -> 42 | H5: АР | I5: 97
B6: ОТСУТСТВУЕТ | C6: =COUNTIF(C11:C189,"ОТСУТСТВУЕТ") -> 51 | D6: Рекомендации МФР | E6: МФР | F6: =COUNTIF(E11:E189,"МФР") -> 67 | H6: ИОС | I6: =F4-I5 -> 59
B7: НЕ ПРИМЕНЯЕТСЯ | C7: =COUNTIF(C11:C189,"НЕ ПРИМЕНЯЕТСЯ") -> 18 | D7: ПИК-стандарт | E7: ПИК | F7: =COUNTIF(E11:E189,"ПИК") -> 35
B8: МФР | C8: =COUNTIF(C11:C189,"МФР") -> 0 | D8: МФС | E8: МФС | F8: =COUNTIF(E11:E189,"МФС") -> 12
B9: НЕ ОТВЕЧЕННЫЕ | C9: =A5-C4-C5-C6-C7-C8 -> 1
B11: ОБЩИЕ
A12: =1 -> 1 | B12: Габариты и площади помещений указаны с учетом отделки. | C12: ДА | E12: МФР | F12: Чек-лист МФР 1 этапа | I12: АР
A13: =A12+1 -> 2 | B13: На планах показаны конструктивные элементы здания (на планах несущие монолитные конструкции показаны отличающейся штриховкой) | C13: ОТСУТСТВУЕТ | D13: Усл.обозн. | E13: МФР | F13: Чек-лист МФР 1 этапа | G13: Принято, внесено в условные обозначения. 13.08.26 | I13: АР
A14: =A13+1 -> 3 | B14: Межэтажное расстояние между типовыми этажами равно 3000 мм | C14: ОТСУТСТВУЕТ | D14: Разрез | E14: ПИК | F14: Унификация, связанная с габаритами навесных панелей и сборных лестничных маршей с учетом требований МФР. Рекомендации по проектированию от 03.12.2020, стр 16 | I14: АР
B15: Толщина стен предусмотрена не менее:
A16: =A14+1 -> 4 | B16: - 220 мм (10отделка+200монолит+10отделка) (подтверждено расчетом конструктивной модели) или 240 мм (10отделка+220монолит+10отделка) (без подтверждения расчетом) межквартирные монолитные стены, перпендикулярные фасадам, выполняющими функцию диафрагм | C16: ОТСУТСТВУЕТ | E16: ПИК | F16: Правила проектирования. Внутренние ненесущие стены и перегородки. Толщины, состав, описание. 09.08.2021 | G16: Принято, внесено в условные обозначения. 13.08.26 | H16: Для оптимизации технических решений и строительно -монтажных работ | I16: АР
A17: =A16+1 -> 5 | B17: -220 мм (10отделка+200монолит+10отделка) межквартирные монолитные прямолинейные (длина более 2,0 м) участки стен, не являющиеся диафрагмами, в том числе на участках между квартирой и МОП или шахтой | C17: ОТСУТСТВУЕТ | E17: ПИК | F17: Правила проектирования. Внутренние ненесущие стены и перегородки. Толщины, состав, описание. 09.08.2021 | G17: Принято, внесено в условные обозначения. 13.08.26 | H17: Для оптимизации технических решений и строительно -монтажных работ | I17: АР
A18: =A17+1 -> 6 | B18: - 290мм (20отделка+250газоблок+20отделка) межквартирные стены из газобетонного блока плотностью Д600 на криволинейных участках (длина прямого участка менее 2,0 м) , в том числе на участках между квартирой и МОП или шахтой | C18: ОТСУТСТВУЕТ | E18: ПИК | F18: Правила проектирования. Внутренние ненесущие стены и перегородки. Толщины, состав, описание. 09.08.2021мп | G18: Принято, внесено в условные обозначения. 13.08.26 | H18: Для оптимизации технических решений и строительно -монтажных работ | I18: АР
A19: =A18+1 -> 7 | B19: - 220 мм (200газоблок + 20 отделка) наружные (ограждающая самонесущая стена из газобетонного блока плотностью Д600, без утепления, в случае панельного фасада толщина стены между квартирой и лоджией) | C19: ОТСУТСТВУЕТ | E19: ПИК | F19: Правила проектирования. Внутренние ненесущие стены и перегородки. Толщины, состав, описание. 09.08.2021 | G19: Принято, внесено в условные обозначения. 13.08.26 | H19: Для оптимизации технических решений и строительно -монтажных работ | I19: АР
A20: =A19+1 -> 8 | B20: - 120мм (10отделка +100плита+10отделка) межкомнатные стены из пазогребневой плиты | C20: ОТСУТСТВУЕТ | E20: ПИК | F20: Правила проектирования. Внутренние ненесущие стены и перегородки. Толщины, состав, описание. 09.08.2021 | G20: Принято, внесено в условные обозначения. 13.08.26 | I20: АР
A21: =A20+1 -> 9 | B21: - 120мм (100плита +20отделка) перегородка между СТМ и жилой комнатой | C21: ОТСУТСТВУЕТ | E21: ПИК | F21: Правила проектирования. Внутренние ненесущие стены и перегородки. Толщины, состав, описание. 09.08.2021 | G21: не принято, проектом предусматривается пазогребневая плита 80мм (по ЖД-ТАС-РЕН-АР-ВК.С 05/2024 версия 3) внесено в условные обозначения. 13.08.26 | I21: АР
A22: =A21+1 -> 10 | B22: Для многосекционных жилых домов приведены отдельные листы с планами секций | C22: ДА | E22: НД | F22: ГОСТ Р 21.101-2020, п. 5.5.11 | H22: Необходимо для оценки эффективности планировочных решений отдельной секции, чтобы сохранять удачные секции и избавляться от неудачных | I22: АР
B23: Для каждой квартиры указан маркер, сорержащий
A24: =A22+1 -> 11 | B24: - тип квартиры по квартирографии | C24: ДА | E24: МФС | I24: АР
A25: =A24+1 -> 12 | B25: - номер квартиры по плану | C25: ДА | E25: МФС | I25: АР
A26: =A25+1 -> 13 | B26: - жилую площадь (общую площадь жилых комнат) | C26: ДА | E26: МФС | I26: АР
A27: =A26+1 -> 14 | B27: - общую площадь квартиры без летних помещений | C27: ДА | E27: МФС | I27: АР
A28: =A27+1 -> 15 | B28: - общую приведенную площадь квартиры (летние помещения с коэффициентами 0,5 для лоджии, 0,3 для балкона) | C28: ДА | E28: МФС | I28: АР
A29: =A28+1 -> 16 | B29: - общую площадь квартиры с летними помещениями без коэффициента | C29: ДА | E29: МФС | I29: АР
B30: На плане этажа (секции) в экспликации приведены площади:
A31: =A29+1 -> 17 | B31: - квартир (жилая, общая, общая приведенная, общая с летними помещениями, Sкв) | C31: ОТСУТСТВУЕТ | E31: НД | F31: ГОСТ 21.501-2018, Прилож. А Форма 2 | G31: Принято, указана экспликация. 13.08.26 | H31: Для проверки соответствия площадных показателей квартир заданию МФР | I31: АР
A32: =A31+1 -> 18 | B32: - общая для всех квартир на этаже (секции), Sкв.общ | C32: ОТСУТСТВУЕТ | E32: МФС | F32: МФС | G32: Принято. 13.08.26 | H32: Для проверки выбора решения по устройству лестничной клетки | I32: АР
A33: =A32+1 -> 19 | B33: - МОП | C33: ОТСУТСТВУЕТ | E33: МФС | F33: МФС | G33: Принято. 13.08.26 | H33: Для расчета экономического показателя эффективности планировочных решений | I33: АР
A34: =A33+1 -> 20 | B34: - общая для этажа (секции) Sэт | C34: ОТСУТСТВУЕТ | E34: МФС | F34: МФС | G34: Принято. 13.08.26 | H34: Для расчета экономического показателя эффективности планировочных решений | I34: АР
A35: =A34+1 -> 21 | B35: - площадь этажа (секции) в габаритах наружных стен | C35: ОТСУТСТВУЕТ | E35: МФС | F35: МФС | G35: Принято. 13.08.26 | H35: Необходимо для возможности контроля и последующей проверке расчетов подрядчика соблюдения ограничений ГПЗУ | I35: АР
A36: =A35+1 -> 22 | B36: Приведен коэффициент выхода площади квартир с этажа (этажа секции) Кэфф=Sкв.общ/Sэт, значение Кэфф не менее 0,75 | C36: ДА | E36: МФР | F36: №ФР-11-35435/23-12 от 31.10.2023 | I36: АР
A37: =A36+1 -> 23 | B37: На планах этажей изображена общая схема объекта (контур надземной и подземной частей). На схеме выделен участок отображаемого плата, показаны номера секций и их этажность | C37: НЕТ | D37: необходимо уменьшить | E37: НД | F37: ГОСТ Р 21.101-2020, п. 5.5.11 | G37: Принято. 13.08.26 | H37: Для удобства чтения чертежа | I37: АР
A38: =A37+1 -> 24 | B38: Оси объекта показаны и пронумерованы в соответствии с требованиями НД | C38: НЕТ | D38: необходимо исправить | E38: НД | F38: ГОСТ Р 21.101-2020, п. 5.3 | G38: Принято. 13.08.26 | H38: Для удобства чтения чертежа | I38: АР
A39: =A38+1 -> 25 | B39: Примененные на объекте светопрозрачные конструкции (окна, двери, витражи остекления лоджий, МОП, БКТ) соответствуют ПИК-стандарт в части номенклатуры, размеров, узлов примыканий и сопряжений и т.д. | C39: ОТСУТСТВУЕТ | D39: Для проверки соответствия должен быть представлен план в формате DWG с замаркированными СПК | E39: ПИК | F39: ЖД-ТА-РЕН-АР-ВКЛ, ЖД-ТА-РЕН-АР-В.ПБ, ЖД-ТА-РЕН-АР-ПЭ, ЖД-ТА-РЕН-АР-В.ПЭ.ВГ | G39: Принято. 13.08.26. Направленно отдельным файлом | H39: Необходимо на стадии АПР использовать типовые СПК от ПИК, чтобы на последующей стадии при разработке фасадных решений не допускать нестыковок в конструкциях и некорректного отображения фасадов , в том числе для АГР. Также позволяет избежать нетиповых дорогих или сложых решений, трудно реализуемых на панельных фасадах | I39: АР
A40: =A39+1 -> 26 | B40: Типы наружных стен, покрытий, применяемые для отделки материалы выполнены в соответствиим с ПИК-стандарт | C40: ОТСУТСТВУЕТ | E40: ПИК | F40: ЖД-ТА-РЕН-АР-НК.С | I40: АР
A41: =A40+1 -> 27 | B41: На планах показаны радиаторы отопления. Расположение радиаторов учитывает габаритные размеры помещений, расположение дверных и оконных проемов, а также типы применяемых шкаф-пакетов | C41: НЕТ | E41: МФС | F41: Для проверки обеспечения минимальных размеров помещений с учетом размещения в них отопительных приборов | G41: Принято. 13.08.26 | I41: АР
...

Sheet 1+ТЕХ+КР
B1: ИТОГ
A2: № | B2: ='ТИП'!B3 -> Требования к проектным решениям | C2: СТАТУС | D2: Комментарий | F2: Ссылка на норматив | G2: Ответ разработчика | H2: Обоснование необходимости требования | I2: Специалист, заполняющий позицию
A3: ВСЕГО | B3: ДА | C3: =COUNTIF(C9:C119,"ДА") -> 32 | F3: =SUM(F4:F7) -> 99
A4: =COUNTA(A9:A119) -> 98 | B4: НЕТ | C4: =COUNTIF(C9:C119,"НЕТ") -> 37 | D4: Требования НД | E4: НД | F4: =COUNTIF(E10:E185,"НД") -> 21 | H4: АР | I4: 71
B5: ОТСУТСТВУЕТ | C5: =COUNTIF(C9:C119,"ОТСУТСТВУЕТ") -> 21 | D5: Рекомендации МФР | E5: МФР | F5: =COUNTIF(E10:E185,"МФР") -> 50 | H5: ИОС | I5: =F3-I4 -> 28
B6: НЕ ПРИМЕНЯЕТСЯ | C6: =COUNTIF(C9:C119,"НЕ ПРИМЕНЯЕТСЯ") -> 6 | D6: ПИК-стандарт | E6: ПИК | F6: =COUNTIF(E10:E185,"ПИК") -> 6
B7: Согласовано с МФР | C7: =COUNTIF(C9:C119,"МФР") -> 0 | D7: МФС | E7: МФС | F7: =COUNTIF(E10:E185,"МФС") -> 22
B8: НЕ ОТВЕЧЕННЫЕ | C8: =A4-C3-C4-C5-C6-C7 -> 2
B9: ОБЩИЕ
A10: =1 -> 1 | B10: Габариты и площади помещений указаны с учетом отделки | C10: НЕТ | D10: Не во всех помещениях указаны габариты. Например, отсутствуют в помещениях и тамбурах МОП корпуса 3 секции 1 | E10: МФР | F10: Чек-лист МФР 1 этапа | I10: АР
A11: =A10+1 -> 2 | B11: На планах показаны конструктивные элементы здания | C11: НЕТ | D11: В связи с тем, что в Условных обозначениях неверно указаны обозначения материалов внутренних стен, нет понимания, какие из стен являются жб конструкциями. Исправить штриховку стен на плане. Добавить условное обозначение кладки из ячеистобетонных блоков | E11: МФР | F11: Чек-лист МФР 1 этапа | I11: АР
A12: =A11+1 -> 3 | B12: Расстояние между чистым полом 1 и 2 этажей не менее 4800 мм и кратно 150 мм | C12: ОТСУТСТВУЕТ | D12: На момент проверки 03.08.26 разрезы не предоставлены | E12: ПИК | F12: Унификация, связанная с устройством лестницы между 2 и 1 этажами с учетом требований МФР. Рекомендации по проектированию от 03.12.2020, стр. 13 | H12: Для оптимизации планировочных решений 1 этажа и повышения К эфф | I12: АР
A13: =A12+1 -> 4 | B13: Над всеми входами предусмотрены козырьки (стеклянный козырек над дверью, ниша в фасаде и т.д) | C13: НЕТ | D13: Показать пунктирной линией границы козырьков над входами в тамбуры МОП, БКТ, ОДС (исключение - эвакуационные выходы из БКТ, ЦИН, лестничных клеток) | E13: МФР | F13: МФР. Рекомендации по проектированию от 03.12.2020, стр 80 | H13: Позволяет отследить правильность применения альбомов ПИК в части устройства входных групп и применения СПК | I13: АР
A14: =A13+1 -> 5 | B14: На планах показаны абсолютные и относительне отметки пола входных групп | C14: НЕТ | D14: Показать абсолютные и относительне отметки чистого пола у всех входов | E14: МФР | F14: МФР. Рекомендации по проектированию от 03.12.2020, стр 6, ПП№305 от 21.05.2015, п. 2.3.3 | I14: АР
A15: =A14+1 -> 6 | B15: На разрезе показана линия поверхности земли, приведены абсолютные и относительные отметки в местах расположения входных групп | C15: ОТСУТСТВУЕТ | D15: На момент проверки 03.08.26 разрезы не предоставлены | E15: МФР | F15: МФР. Рекомендации по проектированию от 03.12.2020, стр 6, ПП№305 от 21.05.2015, п. 2.3.3 | I15: АР
A16: =A15+1 -> 7 | B16: В тамбурах приямок Грязезащитной решетки выполнен на ширину дверного проема и на всю длину тамбура, допускается 100 мм отступ. Для поворотного тамбура - до границы дверного проема внутренней конструкции (миним.расст. до противоположной стены 300 мм., при невозмож. -"в ноль"). При открывании двери "от себя" грязезащитная решетка располагается на расстоянии 300 мм. | C16: НЕТ | D16: Показать грязезащитные решетки в тамбурах МОП, ЦИН, БКТ, ОДС | E16: ПИК | F16: ПИК-стандарт. Правила размещения грязезащитной решетки МОП (мест общего пользования). Версия 1, 09/2024. | H16: Позволяет отследить правильность применения альбомов ПИК в части устройства входных групп | I16: АР
A17: =A16+1 -> 8 | B17: Примененные на объекте светопрозрачные конструкции (окна, двери, витражи остекления лоджий, МОП, БКТ) соответствуют ПИК-стандарт в части номенклатуры, размеров, узлов примыканий и сопряжений и т.д. | C17: НЕТ | D17: Наружные витражные двери не соответствуют ЖД-ТА-РЕН-АР-В.ПЭ, Версия 2, 12/2025 Корпуса 1, 2 - двери в БКТ,тамбуры МОП равнопольные, некоторые шириной 1950 (2000 в осях стоек) вместо 1680 (1730 в осях стоек) - двери в лестничные клетки двупольные вместо однопольных шириной 1480 мм (в проем в стене шириной 1600 мм) Корпус 3 секции 1, 2 - двери в лестничные клетки недопустимо узкие - ширина проемов в стене под них 1050 вместо 1600; - дверь в БКТ секции 2 шириной 1450 вместо 1680 Одноэтажная пристройка, помещение охраны - витраж +двупольная дверь шириной 1680 вместо однопольной двери шириной 1280 На момент проверки 03.08.26 не предоставлены фасады, поэтому нет возможности оценить необходимость применения нестандартных витражей. | E17: ПИК | F17: высота | H17: Позволяет отследить правильность применения альбомов ПИК в части применения СПК для последующего корректного отображения фасадов | I17: АР
A18: =A17+1 -> 9 | B18: Типы наружных стен и применяемые для отделки материалы выполнены в соответствиим с ПИК-стандарт | C18: НЕТ | D18: Не предоставлено | E18: ПИК | F18: ПИК-стандарт | H18: Позволяет отследить правильность применения альбомов ПИК в части устройства ограждающих конструкций (стен) | I18: АР
A19: =A18+1 -> 10 | B19: На 1 этаже обеспечена возможность подключения воздуходов БКТ, и тех.помещений к шахтам ОВ | C19: ??? | E19: МФС | F19: МФС | I19: ОВ
A20: =A18+1 -> 10 | B20: На 1 этаже, в секциях выше 50м, предусмотрены шахты ОВ для опусков воздуховодов систем приточной противодымной вентиляции зон ПБЗ (2 шахты: одна не менее 500х300мм, вторая не менее 800х400мм) , компенсации с типовых этажей для подключения к вентустановкам в подземной части (КДУ, не менее 800х500 или 1000х400). | C20: ??? | E20: МФС | F20: МФС | I20: ОВ
A21: =A18+1 -> 10 | B21: Оси и межосевые размеры на планах соответствуют по всем этажам. Оси и межосевые размеры на разрезах соответствуют осям и размерам на планах. | C21: ОТСУТСТВУЕТ | D21: На момент проверки 03.08.26 разрезы не предоставлены | E21: МФР | I21: АР
A22: =A19+1 -> 11 | B22: Для объектов с подземной парковкой в непосредственной близости к рампе предусмотрено помещение охраны с санузлом. В помещении охраны обеспечено естественное освещение и прямой обзор зоны въезда/выезда. Вход в помещение с улицы, без тамбура. | C22: НЕТ | D22: Откорректировать планировочное решение: - уменьшить площадь помещения охраны; - заменить наружный витраж на витражную дверь; - исправить тамбур БКТ | E22: МФР | I22: АР
B23: На плане 1 этажа, а также технического этажа и кровли в случае размещения на них помещений, с высотой потолка более 1,8 м в экспликации приведены площади:
A24: =A22+1 -> 12 | B24: - каждого помещения | C24: НЕТ | D24: Для Корпуса 1 не учтены помещение консьержа, туалет и ПУИ. Выполнить Экспликации помещений по корпусам со сквозной нумерацией для каждого корпуса, не делить нумерацию по функциональному назначению. Не должно быть помещений с одинаковыми номерами в пределах одного корпуса | E24: МФС | F24: МФС | I24: АР
A25: =A24+1 -> 13 | B25: - общая для всех помещений | C25: НЕТ | E25: МФС | F25: МФС | I25: АР
A26: =A25+1 -> 14 | B26: - общая для этажа | C26: НЕТ | E26: МФС | F26: МФС | I26: АР
A27: =A26+1 -> 15 | B27: Коэффициент выхода площади с этажа (Sбкт/Sэт) | C27: НЕТ | E27: МФС | F27: МФС | H27: Дтя того чтобы исключить недосчет машинных помещений лифтов, помещений СС и т.д.) Были случаи, когда в СПП ГНС забывали включать помещения на кровле | I27: АР
A28: =A27+1 -> 16 | B28: - суммарная поэтажная площадь этажа (секции) в габаритах наружных стен | C28: НЕТ
A29: =A28+1 -> 17 | B29: Предусмотрены и показаны места для размещения наружных блоков кондиционирования нежилых помещений 1 этажа: БКТ, ЦИН, ОДС, СС, МПТЦ | C29: НЕТ | D29: На плане показать пунктирной линией и подписать наружные блоки кондиционеров | E29: МФР | F29: Новое требование МФР | I29: АР
A30: =A29+1 -> 18 | B30: На планах предусмотрены и показаны шахты ВК и обстройки для разводки трубопроводов в мокрых зонах МОП и БКТ. | C30: НЕТ | E30: МФС | F30: МФС | H30: Без проработки шахт габариты санузлов в последствии могут меняться, и как следствие - примыкания мокрых зон к помещениям ЭС и СС | I30: ВК
A31: =A30+1 -> 19 | B31: На планах показаны радиаторы отопления. Расположение радиаторов учитывает габаритные размеры помещений, (тамбуры, лестницы и т.д) и путей эвакуации, габариты дверных и оконных проемов | C31: НЕТ | D31: Во вторых тамбурах МОП должны быть предусмотрены места под устройство ниш в каркасной облицовке стен для приборов отопления глубиной min 250 мм. Учесть ниши при проектировании внутренних и наружных витражей | E31: МФС | F31: МФС | I31: АР
A32: =A31+1 -> 20 | B32: На разрезах приведены все применяемые на объекте пироги покрытий кровли. | C32: ОТСУТСТВУЕТ | D32: На момент проверки 03.08.26 разрезы не предоставлены | E32: МФС | F32: МФС | I32: АР
A33: =A32+1 -> 21 | B33: Высота здания не превышает предельную, указанную в ГПЗУ (высота должна быть указана на разрезе, должен учитываться рельеф) | C33: ОТСУТСТВУЕТ | D33: На момент проверки 03.08.26 разрезы не предоставлены | E33: НД | F33: ГПЗУ | H33: https://archsovet.msk.ru/article/faq/raschet-tep | I33: АР
B34: МОП
A35: =A33+1 -> 22 | B35: Предусмотрены 2 входа в МОП жилой части со стороны улицы и двора с устройством сквозного прохода (кроме односекционных ЖД) | C35: ДА | D35: Предусмотрено в Корпусах 1, 2. В Корпусе 3, секции 1, 2 сквозные проходы отсутствуют | E35: МФР | F35: МФР. Рекомендации по проектированию от 03.12.2020, стр 7 ПП№305 от 21.05.2015, п.2.3.1 | I35: АР
A36: =A35+1 -> 23 | B36: Предусмотрены обособленные входы в нежилые помещения БКТ со стороны улицы | C36: ДА | D36: Учтено | E36: МФР | F36: МФР. Рекомендации по проектированию от 03.12.2020, стр 6,7 | I36: АР
A37: =A36+1 -> 24 | B37: Отсутствует перепад высот между планировочной отметкой улицы и отметкой пола МОП | C37: ОТСУТСТВУЕТ | D37: На момент проверки 03.08.26 информация не предоставлена | E37: МФР | F37: МФР. Рекомендации по проектированию от 03.12.2020, стр 6, ПП№305 от 21.05.2015, п. 2.3.3 | I37: АР
A38: =A36+1 -> 24 | B38: Расстояние по горизонтали между проемами лестничной клетки и проемами в наружной стене здания не менее 1,2 м; | C38: НЕТ | D38: Во всех корпусах расстояние между выходами из лестничных клеток и соседними наружными проемами менее 1200 мм. Показать расстояния, предел огнестойкости витражных конструкций | E38: НД | F38: СП 2.13130.2020, п. 5.4.16 д | H38: Для избежания решений с ненормативными расстояниями между выходами из эвакуационной лестницы и помещениями на 1 этаже | I38: АР
A39: =A38+1 -> 25 | B39: На 1 этаже предусмотрены места размещения коллекторов отопления для МОП (при необходимости). Коллекторы отопления для МОП не расположены в вестибюле. | C39: НЕТ | E39: МФС | F39: МФС | I39: АР, ОВ
B40: Состав помещений МОП включает:
...

Sheet ПОДЗ
B1: Ответ разработчика вносится в чек-лист после окончания проверки ГП-МФС. Оформление ответа - "ГГ.ММ.ДД_текст комментария", где дата соответсвует новой редакции загружаемой на витрокад. Не следует писать комментарии параллельно с работой специалистов ГП-МФС. Обещания учесть на последующих стадиях не учитываются, повторно фиксируется несоответсвие требованию.
B2: ИТОГ
A3: № | B3: ='1+ТЕХ+КР'!B2 -> Требования к проектным решениям | C3: СТАТУС | D3: Комментарий | F3: Ссылка на требование | G3: Ответ разработчика | H3: Обоснование необходимости требования | I3: Специалист, заполняющий позицию
A4: ВСЕГО | B4: ДА | C4: =COUNTIF(C10:C105,"ДА") -> 24 | F4: =SUM(F5:F8) -> 79
A5: =COUNTA(A10:A105) -> 82 | B5: НЕТ | C5: =COUNTIF(C10:C105,"НЕТ") -> 49 | D5: Требования НД | E5: НД | F5: =COUNTIF(E10:E177,"НД") -> 49 | H5: АР | I5: 51
B6: ОТСУТСТВУЕТ | C6: =COUNTIF(C10:C105,"ОТСУТСТВУЕТ") -> 8 | D6: Рекомендации МФР | E6: МФР | F6: =COUNTIF(E10:E177,"МФР") -> 13 | H6: ИОС | I6: =F4-I5 -> 28
B7: НЕ ПРИМЕНЯЕТСЯ | C7: =COUNTIF(C10:C105,"НЕ ПРИМЕНЯЕТСЯ") -> 1 | D7: ПИК-стандарт | E7: ПИК | F7: =COUNTIF(E10:E177,"ПИК") -> 4
B8: Согласовано с МФР | C8: =COUNTIF(C10:C105,"МФР") -> 0 | D8: МФС | E8: МФС | F8: =COUNTIF(E10:E177,"МФС") -> 13
B9: НЕ ОТВЕЧЕННЫЕ | C9: =A5-C4-C5-C6-C7-C8 -> 0
B10: ОБЩИЕ | I10: Специалист, заполняющий позицию
A11: =1 -> 1 | B11: Габариты и площади помещений указаны с учетом отделки. | C11: НЕТ | D11: Информация об учёте отделки отсутствует | E11: МФР | F11: Чек-лист МФР 1 этапа | I11: АР
A12: =A11+1 -> 2 | B12: На планах показаны конструктивные элементы здания | C12: ДА | E12: МФР | F12: Чек-лист МФР 1 этапа | I12: АР
A13: =A12+1 -> 3 | B13: Количество эвакуационных выходов и лестниц из подземного этажа принято в соответствии с НД в зависимости от деления подземной части на пожарные отсеки, площади и назначения помещений. | C13: НЕТ | D13: В лестничной клетке 05 не показаны двери. Открывание всех дверей показать в сторону эвакуации | E13: НД | F13: СП 1.13130.2020, гл. 4, 6, 8 | H13: Для устранения неоднократных случаев, когда подрядчики нерационально выполняют разбивку на пожарные отсеки и превышают необходимое количество эвакуационных лестниц | I13: АР
A14: =A13+1 -> 4 | B14: Ширина эвакуационных лестниц из подземной части здания определена в зависимости от функционального назначения помещений и расчетного количества эвакуирующихся. Ширина лестничных маршей, габариты площадок указаны "в свету" и с учетом полотна открытой двери. Ширина площадок не менее ширины марша. | C14: НЕТ | D14: Ширина маршей и площадок не указана | E14: НД | F14: СП 1.13130.2020, п. 4.4.1, 4.4.2. АТУ_Металлические ограждения лестниц подземной части здания и входов ЖД-ТА-РЕН-КР-КМ3 | H14: Оптимизация планировочных решений. | I14: АР
A15: =A14+1 -> 5 | B15: В случае, если по расчету ширина эвакуационной лестницы не превышает 1,0 м, эвакуационные лестницы из подземного этажа в зоне высотной части располагаются непосредственно под лестницами, ведущими с верхних этажей (при количестве эвакуирующихся менее 50 чел), с выгородкой от остальной части лестничной клетки глухой противопожарной перегородкой 1-го типа и с обособленным выходом наружу. | C15: ОТСУТСТВУЕТ | E15: НД | F15: СП 1.13130.2020, п. 4.4.1, 4.4.2. АТУ_Металлические ограждения лестниц подземной части здания и входов ЖД-ТА-РЕН-КР-КМ3 | H15: Оптимизация связана с увеличением полезной площади 1 этажа и повышения К эфф | I15: АР
A16: =A15+1 -> 6 | B16: Предусмотрены правила размещения навигационных элементов в помещениях подземного этажа | C16: НЕТ | D16: На данный момент информация отсутствует | E16: МФС | F16: МФС | I16: АР
A17: =A16+1 -> 7 | B17: На плане указана ширина "в свету" эвакуационных выходов из помещений подземного этажа в лестничные клетки в зависимости от функционального назначения помещений и количества эвакуирующихся. | C17: НЕТ | D17: Ширина эвакуационных выходов не указана | E17: НД | F17: СП 1.13130.2020, п. 4.1.4, 4.2.19, 8.4.6.
A18: =A17+1 -> 8 | B18: Оси и межосевые размеры на планах подземной части соответствуют осям надземной части. Оси и межосевые размеры на разрезах соответствуют осям и размерам на планах. | C18: НЕТ | D18: Зазрезы на данный момент не предоставлены | E18: НД | F18: ГОСТ Р 21.101-2020, п. 5.3 | I18: АР
A19: =A18+1 -> 9 | B19: Деформационный шов не пересекает технические помещения и эвакуационные коридоры | C19: НЕТ | D19: ДШ на плане не показан. | E19: НД | F19: СП 1.13130, п. 4.3.5. | H19: по факту паркинг осядет меньше чем жилой дом
B20: АВТОСТОЯНКА
A21: =A19+1 -> 10 | B21: Габаритные размеры парковочных мест не менее 5,3х2,5 м | C21: ДА | E21: НД | F21: Приказ Минэкономразвития РФ от 07.12.2016 № 792 СП 113.13330.2023 Прил.А. | I21: АР
A22: =A21+1 -> 11 | B22: Все парковочные места выполнены независимыми | C22: ДА | E22: МФР | F22: МФР. Рекомендации по проектированию от 03.12.2020, стр. 26 | I22: АР
A23: =A22+1 -> 12 | B23: Высота автостоянки, в том числе в местах проездов, над рампами и воротами - не менее 2,2м от пола до низа выступающих строительных конструкций, инженерных коммуникаций или подвесного оборудования. | C23: НЕТ | D23: На данный момент информация отсутствует | E23: НД | F23: СП 154.13130.2013, п. 5.2.27. | I23: АР
A24: =A23+1 -> 13 | B24: Радиусы поворота не менее 6,0 м | C24: НЕТ | D24: Радиусы на плане не указаны | E24: НД | F24: СП 113.13330.2023, ПриложениеА | I24: АР
A25: =A24+1 -> 14 | B25: Количество машино-мест, в одноуровневой подземной автостоянке, предусмотреть не менее 70 машино-мест. | C25: ДА | E25: МФР | F25: ЗнП 2026.02.11, стр.65, п. Требования к план. Реш. Подз. части здания. | I25: АР
A26: =A25+1 -> 15 | B26: Сдвоенные («семейные») машино-места, а также места для хранения мототранспорта или иных транспортных средств в подземной автостоянке (при наличии) не предусматривать. | C26: ДА | E26: МФР | F26: ЗнП новое 24.03.2026 | I26: АР
B27: Уклон въездной рампы выполнен не более (указан на плане и разрезе):
A28: =A26+1 -> 16 | B28: - 18% для закрытой прямой рампы | C28: ОТСУТСТВУЕТ | E28: НД | F28: СП 113.13330.2023, п. 5.26 | I28: АР
A29: =A28+1 -> 17 | B29: - 1:6 (16,7%) для закрытой прямой изолированной рампы в случае, если она используется как эвакуационный выход | C29: ОТСУТСТВУЕТ | E29: НД | F29: СП 1.13130.2020, п . 8.4.3 | I29: АР
A30: =A29+1 -> 18 | B30: - 13% для закрытой криволинейной рампы | C30: НЕТ | D30: Уклоны показаны только на нижних участках рампы | E30: НД | F30: СП 113.13330.2023, п. 5.26 | I30: АР
A31: =A30+1 -> 19 | B31: - 10% для открытой рампы любой конфигурации | C31: ОТСУТСТВУЕТ | E31: НД | F31: СП 113.13330.2023, п. 5.26 | I31: АР
A32: =A31+1 -> 20 | B32: Место сопряжения рампы и пола автостоянки выполняется плавным, обеспечивая минимальную высоту клиренса автомобиля не менее 0,1 м. Техническое решение подтверждается схемой разреза рампы с расположенными на ней эталонным автомобилем. | C32: НЕТ | D32: На данный момент информация отсутствует. Разрез не предоставлен. | E32: НД | F32: СП 113.13330.2023, п.5.26г | H32: Неоднократные замечания МФР | I32: АР
A33: =A32+1 -> 21 | B33: Обеспечены требования по расстояниям до двух ближайших эвакуационных выходов не более 40 м от наиболее удаленной точки (не более 20 м от наиболее удаленной точки в тупиковом участке) На плане указаны расстояния от наиболее удаленного места хранения автомобиля до двух ближайших выходов. | C33: НЕТ | D33: На данный момент информация отсутствует. | E33: НД | F33: СП 1.13130.2020, п . 8.4.3, табл. 19 | H33: Для устранения неоднократных случаев, когда подрядчики нерационально выполняют разбивку на пожарные отсеки и превышают необходимое количество эвакуационных лестниц | I33: АР
B34: На путях эвакуации, в местах проходов к эвакуационным лестничным клеткам, пожаробезопасным зонам через участки размещения парковочных мест, предусмотрены и показаны тротуары (проходы, ограниченными колесоотбойниками, ограждениями или вертикальными строительными конструкциями
A35: =A33+1 -> 22 | B35: - на путях эвакуации из автостоянки не менее 1,2 м | C35: НЕТ | D35: Тротуары, ограниченные колесоотбойниками не показаны. | E35: НД | F35: СП 59.13330.2016, п. 6.2.21. СП 1.13130 п.4.3.3, 8.4.6. СП 59.13330.2016, п. 6.2.21 | H35: Неоднократные замечания МФР | I35: АР
A36: =A35+1 -> 23 | B36: - из помещений не менее 0,6 м | C36: ОТСУТСТВУЕТ | E36: НД | F36: СП 59.13330.2016, п. 6.2.21. СП 1.13130 п.4.3.3, 8.4.6. СП 59.13330.2016, п. 6.2.21 | H36: Неоднократные замечания МФР | I36: АР
A37: =A36+1 -> 24 | B37: При наличии парковки на плане указана ширина пути эвакуации через участки размещения машиномест мест в местах проходов к эвакуационным лестничным клеткам и пожаробезопасным зонам: - 1,2 м при количестве эвакуирующихся более 50 человек; - 0,7 м - для проходов к одиночным рабочим местам; - 1,0 м - во всех остальных случаях. В целях безопасности предусмотрены и показаны колесоотбойники, ограждения. | C37: НЕТ | D37: На данный момент информация отсутствует. | E37: НД | F37: СП 59.13330.2016, п. 6.2.21. СП 1.13130 п.4.3.3, 8.4.6.
B38: Минимальная ширина рампы в строительных конструкциях сооветствует требованиям НД. На плане показаны все элементы рампы и их размеры с учетом минимальной нормативной ширины проезда и колесоотбойников (0,15 м по краям, среднего барьера 0,2 м, тротуара 0,8м - при наличии):
A39: =A37+1 -> 25 | B39: _ 3,8 (0,15+3,5+0,15) м для однопутной рампы | C39: НЕТ | D39: Ширина рампы не указана. | E39: НД | F39: СП 113.13330.2023, п. 5.26, п. 5.40 | I39: АР
A40: =A39+1 -> 26 | B40: _ 7,5м (0,15+ 3,5+0,2+3,5+0,15) для двухпутной рампы | C40: ОТСУТСТВУЕТ | E40: НД | F40: СП 113.13330.2023, п. 5.26, п. 5.41 | I40: АР
...

Sheet КОНСТР
B1: ИТОГ
A2: № | B2: ='ПОДЗ'!B3 -> Требования к проектным решениям | C2: СТАТУС | D2: Комментарий | F2: Ссылка на норматив | G2: Ответ разработчика | H2: Обоснование необходимости требования
A3: ВСЕГО | B3: ДА | C3: =COUNTIF(C9:C37,"ДА") -> 2 | F3: =SUM(F4:F7) -> 22
A4: =COUNTA(A9:A37) -> 22 | B4: НЕТ | C4: =COUNTIF(C9:C37,"НЕТ") -> 18 | D4: Требования НД | E4: НД | F4: =COUNTIF(E9:E151,"НД") -> 1
B5: ОТСУТСТВУЕТ | C5: =COUNTIF(C9:C37,"ОТСУТСТВУЕТ") -> 0 | D5: Рекомендации МФР | E5: МФР | F5: =COUNTIF(E9:E151,"МФР") -> 3
B6: НЕ ПРИМЕНЯЕТСЯ | C6: =COUNTIF(C9:C37,"НЕ ПРИМЕНЯЕТСЯ") -> 2 | D6: ПИК-стандарт | E6: ПИК | F6: =COUNTIF(E9:E151,"ПИК") -> 11
B7: Согласовано с МФР | C7: =COUNTIF(C9:C37,"МФР") -> 0 | D7: МФС | E7: МФС | F7: =COUNTIF(E9:E151,"МФС") -> 7
B8: НЕ ОТВЕЧЕННЫЕ | C8: =A4-C3-C4-C5-C6-C7 -> 0
B9: НАДЗЕМНАЯ ЧАСТЬ
A10: =A9+1 -> 1 | B10: Шаг осей выполнен с учетом облицовки фасада навесными панелями, а также плиткой или кирпичем на подсистеме, обеспечена кратность 150 мм | C10: НЕТ | D10: На планах кратность сетки осей 150мм обеспечена. На Компоновочной схеме название осей/общие размеры (кратность 150мм) необходимо привести в соответствие с планами (альбомы паркинг и жилые этажи). В альбоме паркинга для Корпуса 2 сетка осей начинается с 2.А, 2.1, а в альбоме жилых этажей с 1.А, 1.1 (как для Корпуса 1). Просим добавить недостающий план Корпуса 2 с корректными осями | E10: ПИК | F10: ПИК. Стандарт проектирования. Конструктивные решения. Реновация. 2-я ред. от 26.01.2022, п. 4.9, рис 11, п. 4.14.2
A11: =A10+1 -> 2 | B11: Определяем какое фасадное решение применяется на объекте в уровне типового этажа. В разных секциях может быть применено разное фасадное решение в уровне типового этажа. Для определения привязок монолита по наружному контуру см. Типовой альбом ЖД-ПП-РЕН-КЖС-НП.270. Также на данном объекте применяются навесные панели ограждения лоджий - см. Правила привязки в ЖД-ПП-РЕН-КР-КЖС-НП.ОЛ (необходимо согласование ОСК) | C11: НЕТ | D11: Согласно Типовому альбому КЖС-НП.270 для навесных панелей 270 (принятое фасадное решение) привязка монолита к наружным осям 160мм. Привязка частично не соблюдается (оси 1.7, 3.1, 3.5, 3.ДД). По оси 3.3 в зоне лоджии отсутствует монолит. Добавлены скрины. Просим устранить несоответствия или пояснить. В условные обозначения добавить обозначение навесных панелей ограждения лоджий | E11: ПИК | F11: ПИК. Стандарт проектирования. Конструктивные решения. Реновация. 2-я ред. от 26.01.2022, п. 4.14.2, рис. 28,29,31,32,33,34 | H11: Требует тщательной проверки и приведения в соответствие
A12: =A11+1 -> 3 | B12: Расстояние от края монолитной конструкции до оконного проема не менее 250 мм. В зоне ЛЛУ по согласованию ОСК данное требование не всегда обязательно (зазор 250 мм нужен только если в данном месте предполагается размещение монтажного узла или монтажной петли для притяжки панели во время монтажа в проектное положение и устройства временного крепления). Замечание при невыполнении условия (250мм привязка) дается всегда, но может быть снято по согласованию ОСК | C12: НЕТ | D12: Минимальный размер монолитного простенка частично не соблюдается в лестничных клетках Корпуса 3. Значительно не соблюдается на 1 этаже всех корпусов. Просим устранить несоответствия или пояснить | E12: ПИК | F12: ???
A13: =A12+1 -> 4 | B13: Расстояние от монолитной конструкции ЛЛУ на кровле до крайней оси вдоль плиты покрытия тех этажа не менее 910 мм | C13: НЕТ | D13: Для подтверждения данного требования необходимо добавить планы кровли | E13: ПИК | F13: ПИК. Альбом типовых узлов. Вертикальные конструкции технического пространства и кровли. ЖД-ТА-РЕН-КР-КЖ5.1/5.3
A14: =A13+1 -> 5 | B14: Расстояние между контрфорсами в осях не более 4200 мм, если расстояние между контрфорсами больше 4200 мм, выполняется дополнительное крепление к плите покрытия | C14: НЕТ | D14: Для подтверждения данного требования на план кровли необходимо добавить монолитные контрфорсы. Если шаг контрфорсов больше 4200мм (соосные конструкции с учетом нижележащих этажей), то на лист нужно добавить примечание о том, что на кровле требуется дополнительное крепление фасадных элементов к плите покрытия. Информация об этом не должна затеряться и учитывайте при дальнейшей разработке документации. См. Стандарт проектирования КР, п.4.10. | E14: ПИК | F14: ПИК. Стандарт проектирования. Конструктивные решения. Реновация. 2-я ред. от 26.01.2022, п. 4.10, рис 15
A15: =A14+1 -> 6 | B15: Максимальное расстояние между точками крепления панелей к вертикальным конструкциям не более 7200 мм | C15: ДА | E15: ПИК | F15: ПИК. Стандарт проектирования. Конструктивные решения. Реновация. 2-я ред. от 26.01.2022, п. 4.9, рис 11
A16: =A15+1 -> 7 | B16: Минимальный горизонтальный размер основных применяемых панелей - не менее 1200 мм. Панели величиной 300,600,900мм используются для вертикального смещения из плоскости фасада (вертикальная раскреповка в углах здания) См. ссылку на стандарт в ячейке F | C16: НЕТ | D16: Для подтверждения данного требования на планах в местах перегиба фасада просим проставить размеры (скрин для примера) | E16: ПИК | F16: см. Стандарт. Вертикальная раскреповка | H16: Для отслеживания изломов фасада
B17: При необходимости в устройстве деформационного шва между жилыми секциями межосевые расстояния между крайними осями смежных секций составляют | H17: Для сблокированных секций разной этажности не обязательно устройство деформационного шва, но его отсутствие должгно быть подтверждено ОСК
A18: =A16+1 -> 8 | B18: 680 мм при разной этажности | C18: НЕ ПРИМЕНЯЕТСЯ | E18: ПИК | F18: ПИК. Стандарт проектирования. Конструктивные решения. Реновация. 2-я ред. от 26.01.2022, п. 4.10, рис 25,26 | H18: Оптимизация технических решений
A19: =A18+1 -> 9 | B19: 550 мм при одинаковой этажности | C19: НЕ ПРИМЕНЯЕТСЯ | E19: ПИК | F19: ПИК. Стандарт проектирования. Конструктивные решения. Реновация. 2-я ред. от 26.01.2022, п. 4.10, рис 27 | H19: Оптимизация технических решений
A20: =A19+1 -> 10 | B20: Лестничные пролеты надземных этажей выполнены с помощью сборных железобетонных лестничных маршей | C20: НЕТ | D20: Для подтверждения данного требования необходимо добавить разрезы по корпусам в зоне ЛК. Сборные железобетонные марши замаркировать (на планах/разрезах), добавить выноски, примечание. Данное требование прописано для стадии АПР | E20: ПИК | F20: ??? | H20: Оптимизация технических решений
A21: =A20+1 -> 11 | B21: Показатели бетоноемкости на раздел для вертикальных конструкций типовых этажей в зависимости от этажности здания с учетом ярусов. 1. Для зданий до 20 этажей включительно – 0,095 м3 /м2 2. Для зданий до 25 этажей включительно – 0,103 м3 /м2 3. Для зданий до 33 этажей включительно – 0,115 м3 /м2 для нижнего яруса, 0,110 м3/м2 для среднего яруса, 0,100 м3/м2 для верхнего яруса. | C21: ДА | D21: Показатель бетоноемкости вертикалей типовых этажей для корпусов: К1 - 0,100м3/м2 (0,103м3/м2); К2 - 0,100м3/м2 (0,095м3/м2); К3 - 0,094м3/м2 (0,095м3/м2). В норме относительно целевых значений! | E21: ПИК | F21: см. Материалоемкость конструкций
B22: ПОДЗЕМНАЯ ЧАСТЬ
A23: =A21+1 -> 12 | B23: Максимальное расстояние между температурно-усадочными швами составляет не более 50 м | C23: НЕТ | D23: Данное требование не соблюдается для Корпуса 3 (длина 57,6м). При превышении необходимо выполнить расчет на температурное воздействие, см. СП430. Допускается при наличии расчетного обоснования в ПД КР.РР. Учитывайте в дальнейшей работе (наличие расчета) | E23: НД | F23: СП 63.13330.2018, п. 10.1а
B24: Толщина фундаментной плиты принята: | H24: На АПР не будет подтверждения расчетами
A25: =A23+1 -> 13 | B25: - под жилыми секциями до 19 этажей - не более 800 мм | C25: НЕТ | D25: Добавить разрезы по всем корпусам и паркингу. Подписать толщину фундаментной плиты для К2, К3 "не более 800". Добавлен скрин-пример (другой АПР) | E25: МФР | F25: № ФР-11-16216/22-7 | H25: Оптимизация технических решений
A26: =A25+1 -> 14 | B26: - под жилыми секциями свыше 19 до 25 этажей - не более 900 мм | C26: НЕТ | D26: Добавить разрезы по всем корпусам и паркингу. Подписать толщину фундаментной плиты для К1 "не более 900" | E26: МФР | F26: № ФР-11-16216/22-7 | H26: Оптимизация технических решений
A27: =A26+1 -> 15 | B27: - под подземной автостоянкой - не более 500 мм | C27: НЕТ | D27: Добавить разрезы по всем корпусам и паркингу. Подписать толщину фундаментной плиты паркинга "не более 500" | E27: МФР | F27: № ФР-11-16216/22-7 | H27: Оптимизация технических решений
A28: =A27+1 -> 16 | B28: Фундаментная плита выполняется ровной, без перепадов, на одной отметке, допускаются локальные понижения в лифтовых шахтах | C28: НЕТ | D28: Добавить разрезы по всем корпусам и паркингу | E28: МФС | F28: МФС | H28: Оптимизация технических решений
A29: =A28+1 -> 17 | B29: При необходимости устройства перепадов фундаментной плиты для адаптации к рельефу, излом плиты допускается выполнять по деформационному шву между высотными секциями или между секциями и подземной частью автостоянки. | C29: НЕТ | D29: Добавить разрезы по всем корпусам и паркингу. Показать деф. швы между корпусами и паркингом. Необходимость деф.шва в паркинге по результатам расчета | E29: МФС | F29: МФС | H29: Оптимизация технических решений
A30: =A29+1 -> 18 | B30: Низ плиты автостоянки не должен быть заглублен ниже плиты высотной части | C30: НЕТ | D30: Добавить разрезы по всем корпусам и паркингу | E30: МФС | F30: МФС | H30: Оптимизация технических решений
A31: =A30+1 -> 19 | B31: На плане -1 этажа показан деформационный шов между высотными секциями и автостоянкой | C31: НЕТ | D31: Показать на плане -1 этажа деф. швы между корпусами и паркингом. В отмеченной зоне корректно показать примыкание рампы к К1 (швы, двойные вертикальные конструкции). Добавить разрез (см. скрин) | E31: МФС | F31: МФС | H31: Оптимизация технических решений
A32: =A31+1 -> 20 | B32: Деформационный шов не пересекает технические помещения и эвакуационные коридоры | C32: НЕТ | D32: Добавить разрезы по всем корпусам и паркингу. Необходимость деф.шва в паркинге по результатам расчета | E32: МФС | F32: МФС | H32: Оптимизация технических решений
A33: =A32+1 -> 21 | B33: Деформационный шов выполнен максимально прямым, без незначительных выступов и уступов | C33: НЕТ | D33: Добавить разрезы по всем корпусам и паркингу. Необходимость деф.шва в паркинге по результатам расчета | E33: МФС | F33: МФС | H33: Оптимизация технических решений
A34: =A33+1 -> 22 | B34: Контур подземной части здания выполнен максимально прямым, без незначительных выступов и уступов | C34: НЕТ | D34: Подземная часть имеет сложную геометрию - множество уступов, наклонный контур. Обосновать технически и экономически невыгодное решение | E34: МФС | F34: МФС | H34: Оптимизация технических решений
B35: При наличии примыкающего подземного паркинга к жилой секции / башне 16 эт. и более и при отсечении их между собой деформационным швом, предусмотрен один из вариантов решения:
B36: - при западающих или выступающих частях фасада жилой части здания со стороны примыкающего паркинга, фундамент здания выпрямлен по выступающей части несущих конструкций здания, особенно в зоне деформационного шва между двумя жилыми секциями и подземных паркингом
B37: Деформационный шов, по-возможности, выполнен далее выступающей части несущих консрукций у фасада здания с отступом от жилой секции вглубь паркинга (вылет / уширение у фундаментной плиты жилой секции / башни). Оптимальный размер вылета 1000-1500мм, с учетом возможности расставить вертикальные несущие конструкции паркингаи обеспечением проезда машин. При меньшем вылете (особенно при его отсутствии), требуется обоснование, что рассмотрено несколько вариантов расстановки несущих конструкций подземного паркинга и иначе не получится.

Sheet ГЕНПЛАН
B1: ИТОГ
A2: № | B2: ='ПОДЗ'!B3 -> Требования к проектным решениям | C2: СТАТУС | D2: Комментарий | F2: Ссылка на норматив | G2: Ответ разработчика | H2: Обоснование необходимости требования
A3: ВСЕГО | B3: ДА | C3: =COUNTIF(C9:C75,"ДА") -> 0 | F3: =SUM(F4:F7) -> 50
A4: =COUNTA(A9:A75) -> 50 | B4: НЕТ | C4: =COUNTIF(C9:C75,"НЕТ") -> 0 | D4: Требования НД | E4: НД | F4: =COUNTIF(E9:E165,"НД") -> 29
B5: ОТСУТСТВУЕТ | C5: =COUNTIF(C9:C75,"ОТСУТСТВУЕТ") -> 0 | D5: Рекомендации МФР | E5: МФР | F5: =COUNTIF(E9:E165,"МФР") -> 8
B6: НЕ ПРИМЕНЯЕТСЯ | C6: =COUNTIF(C9:C75,"НЕ ПРИМЕНЯЕТСЯ") -> 0 | D6: ПИК-стандарт | E6: ПИК | F6: =COUNTIF(E9:E165,"ПИК") -> 0
B7: Согласовано с МФР | C7: =COUNTIF(C9:C75,"МФР") -> 0 | D7: МФС | E7: МФС | F7: =COUNTIF(E9:E165,"МФС") -> 13
B8: НЕ ОТВЕЧЕННЫЕ | C8: =A4-C3-C4-C5-C6-C7 -> 50
B9: ОБЩИЕ
B10: Соблюдены требования ГПЗУ по размещению объекта в части:
A11: 1 | B11: - границ земельного участка | C11: ??? | E11: МФР | F11: Чек-лист МФР 1 этапа
A12: =A11+1 -> 2 | B12: - суммарной поэтажной площади в ГНС | C12: ??? | E12: МФР | F12: Чек-лист МФР 1 этапа
A13: =A12+1 -> 3 | B13: - высотности | C13: ??? | E13: МФР | F13: Чек-лист МФР 1 этапа
A14: =A13+1 -> 4 | B14: Контуры наземной и подземной частей здания размещены в границах подзоны, выделенной для размещения Объекта с учётом козырьков и прочих навесных конструкций здания. | C14: ??? | E14: МФР | F14: Чек-лист МФР 1 этапа
A15: =A14+1 -> 5 | B15: Посадка объекта выполнена в соответствии с градостроительной концепцией, представленной в ППТ или в градостроительном обосновании (при отсутствии ППТ) | C15: ??? | E15: НД | F15: ???
A16: =A15+1 -> 6 | B16: Посадка объекта обеспечивает требования к инсоляции и КЕО жилых комнат и площадок проектируемого объекта и окружающей застройки | C16: ??? | E16: НД | F16: СанПиН 2.1.3684-21, п. 125, 130; СанПиН 1.2.3685-21, п. 138... 168;
B17: Размещение объекта относительно соседних жилых домов обеспечивает минимальные расстояния:
A18: =A16+1 -> 7 | B18: - не менее 20 м между продольными фасадами, ориентированными друг напротив друга | C18: ??? | E18: НД | F18: СП 42.13330.2016 изм 3 от 31.05.2022, п. 7.1
A19: =A18+1 -> 8 | B19: - не менее 10 м между продольным фасадом и торцом здания, не имеющим окон | C19: ??? | E19: НД | F19: СП 42.13330.2016 изм 3 от 31.05.2022, п. 7.1
A20: =A19+1 -> 9 | B20: Размещение объекта на участке и благоустройство территории выполнены с учетом существующего и проектируемого рельефа местности, перепадов высот между наиболее удаленными точками участка | C20: ??? | E20: НД | F20: ??? | H20: На площадках со значительным перепадом высот (2,0 м и более) не всегда получается организовать транспортное обслуживание как в ППТ, необходимо разрабатывать индивидуальные решения, влияющие на планировки этажей зданий
A21: =A20+1 -> 10 | B21: Ширина пешеходных путей для МГН не менее 2,0 м | C21: ??? | E21: НД | F21: СП 59.13330.2020, п. 5.1.7
A22: =A21+1 -> 11 | B22: Продольные уклоны пешеходных путей, предназначенных для движения МГН не превышают 4% | C22: ??? | E22: НД | F22: СП 59.13330.2020, п. 5.1.7
A23: =A22+1 -> 12 | B23: Размещение объекта выполнено с учетом решений по сетям и сооружениям инженерной инфраструктуры, предусмотренной КСИО, а также проектами сноса объектов и демонтажа сетей, расположенных в непосредственной близости к проектируемому Объекту | C23: ??? | E23: НД | F23: ??? | H23: Необходимо учитывать проектные решения, которые были разработаны для объектов сноса или демонтажа сетей, объемы работ к по которым не входят в этап строительства Обхекта
A24: =A23+1 -> 13 | B24: Схемы транспортного обслуживания объекта обеспечивают доступ пешеходов и транспорта к Объекту на всех этапах реализации решений по окружающей застройке | C24: ??? | E24: НД | F24: № МКА-03-2380/23 от 12.04.2023 | H24: Количество этапов должно быть не менее двух (существующее на момент ввода в эксплуатацию Объекта и проектное на момент ввода в эксплуатацию всех объектов окружающей застройки и УДС). Большее колиество этапов определяется последовательностью строительства и ввода в эксплуатацию окружающих объектов и их влиянием на доступ к Объекту
A25: =A24+1 -> 14 | B25: Проезды в границах земельного участка исключают их использование как дублеров для соседних улиц в красных линиях | C25: ??? | E25: НД | F25: № МКА-03-2380/23 от 12.04.2023
A26: =A25+1 -> 15 | B26: Предусматривается устройство дворовой территории с ограничением доступа автомобилей и транзитного движения | C26: ??? | E26: МФР | F26: МФР. Рекомендации по проектированию от 03.12.2020, стр. 92
A27: =A26+1 -> 16 | B27: Предусматривается устройство пожарных проездов и площадок для размещения пожарной техники в соответствии с НД | C27: ??? | E27: НД | F27: СП 4.13130.2013 в ред. от 15.06.2022, гл 8 | H27: Требуется тщательная проверка соблюдения требований, в том числе для определения необходимости в разработке индивидуального плана расстановки пожарной техники или для дополнительного благоустройства вне границ участка. Особенно критична ситуация, когда линия фасада проходит вдоль красной линии УДС
A28: =A27+1 -> 17 | B28: При расположении фасада здания вдоль УДС проезд пожарной техники обеспечивается в границах Красных линий УДС | C28: ??? | E28: НД | F28: Постановление Правительства Москвы от 11.04.2023 №558-ПП, п. 3.4
A29: =A28+1 -> 18 | B29: Тупиковые проезды протяженностью не более 150 м. | C29: ??? | E29: НД | F29: СП 42.13330.2016 Изм3 от 31.05.2022, п. 11.7
A30: =A29+1 -> 19 | B30: Тупиковые проезды заканчиваются разворотной площадкой 15х15м. | C30: ??? | E30: НД | F30: СП 42.13330.2016 Изм3 от 31.05.2022, п. 11.7, 11.11
B31: Соблюдены расстояния от въездов в автостоянку до:
A32: =A30+1 -> 20 | B32: - 50 м до перекрестков магистральных улиц | C32: ??? | E32: НД | F32: СП 42.13330.2016 Изм3 от 31.05.2022, п. 11.38
A33: =A32+1 -> 21 | B33: - 20 м до улиц местного значения | C33: ??? | E33: НД | F33: СП 42.13330.2016 Изм3 от 31.05.2022, п. 11.38
A34: =A33+1 -> 22 | B34: - 30 м до остановок общественного транспорта | C34: ??? | E34: НД | F34: СП 42.13330.2016 Изм3 от 31.05.2022, п. 11.38
B35: Перед въездом в подземную автостоянку предусмотрена накопительная площадка, длиной
A36: =A34+1 -> 23 | B36: - не менее 12 м при вместимости более 100 м\м | C36: ??? | E36: МФР | F36: МФР. Рекомендации по проектированию от 03.12.2020, стр. 104
A37: =A36+1 -> 24 | B37: - не менее 6 м при вместимости менее 100 м\м | C37: ??? | E37: МФР | F37: МФР. Рекомендации по проектированию от 03.12.2020, стр. 104
B38: Потребность Объекта в парковочных местах для постоянного хранения автомобилей определен одним из способов:
A39: =A37+1 -> 25 | B39: - не менее, чем по расчету, выполненному в соответствии с НД | C39: ??? | E39: НД | F39: СП 42.13330 или РНГП, утв. №945-ПП от 23.12.2015 в ред от 24.12.2019 или СТУ | H39: Подрядчики как правило не соблюдают минимально необходимые требования к размещению парковочных мест в соотетствии с потребностью объекта
A40: =A39+1 -> 26 | B40: - не менее, чем в по расчету, выполненному на основании протокола ГЗК в случае, если Объект включен в Перечень, утверждаемый на ГЗК Москвы | C40: ??? | E40: НД | F40: Протокол ГЗК Москвы №22 от 07.07.2022; РНГП, утв. №945-ПП от 23.12.2015 в ред от 24.12.2019 | H40: Подрядчики как правило не соблюдают минимально необходимые требования к размещению парковочных мест в соотетствии с потребностью объекта
...

Sheet СТМ, ШП, СПК, внеш.подкл.
A1: № | B1: Текст замечания | C1: Эскиз / ссылка на стандарт / комментарий | D1: ФИО проверяющего | E1: Дата выдачи замечаний | F1: Ответ субподрядчика на замечания | G1: Статус замечаия | H1: Дата получения на повторную проверку | I1: Комментарий/ замечание | J1: Ответ субподрядчика на замечания | K1: Дата получения на повторную проверку | L1: Комментарий/ замечание | M1: Ответ субподрядчика на замечания | N1: Дата получения на повторную проверку | O1: Комментарий/ замечание | P1: Ответ субподрядчика на замечания | Q1: Дата согласования
A2: ВСЕГО | B2: ДА | C2: =COUNTIF(C9:C13,"ДА") -> 0 | F2: =SUM(F3:F6) -> 0
A3: =COUNTA(A9:A13) -> 0 | B3: НЕТ | C3: =COUNTIF(C9:C13,"НЕТ") -> 0 | D3: Требования НД | E3: НД | F3: =COUNTIF(E9:E13,"НД") -> 0 | H3: 97
B4: ОТСУТСТВУЕТ | C4: =COUNTIF(C9:C13,"ОТСУТСТВУЕТ") -> 0 | D4: Рекомендации МФР | E4: МФР | F4: =COUNTIF(E9:E13,"МФР") -> 0 | H4: =F2-H3 -> -97
B5: НЕ ПРИМЕНЯЕТСЯ | C5: =COUNTIF(C9:C13,"НЕ ПРИМЕНЯЕТСЯ") -> 0 | D5: ПИК-стандарт | E5: ПИК | F5: =COUNTIF(E9:E13,"ПИК") -> 0
B6: МФР | C6: =COUNTIF(C9:C13,"МФР") -> 0 | D6: МФС | E6: МФС | F6: =COUNTIF(E9:E13,"МФС") -> 0
B7: НЕ ОТВЕЧЕННЫЕ | C7: =A3-C2-C3-C4-C5-C6 -> 0
G11: ???
G12: ???
G13: ???
B14: СТМ
A15: =A14+1 -> 1 | B15: Предоставить Общую ведомость СТМ (включая разделение по Секциям), с указанием кол-ва, в соответствии с согласованными планами. | D15: КураеваЕА | E15: 46226 | G15: ОТСУТСТВУЕТ
A16: =A15+1 -> 2 | B16: Предоставить отдельные планы предпоследнего и последнего этажей с расстановкой соответствующего типа СТМ. Марка СТМ указана точно, уделено особое внимание этажам. | D16: КураеваЕА | E16: 46226 | G16: ОТСУТСТВУЕТ
A17: =A16+1 -> 3 | B17: Расположение, привязку, габариты привести в соответствие с матрицей СТМ: - вентблоков; - вентрешеток; - место расположение вводов систем; - кол-во вводов; - наименования систем; - порядок расположения труб по системам с привязками; - сантехприборов и оборудования; - марка отопительного прибора; - предусмотрены и показаны подключения кухни (раковина в углу кухни). | D17: КураеваЕА | E17: 46226 | G17: ОТСУТСТВУЕТ
A18: =A17+1 -> 4 | B18: Предусмотреть минимально-допустимый зазор 20 мм от всех вертикальных конструкций. Обосновать зазор более 20мм | D18: КураеваЕА | E18: 46226 | G18: ОТСУТСТВУЕТ
A19: =A18+1 -> 5 | B19: Исключить применение "отзеркаленных" СТМ. Применять правые или левые СТМ в соответствии с матрицей. | D19: КураеваЕА | E19: 46226 | G19: НЕ ПРИМЕНЯЕТСЯ
A20: =A19+1 -> 6 | B20: Минимизировать применение Индивидуальных СТМ - очевидны решения согласно Стандарта. | D20: КураеваЕА | E20: 46226 | G20: НЕ ПРИМЕНЯЕТСЯ
A21: =A20+1 -> 7 | B21: Исключить СТМ с ванной без унитаза 4,0 м2 и более, применять только 3,6 м2 | D21: КураеваЕА | E21: 46226 | G21: ДА
B23: СПК
A24: =A21+1 -> 8 | B24: Предоставить Общую ведомость СПК (включая разделение по Секциям), с указанием кол-ва, в соответствии с согласованными планами. | D24: КураеваЕА | E24: 46226 | G24: ОТСУТСТВУЕТ
A25: =A24+1 -> 9 | B25: Предоставить планы всех этажей с замаркированными СПК. | D25: КураеваЕА | E25: 46226 | G25: ОТСУТСТВУЕТ
A26: =A25+1 -> 10 | B26: Предоставить фасады с замаркированными СПК. | D26: КураеваЕА | E26: 46226 | G26: ОТСУТСТВУЕТ
A27: =A26+1 -> 11 | B27: Минимизировать применение Индивидуальных СПК - очевидны решения согласно Стандарта. | D27: КураеваЕА | E27: 46226 | G27: ОТСУТСТВУЕТ
A28: =A27+1 -> 12 | B28: На 1эт. Предусмотреть витражи панарамные, остекление в пол. Подоконные группы выполнены Индивидуально, по ситуации Вертикальной планировки. | D28: КураеваЕА | E28: 46226 | G28: ОТСУТСТВУЕТ
B30: ШП, Внешние подключения +
A31: =A28+1 -> 13 | B31: Предоставить Общую ведомость ШП (включая разделение по Секциям), с указанием кол-ва, в соответствии с согласованными планами. | D31: КураеваЕА | E31: 46226 | G31: ОТСУТСТВУЕТ
A32: =A31+1 -> 14 | B32: Привести тип, марки ШП в соответствии с действующей матрицей. | D32: КураеваЕА | E32: 46226 | G32: ОТСУТСТВУЕТ
A33: =A32+1 -> 15 | B33: Подобрать Шкаф-пакет(ШП) в соответствии с типовым альбомом, в том числе для квартир МГН. Указать Марку и размер (глубину, ширину). Полновстраиваемые внутрь для: 4комнКварт. = 905мм; 3комнКварт. = 855мм; 2комнКварт. = 755мм; 1комнКварт. = 655мм. Привстраиваемые (угловые) для: 4комнКварт. = 930мм; 3комнКварт. = 880мм; 2комнКварт. = 780мм; 1комнКварт. = 680мм. Приставные для: 4комнКварт. = 955мм; 3комнКварт. = 905мм; 2комнКварт. = 805мм; 1комнКварт. = 705мм. | D33: КураеваЕА | E33: 46226 | G33: ОТСУТСТВУЕТ
A34: =A33+1 -> 16 | B34: Исключить коллизию между подключением СТМ и установкой шкаф-пакета(ШП). | D34: КураеваЕА | E34: 46226 | G34: ОТСУТСТВУЕТ
A35: =A34+1 -> 17 | B35: Отслеживать длину внешних подключений шахт ВК/ОВ, не более 7м (заложена возможность внутренней разводки подключений - внутри СТМ, итого - суммарная не более 10 м), рассмотреть возможность размещение внешних ШП. | D35: КураеваЕА | E35: 46226 | G35: ОТСУТСТВУЕТ
A36: =A35+1 -> 18 | B36: Предусмотреть величину заплечика у двери - 100мм (не менее 70 мм), для обеспечения возможности установки дверного наличника. Так же в местах примыкания шкаф-пакета (ШП) - необходимо обеспечить величину заплечика. | D36: КураеваЕА | E36: 46226 | G36: ОТСУТСТВУЕТ
A37: =A36+1 -> 19 | B37: Исключить не соответствие отверстий, смещение/наличие/отсутствие оборудования ОВ, ВК, СС, ЭОМ. | D37: КураеваЕА | E37: 46226 | G37: ОТСУТСТВУЕТ
A41: Заполняется при первой проверке | G41: Заполняется после выдачи замечаний | J41: Заполняется после согласования
A42: Корпус | B42: Секция | C42: Этажность | D42: Общее количество СУ | E42: СУ в строительном исполнении (+ МГН) | F42: Сколько СТМ применено подрядчиком | G42: Сколько выявлено СТМ с нарушениями установки/применения | H42: Сколько СТМ заменено на СУ в строит исполнении, в т.ч. гоствые СУ МГН | I42: Сколько СУ в строит исполнении заменено на СТМ | J42: СУ в строительном исполнении (без учета МГН) | K42: С/У МГН | L42: СТМ | M42: Кол-во проверок
A43: 1 | B43: 1 | C43: 24 | D43: 322 | F43: 322
E44: 0
A45: 2 | B45: 1 | C45: 18 | D45: 238 | F45: 238
E46: 0
A47: 3 | B47: 1 | C47: 12 | D47: 80 | F47: 66
E48: 14
...

Sheet !
A1: ДА
A2: НЕТ
A3: ОТСУТСТВУЕТ
A4: НЕ ПРИМЕНЯЕТСЯ
A5: МФР
A6: ???
