Workbook

Sheet Корпус 1_ТЭП башня 24эт
A1: Корпус 1_ТЭП башня 24эт
A2: К1 лоджии с коэф 0.5 к общ площади тип. этажа | B2: =H9/G11 -> 0.7443842
A3: К1 лоджии с коэф 1.0 к общ. площади тип. этажа | B3: =G9/G11 -> 0.76328428
A4: К1 лоджии с коэф 0.5 к общ. площади на здание | B4: =K9/B10 -> 0.73551814
A5: К1 лоджии с коэф 1.0 к общ. площади на здание | B5: =B17/B10 -> 0.75358465
A6: S БКТ, м2, в том числе: | B6: =B7+B8 -> 372.2
A7: БКТ | B7: 372.2
A8: ЦИН | B8: 0 | G8: S кв. | H8: S кв. с коэф.0,5 | I8: S кв. на всё здание | J8: S кв. на всё здание с коэф 0,5 | K8: Sкв+Sбкт | L8: Кол-во жил эт
A9: Общая площадь здания в том числе: | B9: =B10+B11 -> 15531.5 | G9: 492.7 | H9: 480.5 | I9: =G9*L9 -> 11332.1 | J9: =H9*L9 -> 11051.5 | K9: =J9+B7 -> 11423.7 | L9: 23
A10: площадь надземной части | B10: =(G11*L9)+F11 -> 15531.5 | F10: S общ. 1ого эт | G10: S общ тип эт. | H10: S общ. Подз. | L10: S общ. тех эт
A11: площадь подземной части | F11: 685 | G11: 645.5
A12: S суммарная поэтажная в ГНС м2, в том числе: | B12: =B14+B13 -> 16554.1 | F12: S ГНС 1ого эт | G12: S ГНС тип эт.
A13: ГНС первого этажа | B13: =F13 -> 760 | F13: 760 | G13: 686.7
A14: ГНС типовых этажей | B14: =G13*L9 -> 15794.1
A15: К0 лоджии с коэф 1.0 в ГНС к общ. площади тип. этажа | B15: =G9/G13 -> 0.71748944
A16: К0 лоджии с коэф 1.0 в ГНС к общ. площади на здание | B16: =B17/B12 -> 0.7070333
A17: ОРП = Sкв.+SБКТ | B17: =I9+B7 -> 11704.3

Sheet Корпус 2_ТЭП башня 18эт
A1: Корпус 2_ТЭП башня 18эт
A2: К1 лоджии с коэф 0.5 к общ площади тип. этажа | B2: =H9/G11 -> 0.7443842
A3: К1 лоджии с коэф 1.0 к общ. площади тип. этажа | B3: =G9/G11 -> 0.76328428
A4: К1 лоджии с коэф 0.5 к общ. площади на здание | B4: =K9/B10 -> 0.7325728
A5: К1 лоджии с коэф 1.0 к общ. площади на здание | B5: =B17/B10 -> 0.7503624
A6: S БКТ, м2, в том числе: | B6: =B7+B8 -> 372.2
A7: БКТ | B7: 372.2
A8: ЦИН | B8: 0 | G8: S кв. | H8: S кв. с коэф.0,5 | I8: S кв. на всё здание | J8: S кв. на всё здание с коэф 0,5 | K8: Sкв+Sбкт | L8: Кол-во жил эт
A9: Общая площадь здания в том числе: | B9: =B10+B11 -> 11658.5 | G9: 492.7 | H9: 480.5 | I9: =G9*L9 -> 8375.9 | J9: =H9*L9 -> 8168.5 | K9: =J9+B7 -> 8540.7 | L9: 17
A10: площадь надземной части | B10: =(G11*L9)+F11 -> 11658.5 | F10: S общ. 1ого эт | G10: S общ тип эт. | H10: S общ. Подз. | L10: S общ. тех эт
A11: площадь подземной части | F11: 685 | G11: 645.5
A12: S суммарная поэтажная в ГНС м2, в том числе: | B12: =B14+B13 -> 12433.9 | F12: S ГНС 1ого эт | G12: S ГНС тип эт.
A13: ГНС первого этажа | B13: =F13 -> 760 | F13: 760 | G13: 686.7
A14: ГНС типовых этажей | B14: =G13*L9 -> 11673.9
A15: К0 лоджии с коэф 1.0 в ГНС к общ. площади тип. этажа | B15: =G9/G13 -> 0.71748944
A16: К0 лоджии с коэф 1.0 в ГНС к общ. площади на здание | B16: =B17/B12 -> 0.70356847
A17: ОРП = Sкв.+SБКТ | B17: =I9+B7 -> 8748.1

Sheet Корпус 3_ТЭП секция 1_12эт
A1: Корпус 3_ТЭП секция 1_12эт
A2: К1 лоджии с коэф 0.5 к общ. площади одного тип эт. (2-4 эт.) | B2: =H10/M10 -> 0.71407073
A3: К1 лоджии с коэф 0.5 к общ. площади одного тип эт. (5-12 эт.) | B3: =H12/N10 -> 0.70174935
A4: К1 лоджий с коэф 1.0 к общ. площади одного тип эт. (2-4 эт.) | B4: =G10/M10 -> 0.72962127
A5: К1 лоджий с коэф 1.0 к общ. площади одного тип эт. (5-12 эт.) | B5: =G12/N10 -> 0.71952968
A6: К1 лоджии с коэф 0.5 к общ. площади на здание | B6: =((J10+J12)+B9)/B12 -> 0.68419234
A7: К1 лоджии с коэф 1.0 к общ. площади на здание | B7: =B20/B12 -> 0.69989867
A8: S БКТ, м2, в том числе: | B8: =B9+B10 -> 159.2
A9: БКТ | B9: 159.2 | G9: S кв. 2-4 | H9: S кв. тип с коэф. 2-4 | I9: S кв. на всё здание | J9: S кв. с коэф. 0,5 на здание | K9: Кол-во жл эт | L9: S общ. 1го эт. | M9: S общ. 2-4 | N9: S общ. 5-12
A10: ЦИН | B10: 0 | G10: 290.9 | H10: 284.7 | I10: =G10*K10 -> 872.7 | J10: =H10*K10 -> 854.1 | K10: 3 | L10: 356.5 | M10: 398.7 | N10: 348.7
A11: Общая площадь здания в том числе: | B11: =B12+B13 -> 4342.2 | G11: S кв. 5-12 | H11: S кв. с коэф. 5-12 | J11: S кв. на всё здание
A12: площадь надземной части | B12: =(M10*K10)+(N10*K12)+L10 -> 4342.2 | G12: 250.9 | H12: 244.7 | I12: =G12*K12 -> 2007.2 | J12: =H12*K12 -> 1957.6 | K12: 8 | L12: S общ. 1го эт. в ГНС | M12: S общ. 2-4 эт. в ГНС | N12: S общ. 5-12 эт. в ГНС
A13: площадь подземной части | L13: 413.6 | M13: 417.6 | N13: 377.1
A14: S суммарная поэтажная в ГНС м2, в том числе: | B14: =B15+B16 -> 4683.2
A15: ГНС типовых этажей | B15: =(M13*K10)+(N13*K12) -> 4269.6
A16: ГНС первого этажа | B16: =L13 -> 413.6
A17: К0 лоджий с коэф 1.0 в ГНС к общ. площади одного тип эт. (2-4 эт.) | B17: =G10/M13 -> 0.69659962
A18: К0 лоджий с коэф 1.0 в ГНС к общ. площади одного тип эт. (5-12 эт.) | B18: =G12/N13 -> 0.66534076
A19: К0 лоджии с коэф 1.0 в ГНС к общ площади на здание | B19: =B20/B14 -> 0.64893662
A20: ОРП = Sкв.+SБКТ | B20: =I10+I12+B8 -> 3039.1

Sheet Корпус 3_ТЭП секция 2_12эт
A1: Корпус 3_ТЭП секция 2_12эт
A2: К1 лоджии с коэф 0.5 к общ. площади одного тип. эт. (2-4 эт.) | B2: =H11/N11 -> 0.73151166
A3: К1 лоджии с коэф 0.5 к общ. площади одного эт. (5 эт.) | B3: =H13/O11 -> 0.70861678
A4: К1 лоджии с коэф 0.5 к общ. площади одного тип. эт. (6-12 эт.) | B4: =H15/P11 -> 0.7549463
A5: К1 лоджии с коэф 1.0 к общ. площади одного тип. эт. (2-4 эт.) | B5: =G11/N11 -> 0.75081474
A6: К1 лоджии с коэф 1.0 к общ. площади одного эт. (5 эт.) | B6: =G13/O11 -> 0.72562358
A7: К1 лоджии с коэф 1.0 к общ. площади одного тип. эт. (6-12 эт.) | B7: =G15/P11 -> 0.77473149
A8: К1 лоджии с коэф 0.5 к общ. площади на здание | B8: =((J11+H13+J15)+B11)/B14 -> 0.72457656
A9: К1 лоджии с коэф 1.0 к общ. площади на здание | B9: =B23/B14 -> 0.74238038
A10: S БКТ, м2, в том числе: | B10: =B11+B12 -> 183.4 | G10: S кв. 2-4 | H10: S кв. с коэф. 0,5 2-4 эт. | I10: S кв. общ. 2-4 | J10: S кв. общ. с коэф 0,5 2-4 эт. | M10: S общ. 1 го эт. | N10: S общ. 2-4 эт. | O10: S общ. 5 эт. | P10: S общ. 6-12 эт. | T10: Кол-во жл эт
A11: БКТ | B11: 183.4 | G11: 299.5 | H11: 291.8 | I11: =G11*T11 -> 898.5 | J11: =H11*T11 -> 875.4 | M11: 360.6 | N11: 398.9 | O11: 352.8 | P11: 353.8 | T11: 3
A12: ЦИН | B12: 0 | G12: S кв. 5 | H12: S кв. с коэф. 0,5 5 эт.
A13: Общая площадь здания в том числе: | B13: =B14+B15 -> 4386.7 | G13: 256 | H13: 250 | M13: S общ. 1 го эт. В ГНС | N13: S общ. 2-4 эт. в ГНС | O13: S общ. 5эт. в ГНС | P13: S общ. 6-12эт. в ГНС | T13: 1
A14: площадь надземной части | B14: =(N11*T11)+O11+(P11*T16)+M11 -> 4386.7 | G14: S кв. 6-12 | H14: S кв. с коэф. 0,5 6-12 эт, | I14: S кв. общ. 6-12 | J14: S кв. общ. с коэф. 0,5 6-12 эт. | M14: 418.5 | N14: 433.1 | O14: 381.9 | P14: 382.7
A15: площадь подземной части | G15: 274.1 | H15: 267.1 | I15: =G15*T16 -> 1918.7 | J15: =H15*T16 -> 1869.7
A16: S суммарная поэтажная в ГНС м2, в том числе: | B16: =B17+B18 -> 4778.6 | T16: 7
A17: ГНС типовых этажей | B17: =(N14*T11)+O14+(P14*T16) -> 4360.1
A18: ГНС первого этажа | B18: =M14 -> 418.5
A19: К0 лоджий с коэф 1.0 в ГНС к общ. площади одного тип эт. (2-4 эт.) | B19: =G11/N14 -> 0.69152621
A20: К0 лоджий с коэф 1.0 в ГНС к общ. площади одного эт. (5 эт.) | B20: =G13/O14 -> 0.67033255
A21: К0 лоджий с коэф 1.0 в ГНС к общ. площади одного тип эт. (6-12 эт.) | B21: =G15/P14 -> 0.71622681
A22: К0 лоджии с коэф 1.0 в ГНС к общ площади на здание | B22: =B23/B16 -> 0.68149667
A23: ОРП = Sкв.+SБКТ | B23: =I11+G13+I15+B11 -> 3256.6

Sheet Коэф общн
C3: Расчет коэффициента выхода полезной площади
C4: К общн=(Sкв+SБКТ)/Sобщн
D5: Корпус 1 | E5: Корпус 2 | F5: Корпус 3
C6: S кв | D6: ='Корпус 1_ТЭП башня 24эт'!I9 -> 11332.1 | E6: ='Корпус 2_ТЭП башня 18эт'!I9 -> 8375.9 | F6: ='Корпус 3_ТЭП секция 1_12эт'!I10+'Корпус 3_ТЭП секция 1_12эт'!I12+'Корпус 3_ТЭП секция 2_12эт'!I11+'Корпус 3_ТЭП секция 2_12эт'!G13+'Корпус 3_ТЭП секция 2_12эт'!I15 -> 5953.1
C7: S БКТ | D7: ='Корпус 1_ТЭП башня 24эт'!B6 -> 372.2 | E7: ='Корпус 2_ТЭП башня 18эт'!B6 -> 372.2 | F7: ='Корпус 3_ТЭП секция 1_12эт'!B8+'Корпус 3_ТЭП секция 2_12эт'!B10 -> 342.6
C8: S общн | D8: ='Корпус 1_ТЭП башня 24эт'!B10 -> 15531.5 | E8: ='Корпус 2_ТЭП башня 18эт'!B10 -> 11658.5 | F8: ='Корпус 3_ТЭП секция 1_12эт'!B12+'Корпус 3_ТЭП секция 2_12эт'!B14 -> 8728.9
C10: К общн | D10: =(D6+D7)/D8 -> 0.75358465 | E10: =(E6+E7)/E8 -> 0.7503624 | F10: =(F6+F7)/F8 -> 0.72124781
