Workbook

Sheet Люки
A1: ДВЕРИ. ВЕРСИЯ 2.
A2: Назначение | B2: Марка (правая/ левая) | C2: Характеристики | D2: Проем в стене, мм | G2: Коробка, мм | I2: Проем в свету, мм | K2: Огнестой- кость | L2: Фурнитура | R2: Цвет | S2: Обозначение | T2: Наименование (правая/левая) | U2: Примечание | V2: Документы от производителя, необходимые для предоставления в МФР и МГЭ
D3: Ширина | E3: Высота | F3: Порог констр., мм | G3: Ширина | H3: Высота | I3: Ширина | J3: Высота | L3: Механический замок | M3: Ручка | N3: Петли | O3: Наличие дверного упора | P3: Наличие доводчика | Q3: Наличие добора
A4: ЛЮКИ
A5: - Люк в перекрытии в тех.пространство - Люк в перекрытии в машинное помещение | B5: Л-1 | C5: Люк металлический в перекрытии противопожарный, покрытие из рифленого листового металла 3мм, газовые пружины, контурный уплотнитель, поворотная ручка | D5: 1040 (800*) | E5: 1090 (824*) | F5: нет | G5: 1000 | H5: 1050 | K5: EI 60 | O5: - | P5: нет | Q5: нет | S5: ГОСТ Р 57327-2016 | T5: ЛПС 01 1000-1050 EI60 ГОСТ Р 57327-2016 | U5: *Размер проема в плите перекрытия в свету без учета выемки под опирание люка (см. альбом ЖД-ТАС-РЕН-АР-ТУ.ТЭ) | V5: Сертификата соответствия Техническому регламенту о требованиях пожарной безопасности
A6: - Люк ревизионный в с/у консьержа - Люк ревизионный в с/у ЦИН - Люк ревизионный в ПУИ ЦИН - Люк ревизионный в с/у ОДС - Люк ревизионный в универсальный с/у ОДС - Люк ревизионный в ПУИ ОДС - Люк ревизионный в душевой персонала ОДС - Люк ревизионный в с/у квартиры | B6: Л-2 | C6: ="Люк доступа металлический ревизионный, "&M6&", "& L6&", цвет "&R6 -> Люк доступа металлический ревизионный, утопленная ручка, защелка магнитная, цвет RAL 9003 (сигнальный белый) | D6: 200 | E6: 200 | F6: по проекту | G6: 200 | H6: 200 | K6: - | L6: ='Ссылки'!D11 -> защелка магнитная | M6: ='Ссылки'!A7 -> утопленная ручка | O6: нет | P6: нет | Q6: нет | R6: ='Ссылки'!F12 -> RAL 9003 (сигнальный белый) | T6: ЛС 01 200-200
A7: - Люк ревизионный в с/у ЦИН - Люк ревизионный в ПУИ ЦИН | B7: Л-3 | C7: ="Люк доступа металлический ревизионный, "&M7&", "& L7&", цвет "&R7 -> Люк доступа металлический ревизионный, утопленная ручка, защелка магнитная, цвет RAL 9003 (сигнальный белый) | D7: 300 | E7: 400 | F7: по проекту | G7: 300 | H7: 400 | K7: - | L7: ='Ссылки'!D11 -> защелка магнитная | M7: ='Ссылки'!A7 -> утопленная ручка | O7: нет | P7: нет | Q7: нет | R7: ='Ссылки'!F12 -> RAL 9003 (сигнальный белый) | T7: ЛС 01 400-300
A8: - Люк ревизионный в с/у охраны - Люк ревизионный в с/у консьержа - Люк ревизионный в с/у ОДС - Люк ревизионный в универсальный с/у ОДС - Люк ревизионный в ПУИ ОДС - Люк ревизионный в душевой персонала ОДС - Люк ревизионный в с/у квартиры | B8: Л-4 | C8: ="Люк доступа металлический ревизионный, "&M8&", "& L8&", цвет "&R8 -> Люк доступа металлический ревизионный, утопленная ручка, защелка магнитная, цвет RAL 9003 (сигнальный белый) | D8: 400 | E8: 600 | F8: по проекту | G8: 400 | H8: 600 | K8: - | L8: ='Ссылки'!D11 -> защелка магнитная | M8: ='Ссылки'!A7 -> утопленная ручка | O8: нет | P8: нет | Q8: нет | R8: ='Ссылки'!F12 -> RAL 9003 (сигнальный белый) | T8: ЛС 01 600-400
A9: - Люк ревизионный в с/у консьержа - Люк ревизионный в с/у ОДС - Люк ревизионный в универсальный с/у ОДС - Люк ревизионный в ПУИ ОДС - Люк ревизионный в душевой персонала ОДС - Люк ревизионный в с/у квартиры | B9: Л-5 | C9: ="Люк доступа металлический ревизионный, "&M9&", "& L9&", цвет "&R9 -> Люк доступа металлический ревизионный, утопленная ручка, защелка магнитная, цвет RAL 9003 (сигнальный белый) | D9: 400 | E9: 800 | F9: по проекту | G9: 400 | H9: 800 | K9: - | L9: ='Ссылки'!D11 -> защелка магнитная | M9: ='Ссылки'!A7 -> утопленная ручка | O9: нет | P9: нет | Q9: нет | R9: ='Ссылки'!F12 -> RAL 9003 (сигнальный белый) | T9: ЛС 01 800-400
A10: - Люк потолочный в с/у консьержа - Люк потолочный в ПУИ консьержа - Люк потолочный в ЦИН | B10: Л-6 | C10: ="Люк доступа металлический ревизионный, потолочный, контурный уплотнитель, замок-защелка, под покраску, цвет "&R10 -> Люк доступа металлический ревизионный, потолочный, контурный уплотнитель, замок-защелка, под покраску, цвет RAL 9003 (сигнальный белый) | D10: 609 | E10: 609 | F10: нет | G10: 600 | H10: 600 | K10: - | L10: нет | M10: ='Ссылки'!A7 -> утопленная ручка | O10: - | P10: нет | Q10: - | R10: ='Ссылки'!F12 -> RAL 9003 (сигнальный белый) | T10: ЛП 01 600-600
A11: - Люк ревизионный в кухне | B11: Л-7 | C11: ="Люк доступа металлический ревизионный, съемная дверца, утопленные ручки, "&L11&", цвет "&R11 -> Люк доступа металлический ревизионный, съемная дверца, утопленные ручки, защелка магнитная, цвет RAL 9003 (сигнальный белый) | D11: 300 | E11: 400 | F11: по проекту | G11: 300 | H11: 400 | K11: - | L11: ='Ссылки'!D11 -> защелка магнитная | M11: ='Ссылки'!A7 -> утопленная ручка | N11: нет | O11: нет | P11: нет | Q11: нет | R11: ='Ссылки'!F12 -> RAL 9003 (сигнальный белый) | T11: ЛС 400-300
A12: - Люк ревизионный в межквартирном коридоре | B12: Л-8 | C12: ="Люк доступа металлический ревизионный, "&'Ссылки'!D9&", цвет "&R12 -> Люк доступа металлический ревизионный, почтовый замок ø23 мм, цвет RAL 9003 (сигнальный белый) | D12: 300 | E12: 800 | F12: по проекту | G12: 300 | H12: 800 | K12: - | L12: ='Ссылки'!D9 -> почтовый замок ø23 мм | M12: нет | O12: нет | P12: нет | Q12: нет | R12: ='Ссылки'!F12 -> RAL 9003 (сигнальный белый) | T12: ЛС 01 800-300
B13: Л-9 | C13: ="Люк доступа металлический ревизионный, "&'Ссылки'!D9&", цвет "&R13 -> Люк доступа металлический ревизионный, почтовый замок ø23 мм, цвет RAL 9003 (сигнальный белый) | D13: 500 | E13: 800 | F13: по проекту | G13: 500 | H13: 800 | K13: - | L13: ='Ссылки'!D9 -> почтовый замок ø23 мм | M13: нет | N13: ='Ссылки'!D11 -> защелка магнитная | O13: нет | P13: нет | Q13: нет | R13: ='Ссылки'!F12 -> RAL 9003 (сигнальный белый) | T13: ЛС 01 800-500
B14: Л-10 | C14: ="Люк доступа металлический ревизионный, "&'Ссылки'!D9&", цвет "&R14 -> Люк доступа металлический ревизионный, почтовый замок ø23 мм, цвет RAL 9003 (сигнальный белый) | D14: по проекту | E14: по проекту | F14: по проекту | G14: по проекту | H14: по проекту | K14: - | L14: ='Ссылки'!D9 -> почтовый замок ø23 мм | M14: нет | N14: =Ссылки!D12 -> 0 | O14: нет | P14: нет | Q14: нет | R14: ='Ссылки'!F12 -> RAL 9003 (сигнальный белый) | T14: по проекту
B15: Л-11 | C15: ="Люк доступа металлический ревизионный, "&'Ссылки'!D9&", цвет "&R15 -> Люк доступа металлический ревизионный, почтовый замок ø23 мм, цвет RAL 9003 (сигнальный белый) | D15: 500 | E15: по проекту | F15: по проекту | G15: 500 | H15: по проекту | K15: - | L15: ='Ссылки'!D9 -> почтовый замок ø23 мм | M15: нет | N15: =Ссылки!D13 -> замок "антипаника" | O15: нет | P15: нет | Q15: нет | R15: ='Ссылки'!F12 -> RAL 9003 (сигнальный белый) | T15: по проекту | U15: Люк выше отм. верха ШПК
B16: Л-12 | C16: ="Люк доступа металлический ревизионный, "&'Ссылки'!D9&", цвет "&R16 -> Люк доступа металлический ревизионный, почтовый замок ø23 мм, цвет RAL 9003 (сигнальный белый) | D16: 500 | E16: по проекту | F16: по проекту | G16: 500 | H16: по проекту | K16: - | L16: ='Ссылки'!D9 -> почтовый замок ø23 мм | M16: нет | O16: нет | P16: нет | Q16: нет | R16: ='Ссылки'!F12 -> RAL 9003 (сигнальный белый) | T16: по проекту | U16: Люк ниже отм. верха ШПК
B17: Л-13 | C17: ="Панель доступа металлическая съемная ревизионная, цвет "&R17 -> Панель доступа металлическая съемная ревизионная, цвет RAL 9003 (сигнальный белый) | D17: 300 | E17: по проекту | F17: по проекту | G17: 300 | H17: по проекту | K17: - | L17: нет | M17: нет | N17: нет | O17: нет | P17: нет | Q17: нет | R17: ='Ссылки'!F12 -> RAL 9003 (сигнальный белый) | T17: по проекту | U17: Монтаж на саморезы (окраска шляпок в цвет панели)
B18: Л-14 | C18: ="Панель доступа металлическая съемная ревизионная, цвет "&R18 -> Панель доступа металлическая съемная ревизионная, цвет RAL 9003 (сигнальный белый) | D18: 500 | E18: по проекту | F18: по проекту | G18: 500 | H18: по проекту | K18: - | L18: нет | M18: нет | N18: нет | O18: нет | P18: нет | Q18: нет | R18: ='Ссылки'!F12 -> RAL 9003 (сигнальный белый) | T18: по проекту | U18: Монтаж на саморезы (окраска шляпок в цвет панели)

Sheet Двери. Версия 3
A1: Назначение | B1: Марка (правая/ левая) | C1: Характеристики | D1: Проем в стене, мм | G1: Коробка, мм | I1: Проем в свету, мм | K1: Огнестой кость | L1: Дверной блок | R1: Фурнитура | W1: Цвет | X1: Обозначение | Y1: Наименование (правая/левая) | Z1: Примечание | AB1: Документы от производителя, необходимые для предоставления в МФР и МГЭ | AC1: Тип двери в Revit
D2: Ширина | E2: Высота | F2: Порог конструктивный, мм от ур.ч.пола | G2: Ширина | H2: Высота | I2: Ширина | J2: Высота | L2: Тип дверной коробки | M2: Материал дверного полотна | N2: Заполнение дверного полотна | O2: Толщина дверного полотна, мм | P2: Наличник | Q2: Добор | R2: Механический замок | S2: Ручка | T2: Петли | U2: Дверной упор | V2: Устройство самозакрывания
A3: ПОДЗЕМНЫЙ ЭТАЖ, АВТОСТОЯНКА
A4: - Дверь в ИТП - Дверь в насосную - Дверь в помещение СС с противопожарным клапаном для вентиляции - Дверь в венткамеру - Дверь в помещение уборочной техники - Дверь в помещение узла учета тепла - Дверь в водомерный узел - Дверь в тамбур-шлюз электрощитовой - Дверь в узловое помещение связи | B4: Д-1 / Д-1л | C4: ="Дверь металлическая, из 2-х листов х/к стали толщиной 1,0 мм - полотно, 1.2 мм - рама, с заполнением минеральной ватой, противопожарная, глухая, "&"со стационарным порогом 14 мм, контурный уплотнитель - серый, доводчик, нажимная ручка, цилиндровый замок 'ключ-вертушка', порошковая окраска, цве"&"т "&W4 -> Дверь металлическая, из 2-х листов х/к стали толщиной 1,0 мм - полотно, 1.2 мм - рама, с заполнением минеральной ватой, противопожарная, глухая, со стационарным порогом 14 мм, контурный уплотнитель - серый, доводчик, нажимная ручка, цилиндровый замок 'ключ-вертушка', порошковая окраска, цвет RAL 7016 (антрацитово-серый) матовый | D4: 1000 | E4: 2100 | F4: В тех. помещениях подземного этажа без автостоянки предусмотреть конструктивный порог по проекту | G4: 958 | H4: 2079 | I4: 871 | J4: 2011 | K4: EI 30 см. п.5 Правил | L4: Угловая | M4: Сталь, толщина 1.0 мм | N4: Минеральная вата | O4: 61 | P4: В составе дверной коробки, материал: сталь, ширина: 67 мм, толщина: 15 мм | Q4: нет | R4: =Замки!A42&", "&'Ссылки'!D3&", материал: "&'Ссылки'!H5&"; цвет: "&'Ссылки'!G7&"; "&Замки!A2&", "&'Ссылки'!D7&", материал: "&'Ссылки'!H4&"; цвет: "&'Ссылки'!G9 -> ЗД-6, цилиндровый замок, материал: сталь нержавеющая; цвет: оцинкованный; ЗД-1, "ключ-вертушка", материал: алюминий; цвет: никель | S4: =Ручки!A18&", "&'Ссылки'!A10&", материал: "&'Ссылки'!H3&", цвет: "&'Ссылки'!G5 -> РД-3, нажимная ручка на планке, материал: сталь нержавеющая / нейлон, цвет: черный | T4: ='Петли'!A2&", "&'Ссылки'!C3&", цвет: "&'Ссылки'!G6 -> ПД-1, ввертные, цвет: сталь нержавеющая | U4: нет | V4: ='Доводчик'!A2&", "&'Ссылки'!B2&", цвет: "&'Ссылки'!G4 -> ДД-1, доводчик, цвет: серебристый | W4: ='Ссылки'!F2 -> RAL 7016 (антрацитово-серый) матовый | X4: ГОСТ Р 57327-2016 / ТУ 25.12.10-001-17157160-2018 | Y4: ДПС 01 2079-958 пр. EI 30 ГОСТ Р 57327-2016 / ТУ 25.12.10-001-17157160-2018 / ДПС 01 2079-958 л. EI 30 ГОСТ Р 57327-2016 / ТУ 25.12.10-001-17157160-2018 | AB4: Сертификат соответствия Техническому регламенту о требованиях пожарной безопасности | AC4: Дверь_Рен_1Ст_Угловая коробка_V3, типоразмер Д-1_1000х2100h_EI30
A5: - Дверь в электрощитовую и ВРУ автостоянки - Дверь в электрощитовую жилой и нежилой части | B5: Д-1.1 / Д-1.1л | C5: ="Дверь металлическая, из 2-х листов х/к стали, толщиной 1,0 мм - полотно, 1.2 мм - рама, "&"с заполнением минеральной ватой, противопожарная, глухая со стационарным порогом 14 мм, контурный уплотнитель - серый, доводчик, нажимная ручка с внутренней стороны, "&"ручка-кноб с наружной стороны, замок 'антипаника' (самозапирающийся замок, ключ только с наружной стороны), крепл"&"ение заводского исполнения для присоединения заземления на высоте 400мм, порошковая окраска, цвет "&W5 -> Дверь металлическая, из 2-х листов х/к стали, толщиной 1,0 мм - полотно, 1.2 мм - рама, с заполнением минеральной ватой, противопожарная, глухая со стационарным порогом 14 мм, контурный уплотнитель - серый, доводчик, нажимная ручка с внутренней стороны, ручка-кноб с наружной стороны, замок 'антипаника' (самозапирающийся замок, ключ только с наружной стороны), крепление заводского исполнения для присоединения заземления на высоте 400мм, порошковая окраска, цвет RAL 7016 (антрацитово-серый) матовый | D5: 1000 | E5: 2100 | F5: нет | G5: 958 | H5: 2079 | I5: 871 | J5: 2011 | K5: EI 30 см. п.5 Правил | L5: Угловая | M5: Сталь, толщина 1.0 мм | N5: Минеральная вата | O5: 61 | P5: В составе дверной коробки, материал: сталь, ширина: 67 мм, толщина: 15 мм | Q5: нет | R5: =Замки!A34&", "&'Ссылки'!D13&", материал: "&'Ссылки'!H5&"; цвет: "&'Ссылки'!G7 -> ЗД-5, замок "антипаника", материал: сталь нержавеющая; цвет: оцинкованный | S5: =Ручки!A66&", "&'Ссылки'!A13&", материал: "&'Ссылки'!H3&", цвет: "&'Ссылки'!G5 -> РД-9, нажимная / фиксированная ручка на планке, материал: сталь нержавеющая / нейлон, цвет: черный | T5: ='Петли'!A2&", "&'Ссылки'!C3&", цвет: "&'Ссылки'!G6 -> ПД-1, ввертные, цвет: сталь нержавеющая | U5: нет | V5: ='Доводчик'!A2&", "&'Ссылки'!B2&", цвет: "&'Ссылки'!G4 -> ДД-1, доводчик, цвет: серебристый | W5: ='Ссылки'!F2 -> RAL 7016 (антрацитово-серый) матовый | X5: ГОСТ Р 57327-2016 / ТУ 25.12.10-001-17157160-2018 | Y5: ДПС 01 2079-958 пр. EI 30 ГОСТ Р 57327-2016 / ТУ 25.12.10-001-17157160-2018 / ДПС 01 2079-958 л. EI 30 ГОСТ Р 57327-2016 / ТУ 25.12.10-001-17157160-2018 | AB5: Сертификат соответствия Техническому регламенту о требованиях пожарной безопасности | AC5: Дверь_Рен_1Ст_Угловая коробка_V3, типоразмер Д-1.1_1000х2100h_EI30_ВРУ
A6: - Дверь в ИТП - Дверь в насосную - Дверь в помещение СС с противопожарным клапаном для вентиляции - Дверь в венткамеру - Дверь в помещение уборочной техники - Дверь в помещение узла учета тепла - Дверь в водомерный узел - Дверь в помещение для прокладки инженерных коммуникаций - Дверь в тамбур-шлюз электрощитовой - Дверь в узловое помещение связи | B6: Д-2 / Д-2л | C6: ="Дверь металлическая, из 2-х листов х/к стали, толщиной 1,0 мм - полотно, 1.2 мм - рама, "&"с заполнением минеральной ватой, противопожарная, глухая, со стационарным порогом 14 мм, контурный уплотнитель - серый, доводчик, нажимная ручка, цилиндровый замок 'ключ-вертушка', порошковая окраска, цве"&"т "&W6 -> Дверь металлическая, из 2-х листов х/к стали, толщиной 1,0 мм - полотно, 1.2 мм - рама, с заполнением минеральной ватой, противопожарная, глухая, со стационарным порогом 14 мм, контурный уплотнитель - серый, доводчик, нажимная ручка, цилиндровый замок 'ключ-вертушка', порошковая окраска, цвет RAL 7016 (антрацитово-серый) матовый | D6: 1000 | E6: 2100 | F6: В тех. помещениях подземного этажа без автостоянки предусмотреть конструктивный порог по проекту | G6: 958 | H6: 2079 | I6: 871 | J6: 2011 | K6: EI 60 см. п.5 Правил | L6: Угловая | M6: Сталь, толщина 1.0 мм | N6: Минеральная вата | O6: 61 | P6: В составе дверной коробки, материал: сталь, ширина: 67 мм, толщина: 15 мм | Q6: нет | R6: =Замки!A42&", "&'Ссылки'!D3&", материал: "&'Ссылки'!H5&"; цвет: "&'Ссылки'!G7&"; "&Замки!A2&", "&'Ссылки'!D7&", материал: "&'Ссылки'!H4&"; цвет: "&'Ссылки'!G9 -> ЗД-6, цилиндровый замок, материал: сталь нержавеющая; цвет: оцинкованный; ЗД-1, "ключ-вертушка", материал: алюминий; цвет: никель | S6: ='Ручки'!A18&", "&'Ссылки'!A10& ", материал: "&'Ссылки'!H3&", цвет: "&'Ссылки'!G5 -> РД-3, нажимная ручка на планке, материал: сталь нержавеющая / нейлон, цвет: черный | T6: ='Петли'!A2&", "&'Ссылки'!C3&", цвет: "&'Ссылки'!G6 -> ПД-1, ввертные, цвет: сталь нержавеющая | U6: нет | V6: ='Доводчик'!A2&", "&'Ссылки'!B2&", цвет: "&'Ссылки'!G4 -> ДД-1, доводчик, цвет: серебристый | W6: ='Ссылки'!F2 -> RAL 7016 (антрацитово-серый) матовый | X6: ГОСТ Р 57327-2016 / ТУ 25.12.10-001-17157160-2018 | Y6: ДПС 01 2079-958 пр. EI 60 ГОСТ Р 57327-2016 / ТУ 25.12.10-001-17157160-2018 / ДПС 01 2079-958 л. EI 60 ГОСТ Р 57327-2016 / ТУ 25.12.10-001-17157160-2018 | AB6: Сертификат соответствия Техническому регламенту о требованиях пожарной безопасности | AC6: Дверь_Рен_1Ст_Угловая коробка_V3, типоразмер Д-2_1000х2100h__EI60
A7: - Дверь в электрощитовую и ВРУ автостоянки - Дверь в электрощитовую жилой и нежилой части | B7: Д-2.1 / Д-2.1л | C7: ="Дверь металлическая, из 2-х листов х/к стали, толщиной 1,0 мм - полотно, 1.2 мм - рама, "&"с заполнением минеральной ватой, противопожарная, глухая со стационарным порогом 14 мм, контурный уплотнитель - серый, доводчик, нажимная ручка с внутренней стороны, "&"ручка-кноб с наружной стороны, замок 'антипаника' (самозапирающийся замок, ключ только с наружной стороны), крепл"&"ение заводского исполнения для присоединения заземления на высоте 400мм, порошковая окраска, цвет "&W5 -> Дверь металлическая, из 2-х листов х/к стали, толщиной 1,0 мм - полотно, 1.2 мм - рама, с заполнением минеральной ватой, противопожарная, глухая со стационарным порогом 14 мм, контурный уплотнитель - серый, доводчик, нажимная ручка с внутренней стороны, ручка-кноб с наружной стороны, замок 'антипаника' (самозапирающийся замок, ключ только с наружной стороны), крепление заводского исполнения для присоединения заземления на высоте 400мм, порошковая окраска, цвет RAL 7016 (антрацитово-серый) матовый | D7: 1000 | E7: 2100 | F7: нет | G7: 958 | H7: 2079 | I7: 871 | J7: 2011 | K7: EI 60 см. п.5 Правил | L7: Угловая | M7: Сталь, толщина 1.0 мм | N7: Минеральная вата | O7: 61 | P7: В составе дверной коробки, материал: сталь, ширина: 67 мм, толщина: 15 мм | Q7: нет | R7: =Замки!A34&", "&'Ссылки'!D13&", материал: "&'Ссылки'!H5&"; цвет: "&'Ссылки'!G7 -> ЗД-5, замок "антипаника", материал: сталь нержавеющая; цвет: оцинкованный | S7: =Ручки!A66&", "&'Ссылки'!A13&", материал: "&'Ссылки'!H3&", цвет: "&'Ссылки'!G5 -> РД-9, нажимная / фиксированная ручка на планке, материал: сталь нержавеющая / нейлон, цвет: черный | T7: ='Петли'!A2&", "&'Ссылки'!C3&", цвет: "&'Ссылки'!G6 -> ПД-1, ввертные, цвет: сталь нержавеющая | U7: нет | V7: ='Доводчик'!A2&", "&'Ссылки'!B2&", цвет: "&'Ссылки'!G4 -> ДД-1, доводчик, цвет: серебристый | W7: ='Ссылки'!F2 -> RAL 7016 (антрацитово-серый) матовый | X7: ГОСТ Р 57327-2016 / ТУ 25.12.10-001-17157160-2018 | Y7: ДПС 01 2079-958 пр. EI 60 ГОСТ Р 57327-2016 / ТУ 25.12.10-001-17157160-2018 / ДПС 01 2079-9580 л. EI 60 ГОСТ Р 57327-2016 / ТУ 25.12.10-001-17157160-2018 | AB7: Сертификат соответствия Техническому регламенту о требованиях пожарной безопасности | AC7: Дверь_Рен_1Ст_Угловая коробка_V3, типоразмер Д-2.1_1000х2100h_EI60_ВРУ
A8: - Дверь в ИТП (для применения в подземных этажах с автостоянкой) | B8: Д-57 / Д-57л | C8: ="Дверь металлическая, из 2-х листов х/к стали, толщиной 1.0 мм - полотно, 1.2 мм - рама, "&"с заполнением минеральной ватой, противопожарная, глухая, двустворчатая, со стационарным порогом 14 мм, контурный уплотнитель - серый, доводчик, нажимная ручка, цилиндровый замок 'ключ-вертушка', порошковая окраска, цве"&"т "&W6 -> Дверь металлическая, из 2-х листов х/к стали, толщиной 1.0 мм - полотно, 1.2 мм - рама, с заполнением минеральной ватой, противопожарная, глухая, двустворчатая, со стационарным порогом 14 мм, контурный уплотнитель - серый, доводчик, нажимная ручка, цилиндровый замок 'ключ-вертушка', порошковая окраска, цвет RAL 7016 (антрацитово-серый) матовый | D8: 1650 | E8: 2380 | F8: нет | G8: 1608 | H8: 2359 | I8: 1504 | J8: 2291 | K8: EI 30 см. п.5 Правил | L8: Угловая | M8: Сталь, толщина 1.0 мм | N8: Минеральная вата | O8: 61 | P8: В составе дверной коробки, материал: сталь, ширина: 67 мм, толщина: 15 мм | Q8: нет | R8: =Замки!A42&", "&'Ссылки'!D3&", материал: "&'Ссылки'!H5&"; цвет: "&'Ссылки'!G7&"; "&Замки!A2&", "&'Ссылки'!D7&", материал: "&'Ссылки'!H4&"; цвет: "&'Ссылки'!G9 -> ЗД-6, цилиндровый замок, материал: сталь нержавеющая; цвет: оцинкованный; ЗД-1, "ключ-вертушка", материал: алюминий; цвет: никель | S8: =Ручки!A18&", "&'Ссылки'!A10&", материал: "&'Ссылки'!H3&", цвет: "&'Ссылки'!G5 -> РД-3, нажимная ручка на планке, материал: сталь нержавеющая / нейлон, цвет: черный | T8: ='Петли'!A2&", "&'Ссылки'!C3&", цвет: "&'Ссылки'!G6 -> ПД-1, ввертные, цвет: сталь нержавеющая | U8: нет | V8: ='Доводчик'!A2&", "&'Ссылки'!B2&", цвет: "&'Ссылки'!G4 -> ДД-1, доводчик, цвет: серебристый | W8: ='Ссылки'!F2 -> RAL 7016 (антрацитово-серый) матовый | X8: ГОСТ Р 57327-2016 / ТУ 25.12.10-003-17157160-2022 | Y8: ДПС 02 2359-1608 пр. EI 30 ГОСТ Р 57327-2016 / ТУ 25.12.10-003-17157160-2022 / ДПС 02 2359-1608 л. EI 30 ГОСТ Р 57327-2016 / ТУ 25.12.10-003-17157160-2022 | AC8: Дверь_Рен_2Ст_Угловая коробка_V3, типоразмер Д-57_1650х2380h_EI30
A9: - Дверь в ИТП (для применения в подземных этажах с автостоянкой) | B9: Д-58 / Д-58л | C9: ="Дверь металлическая, из 2-х листов х/к стали, толщиной 1.0 мм - полотно, 1.2 мм - рама, "&"с заполнением минеральной ватой, противопожарная, глухая, двустворчатая, со стационарным порогом 14 мм, контурный уплотнитель - серый, доводчик, нажимная ручка, цилиндровый замок 'ключ-вертушка', порошковая окраска, цве"&"т "&W6 -> Дверь металлическая, из 2-х листов х/к стали, толщиной 1.0 мм - полотно, 1.2 мм - рама, с заполнением минеральной ватой, противопожарная, глухая, двустворчатая, со стационарным порогом 14 мм, контурный уплотнитель - серый, доводчик, нажимная ручка, цилиндровый замок 'ключ-вертушка', порошковая окраска, цвет RAL 7016 (антрацитово-серый) матовый | D9: 1650 | E9: 2380 | F9: нет | G9: 1608 | H9: 2359 | I9: 1504 | J9: 2291 | K9: EI 60 см. п.5 Правил | L9: Угловая | M9: Сталь, толщина 1.0 мм | N9: Минеральная вата | O9: 61 | P9: В составе дверной коробки, материал: сталь, ширина: 67 мм, толщина: 15 мм | Q9: нет | R9: =Замки!A42&", "&'Ссылки'!D3&", материал: "&'Ссылки'!H5&"; цвет: "&'Ссылки'!G7&"; "&Замки!A2&", "&'Ссылки'!D7&", материал: "&'Ссылки'!H4&"; цвет: "&'Ссылки'!G9 -> ЗД-6, цилиндровый замок, материал: сталь нержавеющая; цвет: оцинкованный; ЗД-1, "ключ-вертушка", материал: алюминий; цвет: никель | S9: =Ручки!A18&", "&'Ссылки'!A10&", материал: "&'Ссылки'!H3&", цвет: "&'Ссылки'!G5 -> РД-3, нажимная ручка на планке, материал: сталь нержавеющая / нейлон, цвет: черный | T9: ='Петли'!A2&", "&'Ссылки'!C3&", цвет: "&'Ссылки'!G6 -> ПД-1, ввертные, цвет: сталь нержавеющая | U9: нет | V9: ='Доводчик'!A2&", "&'Ссылки'!B2&", цвет: "&'Ссылки'!G4 -> ДД-1, доводчик, цвет: серебристый | W9: ='Ссылки'!F2 -> RAL 7016 (антрацитово-серый) матовый | X9: ГОСТ Р 57327-2016 / ТУ 25.12.10-003-17157160-2022 | Y9: ДПС 02 2359-1608 пр. EI 60 ГОСТ Р 57327-2016 / ТУ 25.12.10-003-17157160-2022 / ДПС 02 2359-1608 л. EI 60 ГОСТ Р 57327-2016 / ТУ 25.12.10-003-17157160-2022 | AC9: Дверь_Рен_2Ст_Угловая коробка_V3, типоразмер Д-58_1650х2380h_EI60
A10: - Дверь в ИТП (для применения в подземных этажах без автостоянки) | B10: Д-59 / Д-59л | C10: ="Дверь металлическая, из 2-х листов х/к стали, толщиной 1.0 мм - полотно, 1.2 мм - рама, "&"с заполнением минеральной ватой, противопожарная, глухая, двустворчатая, со стационарным порогом 14 мм, контурный уплотнитель - серый, доводчик, нажимная ручка, цилиндровый замок 'ключ-вертушка', порошковая окраска, цве"&"т "&W6 -> Дверь металлическая, из 2-х листов х/к стали, толщиной 1.0 мм - полотно, 1.2 мм - рама, с заполнением минеральной ватой, противопожарная, глухая, двустворчатая, со стационарным порогом 14 мм, контурный уплотнитель - серый, доводчик, нажимная ручка, цилиндровый замок 'ключ-вертушка', порошковая окраска, цвет RAL 7016 (антрацитово-серый) матовый | D10: 1350 | E10: 2100 | F10: нет | G10: 1308 | H10: 2079 | I10: 1204 | J10: 2011 | K10: EI 30 см. п.5 Правил | L10: Угловая | M10: Сталь, толщина 1.0 мм | N10: Минеральная вата | O10: 61 | P10: В составе дверной коробки, материал: сталь, ширина: 67 мм, толщина: 15 мм | Q10: нет | R10: =Замки!A42&", "&'Ссылки'!D3&", материал: "&'Ссылки'!H5&"; цвет: "&'Ссылки'!G7&"; "&Замки!A2&", "&'Ссылки'!D7&", материал: "&'Ссылки'!H4&"; цвет: "&'Ссылки'!G9 -> ЗД-6, цилиндровый замок, материал: сталь нержавеющая; цвет: оцинкованный; ЗД-1, "ключ-вертушка", материал: алюминий; цвет: никель | S10: =Ручки!A18&", "&'Ссылки'!A10&", материал: "&'Ссылки'!H3&", цвет: "&'Ссылки'!G5 -> РД-3, нажимная ручка на планке, материал: сталь нержавеющая / нейлон, цвет: черный | T10: ='Петли'!A2&", "&'Ссылки'!C3&", цвет: "&'Ссылки'!G6 -> ПД-1, ввертные, цвет: сталь нержавеющая | U10: нет | V10: ='Доводчик'!A2&", "&'Ссылки'!B2&", цвет: "&'Ссылки'!G4 -> ДД-1, доводчик, цвет: серебристый | W10: ='Ссылки'!F2 -> RAL 7016 (антрацитово-серый) матовый | X10: ГОСТ Р 57327-2016 / ТУ 25.12.10-003-17157160-2022 | Y10: ДПС 02 2079-1308 пр. EI 30 ГОСТ Р 57327-2016 / ТУ 25.12.10-003-17157160-2022 / ДПС 02 2079-1308 л. EI 30 ГОСТ Р 57327-2016 / ТУ 25.12.10-003-17157160-2022 | AC10: Дверь_Рен_2Ст_Угловая коробка_V3, типоразмер Д-59_1350х2100h_EI30
A11: - Дверь в ИТП (для применения в подземных этажах без автостоянки) | B11: Д-60 / Д-60л | C11: ="Дверь металлическая, из 2-х листов х/к стали, толщиной 1.0 мм - полотно, 1.2 мм - рама, "&"с заполнением минеральной ватой, противопожарная, глухая, двустворчатая, со стационарным порогом 14 мм, контурный уплотнитель - серый, доводчик, нажимная ручка, цилиндровый замок 'ключ-вертушка', порошковая окраска, цве"&"т "&W6 -> Дверь металлическая, из 2-х листов х/к стали, толщиной 1.0 мм - полотно, 1.2 мм - рама, с заполнением минеральной ватой, противопожарная, глухая, двустворчатая, со стационарным порогом 14 мм, контурный уплотнитель - серый, доводчик, нажимная ручка, цилиндровый замок 'ключ-вертушка', порошковая окраска, цвет RAL 7016 (антрацитово-серый) матовый | D11: 1350 | E11: 2100 | F11: нет | G11: 1308 | H11: 2079 | I11: 1204 | J11: 2011 | K11: EI 60 см. п.5 Правил | L11: Угловая | M11: Сталь, толщина 1.0 мм | N11: Минеральная вата | O11: 61 | P11: В составе дверной коробки, материал: сталь, ширина: 67 мм, толщина: 15 мм | Q11: нет | R11: =Замки!A42&", "&'Ссылки'!D3&", материал: "&'Ссылки'!H5&"; цвет: "&'Ссылки'!G7&"; "&Замки!A2&", "&'Ссылки'!D7&", материал: "&'Ссылки'!H4&"; цвет: "&'Ссылки'!G9 -> ЗД-6, цилиндровый замок, материал: сталь нержавеющая; цвет: оцинкованный; ЗД-1, "ключ-вертушка", материал: алюминий; цвет: никель | S11: =Ручки!A18&", "&'Ссылки'!A10&", материал: "&'Ссылки'!H3&", цвет: "&'Ссылки'!G5 -> РД-3, нажимная ручка на планке, материал: сталь нержавеющая / нейлон, цвет: черный | T11: ='Петли'!A2&", "&'Ссылки'!C3&", цвет: "&'Ссылки'!G6 -> ПД-1, ввертные, цвет: сталь нержавеющая | U11: нет | V11: ='Доводчик'!A2&", "&'Ссылки'!B2&", цвет: "&'Ссылки'!G4 -> ДД-1, доводчик, цвет: серебристый | W11: ='Ссылки'!F2 -> RAL 7016 (антрацитово-серый) матовый | X11: ГОСТ Р 57327-2016 / ТУ 25.12.10-003-17157160-2022 | Y11: ДПС 02 2079-1308 пр. EI 60 ГОСТ Р 57327-2016 / ТУ 25.12.10-003-17157160-2022 / ДПС 02 2079-1308 л. EI 60 ГОСТ Р 57327-2016 / ТУ 25.12.10-003-17157160-2022 | AC11: Дверь_Рен_2Ст_Угловая коробка_V3, типоразмер Д-60_1350х2100h_EI60
A12: - Дверь в помещение для прокладки инженерных коммуникаций | B12: Д-3 / Д-3л | C12: ="Дверь металлическая, из 2-х листов х/к стали, толщиной 1.0 мм - полотно, 1.2 мм - рама, "&"с заполнением минеральной ватой, глухая, со стационарным порогом 14 мм, контурный уплотнитель - серый, доводчик, нажимная ручка, цилиндровый замок 'ключ-вертушка', порошковая окраска, цве"&"т "&W6 -> Дверь металлическая, из 2-х листов х/к стали, толщиной 1.0 мм - полотно, 1.2 мм - рама, с заполнением минеральной ватой, глухая, со стационарным порогом 14 мм, контурный уплотнитель - серый, доводчик, нажимная ручка, цилиндровый замок 'ключ-вертушка', порошковая окраска, цвет RAL 7016 (антрацитово-серый) матовый | D12: 1000 | E12: 2100 | F12: нет | G12: 958 | H12: 2079 | I12: 871 | J12: 2011 | K12: - | L12: Угловая | M12: Сталь, толщина 1.0 мм | N12: Минеральная вата | O12: 61 | P12: В составе дверной коробки, материал: сталь, ширина: 67 мм, толщина: 15 мм | Q12: нет | R12: =Замки!A42&", "&'Ссылки'!D3&", материал: "&'Ссылки'!H5&"; цвет: "&'Ссылки'!G7&"; "&Замки!A2&", "&'Ссылки'!D7&", материал: "&'Ссылки'!H4&"; цвет: "&'Ссылки'!G9 -> ЗД-6, цилиндровый замок, материал: сталь нержавеющая; цвет: оцинкованный; ЗД-1, "ключ-вертушка", материал: алюминий; цвет: никель | S12: =Ручки!A18&", "&'Ссылки'!A10&", материал: "&'Ссылки'!H3&", цвет: "&'Ссылки'!G5 -> РД-3, нажимная ручка на планке, материал: сталь нержавеющая / нейлон, цвет: черный | T12: ='Петли'!A2&", "&'Ссылки'!C3&", цвет: "&'Ссылки'!G6 -> ПД-1, ввертные, цвет: сталь нержавеющая | U12: нет | V12: ='Доводчик'!A2&", "&'Ссылки'!B2&", цвет: "&'Ссылки'!G4 -> ДД-1, доводчик, цвет: серебристый | W12: ='Ссылки'!F2 -> RAL 7016 (антрацитово-серый) матовый | X12: ГОСТ Р 31173-2016 / ТУ 25.12.10-001-17157160-2017 | Y12: ДСВв, В1, Оп, Пр, Прг, Н, П2лс, М2, О - ГОСТ 31173-2016 / ТУ 25.12.10-001-17157160-2017 / ДСВв, В1, Оп, Л, Прг, Н, П2лс, М2, О - ГОСТ 31173-2016 / ТУ 25.12.10-001-17157160-2017 | Z12: При размещении входа в стене, разделяющей пожарные отсеки, применять дверной блок Д-2 / Д-2л | AC12: Дверь_Рен_1Ст_Угловая коробка_V3, типоразмер Д-3_1000х2100h
A13: - Дверь выхода из ИТП непосредственно наружу | B13: Д-4 / Д-4л | C13: ="Дверь металлическая, из 2-х листов х/к стали, толщиной 1.0 мм - полотно, 1.2 мм - рама, "&"с заполнением минеральной ватой, глухая усиленная, со стационарным порогом 14 мм, контурный уплотнитель - серый, доводчик, металлические доборы, нажимная ручка, цилиндровый замок 'ключ-вертушка', п"&"орошковая окраска, цвет "&W13 -> Дверь металлическая, из 2-х листов х/к стали, толщиной 1.0 мм - полотно, 1.2 мм - рама, с заполнением минеральной ватой, глухая усиленная, со стационарным порогом 14 мм, контурный уплотнитель - серый, доводчик, металлические доборы, нажимная ручка, цилиндровый замок 'ключ-вертушка', порошковая окраска, цвет RAL 7016 (антрацитово-серый) матовый | D13: 1100 | E13: 2100 | F13: нет | G13: 1046 | H13: 2074 | I13: 883 | J13: 1981 | K13: - | L13: Блочная | M13: Сталь, толщина 1.0 мм | N13: Минеральная вата | O13: 61 | P13: нет | Q13: ='Ссылки'!I3 -> Металлический наружный, материал: сталь, цвет: RAL 7016 (антрацитово-серый) | R13: =Замки!A42&", "&'Ссылки'!D3&", материал: "&'Ссылки'!H5&"; цвет: "&'Ссылки'!G7&"; "&Замки!A2&", "&'Ссылки'!D7&", материал: "&'Ссылки'!H4&"; цвет: "&'Ссылки'!G9 -> ЗД-6, цилиндровый замок, материал: сталь нержавеющая; цвет: оцинкованный; ЗД-1, "ключ-вертушка", материал: алюминий; цвет: никель | S13: =Ручки!A18&", "&'Ссылки'!A10&", материал: "&'Ссылки'!H3&", цвет: "&'Ссылки'!G5 -> РД-3, нажимная ручка на планке, материал: сталь нержавеющая / нейлон, цвет: черный | T13: ='Петли'!A2&", "&'Ссылки'!C3&", цвет: "&'Ссылки'!G6 -> ПД-1, ввертные, цвет: сталь нержавеющая | U13: нет | V13: ='Доводчик'!A2&", "&'Ссылки'!B2&", цвет: "&'Ссылки'!G4 -> ДД-1, доводчик, цвет: серебристый | W13: ='Ссылки'!F2 -> RAL 7016 (антрацитово-серый) матовый | X13: ГОСТ Р 31173-2016 / ТУ 25.12.10-001-17157160-2017 | Y13: ДСН, А, Оп, Пр, Прг, Н, Псп, М2, УЗ - ГОСТ 31173-2016 / ТУ 25.12.10-001-17157160-2017 / ДСН, А, Оп, Л, Прг, Н, Псп, М2, УЗ - ГОСТ 31173-2016 / ТУ 25.12.10-001-17157160-2017 | AC13: Дверь_Рен_1Ст_Блочная коробка_V3, типоразмер Д-4_1100х2100h
A14: - Дверь выхода из ИТП непосредственно наружу | B14: Д-46 / Д-46л | C14: ="Дверь металлическая, из 2-х листов х/к стали, толщиной 1.0 мм - полотно, 1.2 мм - рама, "&"с заполнением минеральной ватой, глухая усиленная, "&"двупольная, со стационарным порогом 14 мм, контурный уплотнитель - серый, доводчик, металлические доборы, нажимная ручка, цилиндровый замок 'ключ-вертушка', п"&"орошковая окраска, цвет "&W13 -> Дверь металлическая, из 2-х листов х/к стали, толщиной 1.0 мм - полотно, 1.2 мм - рама, с заполнением минеральной ватой, глухая усиленная, двупольная, со стационарным порогом 14 мм, контурный уплотнитель - серый, доводчик, металлические доборы, нажимная ручка, цилиндровый замок 'ключ-вертушка', порошковая окраска, цвет RAL 7016 (антрацитово-серый) матовый | D14: 1500 | E14: 2100 | F14: нет | G14: 1446 | H14: 2074 | I14: 1264 | J14: 1981 | K14: - | L14: Блочная | M14: Сталь, толщина 1.0 мм | N14: Минеральная вата | O14: 61 | P14: нет | Q14: ='Ссылки'!I3 -> Металлический наружный, материал: сталь, цвет: RAL 7016 (антрацитово-серый) | R14: =Замки!A42&", "&'Ссылки'!D3&", материал: "&'Ссылки'!H5&"; цвет: "&'Ссылки'!G7&"; "&Замки!A2&", "&'Ссылки'!D7&", материал: "&'Ссылки'!H4&"; цвет: "&'Ссылки'!G9 -> ЗД-6, цилиндровый замок, материал: сталь нержавеющая; цвет: оцинкованный; ЗД-1, "ключ-вертушка", материал: алюминий; цвет: никель | S14: =Ручки!A18&", "&'Ссылки'!A10&", материал: "&'Ссылки'!H3&", цвет: "&'Ссылки'!G5 -> РД-3, нажимная ручка на планке, материал: сталь нержавеющая / нейлон, цвет: черный | T14: ='Петли'!A2&", "&'Ссылки'!C3&", цвет: "&'Ссылки'!G6 -> ПД-1, ввертные, цвет: сталь нержавеющая | U14: нет | V14: ='Доводчик'!A2&", "&'Ссылки'!B2&", цвет: "&'Ссылки'!G4 -> ДД-1, доводчик, цвет: серебристый | W14: ='Ссылки'!F2 -> RAL 7016 (антрацитово-серый) матовый | X14: ГОСТ Р 31173-2016 / ТУ 25.12.10-001-17157160-2017 | Y14: ДСН, А, Дп, Пр, Прг, Н, Псп, М2, УЗ - ГОСТ 31173-2016 / ТУ 25.12.10-001-17157160-2017 / ДСН, А, Дп, Л, Прг, Н, Псп, М2, УЗ - ГОСТ 31173-2016 / ТУ 25.12.10-001-17157160-2017 | AC14: Дверь_Рен_2Ст_Блочная коробка_V3, типоразмер Д-46_1500х2100h
A15: - Дверь в лестничную клетку | B15: Д-5 / Д-5л | C15: ="Дверь металлическая, из 2-х листов х/к стали, толщиной 1.0 мм - полотно, 1.2 мм - рама, "&"с заполнением минеральной ватой, глухая, со стационарным порогом 14 мм, контурный уплотнитель - серый, доводчик, нажимная ручка, порошковая окраска, цвет "&W15 -> Дверь металлическая, из 2-х листов х/к стали, толщиной 1.0 мм - полотно, 1.2 мм - рама, с заполнением минеральной ватой, глухая, со стационарным порогом 14 мм, контурный уплотнитель - серый, доводчик, нажимная ручка, порошковая окраска, цвет RAL 7016 (антрацитово-серый) матовый | D15: 1100 | E15: 2100 | F15: нет | G15: 1058 | H15: 2079 | I15: 971 | J15: 2011 | K15: - | L15: Угловая | M15: Сталь, толщина 1.0 мм | N15: Минеральная вата | O15: 61 | P15: В составе дверной коробки, материал: сталь, ширина: 67 мм, толщина: 15 мм | Q15: нет | R15: нет | S15: =Ручки!A58&", "&'Ссылки'!A10&", материал: "&'Ссылки'!H2&", цвет: "&'Ссылки'!G2 -> РД-8, нажимная ручка на планке, материал: сталь нержавеющая AISI 304, цвет: сталь нержавеющая матовая | T15: ='Петли'!A2&", "&'Ссылки'!C3&", цвет: "&'Ссылки'!G6 -> ПД-1, ввертные, цвет: сталь нержавеющая | U15: ="НФ-02, упор дверной " &'Ссылки'!E3 -> НФ-02, упор дверной напольный, высота 85 мм, цвет: серый / серебристый | V15: ='Доводчик'!A2&", "&'Ссылки'!B2&", цвет: "&'Ссылки'!G4 -> ДД-1, доводчик, цвет: серебристый | W15: ='Ссылки'!F2 -> RAL 7016 (антрацитово-серый) матовый | X15: ГОСТ Р 31173-2016 / ТУ 25.12.10-001-17157160-2017 | Y15: ДСВх, Б, Оп, Пр, Прг, Н, П2лс, О - ГОСТ 31173-2016 / ТУ 25.12.10-001-17157160-2017 / ДСВх, Б, Оп, Л, Прг, Н, П2лс, О - ГОСТ 31173-2016 / ТУ 25.12.10-001-17157160-2017 | Z15: При размещении входа в лестничную клетку в стене, разделяющей пожарные отсеки, применять дверной блок Д-6 / Д-6л | AC15: Дверь_Рен_1Ст_Угловая коробка_V3, типоразмер Д-5_1100х2100h
A16: - Дверь в лестничную клетку - Дверь выхода на рампу | B16: Д-6 / Д-6л | C16: ="Дверь металлическая, из 2-х листов х/к стали, толщиной 1.0 мм - полотно, 1.2 мм - рама, "&"с заполнением минеральной ватой, противопожарная, глухая, со стационарным порогом 14 мм, контурный уплотнитель - серый, доводчик, нажимная ручка, порошковая окраска, цвет "&W16 -> Дверь металлическая, из 2-х листов х/к стали, толщиной 1.0 мм - полотно, 1.2 мм - рама, с заполнением минеральной ватой, противопожарная, глухая, со стационарным порогом 14 мм, контурный уплотнитель - серый, доводчик, нажимная ручка, порошковая окраска, цвет RAL 7016 (антрацитово-серый) матовый | D16: 1100 | E16: 2100 | F16: нет | G16: 1058 | H16: 2079 | I16: 971 | J16: 2011 | K16: EI 60 см. п.5 Правил | L16: Угловая | M16: Сталь, толщина 1.0 мм | N16: Минеральная вата | O16: 61 | P16: В составе дверной коробки, материал: сталь, ширина: 67 мм, толщина: 15 мм | Q16: нет | R16: нет | S16: =Ручки!A58&", "&'Ссылки'!A10&", материал: "&'Ссылки'!H2&", цвет: "&'Ссылки'!G2 -> РД-8, нажимная ручка на планке, материал: сталь нержавеющая AISI 304, цвет: сталь нержавеющая матовая | T16: ='Петли'!A2&", "&'Ссылки'!C3&", цвет: "&'Ссылки'!G6 -> ПД-1, ввертные, цвет: сталь нержавеющая | U16: ="НФ-02, упор дверной " &'Ссылки'!E3 -> НФ-02, упор дверной напольный, высота 85 мм, цвет: серый / серебристый | V16: ='Доводчик'!A2&", "&'Ссылки'!B2&", цвет: "&'Ссылки'!G4 -> ДД-1, доводчик, цвет: серебристый | W16: ='Ссылки'!F2 -> RAL 7016 (антрацитово-серый) матовый | X16: ГОСТ Р 57327-2016 / ТУ 25.12.10-001-17157160-2018 | Y16: ДПС 01 2079-1058 пр. EI 60 ГОСТ Р 57327-2016 / ТУ 25.12.10-001-17157160-2018 / ДПС 01 2079-1058 л. EI 60 ГОСТ Р 57327-2016 / ТУ 25.12.10-001-17157160-2018 | AB16: Сертификат соответствия Техническому регламенту о требованиях пожарной безопасности | AC16: Дверь_Рен_1Ст_Угловая коробка_V3, типоразмер Д-6_1100х2100h_EI60
A17: - Дверь в лестничную клетку - Дверь между смежными пожарными отсеками автостоянки - Дверь выхода на рампу | B17: Д-21 / Д-21л | C17: ="Дверь металлическая, из 2-х листов х/к стали, толщиной 1.0 мм - полотно, 1.2 мм - рама, "&"с заполнением минеральной ватой, противопожарная, глухая со стационарным порогом 14 мм, контурный уплотнитель - серый, доводчик, "&'Ссылки'!A2&", порошковая окраска, цвет "&W17 -> Дверь металлическая, из 2-х листов х/к стали, толщиной 1.0 мм - полотно, 1.2 мм - рама, с заполнением минеральной ватой, противопожарная, глухая со стационарным порогом 14 мм, контурный уплотнитель - серый, доводчик, нажимная ручка на круглой розетке, порошковая окраска, цвет RAL 7016 (антрацитово-серый) матовый | D17: 1400 | E17: 2100 | F17: нет | G17: 1366 | H17: 2074 | I17: 1203 | J17: 1981 | K17: EI 60 | L17: Блочная | M17: Сталь, толщина 1.0 мм | N17: Минеральная вата | O17: 61 | P17: нет | Q17: нет | R17: нет | S17: ='Ручки'!A2&", "&'Ссылки'!A2& ", материал: "&'Ссылки'!H2&", цвет: "&'Ссылки'!G2 -> РД-1, нажимная ручка на круглой розетке, материал: сталь нержавеющая AISI 304, цвет: сталь нержавеющая матовая | T17: ='Петли'!A2&", "&'Ссылки'!C3&", цвет: "&'Ссылки'!G6 -> ПД-1, ввертные, цвет: сталь нержавеющая | U17: =" По проекту: нет / НФ-02, упор дверной "&'Ссылки'!E3 -> По проекту: нет / НФ-02, упор дверной напольный, высота 85 мм, цвет: серый / серебристый | V17: ='Доводчик'!A2&", "&'Ссылки'!B2&", цвет: "&'Ссылки'!G4 -> ДД-1, доводчик, цвет: серебристый | W17: ='Ссылки'!F2 -> RAL 7016 (антрацитово-серый) матовый | X17: ГОСТ Р 57327-2016 / ТУ 25.12.10-007-17157160-2023 | Y17: ДПС 01 2074-1366 пр. EI 60 ГОСТ Р 57327-2016 / ТУ 25.12.10-007-17157160-2023 / ДПС 01 2074-1366 л. EI 60 ГОСТ Р 57327-2016 / ТУ 25.12.10-007-17157160-2023 | AB17: Сертификат соответствия Техническому регламенту о требованиях пожарной безопасности | AC17: Дверь_Рен_1Ст_Блочная коробка_V3, типоразмер Д-21_1400х2100h_EI60
A18: - Дверь выхода на рампу | B18: Д-7 / Д-7л | C18: ="Дверь металлическая, из 2-х листов х/к стали, толщиной 1.0 мм - полотно, 1.2 мм - рама, "&"с заполнением минеральной ватой, противопожарная, глухая, со стационарным порогом 14 мм, контурный уплотнитель - серый, доводчик, нажимная ручка, порошковая окраска, цвет "&W18 -> Дверь металлическая, из 2-х листов х/к стали, толщиной 1.0 мм - полотно, 1.2 мм - рама, с заполнением минеральной ватой, противопожарная, глухая, со стационарным порогом 14 мм, контурный уплотнитель - серый, доводчик, нажимная ручка, порошковая окраска, цвет RAL 7016 (антрацитово-серый) матовый | D18: 1100 | E18: 2100 | F18: нет | G18: 1058 | H18: 2079 | I18: 971 | J18: 2011 | K18: EI 30 см. п.5 Правил | L18: Угловая | M18: Сталь, толщина 1.0 мм | N18: Минеральная вата | O18: 61 | P18: В составе дверной коробки, материал: сталь, ширина: 67 мм, толщина: 15 мм | Q18: нет | R18: нет | S18: =Ручки!A58&", "&'Ссылки'!A10&", материал: "&'Ссылки'!H2&", цвет: "&'Ссылки'!G2 -> РД-8, нажимная ручка на планке, материал: сталь нержавеющая AISI 304, цвет: сталь нержавеющая матовая | T18: ='Петли'!A2&", "&'Ссылки'!C3&", цвет: "&'Ссылки'!G6 -> ПД-1, ввертные, цвет: сталь нержавеющая | U18: ="НФ-02, упор дверной " &'Ссылки'!E3 -> НФ-02, упор дверной напольный, высота 85 мм, цвет: серый / серебристый | V18: ='Доводчик'!A2&", "&'Ссылки'!B2&", цвет: "&'Ссылки'!G4 -> ДД-1, доводчик, цвет: серебристый | W18: ='Ссылки'!F2 -> RAL 7016 (антрацитово-серый) матовый | X18: ГОСТ Р 57327-2016 / ТУ 25.12.10-001-17157160-2018 | Y18: ДПС 01 2079-1058 пр. EI 30 ГОСТ Р 57327-2016 / ТУ 25.12.10-001-17157160-2018 / ДПС 01 2079-1058 л. EI 30 ГОСТ Р 57327-2016 / ТУ 25.12.10-001-17157160-2018 | AB18: Сертификат соответствия Техническому регламенту о требованиях пожарной безопасности | AC18: Дверь_Рен_1Ст_Угловая коробка_V3, типоразмер Д-7_1100х2100h_EI30
B19: Д-48 / Д-48л | C19: ="Дверь металлическая, из 2-х листов х/к стали, толщиной 1.0 мм - полотно, 1.2 мм - рама, "&"с заполнением минеральной ватой, противопожарная, глухая, со стационарным порогом 14 мм, контурный уплотнитель - серый, доводчик, нажимная ручка, порошковая окраска, цвет "&W18 -> Дверь металлическая, из 2-х листов х/к стали, толщиной 1.0 мм - полотно, 1.2 мм - рама, с заполнением минеральной ватой, противопожарная, глухая, со стационарным порогом 14 мм, контурный уплотнитель - серый, доводчик, нажимная ручка, порошковая окраска, цвет RAL 7016 (антрацитово-серый) матовый | D19: 1400 | E19: 2100 | F19: нет | G19: 1366 | H19: 2074 | I19: 1203 | J19: 1981 | K19: EI 30 см. п.5 Правил | L19: Блочная | M19: Сталь, толщина 1.0 мм | N19: Минеральная вата | O19: 61 | P19: нет | Q19: нет | R19: нет | S19: =Ручки!A2&", "&'Ссылки'!A2&", материал: "&'Ссылки'!H2&", цвет: "&'Ссылки'!G2 -> РД-1, нажимная ручка на круглой розетке, материал: сталь нержавеющая AISI 304, цвет: сталь нержавеющая матовая | T19: ='Петли'!A2&", "&'Ссылки'!C3&", цвет: "&'Ссылки'!G6 -> ПД-1, ввертные, цвет: сталь нержавеющая | U19: =" По проекту: нет / НФ-02, упор дверной "&'Ссылки'!E3 -> По проекту: нет / НФ-02, упор дверной напольный, высота 85 мм, цвет: серый / серебристый | V19: ='Доводчик'!A2&", "&'Ссылки'!B2&", цвет: "&'Ссылки'!G4 -> ДД-1, доводчик, цвет: серебристый | W19: ='Ссылки'!F2 -> RAL 7016 (антрацитово-серый) матовый | X19: ГОСТ Р 57327-2016 / ТУ 25.12.10-007-17157160-2023 | Y19: ДПС 01 2074-1366 пр. EI 30 ГОСТ Р 57327-2016 / ТУ 25.12.10-007-17157160-2023 / ДПС 01 2074-1366 л. EI 30 ГОСТ Р 57327-2016 / ТУ 25.12.10-007-17157160-2023 | AC19: Дверь_Рен_1Ст_Блочная коробка_V3, типоразмер Д-48_1400х2100h_EI30
A20: - Дверь в лифтовый холл | B20: Д-8.1 / Д-8.1л | C20: ="Дверь металлическая, из 2-х листов х/к стали, толщиной 1.0 мм - полотно, 1.2 мм - рама, "&"с заполнение минеральной ватой, противопожарная, дымогазонепроницаемая, остекленная, двупольная, противопожарное остекление 150х1400мм, с автоматически выпадающим порогом, контурный уплотнитель - серый, д"&"оводчик, "&'Ссылки'!A2&", минимальная ширина рабочей створки 950мм, порошковая окраска, цвет "&W20 -> Дверь металлическая, из 2-х листов х/к стали, толщиной 1.0 мм - полотно, 1.2 мм - рама, с заполнение минеральной ватой, противопожарная, дымогазонепроницаемая, остекленная, двупольная, противопожарное остекление 150х1400мм, с автоматически выпадающим порогом, контурный уплотнитель - серый, доводчик, нажимная ручка на круглой розетке, минимальная ширина рабочей створки 950мм, порошковая окраска, цвет RAL 7016 (антрацитово-серый) матовый | D20: 1400 | E20: 2100 | F20: нет | G20: 1358 | H20: 2078 | I20: 1254 | J20: 2024 | K20: EIS 60 см. п.5 Правил | L20: Угловая | M20: Сталь, толщина 1.0 мм | N20: Минеральная вата | O20: 61 | P20: В составе дверной коробки, материал: сталь, ширина: 67 мм, толщина: 15 мм | Q20: нет | R20: нет | S20: =Ручки!A2&", "&'Ссылки'!A2&", материал: "&'Ссылки'!H2&", цвет: "&'Ссылки'!G2 -> РД-1, нажимная ручка на круглой розетке, материал: сталь нержавеющая AISI 304, цвет: сталь нержавеющая матовая | T20: ='Петли'!A2&", "&'Ссылки'!C3&", цвет: "&'Ссылки'!G6 -> ПД-1, ввертные, цвет: сталь нержавеющая | U20: ="НФ-02, упор дверной "&'Ссылки'!E3 -> НФ-02, упор дверной напольный, высота 85 мм, цвет: серый / серебристый | V20: ='Доводчик'!A2&", "&'Ссылки'!B2&", цвет: "&'Ссылки'!G4 -> ДД-1, доводчик, цвет: серебристый | W20: ='Ссылки'!F2 -> RAL 7016 (антрацитово-серый) матовый | X20: ГОСТ Р 57327-2016 / ТУ 25.12.10-003-17157160-2022 | Y20: ДПСО 02 2078-1358 пр. EIS 60 ГОСТ Р 57327-2016 / ТУ 25.12.10-003-17157160-2022 / ДПСО 02 2078-1358 л. EIS 60 ГОСТ Р 57327-2016 / ТУ 25.12.10-003-17157160-2022 | AB20: Сертификат соответствия Техническому регламенту о требованиях пожарной безопасности | AC20: Дверь_Рен_2Ст_Угловая коробка_V3, типоразмер Д-8.1_1400х2100h_EIS60
B21: Д-9 / Д-9л | C21: ="Дверь металлическая, из 2-х листов х/к стали, толщиной 1.0 мм - полотно, 1.2 мм - рама, "&"с заполнением минеральной ватой, противопожарная, дымогазонепроницаемая, остекленная, двупольная, противопожарное остекление 150х1400мм, с автоматически выпадающим порогом, контурный уплотнитель - серый, "&"доводчик, "&'Ссылки'!A2&", минимальная ширина рабочей створки 950мм, порошковая окраска, цвет "&W21 -> Дверь металлическая, из 2-х листов х/к стали, толщиной 1.0 мм - полотно, 1.2 мм - рама, с заполнением минеральной ватой, противопожарная, дымогазонепроницаемая, остекленная, двупольная, противопожарное остекление 150х1400мм, с автоматически выпадающим порогом, контурный уплотнитель - серый, доводчик, нажимная ручка на круглой розетке, минимальная ширина рабочей створки 950мм, порошковая окраска, цвет RAL 7016 (антрацитово-серый) матовый | D21: 1400 | E21: 2100 | F21: нет | G21: 1358 | H21: 2078 | I21: 1254 | J21: 2024 | K21: EIS 30 см. п.5 Правил | L21: Угловая | M21: Сталь, толщина 1.0 мм | N21: Минеральная вата | O21: 61 | P21: В составе дверной коробки, материал: сталь, ширина: 67 мм, толщина: 15 мм | Q21: нет | R21: нет | S21: ='Ручки'!A2&", "&'Ссылки'!A2& ", материал: "&'Ссылки'!H2&", цвет: "&'Ссылки'!G2 -> РД-1, нажимная ручка на круглой розетке, материал: сталь нержавеющая AISI 304, цвет: сталь нержавеющая матовая | T21: ='Петли'!A2&", "&'Ссылки'!C3&", цвет: "&'Ссылки'!G2 -> ПД-1, ввертные, цвет: сталь нержавеющая матовая | U21: ="НФ-02, упор дверной " &'Ссылки'!E3 -> НФ-02, упор дверной напольный, высота 85 мм, цвет: серый / серебристый | V21: ='Доводчик'!A2&", "&'Ссылки'!B2&", цвет: "&'Ссылки'!G4 -> ДД-1, доводчик, цвет: серебристый | W21: ='Ссылки'!F2 -> RAL 7016 (антрацитово-серый) матовый | X21: ГОСТ Р 57327-2016 / ТУ 25.12.10-003-17157160-2022 | Y21: ДПСО 02 2078-1358 пр. EIS 30 ГОСТ Р 57327-2016 / ТУ 25.12.10-003-17157160-2022 / ДПСО 02 2078-1358 л. EIS 30 ГОСТ Р 57327-2016 / ТУ 25.12.10-003-17157160-2022 | AB21: Сертификат соответствия Техническому регламенту о требованиях пожарной безопасности | AC21: Дверь_Рен_2Ст_Угловая коробка_V3, типоразмер Д-9_1400х2100h_EIS30
A22: - Дверь в тамбур-шлюз при лифтовом холле | B22: Д-10 / Д-10л | C22: ="Дверь металлическая, из 2-х листов х/к стали, толщиной 1.0 мм - полотно, 1.2 мм - рама, "&"с заполнением минеральной ватой, противопожарная, остекленная, двупольная, противопожарное остекление 150х1400мм, со стационарным порогом 14 мм, контурный уплотнитель - серый, доводчик, "&'Ссылки'!A2&", минимальная ширина рабочей створки 950мм, порошковая окраска, цвет "&W22 -> Дверь металлическая, из 2-х листов х/к стали, толщиной 1.0 мм - полотно, 1.2 мм - рама, с заполнением минеральной ватой, противопожарная, остекленная, двупольная, противопожарное остекление 150х1400мм, со стационарным порогом 14 мм, контурный уплотнитель - серый, доводчик, нажимная ручка на круглой розетке, минимальная ширина рабочей створки 950мм, порошковая окраска, цвет RAL 7016 (антрацитово-серый) матовый | D22: 1400 | E22: 2100 | F22: нет | G22: 1358 | H22: 2079 | I22: 1254 | J22: 2011 | K22: EI 60 см. п.5 Правил | L22: Угловая | M22: Сталь, толщина 1.0 мм | N22: Минеральная вата | O22: 61 | P22: В составе дверной коробки, материал: сталь, ширина: 67 мм, толщина: 15 мм | Q22: нет | R22: нет | S22: ='Ручки'!A2&", "&'Ссылки'!A2& ", материал: "&'Ссылки'!H2&", цвет: "&'Ссылки'!G2 -> РД-1, нажимная ручка на круглой розетке, материал: сталь нержавеющая AISI 304, цвет: сталь нержавеющая матовая | T22: ='Петли'!A2&", "&'Ссылки'!C3&", цвет: "&'Ссылки'!G6 -> ПД-1, ввертные, цвет: сталь нержавеющая | U22: ="НФ-02, упор дверной " &'Ссылки'!E3 -> НФ-02, упор дверной напольный, высота 85 мм, цвет: серый / серебристый | V22: ='Доводчик'!A2&", "&'Ссылки'!B2&", цвет: "&'Ссылки'!G4 -> ДД-1, доводчик, цвет: серебристый | W22: ='Ссылки'!F2 -> RAL 7016 (антрацитово-серый) матовый | X22: ГОСТ Р 57327-2016 / ТУ 25.12.10-003-17157160-2022 | Y22: ДПСО 02 2079-1358 пр. EI 60 ГОСТ Р 57327-2016 / ТУ 25.12.10-003-17157160-2022 / ДПСО 02 2079-1358 л. EI 60 ГОСТ Р 57327-2016 / ТУ 25.12.10-003-17157160-2022 | AB22: Сертификат соответствия Техническому регламенту о требованиях пожарной безопасности | AC22: Дверь_Рен_2Ст_Угловая коробка_V3, типоразмер Д-10_1400х2100h_EI60
B23: Д-11 / Д-11л | C23: ="Дверь металлическая, из 2-х листов х/к стали, толщиной 1.0 мм - полотно, 1.2 мм - рама, "&"с заполнением минеральной ватой, противопожарная, остекленная, двупольная, противопожарное остекление 150х1400мм, со стационарным порогом 14 мм, контурный уплотнитель - серый, доводчик, "&'Ссылки'!A2&", минимальная ширина рабочей створки 950мм, порошковая окраска, цвет "&W22 -> Дверь металлическая, из 2-х листов х/к стали, толщиной 1.0 мм - полотно, 1.2 мм - рама, с заполнением минеральной ватой, противопожарная, остекленная, двупольная, противопожарное остекление 150х1400мм, со стационарным порогом 14 мм, контурный уплотнитель - серый, доводчик, нажимная ручка на круглой розетке, минимальная ширина рабочей створки 950мм, порошковая окраска, цвет RAL 7016 (антрацитово-серый) матовый | D23: 1400 | E23: 2100 | F23: нет | G23: 1358 | H23: 2079 | I23: 1254 | J23: 2011 | K23: EI 30 см. п.5 Правил | L23: Угловая | M23: Сталь, толщина 1.0 мм | N23: Минеральная вата | O23: 61 | P23: В составе дверной коробки, материал: сталь, ширина: 67 мм, толщина: 15 мм | Q23: нет | R23: нет | S23: ='Ручки'!A2&", "&'Ссылки'!A2& ", материал: "&'Ссылки'!H2&", цвет: "&'Ссылки'!G2 -> РД-1, нажимная ручка на круглой розетке, материал: сталь нержавеющая AISI 304, цвет: сталь нержавеющая матовая | T23: ='Петли'!A2&", "&'Ссылки'!C3&", цвет: "&'Ссылки'!G2 -> ПД-1, ввертные, цвет: сталь нержавеющая матовая | U23: ="НФ-02, упор дверной "&'Ссылки'!E3 -> НФ-02, упор дверной напольный, высота 85 мм, цвет: серый / серебристый | V23: ='Доводчик'!A2&", "&'Ссылки'!B2&", цвет: "&'Ссылки'!G4 -> ДД-1, доводчик, цвет: серебристый | W23: ='Ссылки'!F2 -> RAL 7016 (антрацитово-серый) матовый | X23: ГОСТ Р 57327-2016 / ТУ 25.12.10-003-17157160-2022 | Y23: ДПСО 02 2079-1358 пр. EI 30 ГОСТ Р 57327-2016 / ТУ 25.12.10-003-17157160-2022 / ДПСО 02 2079-1358 л. EI 30 ГОСТ Р 57327-2016 / ТУ 25.12.10-003-17157160-2022 | AB23: Сертификат соответствия Техническому регламенту о требованиях пожарной безопасности | AC23: Дверь_Рен_2Ст_Угловая коробка_V3, типоразмер Д-11_1400х2100h_EI30
A24: - Гермодверь в венткамере | B24: Д-12 / Д-12л | C24: ="Дверь металлическая, из 2-х листов х/к стали, толщиной 0.8 мм - полотно, 1.2 мм - рама, герметичная, с прижимным механизмом, утепленная, со стационарным порогом 45 мм, порошковая окраска, цвет "&W24 -> Дверь металлическая, из 2-х листов х/к стали, толщиной 0.8 мм - полотно, 1.2 мм - рама, герметичная, с прижимным механизмом, утепленная, со стационарным порогом 45 мм, порошковая окраска, цвет RAL 7016 (антрацитово-серый) матовый | D24: 770 (600**) | E24: 1545 (1350**) | F24: 500 | G24: 566 | H24: 1316 | I24: 506 | J24: 1256 | K24: - | L24: Угловая / Накладная | M24: Сталь, толщина 0.8 мм | N24: Минеральная вата | O24: 61 | P24: В составе дверной коробки, материал: сталь, ширина: 57 мм, толщина: 15 мм | Q24: нет | R24: нет | S24: ='Ссылки'!A9 -> ручка-скоба | T24: ='Петли'!A2&", "&'Ссылки'!C3&", цвет: "&'Ссылки'!G6 -> ПД-1, ввертные, цвет: сталь нержавеющая | U24: нет | V24: нет | W24: ='Ссылки'!F2 -> RAL 7016 (антрацитово-серый) матовый | X24: Серия-5.904-4 / ТУ 25.12.10-003-83198695-2020 | Y24: ДУс 1,25х0,5 / ТУ 25.12.10-003-83198695-2020 | Z24: **Размер проема в утеплителе в свету с учётом отделки (см. альбом ЖД-ТАС-РЕН-АР-ТУ.ПЭ.3) | AC24: Дверь_Рен_1Ст_Герметичная_V3, типоразмер Д-12_770х1545h
A25: - Ворота металлические | B25: ВМ-3 | C25: ="Ворота гаражные автоматические противопожарные подъемно-опускные с секционным полотном из стальных сэндвич-панелей с вальным приводом, в нижней части ворот люк с самозакрывающейся заслонкой 200х200мм, крепление внутри помещения, цвет "&W48 -> Ворота гаражные автоматические противопожарные подъемно-опускные с секционным полотном из стальных сэндвич-панелей с вальным приводом, в нижней части ворот люк с самозакрывающейся заслонкой 200х200мм, крепление внутри помещения, цвет RAL 7016 (антрацитово-серый) матовый | D25: 3400 (3300***) см. п. 3 Правил | E25: 2300 (2250***) | F25: нет | G25: - | H25: - | I25: 3300 | J25: 2250 | K25: EI 60 | L25: Накладная | M25: Сэндвич-панели стальные | N25: Минеральная вата | O25: 60 | P25: - | Q25: - | R25: нет | S25: - | T25: - | U25: - | V25: - | W25: ='Ссылки'!F2 -> RAL 7016 (антрацитово-серый) матовый | X25: ГОСТ 31174-2017/ ТУ 5284-001-18897806-2016 ГОСТ 53307-2009 | Y25: ВМ 3400х2300 ГОСТ 31174-2017 / ТУ 5284-001-18897806-2016 | Z25: ***Размер проема в утеплителе в свету | AB25: Сертификат соответствия Техническому регламенту о требованиях пожарной безопасности | AC25: Ворота_Рен_Подъемно-опускные_V3, типоразмер ВМ-3_3400х2300_EI60
B26: ВМ-4 | C26: ="Ворота гаражные автоматические противопожарные подъемно-опускные с секционным полотном из стальных сэндвич-панелей с вальным приводом, с дверью-калиткой 900х2051мм, в нижней части ворот люк с самозакрывающейся заслонкой 200х200мм, крепление внутри помещен"&"ия, цвет "&W49 -> Ворота гаражные автоматические противопожарные подъемно-опускные с секционным полотном из стальных сэндвич-панелей с вальным приводом, с дверью-калиткой 900х2051мм, в нижней части ворот люк с самозакрывающейся заслонкой 200х200мм, крепление внутри помещения, цвет RAL 7016 (антрацитово-серый) матовый | D26: 3400 (3300***) см. п. 3 Правил | E26: 2300 (2250***) | F26: нет | G26: - | H26: - | I26: 3300 | J26: 2250 | K26: EI 60 | L26: Накладная | M26: Сэндвич-панели стальные | N26: Минеральная вата | O26: 60 | P26: - | Q26: - | R26: нет | S26: - | T26: - | U26: - | V26: - | W26: ='Ссылки'!F2 -> RAL 7016 (антрацитово-серый) матовый | X26: ГОСТ 31174-2017/ ТУ 5284-001-18897806-2016 ГОСТ 53307-2009 | Y26: ВМ 3400х2300 ГОСТ 31174-2017 / ТУ 5284-001-18897806-2016 | Z26: ***Размер проема в утеплителе в свету | AB26: Сертификат соответствия Техническому регламенту о требованиях пожарной безопасности | AC26: Ворота_Рен_Подъемно-опускные_V3, типоразмер ВМ-4_3400х2300_EI60_с дверью
A27: - Дверь в универсальный с/у в помещении автостоянки | B27: Д-49 / Д-49л | C27: ="Дверь металлическая, из 2-х листов х/к стали, толщиной 1.0 мм - полотно, 1.2 мм - рама, "&"с заполнением минеральной ватой, глухая, без порога, контурный уплотнитель - серый, доводчик, нажимная ручка, цилиндровый замок 'ключ-вертушка', п"&"орошковая окраска, цвет "&W13 -> Дверь металлическая, из 2-х листов х/к стали, толщиной 1.0 мм - полотно, 1.2 мм - рама, с заполнением минеральной ватой, глухая, без порога, контурный уплотнитель - серый, доводчик, нажимная ручка, цилиндровый замок 'ключ-вертушка', порошковая окраска, цвет RAL 7016 (антрацитово-серый) матовый | D27: 1050 | E27: 2100 | F27: 14 | G27: 1008 | H27: 2068 | I27: 921 | J27: 2014 | K27: - | L27: Угловая | M27: Сталь, толщина 1.0 мм | N27: Минеральная вата | O27: 61 | P27: В составе дверной коробки, материал: сталь, ширина: 67 мм, толщина: 15 мм | Q27: нет | R27: =Замки!A42&", "&'Ссылки'!D3&", материал: "&'Ссылки'!H5&"; цвет: "&'Ссылки'!G7&"; "&Замки!A2&", "&'Ссылки'!D7&", материал: "&'Ссылки'!H4&"; цвет: "&'Ссылки'!G9 -> ЗД-6, цилиндровый замок, материал: сталь нержавеющая; цвет: оцинкованный; ЗД-1, "ключ-вертушка", материал: алюминий; цвет: никель | S27: =Ручки!A10&", "&'Ссылки'!A10&", материал: "&'Ссылки'!H2&", цвет: "&'Ссылки'!G2 -> РД-2, нажимная ручка на планке, материал: сталь нержавеющая AISI 304, цвет: сталь нержавеющая матовая | T27: ='Петли'!A2&", "&'Ссылки'!C3&", цвет: "&'Ссылки'!G6 -> ПД-1, ввертные, цвет: сталь нержавеющая | U27: ="НФ-02, упор дверной "&'Ссылки'!E3 -> НФ-02, упор дверной напольный, высота 85 мм, цвет: серый / серебристый | V27: ='Доводчик'!A2&", "&'Ссылки'!B2&", цвет: "&'Ссылки'!G4 -> ДД-1, доводчик, цвет: серебристый | W27: ='Ссылки'!F2 -> RAL 7016 (антрацитово-серый) матовый | X27: ГОСТ Р 31173-2016 / ТУ 25.12.10-001-17157160-2017 | Y27: ДСВ, В, Оп, Пр, Брг, Н, Псп, О - ГОСТ 31173-2016 /ТУ 25.12.10-001-17157160-2017 / ДСВ, В, Оп, Л, Брг, Н, Псп, О - ГОСТ 31173-2016 / ТУ 25.12.10-001-17157160-2017 | AC27: Дверь_Рен_1Ст_Угловая коробка_V3, типоразмер Д-49_1050х2100h_с/у_парковка
A28: ПЕРВЫЙ ЭТАЖ
A29: - Дверь в помещение охраны (при входе из помещения рампы) | B29: Д-13 / Д-13л | C29: ="Дверь металлическая, из 2-х листов х/к стали, толщиной 1.0 мм - полотно, 1.2 мм - рама, "&"с заполнением минеральной ватой, противопожарная, глухая, со стационарным порогом 14 мм, контурный уплотнитель - серый, доводчик, нажимная ручка, цилиндровый замок 'ключ-вертушка', порошковая окраска, цве"&"т "&W29 -> Дверь металлическая, из 2-х листов х/к стали, толщиной 1.0 мм - полотно, 1.2 мм - рама, с заполнением минеральной ватой, противопожарная, глухая, со стационарным порогом 14 мм, контурный уплотнитель - серый, доводчик, нажимная ручка, цилиндровый замок 'ключ-вертушка', порошковая окраска, цвет RAL 7016 (антрацитово-серый) матовый | D29: 1000 | E29: 2100 | F29: нет | G29: 958 | H29: 2079 | I29: 871 | J29: 2011 | K29: EI 60 | L29: Угловая | M29: Сталь, толщина 1.0 мм | N29: Минеральная вата | O29: 61 | P29: В составе дверной коробки, материал: сталь, ширина: 67 мм, толщина: 15 мм | Q29: нет | R29: =Замки!A42&", "&'Ссылки'!D3&", материал: "&'Ссылки'!H5&"; цвет: "&'Ссылки'!G7&"; "&Замки!A2&", "&'Ссылки'!D7&", материал: "&'Ссылки'!H4&"; цвет: "&'Ссылки'!G9 -> ЗД-6, цилиндровый замок, материал: сталь нержавеющая; цвет: оцинкованный; ЗД-1, "ключ-вертушка", материал: алюминий; цвет: никель | S29: =Ручки!A10&", "&'Ссылки'!A10&", материал: "&'Ссылки'!H2&", цвет: "&'Ссылки'!G2 -> РД-2, нажимная ручка на планке, материал: сталь нержавеющая AISI 304, цвет: сталь нержавеющая матовая | T29: ='Петли'!A2&", "&'Ссылки'!C3&", цвет: "&'Ссылки'!G6 -> ПД-1, ввертные, цвет: сталь нержавеющая | U29: нет | V29: ='Доводчик'!A2&", "&'Ссылки'!B2&", цвет: "&'Ссылки'!G4 -> ДД-1, доводчик, цвет: серебристый | W29: ='Ссылки'!F2 -> RAL 7016 (антрацитово-серый) матовый | X29: ГОСТ Р 57327-2016 / ТУ 25.12.10-001-17157160-2018 | Y29: ДПС 01 2079-958 пр. EI 60 ГОСТ Р 57327-2016 / ТУ 25.12.10-001-17157160-2018 / ДПС 01 2079-958 л. EI 60 ГОСТ Р 57327-2016 / ТУ 25.12.10-001-17157160-2018 | AB29: Сертификат соответствия Техническому регламенту о требованиях пожарной безопасности | AC29: Дверь_Рен_1Ст_Угловая коробка_V3, типоразмер Д-13_1000х2100h_EI60_Охрана
