Workbook

Sheet Люки
A1: ДВЕРИ. ВЕРСИЯ 2.
A2: Назначение | B2: Марка (правая/ левая) | C2: Характеристики | D2: Проем в стене, мм | G2: Коробка, мм | I2: Проем в свету, мм | K2: Огнестой- кость | L2: Фурнитура | R2: Цвет | S2: Обозначение | T2: Наименование (правая/левая) | U2: Примечание | V2: Документы от производителя, необходимые для предоставления в МФР и МГЭ
D3: Ширина | E3: Высота | F3: Порог констр., мм | G3: Ширина | H3: Высота | I3: Ширина | J3: Высота | L3: Механический замок | M3: Ручка | N3: Петли | O3: Наличие дверного упора | P3: Наличие доводчика | Q3: Наличие добора
A4: ЛЮКИ
A5: - Люк в перекрытии в тех.пространство - Люк в перекрытии в машинное помещение | B5: Л-1 | C5: Люк металлический в перекрытии противопожарный, покрытие из рифленого листового металла 3мм, газовые пружины, контурный уплотнитель, поворотная ручка | D5: 1040 (800*) | E5: 1090 (824*) | F5: нет | G5: 1000 | H5: 1050 | K5: EI 60 | O5: - | P5: нет | Q5: нет | S5: ГОСТ Р 57327-2016 | T5: ЛПС 01 1000-1050 EI60 ГОСТ Р 57327-2016 | U5: *Размер проема в плите перекрытия в свету без учета выемки под опирание люка (см. альбом ЖД-ТАС-РЕН-АР-ТУ.ТЭ) | V5: Сертификата соответствия Техническому регламенту о требованиях пожарной безопасности
A6: - Люк ревизионный в с/у консьержа - Люк ревизионный в с/у ЦИН - Люк ревизионный в ПУИ ЦИН - Люк ревизионный в с/у ОДС - Люк ревизионный в универсальный с/у ОДС - Люк ревизионный в ПУИ ОДС - Люк ревизионный в душевой персонала ОДС - Люк ревизионный в с/у квартиры | B6: Л-2 | C6: ="Люк доступа металлический ревизионный, "&M6&", "& L6&", цвет "&R6 -> Люк доступа металлический ревизионный, утопленная ручка, защелка магнитная, цвет RAL 9003 (сигнальный белый) | D6: 200 | E6: 200 | F6: по проекту | G6: 200 | H6: 200 | K6: - | L6: ='Ссылки'!D11 -> защелка магнитная | M6: ='Ссылки'!A7 -> утопленная ручка | O6: нет | P6: нет | Q6: нет | R6: ='Ссылки'!F12 -> RAL 9003 (сигнальный белый) | T6: ЛС 01 200-200
A7: - Люк ревизионный в с/у ЦИН - Люк ревизионный в ПУИ ЦИН | B7: Л-3 | C7: ="Люк доступа металлический ревизионный, "&M7&", "& L7&", цвет "&R7 -> Люк доступа металлический ревизионный, утопленная ручка, защелка магнитная, цвет RAL 9003 (сигнальный белый) | D7: 300 | E7: 400 | F7: по проекту | G7: 300 | H7: 400 | K7: - | L7: ='Ссылки'!D11 -> защелка магнитная | M7: ='Ссылки'!A7 -> утопленная ручка | O7: нет | P7: нет | Q7: нет | R7: ='Ссылки'!F12 -> RAL 9003 (сигнальный белый) | T7: ЛС 01 400-300
A8: - Люк ревизионный в с/у охраны - Люк ревизионный в с/у консьержа - Люк ревизионный в с/у ОДС - Люк ревизионный в универсальный с/у ОДС - Люк ревизионный в ПУИ ОДС - Люк ревизионный в душевой персонала ОДС - Люк ревизионный в с/у квартиры | B8: Л-4 | C8: ="Люк доступа металлический ревизионный, "&M8&", "& L8&", цвет "&R8 -> Люк доступа металлический ревизионный, утопленная ручка, защелка магнитная, цвет RAL 9003 (сигнальный белый) | D8: 400 | E8: 600 | F8: по проекту | G8: 400 | H8: 600 | K8: - | L8: ='Ссылки'!D11 -> защелка магнитная | M8: ='Ссылки'!A7 -> утопленная ручка | O8: нет | P8: нет | Q8: нет | R8: ='Ссылки'!F12 -> RAL 9003 (сигнальный белый) | T8: ЛС 01 600-400
A9: - Люк ревизионный в с/у консьержа - Люк ревизионный в с/у ОДС - Люк ревизионный в универсальный с/у ОДС - Люк ревизионный в ПУИ ОДС - Люк ревизионный в душевой персонала ОДС - Люк ревизионный в с/у квартиры | B9: Л-5 | C9: ="Люк доступа металлический ревизионный, "&M9&", "& L9&", цвет "&R9 -> Люк доступа металлический ревизионный, утопленная ручка, защелка магнитная, цвет RAL 9003 (сигнальный белый) | D9: 400 | E9: 800 | F9: по проекту | G9: 400 | H9: 800 | K9: - | L9: ='Ссылки'!D11 -> защелка магнитная | M9: ='Ссылки'!A7 -> утопленная ручка | O9: нет | P9: нет | Q9: нет | R9: ='Ссылки'!F12 -> RAL 9003 (сигнальный белый) | T9: ЛС 01 800-400
A10: - Люк потолочный в с/у консьержа - Люк потолочный в ПУИ консьержа - Люк потолочный в ЦИН | B10: Л-6 | C10: ="Люк доступа металлический ревизионный, потолочный, контурный уплотнитель, замок-защелка, под покраску, цвет "&R10 -> Люк доступа металлический ревизионный, потолочный, контурный уплотнитель, замок-защелка, под покраску, цвет RAL 9003 (сигнальный белый) | D10: 609 | E10: 609 | F10: нет | G10: 600 | H10: 600 | K10: - | L10: нет | M10: ='Ссылки'!A7 -> утопленная ручка | O10: - | P10: нет | Q10: - | R10: ='Ссылки'!F12 -> RAL 9003 (сигнальный белый) | T10: ЛП 01 600-600
A11: - Люк ревизионный в кухне | B11: Л-7 | C11: ="Люк доступа металлический ревизионный, съемная дверца, утопленные ручки, "&L11&", цвет "&R11 -> Люк доступа металлический ревизионный, съемная дверца, утопленные ручки, защелка магнитная, цвет RAL 9003 (сигнальный белый) | D11: 300 | E11: 400 | F11: по проекту | G11: 300 | H11: 400 | K11: - | L11: ='Ссылки'!D11 -> защелка магнитная | M11: ='Ссылки'!A7 -> утопленная ручка | N11: нет | O11: нет | P11: нет | Q11: нет | R11: ='Ссылки'!F12 -> RAL 9003 (сигнальный белый) | T11: ЛС 400-300
A12: - Люк ревизионный в межквартирном коридоре | B12: Л-8 | C12: ="Люк доступа металлический ревизионный, "&'Ссылки'!D9&", цвет "&R12 -> Люк доступа металлический ревизионный, почтовый замок ø23 мм, цвет RAL 9003 (сигнальный белый) | D12: 300 | E12: 800 | F12: по проекту | G12: 300 | H12: 800 | K12: - | L12: ='Ссылки'!D9 -> почтовый замок ø23 мм | M12: нет | O12: нет | P12: нет | Q12: нет | R12: ='Ссылки'!F12 -> RAL 9003 (сигнальный белый) | T12: ЛС 01 800-300
B13: Л-9 | C13: ="Люк доступа металлический ревизионный, "&'Ссылки'!D9&", цвет "&R13 -> Люк доступа металлический ревизионный, почтовый замок ø23 мм, цвет RAL 9003 (сигнальный белый) | D13: 500 | E13: 800 | F13: по проекту | G13: 500 | H13: 800 | K13: - | L13: ='Ссылки'!D9 -> почтовый замок ø23 мм | M13: нет | N13: ='Ссылки'!D11 -> защелка магнитная | O13: нет | P13: нет | Q13: нет | R13: ='Ссылки'!F12 -> RAL 9003 (сигнальный белый) | T13: ЛС 01 800-500
B14: Л-10 | C14: ="Люк доступа металлический ревизионный, "&'Ссылки'!D9&", цвет "&R14 -> Люк доступа металлический ревизионный, почтовый замок ø23 мм, цвет RAL 9003 (сигнальный белый) | D14: по проекту | E14: по проекту | F14: по проекту | G14: по проекту | H14: по проекту | K14: - | L14: ='Ссылки'!D9 -> почтовый замок ø23 мм | M14: нет | N14: =Ссылки!D12 -> 0 | O14: нет | P14: нет | Q14: нет | R14: ='Ссылки'!F12 -> RAL 9003 (сигнальный белый) | T14: по проекту
B15: Л-11 | C15: ="Люк доступа металлический ревизионный, "&'Ссылки'!D9&", цвет "&R15 -> Люк доступа металлический ревизионный, почтовый замок ø23 мм, цвет RAL 9003 (сигнальный белый) | D15: 500 | E15: по проекту | F15: по проекту | G15: 500 | H15: по проекту | K15: - | L15: ='Ссылки'!D9 -> почтовый замок ø23 мм | M15: нет | N15: =Ссылки!D13 -> замок "антипаника" | O15: нет | P15: нет | Q15: нет | R15: ='Ссылки'!F12 -> RAL 9003 (сигнальный белый) | T15: по проекту | U15: Люк выше отм. верха ШПК
B16: Л-12 | C16: ="Люк доступа металлический ревизионный, "&'Ссылки'!D9&", цвет "&R16 -> Люк доступа металлический ревизионный, почтовый замок ø23 мм, цвет RAL 9003 (сигнальный белый) | D16: 500 | E16: по проекту | F16: по проекту | G16: 500 | H16: по проекту | K16: - | L16: ='Ссылки'!D9 -> почтовый замок ø23 мм | M16: нет | O16: нет | P16: нет | Q16: нет | R16: ='Ссылки'!F12 -> RAL 9003 (сигнальный белый) | T16: по проекту | U16: Люк ниже отм. верха ШПК
B17: Л-13 | C17: ="Панель доступа металлическая съемная ревизионная, цвет "&R17 -> Панель доступа металлическая съемная ревизионная, цвет RAL 9003 (сигнальный белый) | D17: 300 | E17: по проекту | F17: по проекту | G17: 300 | H17: по проекту | K17: - | L17: нет | M17: нет | N17: нет | O17: нет | P17: нет | Q17: нет | R17: ='Ссылки'!F12 -> RAL 9003 (сигнальный белый) | T17: по проекту | U17: Монтаж на саморезы (окраска шляпок в цвет панели)
B18: Л-14 | C18: ="Панель доступа металлическая съемная ревизионная, цвет "&R18 -> Панель доступа металлическая съемная ревизионная, цвет RAL 9003 (сигнальный белый) | D18: 500 | E18: по проекту | F18: по проекту | G18: 500 | H18: по проекту | K18: - | L18: нет | M18: нет | N18: нет | O18: нет | P18: нет | Q18: нет | R18: ='Ссылки'!F12 -> RAL 9003 (сигнальный белый) | T18: по проекту | U18: Монтаж на саморезы (окраска шляпок в цвет панели)

Sheet Двери. Версия 3
A1: Назначение | B1: Марка (правая/ левая) | C1: Характеристики | D1: Проем в стене, мм | G1: Коробка, мм | I1: Проем в свету, мм | K1: Огнестой кость | L1: Дверной блок | R1: Фурнитура | W1: Цвет | X1: Обозначение | Y1: Наименование (правая/левая) | Z1: Примечание | AB1: Документы от производителя, необходимые для предоставления в МФР и МГЭ | AC1: Тип двери в Revit
D2: Ширина | E2: Высота | F2: Порог конструктивный, мм от ур.ч.пола | G2: Ширина | H2: Высота | I2: Ширина | J2: Высота | L2: Тип дверной коробки | M2: Материал дверного полотна | N2: Заполнение дверного полотна | O2: Толщина дверного полотна, мм | P2: Наличник | Q2: Добор | R2: Механический замок | S2: Ручка | T2: Петли | U2: Дверной упор | V2: Устройство самозакрывания
A3: ПОДЗЕМНЫЙ ЭТАЖ, АВТОСТОЯНКА
A4: - Дверь в ИТП - Дверь в насосную - Дверь в помещение СС с противопожарным клапаном для вентиляции - Дверь в венткамеру - Дверь в помещение уборочной техники - Дверь в помещение узла учета тепла - Дверь в водомерный узел - Дверь в тамбур-шлюз электрощитовой - Дверь в узловое помещение связи | B4: Д-1 / Д-1л | C4: ="Дверь металлическая, из 2-х листов х/к стали толщиной 1,0 мм - полотно, 1.2 мм - рама, с заполнением минеральной ватой, противопожарная, глухая, "&"со стационарным порогом 14 мм, контурный уплотнитель - серый, доводчик, нажимная ручка, цилиндровый замок 'ключ-вертушка', порошковая окраска, цве"&"т "&W4 -> Дверь металлическая, из 2-х листов х/к стали толщиной 1,0 мм - полотно, 1.2 мм - рама, с заполнением минеральной ватой, противопожарная, глухая, со стационарным порогом 14 мм, контурный уплотнитель - серый, доводчик, нажимная ручка, цилиндровый замок 'ключ-вертушка', порошковая окраска, цвет RAL 7016 (антрацитово-серый) матовый | D4: 1000 | E4: 2100 | F4: В тех. помещениях подземного этажа без автостоянки предусмотреть конструктивный порог по проекту | G4: 958 | H4: 2079 | I4: 871 | J4: 2011 | K4: EI 30 см. п.5 Правил | L4: Угловая | M4: Сталь, толщина 1.0 мм | N4: Минеральная вата | O4: 61 | P4: В составе дверной коробки, материал: сталь, ширина: 67 мм, толщина: 15 мм | Q4: нет | R4: =Замки!A42&", "&'Ссылки'!D3&", материал: "&'Ссылки'!H5&"; цвет: "&'Ссылки'!G7&"; "&Замки!A2&", "&'Ссылки'!D7&", материал: "&'Ссылки'!H4&"; цвет: "&'Ссылки'!G9 -> ЗД-6, цилиндровый замок, материал: сталь нержавеющая; цвет: оцинкованный; ЗД-1, "ключ-вертушка", материал: алюминий; цвет: никель | S4: =Ручки!A18&", "&'Ссылки'!A10&", материал: "&'Ссылки'!H3&", цвет: "&'Ссылки'!G5 -> РД-3, нажимная ручка на планке, материал: сталь нержавеющая / нейлон, цвет: черный | T4: ='Петли'!A2&", "&'Ссылки'!C3&", цвет: "&'Ссылки'!G6 -> ПД-1, ввертные, цвет: сталь нержавеющая | U4: нет | V4: ='Доводчик'!A2&", "&'Ссылки'!B2&", цвет: "&'Ссылки'!G4 -> ДД-1, доводчик, цвет: серебристый | W4: ='Ссылки'!F2 -> RAL 7016 (антрацитово-серый) матовый | X4: ГОСТ Р 57327-2016 / ТУ 25.12.10-001-17157160-2018 | Y4: ДПС 01 2079-958 пр. EI 30 ГОСТ Р 57327-2016 / ТУ 25.12.10-001-17157160-2018 / ДПС 01 2079-958 л. EI 30 ГОСТ Р 57327-2016 / ТУ 25.12.10-001-17157160-2018 | AB4: Сертификат соответствия Техническому регламенту о требованиях пожарной безопасности | AC4: Дверь_Рен_1Ст_Угловая коробка_V3, типоразмер Д-1_1000х2100h_EI30
A5: - Дверь в электрощитовую и ВРУ автостоянки - Дверь в электрощитовую жилой и нежилой части | B5: Д-1.1 / Д-1.1л | C5: ="Дверь металлическая, из 2-х листов х/к стали, толщиной 1,0 мм - полотно, 1.2 мм - рама, "&"с заполнением минеральной ватой, противопожарная, глухая со стационарным порогом 14 мм, контурный уплотнитель - серый, доводчик, нажимная ручка с внутренней стороны, "&"ручка-кноб с наружной стороны, замок 'антипаника' (самозапирающийся замок, ключ только с наружной стороны), крепл"&"ение заводского исполнения для присоединения заземления на высоте 400мм, порошковая окраска, цвет "&W5 -> Дверь металлическая, из 2-х листов х/к стали, толщиной 1,0 мм - полотно, 1.2 мм - рама, с заполнением минеральной ватой, противопожарная, глухая со стационарным порогом 14 мм, контурный уплотнитель - серый, доводчик, нажимная ручка с внутренней стороны, ручка-кноб с наружной стороны, замок 'антипаника' (самозапирающийся замок, ключ только с наружной стороны), крепление заводского исполнения для присоединения заземления на высоте 400мм, порошковая окраска, цвет RAL 7016 (антрацитово-серый) матовый | D5: 1000 | E5: 2100 | F5: нет | G5: 958 | H5: 2079 | I5: 871 | J5: 2011 | K5: EI 30 см. п.5 Правил | L5: Угловая | M5: Сталь, толщина 1.0 мм | N5: Минеральная вата | O5: 61 | P5: В составе дверной коробки, материал: сталь, ширина: 67 мм, толщина: 15 мм | Q5: нет | R5: =Замки!A34&", "&'Ссылки'!D13&", материал: "&'Ссылки'!H5&"; цвет: "&'Ссылки'!G7 -> ЗД-5, замок "антипаника", материал: сталь нержавеющая; цвет: оцинкованный | S5: =Ручки!A66&", "&'Ссылки'!A13&", материал: "&'Ссылки'!H3&", цвет: "&'Ссылки'!G5 -> РД-9, нажимная / фиксированная ручка на планке, материал: сталь нержавеющая / нейлон, цвет: черный | T5: ='Петли'!A2&", "&'Ссылки'!C3&", цвет: "&'Ссылки'!G6 -> ПД-1, ввертные, цвет: сталь нержавеющая | U5: нет | V5: ='Доводчик'!A2&", "&'Ссылки'!B2&", цвет: "&'Ссылки'!G4 -> ДД-1, доводчик, цвет: серебристый | W5: ='Ссылки'!F2 -> RAL 7016 (антрацитово-серый) матовый | X5: ГОСТ Р 57327-2016 / ТУ 25.12.10-001-17157160-2018 | Y5: ДПС 01 2079-958 пр. EI 30 ГОСТ Р 57327-2016 / ТУ 25.12.10-001-17157160-2018 / ДПС 01 2079-958 л. EI 30 ГОСТ Р 57327-2016 / ТУ 25.12.10-001-17157160-2018 | AB5: Сертификат соответствия Техническому регламенту о требованиях пожарной безопасности | AC5: Дверь_Рен_1Ст_Угловая коробка_V3, типоразмер Д-1.1_1000х2100h_EI30_ВРУ
A6: - Дверь в ИТП - Дверь в насосную - Дверь в помещение СС с противопожарным клапаном для вентиляции - Дверь в венткамеру - Дверь в помещение уборочной техники - Дверь в помещение узла учета тепла - Дверь в водомерный узел - Дверь в помещение для прокладки инженерных коммуникаций - Дверь в тамбур-шлюз электрощитовой - Дверь в узловое помещение связи | B6: Д-2 / Д-2л | C6: ="Дверь металлическая, из 2-х листов х/к стали, толщиной 1,0 мм - полотно, 1.2 мм - рама, "&"с заполнением минеральной ватой, противопожарная, глухая, со стационарным порогом 14 мм, контурный уплотнитель - серый, доводчик, нажимная ручка, цилиндровый замок 'ключ-вертушка', порошковая окраска, цве"&"т "&W6 -> Дверь металлическая, из 2-х листов х/к стали, толщиной 1,0 мм - полотно, 1.2 мм - рама, с заполнением минеральной ватой, противопожарная, глухая, со стационарным порогом 14 мм, контурный уплотнитель - серый, доводчик, нажимная ручка, цилиндровый замок 'ключ-вертушка', порошковая окраска, цвет RAL 7016 (антрацитово-серый) матовый | D6: 1000 | E6: 2100 | F6: В тех. помещениях подземного этажа без автостоянки предусмотреть конструктивный порог по проекту | G6: 958 | H6: 2079 | I6: 871 | J6: 2011 | K6: EI 60 см. п.5 Правил | L6: Угловая | M6: Сталь, толщина 1.0 мм | N6: Минеральная вата | O6: 61 | P6: В составе дверной коробки, материал: сталь, ширина: 67 мм, толщина: 15 мм | Q6: нет | R6: =Замки!A42&", "&'Ссылки'!D3&", материал: "&'Ссылки'!H5&"; цвет: "&'Ссылки'!G7&"; "&Замки!A2&", "&'Ссылки'!D7&", материал: "&'Ссылки'!H4&"; цвет: "&'Ссылки'!G9 -> ЗД-6, цилиндровый замок, материал: сталь нержавеющая; цвет: оцинкованный; ЗД-1, "ключ-вертушка", материал: алюминий; цвет: никель | S6: ='Ручки'!A18&", "&'Ссылки'!A10& ", материал: "&'Ссылки'!H3&", цвет: "&'Ссылки'!G5 -> РД-3, нажимная ручка на планке, материал: сталь нержавеющая / нейлон, цвет: черный | T6: ='Петли'!A2&", "&'Ссылки'!C3&", цвет: "&'Ссылки'!G6 -> ПД-1, ввертные, цвет: сталь нержавеющая | U6: нет | V6: ='Доводчик'!A2&", "&'Ссылки'!B2&", цвет: "&'Ссылки'!G4 -> ДД-1, доводчик, цвет: серебристый | W6: ='Ссылки'!F2 -> RAL 7016 (антрацитово-серый) матовый | X6: ГОСТ Р 57327-2016 / ТУ 25.12.10-001-17157160-2018 | Y6: ДПС 01 2079-958 пр. EI 60 ГОСТ Р 57327-2016 / ТУ 25.12.10-001-17157160-2018 / ДПС 01 2079-958 л. EI 60 ГОСТ Р 57327-2016 / ТУ 25.12.10-001-17157160-2018 | AB6: Сертификат соответствия Техническому регламенту о требованиях пожарной безопасности | AC6: Дверь_Рен_1Ст_Угловая коробка_V3, типоразмер Д-2_1000х2100h__EI60
A7: - Дверь в электрощитовую и ВРУ автостоянки - Дверь в электрощитовую жилой и нежилой части | B7: Д-2.1 / Д-2.1л | C7: ="Дверь металлическая, из 2-х листов х/к стали, толщиной 1,0 мм - полотно, 1.2 мм - рама, "&"с заполнением минеральной ватой, противопожарная, глухая со стационарным порогом 14 мм, контурный уплотнитель - серый, доводчик, нажимная ручка с внутренней стороны, "&"ручка-кноб с наружной стороны, замок 'антипаника' (самозапирающийся замок, ключ только с наружной стороны), крепл"&"ение заводского исполнения для присоединения заземления на высоте 400мм, порошковая окраска, цвет "&W5 -> Дверь металлическая, из 2-х листов х/к стали, толщиной 1,0 мм - полотно, 1.2 мм - рама, с заполнением минеральной ватой, противопожарная, глухая со стационарным порогом 14 мм, контурный уплотнитель - серый, доводчик, нажимная ручка с внутренней стороны, ручка-кноб с наружной стороны, замок 'антипаника' (самозапирающийся замок, ключ только с наружной стороны), крепление заводского исполнения для присоединения заземления на высоте 400мм, порошковая окраска, цвет RAL 7016 (антрацитово-серый) матовый | D7: 1000 | E7: 2100 | F7: нет | G7: 958 | H7: 2079 | I7: 871 | J7: 2011 | K7: EI 60 см. п.5 Правил | L7: Угловая | M7: Сталь, толщина 1.0 мм | N7: Минеральная вата | O7: 61 | P7: В составе дверной коробки, материал: сталь, ширина: 67 мм, толщина: 15 мм | Q7: нет | R7: =Замки!A34&", "&'Ссылки'!D13&", материал: "&'Ссылки'!H5&"; цвет: "&'Ссылки'!G7 -> ЗД-5, замок "антипаника", материал: сталь нержавеющая; цвет: оцинкованный | S7: =Ручки!A66&", "&'Ссылки'!A13&", материал: "&'Ссылки'!H3&", цвет: "&'Ссылки'!G5 -> РД-9, нажимная / фиксированная ручка на планке, материал: сталь нержавеющая / нейлон, цвет: черный | T7: ='Петли'!A2&", "&'Ссылки'!C3&", цвет: "&'Ссылки'!G6 -> ПД-1, ввертные, цвет: сталь нержавеющая | U7: нет | V7: ='Доводчик'!A2&", "&'Ссылки'!B2&", цвет: "&'Ссылки'!G4 -> ДД-1, доводчик, цвет: серебристый | W7: ='Ссылки'!F2 -> RAL 7016 (антрацитово-серый) матовый | X7: ГОСТ Р 57327-2016 / ТУ 25.12.10-001-17157160-2018 | Y7: ДПС 01 2079-958 пр. EI 60 ГОСТ Р 57327-2016 / ТУ 25.12.10-001-17157160-2018 / ДПС 01 2079-9580 л. EI 60 ГОСТ Р 57327-2016 / ТУ 25.12.10-001-17157160-2018 | AB7: Сертификат соответствия Техническому регламенту о требованиях пожарной безопасности | AC7: Дверь_Рен_1Ст_Угловая коробка_V3, типоразмер Д-2.1_1000х2100h_EI60_ВРУ
A8: - Дверь в ИТП (для применения в подземных этажах с автостоянкой) | B8: Д-57 / Д-57л | C8: ="Дверь металлическая, из 2-х листов х/к стали, толщиной 1.0 мм - полотно, 1.2 мм - рама, "&"с заполнением минеральной ватой, противопожарная, глухая, двустворчатая, со стационарным порогом 14 мм, контурный уплотнитель - серый, доводчик, нажимная ручка, цилиндровый замок 'ключ-вертушка', порошковая окраска, цве"&"т "&W6 -> Дверь металлическая, из 2-х листов х/к стали, толщиной 1.0 мм - полотно, 1.2 мм - рама, с заполнением минеральной ватой, противопожарная, глухая, двустворчатая, со стационарным порогом 14 мм, контурный уплотнитель - серый, доводчик, нажимная ручка, цилиндровый замок 'ключ-вертушка', порошковая окраска, цвет RAL 7016 (антрацитово-серый) матовый | D8: 1650 | E8: 2380 | F8: нет | G8: 1608 | H8: 2359 | I8: 1504 | J8: 2291 | K8: EI 30 см. п.5 Правил | L8: Угловая | M8: Сталь, толщина 1.0 мм | N8: Минеральная вата | O8: 61 | P8: В составе дверной коробки, материал: сталь, ширина: 67 мм, толщина: 15 мм | Q8: нет | R8: =Замки!A42&", "&'Ссылки'!D3&", материал: "&'Ссылки'!H5&"; цвет: "&'Ссылки'!G7&"; "&Замки!A2&", "&'Ссылки'!D7&", материал: "&'Ссылки'!H4&"; цвет: "&'Ссылки'!G9 -> ЗД-6, цилиндровый замок, материал: сталь нержавеющая; цвет: оцинкованный; ЗД-1, "ключ-вертушка", материал: алюминий; цвет: никель | S8: =Ручки!A18&", "&'Ссылки'!A10&", материал: "&'Ссылки'!H3&", цвет: "&'Ссылки'!G5 -> РД-3, нажимная ручка на планке, материал: сталь нержавеющая / нейлон, цвет: черный | T8: ='Петли'!A2&", "&'Ссылки'!C3&", цвет: "&'Ссылки'!G6 -> ПД-1, ввертные, цвет: сталь нержавеющая | U8: нет | V8: ='Доводчик'!A2&", "&'Ссылки'!B2&", цвет: "&'Ссылки'!G4 -> ДД-1, доводчик, цвет: серебристый | W8: ='Ссылки'!F2 -> RAL 7016 (антрацитово-серый) матовый | X8: ГОСТ Р 57327-2016 / ТУ 25.12.10-003-17157160-2022 | Y8: ДПС 02 2359-1608 пр. EI 30 ГОСТ Р 57327-2016 / ТУ 25.12.10-003-17157160-2022 / ДПС 02 2359-1608 л. EI 30 ГОСТ Р 57327-2016 / ТУ 25.12.10-003-17157160-2022 | AC8: Дверь_Рен_2Ст_Угловая коробка_V3, типоразмер Д-57_1650х2380h_EI30
A9: - Дверь в ИТП (для применения в подземных этажах с автостоянкой) | B9: Д-58 / Д-58л | C9: ="Дверь металлическая, из 2-х листов х/к стали, толщиной 1.0 мм - полотно, 1.2 мм - рама, "&"с заполнением минеральной ватой, противопожарная, глухая, двустворчатая, со стационарным порогом 14 мм, контурный уплотнитель - серый, доводчик, нажимная ручка, цилиндровый замок 'ключ-вертушка', порошковая окраска, цве"&"т "&W6 -> Дверь металлическая, из 2-х листов х/к стали, толщиной 1.0 мм - полотно, 1.2 мм - рама, с заполнением минеральной ватой, противопожарная, глухая, двустворчатая, со стационарным порогом 14 мм, контурный уплотнитель - серый, доводчик, нажимная ручка, цилиндровый замок 'ключ-вертушка', порошковая окраска, цвет RAL 7016 (антрацитово-серый) матовый | D9: 1650 | E9: 2380 | F9: нет | G9: 1608 | H9: 2359 | I9: 1504 | J9: 2291 | K9: EI 60 см. п.5 Правил | L9: Угловая | M9: Сталь, толщина 1.0 мм | N9: Минеральная вата | O9: 61 | P9: В составе дверной коробки, материал: сталь, ширина: 67 мм, толщина: 15 мм | Q9: нет | R9: =Замки!A42&", "&'Ссылки'!D3&", материал: "&'Ссылки'!H5&"; цвет: "&'Ссылки'!G7&"; "&Замки!A2&", "&'Ссылки'!D7&", материал: "&'Ссылки'!H4&"; цвет: "&'Ссылки'!G9 -> ЗД-6, цилиндровый замок, материал: сталь нержавеющая; цвет: оцинкованный; ЗД-1, "ключ-вертушка", материал: алюминий; цвет: никель | S9: =Ручки!A18&", "&'Ссылки'!A10&", материал: "&'Ссылки'!H3&", цвет: "&'Ссылки'!G5 -> РД-3, нажимная ручка на планке, материал: сталь нержавеющая / нейлон, цвет: черный | T9: ='Петли'!A2&", "&'Ссылки'!C3&", цвет: "&'Ссылки'!G6 -> ПД-1, ввертные, цвет: сталь нержавеющая | U9: нет | V9: ='Доводчик'!A2&", "&'Ссылки'!B2&", цвет: "&'Ссылки'!G4 -> ДД-1, доводчик, цвет: серебристый | W9: ='Ссылки'!F2 -> RAL 7016 (антрацитово-серый) матовый | X9: ГОСТ Р 57327-2016 / ТУ 25.12.10-003-17157160-2022 | Y9: ДПС 02 2359-1608 пр. EI 60 ГОСТ Р 57327-2016 / ТУ 25.12.10-003-17157160-2022 / ДПС 02 2359-1608 л. EI 60 ГОСТ Р 57327-2016 / ТУ 25.12.10-003-17157160-2022 | AC9: Дверь_Рен_2Ст_Угловая коробка_V3, типоразмер Д-58_1650х2380h_EI60
A10: - Дверь в ИТП (для применения в подземных этажах без автостоянки) | B10: Д-59 / Д-59л | C10: ="Дверь металлическая, из 2-х листов х/к стали, толщиной 1.0 мм - полотно, 1.2 мм - рама, "&"с заполнением минеральной ватой, противопожарная, глухая, двустворчатая, со стационарным порогом 14 мм, контурный уплотнитель - серый, доводчик, нажимная ручка, цилиндровый замок 'ключ-вертушка', порошковая окраска, цве"&"т "&W6 -> Дверь металлическая, из 2-х листов х/к стали, толщиной 1.0 мм - полотно, 1.2 мм - рама, с заполнением минеральной ватой, противопожарная, глухая, двустворчатая, со стационарным порогом 14 мм, контурный уплотнитель - серый, доводчик, нажимная ручка, цилиндровый замок 'ключ-вертушка', порошковая окраска, цвет RAL 7016 (антрацитово-серый) матовый | D10: 1350 | E10: 2100 | F10: нет | G10: 1308 | H10: 2079 | I10: 1204 | J10: 2011 | K10: EI 30 см. п.5 Правил | L10: Угловая | M10: Сталь, толщина 1.0 мм | N10: Минеральная вата | O10: 61 | P10: В составе дверной коробки, материал: сталь, ширина: 67 мм, толщина: 15 мм | Q10: нет | R10: =Замки!A42&", "&'Ссылки'!D3&", материал: "&'Ссылки'!H5&"; цвет: "&'Ссылки'!G7&"; "&Замки!A2&", "&'Ссылки'!D7&", материал: "&'Ссылки'!H4&"; цвет: "&'Ссылки'!G9 -> ЗД-6, цилиндровый замок, материал: сталь нержавеющая; цвет: оцинкованный; ЗД-1, "ключ-вертушка", материал: алюминий; цвет: никель | S10: =Ручки!A18&", "&'Ссылки'!A10&", материал: "&'Ссылки'!H3&", цвет: "&'Ссылки'!G5 -> РД-3, нажимная ручка на планке, материал: сталь нержавеющая / нейлон, цвет: черный | T10: ='Петли'!A2&", "&'Ссылки'!C3&", цвет: "&'Ссылки'!G6 -> ПД-1, ввертные, цвет: сталь нержавеющая | U10: нет | V10: ='Доводчик'!A2&", "&'Ссылки'!B2&", цвет: "&'Ссылки'!G4 -> ДД-1, доводчик, цвет: серебристый | W10: ='Ссылки'!F2 -> RAL 7016 (антрацитово-серый) матовый | X10: ГОСТ Р 57327-2016 / ТУ 25.12.10-003-17157160-2022 | Y10: ДПС 02 2079-1308 пр. EI 30 ГОСТ Р 57327-2016 / ТУ 25.12.10-003-17157160-2022 / ДПС 02 2079-1308 л. EI 30 ГОСТ Р 57327-2016 / ТУ 25.12.10-003-17157160-2022 | AC10: Дверь_Рен_2Ст_Угловая коробка_V3, типоразмер Д-59_1350х2100h_EI30
A11: - Дверь в ИТП (для применения в подземных этажах без автостоянки) | B11: Д-60 / Д-60л | C11: ="Дверь металлическая, из 2-х листов х/к стали, толщиной 1.0 мм - полотно, 1.2 мм - рама, "&"с заполнением минеральной ватой, противопожарная, глухая, двустворчатая, со стационарным порогом 14 мм, контурный уплотнитель - серый, доводчик, нажимная ручка, цилиндровый замок 'ключ-вертушка', порошковая окраска, цве"&"т "&W6 -> Дверь металлическая, из 2-х листов х/к стали, толщиной 1.0 мм - полотно, 1.2 мм - рама, с заполнением минеральной ватой, противопожарная, глухая, двустворчатая, со стационарным порогом 14 мм, контурный уплотнитель - серый, доводчик, нажимная ручка, цилиндровый замок 'ключ-вертушка', порошковая окраска, цвет RAL 7016 (антрацитово-серый) матовый | D11: 1350 | E11: 2100 | F11: нет | G11: 1308 | H11: 2079 | I11: 1204 | J11: 2011 | K11: EI 60 см. п.5 Правил | L11: Угловая | M11: Сталь, толщина 1.0 мм | N11: Минеральная вата | O11: 61 | P11: В составе дверной коробки, материал: сталь, ширина: 67 мм, толщина: 15 мм | Q11: нет | R11: =Замки!A42&", "&'Ссылки'!D3&", материал: "&'Ссылки'!H5&"; цвет: "&'Ссылки'!G7&"; "&Замки!A2&", "&'Ссылки'!D7&", материал: "&'Ссылки'!H4&"; цвет: "&'Ссылки'!G9 -> ЗД-6, цилиндровый замок, материал: сталь нержавеющая; цвет: оцинкованный; ЗД-1, "ключ-вертушка", материал: алюминий; цвет: никель | S11: =Ручки!A18&", "&'Ссылки'!A10&", материал: "&'Ссылки'!H3&", цвет: "&'Ссылки'!G5 -> РД-3, нажимная ручка на планке, материал: сталь нержавеющая / нейлон, цвет: черный | T11: ='Петли'!A2&", "&'Ссылки'!C3&", цвет: "&'Ссылки'!G6 -> ПД-1, ввертные, цвет: сталь нержавеющая | U11: нет | V11: ='Доводчик'!A2&", "&'Ссылки'!B2&", цвет: "&'Ссылки'!G4 -> ДД-1, доводчик, цвет: серебристый | W11: ='Ссылки'!F2 -> RAL 7016 (антрацитово-серый) матовый | X11: ГОСТ Р 57327-2016 / ТУ 25.12.10-003-17157160-2022 | Y11: ДПС 02 2079-1308 пр. EI 60 ГОСТ Р 57327-2016 / ТУ 25.12.10-003-17157160-2022 / ДПС 02 2079-1308 л. EI 60 ГОСТ Р 57327-2016 / ТУ 25.12.10-003-17157160-2022 | AC11: Дверь_Рен_2Ст_Угловая коробка_V3, типоразмер Д-60_1350х2100h_EI60
A12: - Дверь в помещение для прокладки инженерных коммуникаций | B12: Д-3 / Д-3л | C12: ="Дверь металлическая, из 2-х листов х/к стали, толщиной 1.0 мм - полотно, 1.2 мм - рама, "&"с заполнением минеральной ватой, глухая, со стационарным порогом 14 мм, контурный уплотнитель - серый, доводчик, нажимная ручка, цилиндровый замок 'ключ-вертушка', порошковая окраска, цве"&"т "&W6 -> Дверь металлическая, из 2-х листов х/к стали, толщиной 1.0 мм - полотно, 1.2 мм - рама, с заполнением минеральной ватой, глухая, со стационарным порогом 14 мм, контурный уплотнитель - серый, доводчик, нажимная ручка, цилиндровый замок 'ключ-вертушка', порошковая окраска, цвет RAL 7016 (антрацитово-серый) матовый | D12: 1000 | E12: 2100 | F12: нет | G12: 958 | H12: 2079 | I12: 871 | J12: 2011 | K12: - | L12: Угловая | M12: Сталь, толщина 1.0 мм | N12: Минеральная вата | O12: 61 | P12: В составе дверной коробки, материал: сталь, ширина: 67 мм, толщина: 15 мм | Q12: нет | R12: =Замки!A42&", "&'Ссылки'!D3&", материал: "&'Ссылки'!H5&"; цвет: "&'Ссылки'!G7&"; "&Замки!A2&", "&'Ссылки'!D7&", материал: "&'Ссылки'!H4&"; цвет: "&'Ссылки'!G9 -> ЗД-6, цилиндровый замок, материал: сталь нержавеющая; цвет: оцинкованный; ЗД-1, "ключ-вертушка", материал: алюминий; цвет: никель | S12: =Ручки!A18&", "&'Ссылки'!A10&", материал: "&'Ссылки'!H3&", цвет: "&'Ссылки'!G5 -> РД-3, нажимная ручка на планке, материал: сталь нержавеющая / нейлон, цвет: черный | T12: ='Петли'!A2&", "&'Ссылки'!C3&", цвет: "&'Ссылки'!G6 -> ПД-1, ввертные, цвет: сталь нержавеющая | U12: нет | V12: ='Доводчик'!A2&", "&'Ссылки'!B2&", цвет: "&'Ссылки'!G4 -> ДД-1, доводчик, цвет: серебристый | W12: ='Ссылки'!F2 -> RAL 7016 (антрацитово-серый) матовый | X12: ГОСТ Р 31173-2016 / ТУ 25.12.10-001-17157160-2017 | Y12: ДСВв, В1, Оп, Пр, Прг, Н, П2лс, М2, О - ГОСТ 31173-2016 / ТУ 25.12.10-001-17157160-2017 / ДСВв, В1, Оп, Л, Прг, Н, П2лс, М2, О - ГОСТ 31173-2016 / ТУ 25.12.10-001-17157160-2017 | Z12: При размещении входа в стене, разделяющей пожарные отсеки, применять дверной блок Д-2 / Д-2л | AC12: Дверь_Рен_1Ст_Угловая коробка_V3, типоразмер Д-3_1000х2100h
A13: - Дверь выхода из ИТП непосредственно наружу | B13: Д-4 / Д-4л | C13: ="Дверь металлическая, из 2-х листов х/к стали, толщиной 1.0 мм - полотно, 1.2 мм - рама, "&"с заполнением минеральной ватой, глухая усиленная, со стационарным порогом 14 мм, контурный уплотнитель - серый, доводчик, металлические доборы, нажимная ручка, цилиндровый замок 'ключ-вертушка', п"&"орошковая окраска, цвет "&W13 -> Дверь металлическая, из 2-х листов х/к стали, толщиной 1.0 мм - полотно, 1.2 мм - рама, с заполнением минеральной ватой, глухая усиленная, со стационарным порогом 14 мм, контурный уплотнитель - серый, доводчик, металлические доборы, нажимная ручка, цилиндровый замок 'ключ-вертушка', порошковая окраска, цвет RAL 7016 (антрацитово-серый) матовый | D13: 1100 | E13: 2100 | F13: нет | G13: 1046 | H13: 2074 | I13: 883 | J13: 1981 | K13: - | L13: Блочная | M13: Сталь, толщина 1.0 мм | N13: Минеральная вата | O13: 61 | P13: нет | Q13: ='Ссылки'!I3 -> Металлический наружный, материал: сталь, цвет: RAL 7016 (антрацитово-серый) | R13: =Замки!A42&", "&'Ссылки'!D3&", материал: "&'Ссылки'!H5&"; цвет: "&'Ссылки'!G7&"; "&Замки!A2&", "&'Ссылки'!D7&", материал: "&'Ссылки'!H4&"; цвет: "&'Ссылки'!G9 -> ЗД-6, цилиндровый замок, материал: сталь нержавеющая; цвет: оцинкованный; ЗД-1, "ключ-вертушка", материал: алюминий; цвет: никель | S13: =Ручки!A18&", "&'Ссылки'!A10&", материал: "&'Ссылки'!H3&", цвет: "&'Ссылки'!G5 -> РД-3, нажимная ручка на планке, материал: сталь нержавеющая / нейлон, цвет: черный | T13: ='Петли'!A2&", "&'Ссылки'!C3&", цвет: "&'Ссылки'!G6 -> ПД-1, ввертные, цвет: сталь нержавеющая | U13: нет | V13: ='Доводчик'!A2&", "&'Ссылки'!B2&", цвет: "&'Ссылки'!G4 -> ДД-1, доводчик, цвет: серебристый | W13: ='Ссылки'!F2 -> RAL 7016 (антрацитово-серый) матовый | X13: ГОСТ Р 31173-2016 / ТУ 25.12.10-001-17157160-2017 | Y13: ДСН, А, Оп, Пр, Прг, Н, Псп, М2, УЗ - ГОСТ 31173-2016 / ТУ 25.12.10-001-17157160-2017 / ДСН, А, Оп, Л, Прг, Н, Псп, М2, УЗ - ГОСТ 31173-2016 / ТУ 25.12.10-001-17157160-2017 | AC13: Дверь_Рен_1Ст_Блочная коробка_V3, типоразмер Д-4_1100х2100h
A14: - Дверь выхода из ИТП непосредственно наружу | B14: Д-46 / Д-46л | C14: ="Дверь металлическая, из 2-х листов х/к стали, толщиной 1.0 мм - полотно, 1.2 мм - рама, "&"с заполнением минеральной ватой, глухая усиленная, "&"двупольная, со стационарным порогом 14 мм, контурный уплотнитель - серый, доводчик, металлические доборы, нажимная ручка, цилиндровый замок 'ключ-вертушка', п"&"орошковая окраска, цвет "&W13 -> Дверь металлическая, из 2-х листов х/к стали, толщиной 1.0 мм - полотно, 1.2 мм - рама, с заполнением минеральной ватой, глухая усиленная, двупольная, со стационарным порогом 14 мм, контурный уплотнитель - серый, доводчик, металлические доборы, нажимная ручка, цилиндровый замок 'ключ-вертушка', порошковая окраска, цвет RAL 7016 (антрацитово-серый) матовый | D14: 1500 | E14: 2100 | F14: нет | G14: 1446 | H14: 2074 | I14: 1264 | J14: 1981 | K14: - | L14: Блочная | M14: Сталь, толщина 1.0 мм | N14: Минеральная вата | O14: 61 | P14: нет | Q14: ='Ссылки'!I3 -> Металлический наружный, материал: сталь, цвет: RAL 7016 (антрацитово-серый) | R14: =Замки!A42&", "&'Ссылки'!D3&", материал: "&'Ссылки'!H5&"; цвет: "&'Ссылки'!G7&"; "&Замки!A2&", "&'Ссылки'!D7&", материал: "&'Ссылки'!H4&"; цвет: "&'Ссылки'!G9 -> ЗД-6, цилиндровый замок, материал: сталь нержавеющая; цвет: оцинкованный; ЗД-1, "ключ-вертушка", материал: алюминий; цвет: никель | S14: =Ручки!A18&", "&'Ссылки'!A10&", материал: "&'Ссылки'!H3&", цвет: "&'Ссылки'!G5 -> РД-3, нажимная ручка на планке, материал: сталь нержавеющая / нейлон, цвет: черный | T14: ='Петли'!A2&", "&'Ссылки'!C3&", цвет: "&'Ссылки'!G6 -> ПД-1, ввертные, цвет: сталь нержавеющая | U14: нет | V14: ='Доводчик'!A2&", "&'Ссылки'!B2&", цвет: "&'Ссылки'!G4 -> ДД-1, доводчик, цвет: серебристый | W14: ='Ссылки'!F2 -> RAL 7016 (антрацитово-серый) матовый | X14: ГОСТ Р 31173-2016 / ТУ 25.12.10-001-17157160-2017 | Y14: ДСН, А, Дп, Пр, Прг, Н, Псп, М2, УЗ - ГОСТ 31173-2016 / ТУ 25.12.10-001-17157160-2017 / ДСН, А, Дп, Л, Прг, Н, Псп, М2, УЗ - ГОСТ 31173-2016 / ТУ 25.12.10-001-17157160-2017 | AC14: Дверь_Рен_2Ст_Блочная коробка_V3, типоразмер Д-46_1500х2100h
A15: - Дверь в лестничную клетку | B15: Д-5 / Д-5л | C15: ="Дверь металлическая, из 2-х листов х/к стали, толщиной 1.0 мм - полотно, 1.2 мм - рама, "&"с заполнением минеральной ватой, глухая, со стационарным порогом 14 мм, контурный уплотнитель - серый, доводчик, нажимная ручка, порошковая окраска, цвет "&W15 -> Дверь металлическая, из 2-х листов х/к стали, толщиной 1.0 мм - полотно, 1.2 мм - рама, с заполнением минеральной ватой, глухая, со стационарным порогом 14 мм, контурный уплотнитель - серый, доводчик, нажимная ручка, порошковая окраска, цвет RAL 7016 (антрацитово-серый) матовый | D15: 1100 | E15: 2100 | F15: нет | G15: 1058 | H15: 2079 | I15: 971 | J15: 2011 | K15: - | L15: Угловая | M15: Сталь, толщина 1.0 мм | N15: Минеральная вата | O15: 61 | P15: В составе дверной коробки, материал: сталь, ширина: 67 мм, толщина: 15 мм | Q15: нет | R15: нет | S15: =Ручки!A58&", "&'Ссылки'!A10&", материал: "&'Ссылки'!H2&", цвет: "&'Ссылки'!G2 -> РД-8, нажимная ручка на планке, материал: сталь нержавеющая AISI 304, цвет: сталь нержавеющая матовая | T15: ='Петли'!A2&", "&'Ссылки'!C3&", цвет: "&'Ссылки'!G6 -> ПД-1, ввертные, цвет: сталь нержавеющая | U15: ="НФ-02, упор дверной " &'Ссылки'!E3 -> НФ-02, упор дверной напольный, высота 85 мм, цвет: серый / серебристый | V15: ='Доводчик'!A2&", "&'Ссылки'!B2&", цвет: "&'Ссылки'!G4 -> ДД-1, доводчик, цвет: серебристый | W15: ='Ссылки'!F2 -> RAL 7016 (антрацитово-серый) матовый | X15: ГОСТ Р 31173-2016 / ТУ 25.12.10-001-17157160-2017 | Y15: ДСВх, Б, Оп, Пр, Прг, Н, П2лс, О - ГОСТ 31173-2016 / ТУ 25.12.10-001-17157160-2017 / ДСВх, Б, Оп, Л, Прг, Н, П2лс, О - ГОСТ 31173-2016 / ТУ 25.12.10-001-17157160-2017 | Z15: При размещении входа в лестничную клетку в стене, разделяющей пожарные отсеки, применять дверной блок Д-6 / Д-6л | AC15: Дверь_Рен_1Ст_Угловая коробка_V3, типоразмер Д-5_1100х2100h
A16: - Дверь в лестничную клетку - Дверь выхода на рампу | B16: Д-6 / Д-6л | C16: ="Дверь металлическая, из 2-х листов х/к стали, толщиной 1.0 мм - полотно, 1.2 мм - рама, "&"с заполнением минеральной ватой, противопожарная, глухая, со стационарным порогом 14 мм, контурный уплотнитель - серый, доводчик, нажимная ручка, порошковая окраска, цвет "&W16 -> Дверь металлическая, из 2-х листов х/к стали, толщиной 1.0 мм - полотно, 1.2 мм - рама, с заполнением минеральной ватой, противопожарная, глухая, со стационарным порогом 14 мм, контурный уплотнитель - серый, доводчик, нажимная ручка, порошковая окраска, цвет RAL 7016 (антрацитово-серый) матовый | D16: 1100 | E16: 2100 | F16: нет | G16: 1058 | H16: 2079 | I16: 971 | J16: 2011 | K16: EI 60 см. п.5 Правил | L16: Угловая | M16: Сталь, толщина 1.0 мм | N16: Минеральная вата | O16: 61 | P16: В составе дверной коробки, материал: сталь, ширина: 67 мм, толщина: 15 мм | Q16: нет | R16: нет | S16: =Ручки!A58&", "&'Ссылки'!A10&", материал: "&'Ссылки'!H2&", цвет: "&'Ссылки'!G2 -> РД-8, нажимная ручка на планке, материал: сталь нержавеющая AISI 304, цвет: сталь нержавеющая матовая | T16: ='Петли'!A2&", "&'Ссылки'!C3&", цвет: "&'Ссылки'!G6 -> ПД-1, ввертные, цвет: сталь нержавеющая | U16: ="НФ-02, упор дверной " &'Ссылки'!E3 -> НФ-02, упор дверной напольный, высота 85 мм, цвет: серый / серебристый | V16: ='Доводчик'!A2&", "&'Ссылки'!B2&", цвет: "&'Ссылки'!G4 -> ДД-1, доводчик, цвет: серебристый | W16: ='Ссылки'!F2 -> RAL 7016 (антрацитово-серый) матовый | X16: ГОСТ Р 57327-2016 / ТУ 25.12.10-001-17157160-2018 | Y16: ДПС 01 2079-1058 пр. EI 60 ГОСТ Р 57327-2016 / ТУ 25.12.10-001-17157160-2018 / ДПС 01 2079-1058 л. EI 60 ГОСТ Р 57327-2016 / ТУ 25.12.10-001-17157160-2018 | AB16: Сертификат соответствия Техническому регламенту о требованиях пожарной безопасности | AC16: Дверь_Рен_1Ст_Угловая коробка_V3, типоразмер Д-6_1100х2100h_EI60
A17: - Дверь в лестничную клетку - Дверь между смежными пожарными отсеками автостоянки - Дверь выхода на рампу | B17: Д-21 / Д-21л | C17: ="Дверь металлическая, из 2-х листов х/к стали, толщиной 1.0 мм - полотно, 1.2 мм - рама, "&"с заполнением минеральной ватой, противопожарная, глухая со стационарным порогом 14 мм, контурный уплотнитель - серый, доводчик, "&'Ссылки'!A2&", порошковая окраска, цвет "&W17 -> Дверь металлическая, из 2-х листов х/к стали, толщиной 1.0 мм - полотно, 1.2 мм - рама, с заполнением минеральной ватой, противопожарная, глухая со стационарным порогом 14 мм, контурный уплотнитель - серый, доводчик, нажимная ручка на круглой розетке, порошковая окраска, цвет RAL 7016 (антрацитово-серый) матовый | D17: 1400 | E17: 2100 | F17: нет | G17: 1366 | H17: 2074 | I17: 1203 | J17: 1981 | K17: EI 60 | L17: Блочная | M17: Сталь, толщина 1.0 мм | N17: Минеральная вата | O17: 61 | P17: нет | Q17: нет | R17: нет | S17: ='Ручки'!A2&", "&'Ссылки'!A2& ", материал: "&'Ссылки'!H2&", цвет: "&'Ссылки'!G2 -> РД-1, нажимная ручка на круглой розетке, материал: сталь нержавеющая AISI 304, цвет: сталь нержавеющая матовая | T17: ='Петли'!A2&", "&'Ссылки'!C3&", цвет: "&'Ссылки'!G6 -> ПД-1, ввертные, цвет: сталь нержавеющая | U17: =" По проекту: нет / НФ-02, упор дверной "&'Ссылки'!E3 -> По проекту: нет / НФ-02, упор дверной напольный, высота 85 мм, цвет: серый / серебристый | V17: ='Доводчик'!A2&", "&'Ссылки'!B2&", цвет: "&'Ссылки'!G4 -> ДД-1, доводчик, цвет: серебристый | W17: ='Ссылки'!F2 -> RAL 7016 (антрацитово-серый) матовый | X17: ГОСТ Р 57327-2016 / ТУ 25.12.10-007-17157160-2023 | Y17: ДПС 01 2074-1366 пр. EI 60 ГОСТ Р 57327-2016 / ТУ 25.12.10-007-17157160-2023 / ДПС 01 2074-1366 л. EI 60 ГОСТ Р 57327-2016 / ТУ 25.12.10-007-17157160-2023 | AB17: Сертификат соответствия Техническому регламенту о требованиях пожарной безопасности | AC17: Дверь_Рен_1Ст_Блочная коробка_V3, типоразмер Д-21_1400х2100h_EI60
A18: - Дверь выхода на рампу | B18: Д-7 / Д-7л | C18: ="Дверь металлическая, из 2-х листов х/к стали, толщиной 1.0 мм - полотно, 1.2 мм - рама, "&"с заполнением минеральной ватой, противопожарная, глухая, со стационарным порогом 14 мм, контурный уплотнитель - серый, доводчик, нажимная ручка, порошковая окраска, цвет "&W18 -> Дверь металлическая, из 2-х листов х/к стали, толщиной 1.0 мм - полотно, 1.2 мм - рама, с заполнением минеральной ватой, противопожарная, глухая, со стационарным порогом 14 мм, контурный уплотнитель - серый, доводчик, нажимная ручка, порошковая окраска, цвет RAL 7016 (антрацитово-серый) матовый | D18: 1100 | E18: 2100 | F18: нет | G18: 1058 | H18: 2079 | I18: 971 | J18: 2011 | K18: EI 30 см. п.5 Правил | L18: Угловая | M18: Сталь, толщина 1.0 мм | N18: Минеральная вата | O18: 61 | P18: В составе дверной коробки, материал: сталь, ширина: 67 мм, толщина: 15 мм | Q18: нет | R18: нет | S18: =Ручки!A58&", "&'Ссылки'!A10&", материал: "&'Ссылки'!H2&", цвет: "&'Ссылки'!G2 -> РД-8, нажимная ручка на планке, материал: сталь нержавеющая AISI 304, цвет: сталь нержавеющая матовая | T18: ='Петли'!A2&", "&'Ссылки'!C3&", цвет: "&'Ссылки'!G6 -> ПД-1, ввертные, цвет: сталь нержавеющая | U18: ="НФ-02, упор дверной " &'Ссылки'!E3 -> НФ-02, упор дверной напольный, высота 85 мм, цвет: серый / серебристый | V18: ='Доводчик'!A2&", "&'Ссылки'!B2&", цвет: "&'Ссылки'!G4 -> ДД-1, доводчик, цвет: серебристый | W18: ='Ссылки'!F2 -> RAL 7016 (антрацитово-серый) матовый | X18: ГОСТ Р 57327-2016 / ТУ 25.12.10-001-17157160-2018 | Y18: ДПС 01 2079-1058 пр. EI 30 ГОСТ Р 57327-2016 / ТУ 25.12.10-001-17157160-2018 / ДПС 01 2079-1058 л. EI 30 ГОСТ Р 57327-2016 / ТУ 25.12.10-001-17157160-2018 | AB18: Сертификат соответствия Техническому регламенту о требованиях пожарной безопасности | AC18: Дверь_Рен_1Ст_Угловая коробка_V3, типоразмер Д-7_1100х2100h_EI30
B19: Д-48 / Д-48л | C19: ="Дверь металлическая, из 2-х листов х/к стали, толщиной 1.0 мм - полотно, 1.2 мм - рама, "&"с заполнением минеральной ватой, противопожарная, глухая, со стационарным порогом 14 мм, контурный уплотнитель - серый, доводчик, нажимная ручка, порошковая окраска, цвет "&W18 -> Дверь металлическая, из 2-х листов х/к стали, толщиной 1.0 мм - полотно, 1.2 мм - рама, с заполнением минеральной ватой, противопожарная, глухая, со стационарным порогом 14 мм, контурный уплотнитель - серый, доводчик, нажимная ручка, порошковая окраска, цвет RAL 7016 (антрацитово-серый) матовый | D19: 1400 | E19: 2100 | F19: нет | G19: 1366 | H19: 2074 | I19: 1203 | J19: 1981 | K19: EI 30 см. п.5 Правил | L19: Блочная | M19: Сталь, толщина 1.0 мм | N19: Минеральная вата | O19: 61 | P19: нет | Q19: нет | R19: нет | S19: =Ручки!A2&", "&'Ссылки'!A2&", материал: "&'Ссылки'!H2&", цвет: "&'Ссылки'!G2 -> РД-1, нажимная ручка на круглой розетке, материал: сталь нержавеющая AISI 304, цвет: сталь нержавеющая матовая | T19: ='Петли'!A2&", "&'Ссылки'!C3&", цвет: "&'Ссылки'!G6 -> ПД-1, ввертные, цвет: сталь нержавеющая | U19: =" По проекту: нет / НФ-02, упор дверной "&'Ссылки'!E3 -> По проекту: нет / НФ-02, упор дверной напольный, высота 85 мм, цвет: серый / серебристый | V19: ='Доводчик'!A2&", "&'Ссылки'!B2&", цвет: "&'Ссылки'!G4 -> ДД-1, доводчик, цвет: серебристый | W19: ='Ссылки'!F2 -> RAL 7016 (антрацитово-серый) матовый | X19: ГОСТ Р 57327-2016 / ТУ 25.12.10-007-17157160-2023 | Y19: ДПС 01 2074-1366 пр. EI 30 ГОСТ Р 57327-2016 / ТУ 25.12.10-007-17157160-2023 / ДПС 01 2074-1366 л. EI 30 ГОСТ Р 57327-2016 / ТУ 25.12.10-007-17157160-2023 | AC19: Дверь_Рен_1Ст_Блочная коробка_V3, типоразмер Д-48_1400х2100h_EI30
A20: - Дверь в лифтовый холл | B20: Д-8.1 / Д-8.1л | C20: ="Дверь металлическая, из 2-х листов х/к стали, толщиной 1.0 мм - полотно, 1.2 мм - рама, "&"с заполнение минеральной ватой, противопожарная, дымогазонепроницаемая, остекленная, двупольная, противопожарное остекление 150х1400мм, с автоматически выпадающим порогом, контурный уплотнитель - серый, д"&"оводчик, "&'Ссылки'!A2&", минимальная ширина рабочей створки 950мм, порошковая окраска, цвет "&W20 -> Дверь металлическая, из 2-х листов х/к стали, толщиной 1.0 мм - полотно, 1.2 мм - рама, с заполнение минеральной ватой, противопожарная, дымогазонепроницаемая, остекленная, двупольная, противопожарное остекление 150х1400мм, с автоматически выпадающим порогом, контурный уплотнитель - серый, доводчик, нажимная ручка на круглой розетке, минимальная ширина рабочей створки 950мм, порошковая окраска, цвет RAL 7016 (антрацитово-серый) матовый | D20: 1400 | E20: 2100 | F20: нет | G20: 1358 | H20: 2078 | I20: 1254 | J20: 2024 | K20: EIS 60 см. п.5 Правил | L20: Угловая | M20: Сталь, толщина 1.0 мм | N20: Минеральная вата | O20: 61 | P20: В составе дверной коробки, материал: сталь, ширина: 67 мм, толщина: 15 мм | Q20: нет | R20: нет | S20: =Ручки!A2&", "&'Ссылки'!A2&", материал: "&'Ссылки'!H2&", цвет: "&'Ссылки'!G2 -> РД-1, нажимная ручка на круглой розетке, материал: сталь нержавеющая AISI 304, цвет: сталь нержавеющая матовая | T20: ='Петли'!A2&", "&'Ссылки'!C3&", цвет: "&'Ссылки'!G6 -> ПД-1, ввертные, цвет: сталь нержавеющая | U20: ="НФ-02, упор дверной "&'Ссылки'!E3 -> НФ-02, упор дверной напольный, высота 85 мм, цвет: серый / серебристый | V20: ='Доводчик'!A2&", "&'Ссылки'!B2&", цвет: "&'Ссылки'!G4 -> ДД-1, доводчик, цвет: серебристый | W20: ='Ссылки'!F2 -> RAL 7016 (антрацитово-серый) матовый | X20: ГОСТ Р 57327-2016 / ТУ 25.12.10-003-17157160-2022 | Y20: ДПСО 02 2078-1358 пр. EIS 60 ГОСТ Р 57327-2016 / ТУ 25.12.10-003-17157160-2022 / ДПСО 02 2078-1358 л. EIS 60 ГОСТ Р 57327-2016 / ТУ 25.12.10-003-17157160-2022 | AB20: Сертификат соответствия Техническому регламенту о требованиях пожарной безопасности | AC20: Дверь_Рен_2Ст_Угловая коробка_V3, типоразмер Д-8.1_1400х2100h_EIS60
B21: Д-9 / Д-9л | C21: ="Дверь металлическая, из 2-х листов х/к стали, толщиной 1.0 мм - полотно, 1.2 мм - рама, "&"с заполнением минеральной ватой, противопожарная, дымогазонепроницаемая, остекленная, двупольная, противопожарное остекление 150х1400мм, с автоматически выпадающим порогом, контурный уплотнитель - серый, "&"доводчик, "&'Ссылки'!A2&", минимальная ширина рабочей створки 950мм, порошковая окраска, цвет "&W21 -> Дверь металлическая, из 2-х листов х/к стали, толщиной 1.0 мм - полотно, 1.2 мм - рама, с заполнением минеральной ватой, противопожарная, дымогазонепроницаемая, остекленная, двупольная, противопожарное остекление 150х1400мм, с автоматически выпадающим порогом, контурный уплотнитель - серый, доводчик, нажимная ручка на круглой розетке, минимальная ширина рабочей створки 950мм, порошковая окраска, цвет RAL 7016 (антрацитово-серый) матовый | D21: 1400 | E21: 2100 | F21: нет | G21: 1358 | H21: 2078 | I21: 1254 | J21: 2024 | K21: EIS 30 см. п.5 Правил | L21: Угловая | M21: Сталь, толщина 1.0 мм | N21: Минеральная вата | O21: 61 | P21: В составе дверной коробки, материал: сталь, ширина: 67 мм, толщина: 15 мм | Q21: нет | R21: нет | S21: ='Ручки'!A2&", "&'Ссылки'!A2& ", материал: "&'Ссылки'!H2&", цвет: "&'Ссылки'!G2 -> РД-1, нажимная ручка на круглой розетке, материал: сталь нержавеющая AISI 304, цвет: сталь нержавеющая матовая | T21: ='Петли'!A2&", "&'Ссылки'!C3&", цвет: "&'Ссылки'!G2 -> ПД-1, ввертные, цвет: сталь нержавеющая матовая | U21: ="НФ-02, упор дверной " &'Ссылки'!E3 -> НФ-02, упор дверной напольный, высота 85 мм, цвет: серый / серебристый | V21: ='Доводчик'!A2&", "&'Ссылки'!B2&", цвет: "&'Ссылки'!G4 -> ДД-1, доводчик, цвет: серебристый | W21: ='Ссылки'!F2 -> RAL 7016 (антрацитово-серый) матовый | X21: ГОСТ Р 57327-2016 / ТУ 25.12.10-003-17157160-2022 | Y21: ДПСО 02 2078-1358 пр. EIS 30 ГОСТ Р 57327-2016 / ТУ 25.12.10-003-17157160-2022 / ДПСО 02 2078-1358 л. EIS 30 ГОСТ Р 57327-2016 / ТУ 25.12.10-003-17157160-2022 | AB21: Сертификат соответствия Техническому регламенту о требованиях пожарной безопасности | AC21: Дверь_Рен_2Ст_Угловая коробка_V3, типоразмер Д-9_1400х2100h_EIS30
A22: - Дверь в тамбур-шлюз при лифтовом холле | B22: Д-10 / Д-10л | C22: ="Дверь металлическая, из 2-х листов х/к стали, толщиной 1.0 мм - полотно, 1.2 мм - рама, "&"с заполнением минеральной ватой, противопожарная, остекленная, двупольная, противопожарное остекление 150х1400мм, со стационарным порогом 14 мм, контурный уплотнитель - серый, доводчик, "&'Ссылки'!A2&", минимальная ширина рабочей створки 950мм, порошковая окраска, цвет "&W22 -> Дверь металлическая, из 2-х листов х/к стали, толщиной 1.0 мм - полотно, 1.2 мм - рама, с заполнением минеральной ватой, противопожарная, остекленная, двупольная, противопожарное остекление 150х1400мм, со стационарным порогом 14 мм, контурный уплотнитель - серый, доводчик, нажимная ручка на круглой розетке, минимальная ширина рабочей створки 950мм, порошковая окраска, цвет RAL 7016 (антрацитово-серый) матовый | D22: 1400 | E22: 2100 | F22: нет | G22: 1358 | H22: 2079 | I22: 1254 | J22: 2011 | K22: EI 60 см. п.5 Правил | L22: Угловая | M22: Сталь, толщина 1.0 мм | N22: Минеральная вата | O22: 61 | P22: В составе дверной коробки, материал: сталь, ширина: 67 мм, толщина: 15 мм | Q22: нет | R22: нет | S22: ='Ручки'!A2&", "&'Ссылки'!A2& ", материал: "&'Ссылки'!H2&", цвет: "&'Ссылки'!G2 -> РД-1, нажимная ручка на круглой розетке, материал: сталь нержавеющая AISI 304, цвет: сталь нержавеющая матовая | T22: ='Петли'!A2&", "&'Ссылки'!C3&", цвет: "&'Ссылки'!G6 -> ПД-1, ввертные, цвет: сталь нержавеющая | U22: ="НФ-02, упор дверной " &'Ссылки'!E3 -> НФ-02, упор дверной напольный, высота 85 мм, цвет: серый / серебристый | V22: ='Доводчик'!A2&", "&'Ссылки'!B2&", цвет: "&'Ссылки'!G4 -> ДД-1, доводчик, цвет: серебристый | W22: ='Ссылки'!F2 -> RAL 7016 (антрацитово-серый) матовый | X22: ГОСТ Р 57327-2016 / ТУ 25.12.10-003-17157160-2022 | Y22: ДПСО 02 2079-1358 пр. EI 60 ГОСТ Р 57327-2016 / ТУ 25.12.10-003-17157160-2022 / ДПСО 02 2079-1358 л. EI 60 ГОСТ Р 57327-2016 / ТУ 25.12.10-003-17157160-2022 | AB22: Сертификат соответствия Техническому регламенту о требованиях пожарной безопасности | AC22: Дверь_Рен_2Ст_Угловая коробка_V3, типоразмер Д-10_1400х2100h_EI60
B23: Д-11 / Д-11л | C23: ="Дверь металлическая, из 2-х листов х/к стали, толщиной 1.0 мм - полотно, 1.2 мм - рама, "&"с заполнением минеральной ватой, противопожарная, остекленная, двупольная, противопожарное остекление 150х1400мм, со стационарным порогом 14 мм, контурный уплотнитель - серый, доводчик, "&'Ссылки'!A2&", минимальная ширина рабочей створки 950мм, порошковая окраска, цвет "&W22 -> Дверь металлическая, из 2-х листов х/к стали, толщиной 1.0 мм - полотно, 1.2 мм - рама, с заполнением минеральной ватой, противопожарная, остекленная, двупольная, противопожарное остекление 150х1400мм, со стационарным порогом 14 мм, контурный уплотнитель - серый, доводчик, нажимная ручка на круглой розетке, минимальная ширина рабочей створки 950мм, порошковая окраска, цвет RAL 7016 (антрацитово-серый) матовый | D23: 1400 | E23: 2100 | F23: нет | G23: 1358 | H23: 2079 | I23: 1254 | J23: 2011 | K23: EI 30 см. п.5 Правил | L23: Угловая | M23: Сталь, толщина 1.0 мм | N23: Минеральная вата | O23: 61 | P23: В составе дверной коробки, материал: сталь, ширина: 67 мм, толщина: 15 мм | Q23: нет | R23: нет | S23: ='Ручки'!A2&", "&'Ссылки'!A2& ", материал: "&'Ссылки'!H2&", цвет: "&'Ссылки'!G2 -> РД-1, нажимная ручка на круглой розетке, материал: сталь нержавеющая AISI 304, цвет: сталь нержавеющая матовая | T23: ='Петли'!A2&", "&'Ссылки'!C3&", цвет: "&'Ссылки'!G2 -> ПД-1, ввертные, цвет: сталь нержавеющая матовая | U23: ="НФ-02, упор дверной "&'Ссылки'!E3 -> НФ-02, упор дверной напольный, высота 85 мм, цвет: серый / серебристый | V23: ='Доводчик'!A2&", "&'Ссылки'!B2&", цвет: "&'Ссылки'!G4 -> ДД-1, доводчик, цвет: серебристый | W23: ='Ссылки'!F2 -> RAL 7016 (антрацитово-серый) матовый | X23: ГОСТ Р 57327-2016 / ТУ 25.12.10-003-17157160-2022 | Y23: ДПСО 02 2079-1358 пр. EI 30 ГОСТ Р 57327-2016 / ТУ 25.12.10-003-17157160-2022 / ДПСО 02 2079-1358 л. EI 30 ГОСТ Р 57327-2016 / ТУ 25.12.10-003-17157160-2022 | AB23: Сертификат соответствия Техническому регламенту о требованиях пожарной безопасности | AC23: Дверь_Рен_2Ст_Угловая коробка_V3, типоразмер Д-11_1400х2100h_EI30
A24: - Гермодверь в венткамере | B24: Д-12 / Д-12л | C24: ="Дверь металлическая, из 2-х листов х/к стали, толщиной 0.8 мм - полотно, 1.2 мм - рама, герметичная, с прижимным механизмом, утепленная, со стационарным порогом 45 мм, порошковая окраска, цвет "&W24 -> Дверь металлическая, из 2-х листов х/к стали, толщиной 0.8 мм - полотно, 1.2 мм - рама, герметичная, с прижимным механизмом, утепленная, со стационарным порогом 45 мм, порошковая окраска, цвет RAL 7016 (антрацитово-серый) матовый | D24: 770 (600**) | E24: 1545 (1350**) | F24: 500 | G24: 566 | H24: 1316 | I24: 506 | J24: 1256 | K24: - | L24: Угловая / Накладная | M24: Сталь, толщина 0.8 мм | N24: Минеральная вата | O24: 61 | P24: В составе дверной коробки, материал: сталь, ширина: 57 мм, толщина: 15 мм | Q24: нет | R24: нет | S24: ='Ссылки'!A9 -> ручка-скоба | T24: ='Петли'!A2&", "&'Ссылки'!C3&", цвет: "&'Ссылки'!G6 -> ПД-1, ввертные, цвет: сталь нержавеющая | U24: нет | V24: нет | W24: ='Ссылки'!F2 -> RAL 7016 (антрацитово-серый) матовый | X24: Серия-5.904-4 / ТУ 25.12.10-003-83198695-2020 | Y24: ДУс 1,25х0,5 / ТУ 25.12.10-003-83198695-2020 | Z24: **Размер проема в утеплителе в свету с учётом отделки (см. альбом ЖД-ТАС-РЕН-АР-ТУ.ПЭ.3) | AC24: Дверь_Рен_1Ст_Герметичная_V3, типоразмер Д-12_770х1545h
A25: - Ворота металлические | B25: ВМ-3 | C25: ="Ворота гаражные автоматические противопожарные подъемно-опускные с секционным полотном из стальных сэндвич-панелей с вальным приводом, в нижней части ворот люк с самозакрывающейся заслонкой 200х200мм, крепление внутри помещения, цвет "&W48 -> Ворота гаражные автоматические противопожарные подъемно-опускные с секционным полотном из стальных сэндвич-панелей с вальным приводом, в нижней части ворот люк с самозакрывающейся заслонкой 200х200мм, крепление внутри помещения, цвет RAL 7016 (антрацитово-серый) матовый | D25: 3400 (3300***) см. п. 3 Правил | E25: 2300 (2250***) | F25: нет | G25: - | H25: - | I25: 3300 | J25: 2250 | K25: EI 60 | L25: Накладная | M25: Сэндвич-панели стальные | N25: Минеральная вата | O25: 60 | P25: - | Q25: - | R25: нет | S25: - | T25: - | U25: - | V25: - | W25: ='Ссылки'!F2 -> RAL 7016 (антрацитово-серый) матовый | X25: ГОСТ 31174-2017/ ТУ 5284-001-18897806-2016 ГОСТ 53307-2009 | Y25: ВМ 3400х2300 ГОСТ 31174-2017 / ТУ 5284-001-18897806-2016 | Z25: ***Размер проема в утеплителе в свету | AB25: Сертификат соответствия Техническому регламенту о требованиях пожарной безопасности | AC25: Ворота_Рен_Подъемно-опускные_V3, типоразмер ВМ-3_3400х2300_EI60
B26: ВМ-4 | C26: ="Ворота гаражные автоматические противопожарные подъемно-опускные с секционным полотном из стальных сэндвич-панелей с вальным приводом, с дверью-калиткой 900х2051мм, в нижней части ворот люк с самозакрывающейся заслонкой 200х200мм, крепление внутри помещен"&"ия, цвет "&W49 -> Ворота гаражные автоматические противопожарные подъемно-опускные с секционным полотном из стальных сэндвич-панелей с вальным приводом, с дверью-калиткой 900х2051мм, в нижней части ворот люк с самозакрывающейся заслонкой 200х200мм, крепление внутри помещения, цвет RAL 7016 (антрацитово-серый) матовый | D26: 3400 (3300***) см. п. 3 Правил | E26: 2300 (2250***) | F26: нет | G26: - | H26: - | I26: 3300 | J26: 2250 | K26: EI 60 | L26: Накладная | M26: Сэндвич-панели стальные | N26: Минеральная вата | O26: 60 | P26: - | Q26: - | R26: нет | S26: - | T26: - | U26: - | V26: - | W26: ='Ссылки'!F2 -> RAL 7016 (антрацитово-серый) матовый | X26: ГОСТ 31174-2017/ ТУ 5284-001-18897806-2016 ГОСТ 53307-2009 | Y26: ВМ 3400х2300 ГОСТ 31174-2017 / ТУ 5284-001-18897806-2016 | Z26: ***Размер проема в утеплителе в свету | AB26: Сертификат соответствия Техническому регламенту о требованиях пожарной безопасности | AC26: Ворота_Рен_Подъемно-опускные_V3, типоразмер ВМ-4_3400х2300_EI60_с дверью
A27: - Дверь в универсальный с/у в помещении автостоянки | B27: Д-49 / Д-49л | C27: ="Дверь металлическая, из 2-х листов х/к стали, толщиной 1.0 мм - полотно, 1.2 мм - рама, "&"с заполнением минеральной ватой, глухая, без порога, контурный уплотнитель - серый, доводчик, нажимная ручка, цилиндровый замок 'ключ-вертушка', п"&"орошковая окраска, цвет "&W13 -> Дверь металлическая, из 2-х листов х/к стали, толщиной 1.0 мм - полотно, 1.2 мм - рама, с заполнением минеральной ватой, глухая, без порога, контурный уплотнитель - серый, доводчик, нажимная ручка, цилиндровый замок 'ключ-вертушка', порошковая окраска, цвет RAL 7016 (антрацитово-серый) матовый | D27: 1050 | E27: 2100 | F27: 14 | G27: 1008 | H27: 2068 | I27: 921 | J27: 2014 | K27: - | L27: Угловая | M27: Сталь, толщина 1.0 мм | N27: Минеральная вата | O27: 61 | P27: В составе дверной коробки, материал: сталь, ширина: 67 мм, толщина: 15 мм | Q27: нет | R27: =Замки!A42&", "&'Ссылки'!D3&", материал: "&'Ссылки'!H5&"; цвет: "&'Ссылки'!G7&"; "&Замки!A2&", "&'Ссылки'!D7&", материал: "&'Ссылки'!H4&"; цвет: "&'Ссылки'!G9 -> ЗД-6, цилиндровый замок, материал: сталь нержавеющая; цвет: оцинкованный; ЗД-1, "ключ-вертушка", материал: алюминий; цвет: никель | S27: =Ручки!A10&", "&'Ссылки'!A10&", материал: "&'Ссылки'!H2&", цвет: "&'Ссылки'!G2 -> РД-2, нажимная ручка на планке, материал: сталь нержавеющая AISI 304, цвет: сталь нержавеющая матовая | T27: ='Петли'!A2&", "&'Ссылки'!C3&", цвет: "&'Ссылки'!G6 -> ПД-1, ввертные, цвет: сталь нержавеющая | U27: ="НФ-02, упор дверной "&'Ссылки'!E3 -> НФ-02, упор дверной напольный, высота 85 мм, цвет: серый / серебристый | V27: ='Доводчик'!A2&", "&'Ссылки'!B2&", цвет: "&'Ссылки'!G4 -> ДД-1, доводчик, цвет: серебристый | W27: ='Ссылки'!F2 -> RAL 7016 (антрацитово-серый) матовый | X27: ГОСТ Р 31173-2016 / ТУ 25.12.10-001-17157160-2017 | Y27: ДСВ, В, Оп, Пр, Брг, Н, Псп, О - ГОСТ 31173-2016 /ТУ 25.12.10-001-17157160-2017 / ДСВ, В, Оп, Л, Брг, Н, Псп, О - ГОСТ 31173-2016 / ТУ 25.12.10-001-17157160-2017 | AC27: Дверь_Рен_1Ст_Угловая коробка_V3, типоразмер Д-49_1050х2100h_с/у_парковка
A28: ПЕРВЫЙ ЭТАЖ
A29: - Дверь в помещение охраны (при входе из помещения рампы) | B29: Д-13 / Д-13л | C29: ="Дверь металлическая, из 2-х листов х/к стали, толщиной 1.0 мм - полотно, 1.2 мм - рама, "&"с заполнением минеральной ватой, противопожарная, глухая, со стационарным порогом 14 мм, контурный уплотнитель - серый, доводчик, нажимная ручка, цилиндровый замок 'ключ-вертушка', порошковая окраска, цве"&"т "&W29 -> Дверь металлическая, из 2-х листов х/к стали, толщиной 1.0 мм - полотно, 1.2 мм - рама, с заполнением минеральной ватой, противопожарная, глухая, со стационарным порогом 14 мм, контурный уплотнитель - серый, доводчик, нажимная ручка, цилиндровый замок 'ключ-вертушка', порошковая окраска, цвет RAL 7016 (антрацитово-серый) матовый | D29: 1000 | E29: 2100 | F29: нет | G29: 958 | H29: 2079 | I29: 871 | J29: 2011 | K29: EI 60 | L29: Угловая | M29: Сталь, толщина 1.0 мм | N29: Минеральная вата | O29: 61 | P29: В составе дверной коробки, материал: сталь, ширина: 67 мм, толщина: 15 мм | Q29: нет | R29: =Замки!A42&", "&'Ссылки'!D3&", материал: "&'Ссылки'!H5&"; цвет: "&'Ссылки'!G7&"; "&Замки!A2&", "&'Ссылки'!D7&", материал: "&'Ссылки'!H4&"; цвет: "&'Ссылки'!G9 -> ЗД-6, цилиндровый замок, материал: сталь нержавеющая; цвет: оцинкованный; ЗД-1, "ключ-вертушка", материал: алюминий; цвет: никель | S29: =Ручки!A10&", "&'Ссылки'!A10&", материал: "&'Ссылки'!H2&", цвет: "&'Ссылки'!G2 -> РД-2, нажимная ручка на планке, материал: сталь нержавеющая AISI 304, цвет: сталь нержавеющая матовая | T29: ='Петли'!A2&", "&'Ссылки'!C3&", цвет: "&'Ссылки'!G6 -> ПД-1, ввертные, цвет: сталь нержавеющая | U29: нет | V29: ='Доводчик'!A2&", "&'Ссылки'!B2&", цвет: "&'Ссылки'!G4 -> ДД-1, доводчик, цвет: серебристый | W29: ='Ссылки'!F2 -> RAL 7016 (антрацитово-серый) матовый | X29: ГОСТ Р 57327-2016 / ТУ 25.12.10-001-17157160-2018 | Y29: ДПС 01 2079-958 пр. EI 60 ГОСТ Р 57327-2016 / ТУ 25.12.10-001-17157160-2018 / ДПС 01 2079-958 л. EI 60 ГОСТ Р 57327-2016 / ТУ 25.12.10-001-17157160-2018 | AB29: Сертификат соответствия Техническому регламенту о требованиях пожарной безопасности | AC29: Дверь_Рен_1Ст_Угловая коробка_V3, типоразмер Д-13_1000х2100h_EI60_Охрана
A30: - Дверь в помещение консьержа | B30: Д-14 / Д-14л см. п. 1 Правил | C30: ="Дверь металлическая, из 2-х листов х/к стали, толщиной 1.0 мм - полотно, 1.2 мм - рама, "&"с заполнением минеральной ватой, глухая, со стационарным порогом 14 мм, контурный уплотнитель - серый, доводчик, нажимная ручка на круглой розетке, цилиндровый замок 'ключ-вертушка',"&" порошковая окраска, "&'Ссылки'!F15 -> Дверь металлическая, из 2-х листов х/к стали, толщиной 1.0 мм - полотно, 1.2 мм - рама, с заполнением минеральной ватой, глухая, со стационарным порогом 14 мм, контурный уплотнитель - серый, доводчик, нажимная ручка на круглой розетке, цилиндровый замок 'ключ-вертушка', порошковая окраска, цвет принять в соответствии с Цветовой матрицей | D30: 1000 | E30: 2100 | F30: нет | G30: 958 | H30: 2079 | I30: 871 | J30: 2011 | K30: - | L30: Угловая | M30: Сталь, толщина 1.0 мм | N30: Минеральная вата | O30: 61 | P30: В составе дверной коробки, материал: сталь, ширина: 67 мм, толщина: 15 мм | Q30: нет | R30: ='Замки'!A42&", "& 'Ссылки'!D3&", материал: "&'Ссылки'!H5&"; цвет: "&'Ссылки'!G7 &"; " &'Замки'!A2&", "& 'Ссылки'!D7&", материал: "&'Ссылки'!H4&"; цвет: "&'Ссылки'!G9 -> ЗД-6, цилиндровый замок, материал: сталь нержавеющая; цвет: оцинкованный; ЗД-1, "ключ-вертушка", материал: алюминий; цвет: никель | S30: ='Ручки'!A2&", "&'Ссылки'!A2& ", материал: "&'Ссылки'!H2&", цвет: "&'Ссылки'!G2 -> РД-1, нажимная ручка на круглой розетке, материал: сталь нержавеющая AISI 304, цвет: сталь нержавеющая матовая | T30: ='Петли'!A2&", "&'Ссылки'!C3&", цвет: "&'Ссылки'!G6 -> ПД-1, ввертные, цвет: сталь нержавеющая | U30: ="НФ-03, упор дверной " &'Ссылки'!E2 -> НФ-03, упор дверной напольный, высота 40 мм, цвет: никель матовый, резинка серая | V30: ='Доводчик'!A2&", "&'Ссылки'!B2&", цвет: "&'Ссылки'!G4 -> ДД-1, доводчик, цвет: серебристый | W30: ='Ссылки'!F18 -> RAL 9003 (сигнальный белый)/ RAL 7016 (антрацитово- серый) матовый | X30: ГОСТ Р 31173-2016 / ТУ 25.12.10-001-17157160-2017 | Y30: ДСВ, В, Оп, Пр, Прг, Вн, Псп, О - ГОСТ 31173-2016 / ТУ 25.12.10-001-17157160-2017 / ДСВ, В, Оп, Л, Прг, Вн, Псп, О - ГОСТ 31173-2016 / ТУ 25.12.10-001-17157160-2017 | AC30: Дверь_Рен_1Ст_Угловая коробка_V3, типоразмер Д-14_1000х2100h_Консьерж
A31: - Дверь в с/у консьержа - Дверь в ПУИ консьержа (при входе из помещения консьержа) | B31: Д-15 / Д-15л | C31: ="Дверь деревянная глухая без порога, телескопический наличник, добор, контурный уплотнитель - белый, нажимная ручка, цилиндровый замок 'ключ-вертушка', ограничитель, внешняя отделка двери древесноволокнистая плита средней плотности с защитным покрытием ("&'Ссылки'!F10&")" -> Дверь деревянная глухая без порога, телескопический наличник, добор, контурный уплотнитель - белый, нажимная ручка, цилиндровый замок 'ключ-вертушка', ограничитель, внешняя отделка двери древесноволокнистая плита средней плотности с защитным покрытием (ПВХ пленка гладкая FineVinyl МВР 15АР-024 0,25*1400, цвет: белый снег) | D31: 800 | E31: 2070 | F31: 15 | G31: 750 | H31: 2022 | I31: 650 | J31: 1990 | K31: - | L31: Телескопическая | M31: Каркас из бруса хвойных пород, внешняя отделка двери древесноволокнистая плита средней плотности с защитным покрытием | N31: Сплошное заполнение из бруса хвойных пород | O31: 39 | P31: ="Телескопический, материал: МДФ с защитным покрытием, ширина: 70 мм, толщина: 10 мм, финишное покрытие: "&'Ссылки'!F10 -> Телескопический, материал: МДФ с защитным покрытием, ширина: 70 мм, толщина: 10 мм, финишное покрытие: ПВХ пленка гладкая FineVinyl МВР 15АР-024 0,25*1400, цвет: белый снег | Q31: ="Добор с пазом под телескопический наличник, материал: МДФ с финишным покрытием; финишное покрытие: "&'Ссылки'!F10 -> Добор с пазом под телескопический наличник, материал: МДФ с финишным покрытием; финишное покрытие: ПВХ пленка гладкая FineVinyl МВР 15АР-024 0,25*1400, цвет: белый снег | R31: =Замки!A66&", "&'Ссылки'!D3&", материал: "&'Ссылки'!H5&"; цвет: "&'Ссылки'!G8&"; "&Замки!A2&", "&'Ссылки'!D7&", материал: "&'Ссылки'!H4&"; цвет: "&'Ссылки'!G9 -> ЗД-9, цилиндровый замок, материал: сталь нержавеющая; цвет: матовый хром; ЗД-1, "ключ-вертушка", материал: алюминий; цвет: никель | S31: ='Ручки'!A26&", "&'Ссылки'!A2& ", материал: "&'Ссылки'!H4&", цвет: "&'Ссылки'!G3 -> РД-4, нажимная ручка на круглой розетке, материал: алюминий, цвет: никель матовый | T31: ='Петли'!A10&", "&'Ссылки'!C2&", цвет: "&'Ссылки'!G3 -> ПД-2, накладные без врезки, цвет: никель матовый | U31: ="НФ-02, упор дверной " &'Ссылки'!E3 -> НФ-02, упор дверной напольный, высота 85 мм, цвет: серый / серебристый | V31: нет | W31: ='Ссылки'!F10 -> ПВХ пленка гладкая FineVinyl МВР 15АР-024 0,25*1400, цвет: белый снег | X31: ГОСТ 475-2016 | Y31: ДС 1 Рп 20.7х8 Г ПрБ Мд1 ГОСТ 475-2016 / ДС 1 Рл 20.7х8 Г ПрБ Мд1 ГОСТ 475-2016 | AC31: Дверь_Рен_1Ст_Телескопическая коробка_V3, типоразмер Д-15_800х2070h
A32: - Дверь в с/у охраны | U32: нет
A33: - Дверь в душевую ОДС - Дверь в ПУИ ОДС | U33: ="НФ-03, упор дверной "&'Ссылки'!E2 -> НФ-03, упор дверной напольный, высота 40 мм, цвет: никель матовый, резинка серая
A34: - Дверь в ПУИ ЦИН | B34: Д-15.1 / Д-15.1л | C34: ="Дверь деревянная глухая без порога, телескопический наличник, добор, контурный уплотнитель - белый, нажимная ручка, цилиндровый замок 'ключ-вертушка', ограничитель, внешняя отделка двери древесноволокнистая плита средней плотности с защитным покрытием, эм"&"аль и акриловый лак, цвет "&W34 -> Дверь деревянная глухая без порога, телескопический наличник, добор, контурный уплотнитель - белый, нажимная ручка, цилиндровый замок 'ключ-вертушка', ограничитель, внешняя отделка двери древесноволокнистая плита средней плотности с защитным покрытием, эмаль и акриловый лак, цвет RAL 9001 (кремово-белый) | D34: 800 | E34: 2070 | F34: 15 | G34: 750 | H34: 2022 | I34: 650 | J34: 1990 | K34: - | L34: Телескопическая | M34: Каркас из бруса хвойных пород, внешняя отделка двери древесноволокнистая плита средней плотности с защитным покрытием | N34: Сплошное заполнение из бруса хвойных пород | O34: 39 | P34: Телескопический, материал: МДФ с защитным покрытием, ширина: 70 мм, толщина: 10 мм, финишное покрытие: эмаль и акриловый полуматовый лак | Q34: Добор с пазом под телескопический наличник, материал: МДФ, финишное покрытие: эмаль и акриловый полуматовый лак | R34: =Замки!A66&", "&'Ссылки'!D3&", материал: "&'Ссылки'!H5&"; цвет: "&'Ссылки'!G8&"; "&Замки!A2&", "&'Ссылки'!D7&", материал: "&'Ссылки'!H4&"; цвет: "&'Ссылки'!G9 -> ЗД-9, цилиндровый замок, материал: сталь нержавеющая; цвет: матовый хром; ЗД-1, "ключ-вертушка", материал: алюминий; цвет: никель | S34: ='Ручки'!A26&", "&'Ссылки'!A2& ", материал: "&'Ссылки'!H4&", цвет: "&'Ссылки'!G3 -> РД-4, нажимная ручка на круглой розетке, материал: алюминий, цвет: никель матовый | T34: ='Петли'!A10&", "&'Ссылки'!C2&", цвет: "&'Ссылки'!G3 -> ПД-2, накладные без врезки, цвет: никель матовый | U34: ="НФ-03, упор дверной " &'Ссылки'!E2 -> НФ-03, упор дверной напольный, высота 40 мм, цвет: никель матовый, резинка серая | V34: нет | W34: ='Ссылки'!F9 -> RAL 9001 (кремово-белый) | X34: ГОСТ 475-2016 | Y34: ДС 1 Рп 20.7х8 Г ПрБ Мд1 ГОСТ 475-2016 / ДС 1 Рл 20.7х8 Г ПрБ Мд1 ГОСТ 475-2016 | AC34: Дверь_Рен_1Ст_Телескопическая коробка_V3, типоразмер Д-15.1_800х2070h
A35: - Дверь в универсальный с/у ОДС | B35: Д-16 / Д-16л | C35: ="Дверь деревянная глухая без порога, телескопический наличник, добор, контурный уплотнитель - белый, нажимная ручка, защелка врезная, ограничитель, внешняя отделка двери древесноволокнистая плита средней плотности с защитным покрытием ("&'Ссылки'!F10&")" -> Дверь деревянная глухая без порога, телескопический наличник, добор, контурный уплотнитель - белый, нажимная ручка, защелка врезная, ограничитель, внешняя отделка двери древесноволокнистая плита средней плотности с защитным покрытием (ПВХ пленка гладкая FineVinyl МВР 15АР-024 0,25*1400, цвет: белый снег) | D35: 1050 | E35: 2070 | F35: 14 | G35: 1000 | H35: 2023 | I35: 900 | J35: 1991 | K35: - | L35: Телескопическая | M35: Каркас из бруса хвойных пород, внешняя отделка двери древесноволокнистая плита средней плотности с защитным покрытием | N35: Сплошное заполнение из бруса хвойных пород | O35: 39 | P35: ="Телескопический, материал: МДФ с защитным покрытием, ширина: 70 мм, толщина: 10 мм, финишное покрытие: "&'Ссылки'!F10 -> Телескопический, материал: МДФ с защитным покрытием, ширина: 70 мм, толщина: 10 мм, финишное покрытие: ПВХ пленка гладкая FineVinyl МВР 15АР-024 0,25*1400, цвет: белый снег | Q35: ="Добор с пазом под телескопический наличник, материал: МДФ с финишным покрытием; финишное покрытие: "&'Ссылки'!F10 -> Добор с пазом под телескопический наличник, материал: МДФ с финишным покрытием; финишное покрытие: ПВХ пленка гладкая FineVinyl МВР 15АР-024 0,25*1400, цвет: белый снег | R35: =Замки!A50&", "&'Ссылки'!D2&", материал: "&'Ссылки'!H5&", цвет: "&'Ссылки'!G6&"; "&Замки!A58&", "&'Ссылки'!A6 -> ЗД-7, защелка врезная бесшумная, материал: сталь нержавеющая, цвет: сталь нержавеющая ; ЗД-8, фиксатор, материал: сталь нержавеющая, цвет: сталь нержавеющая | S35: ='Ручки'!A26&", "&'Ссылки'!A2& ", материал: "&'Ссылки'!H4&", цвет: "&'Ссылки'!G3 -> РД-4, нажимная ручка на круглой розетке, материал: алюминий, цвет: никель матовый | T35: ='Петли'!A10&", "&'Ссылки'!C2&", цвет: "&'Ссылки'!G3 -> ПД-2, накладные без врезки, цвет: никель матовый | U35: ="НФ-03, упор дверной " &'Ссылки'!E2 -> НФ-03, упор дверной напольный, высота 40 мм, цвет: никель матовый, резинка серая | V35: нет | W35: ='Ссылки'!F10 -> ПВХ пленка гладкая FineVinyl МВР 15АР-024 0,25*1400, цвет: белый снег | X35: ГОСТ 475-2016 | Y35: ДС 1 Рп 20.7х10.5 Г ПрБ Мд1 ГОСТ 475-2016 / ДС 1 Рл 20.7х10.5 Г ПрБ Мд1 ГОСТ 475-2016 | AC35: Дверь_Рен_1Ст_Телескопическая коробка_V3, типоразмер Д-16_1050х2070h_санузел_ОДС
A36: - Дверь в универсальный с/у ЦИН | B36: Д-16.1 / Д-16.1л | C36: ="Дверь деревянная глухая без порога, телескопический наличник, добор, контурный уплотнитель - белый, нажимная ручка, защелка врезная, ограничитель, внешняя отделка двери древесноволокнистая плита средней плотности с защитным покрытием, эмаль и акриловый ла"&"к, цвет "&W36 -> Дверь деревянная глухая без порога, телескопический наличник, добор, контурный уплотнитель - белый, нажимная ручка, защелка врезная, ограничитель, внешняя отделка двери древесноволокнистая плита средней плотности с защитным покрытием, эмаль и акриловый лак, цвет RAL 9001 (кремово-белый) | D36: 1050 | E36: 2070 | F36: 14 | G36: 1000 | H36: 2023 | I36: 900 | J36: 1991 | K36: - | L36: Телескопическая | M36: Каркас из бруса хвойных пород, внешняя отделка двери древесноволокнистая плита средней плотности с защитным покрытием | N36: Сплошное заполнение из бруса хвойных пород | O36: 39 | P36: Телескопический, материал: МДФ с защитным покрытием, ширина: 70 мм, толщина: 10 мм, финишное покрытие: эмаль и акриловый полуматовый лак | Q36: Добор с пазом под телескопический наличник, материал: МДФ, финишное покрытие: эмаль и акриловый полуматовый лак | R36: =Замки!A50&", "&'Ссылки'!D2&", материал: "&'Ссылки'!H5&", цвет: "&'Ссылки'!G6&"; "&Замки!A58&", "&'Ссылки'!A6 -> ЗД-7, защелка врезная бесшумная, материал: сталь нержавеющая, цвет: сталь нержавеющая ; ЗД-8, фиксатор, материал: сталь нержавеющая, цвет: сталь нержавеющая | S36: ='Ручки'!A26&", "&'Ссылки'!A2& ", материал: "&'Ссылки'!H4&", цвет: "&'Ссылки'!G3 -> РД-4, нажимная ручка на круглой розетке, материал: алюминий, цвет: никель матовый | T36: ='Петли'!A10&", "&'Ссылки'!C2&", цвет: "&'Ссылки'!G3 -> ПД-2, накладные без врезки, цвет: никель матовый | U36: ="НФ-03, упор дверной " &'Ссылки'!E2 -> НФ-03, упор дверной напольный, высота 40 мм, цвет: никель матовый, резинка серая | V36: нет | W36: ='Ссылки'!F9 -> RAL 9001 (кремово-белый) | X36: ГОСТ 475-2016 | Y36: ДС 1 Рп 20.7х10.5 Г ПрБ Мд1 ГОСТ 475-2016 / ДС 1 Рл 20.7х10.5 Г ПрБ Мд1 ГОСТ 475-2016 | AC36: Дверь_Рен_1Ст_Телескопическая коробка_V2, типоразмер Д-16.1_1050х2070h_санузел_ЦИН
A37: - Дверь в сухие помещения ОДС | B37: Д-17 / Д-17л | C37: ="Дверь деревянная глухая без порога, телескопический наличник, добор, контурный уплотнитель - белый, нажимная ручка, цилиндровый замок 'ключ-вертушка', ограничитель, внешняя отделка двери древесноволокнистая плита средней плотности с защитным покрытием ("&'Ссылки'!F10&")" -> Дверь деревянная глухая без порога, телескопический наличник, добор, контурный уплотнитель - белый, нажимная ручка, цилиндровый замок 'ключ-вертушка', ограничитель, внешняя отделка двери древесноволокнистая плита средней плотности с защитным покрытием (ПВХ пленка гладкая FineVinyl МВР 15АР-024 0,25*1400, цвет: белый снег) | D37: 1050 | E37: 2070 | F37: нет | G37: 1000 | H37: 2037 | I37: 900 | J37: 2005 | K37: - | L37: Телескопическая | M37: Каркас из бруса хвойных пород, внешняя отделка двери древесноволокнистая плита средней плотности с защитным покрытием | N37: Сплошное заполнение из бруса хвойных пород | O37: 39 | P37: ="Телескопический, материал: МДФ с защитным покрытием, ширина: 70 мм, толщина: 10 мм, финишное покрытие: "&'Ссылки'!F10 -> Телескопический, материал: МДФ с защитным покрытием, ширина: 70 мм, толщина: 10 мм, финишное покрытие: ПВХ пленка гладкая FineVinyl МВР 15АР-024 0,25*1400, цвет: белый снег | Q37: ="Добор с пазом под телескопический наличник, материал: МДФ с финишным покрытием; финишное покрытие: "&'Ссылки'!F10 -> Добор с пазом под телескопический наличник, материал: МДФ с финишным покрытием; финишное покрытие: ПВХ пленка гладкая FineVinyl МВР 15АР-024 0,25*1400, цвет: белый снег | R37: ='Замки'!A66&", "& 'Ссылки'!D3&", материал: "&'Ссылки'!H5&"; цвет: "&'Ссылки'!G8 &"; " &'Замки'!A2&", "& 'Ссылки'!D7&", материал: "&'Ссылки'!H4&"; цвет: "&'Ссылки'!G9 -> ЗД-9, цилиндровый замок, материал: сталь нержавеющая; цвет: матовый хром; ЗД-1, "ключ-вертушка", материал: алюминий; цвет: никель | S37: ='Ручки'!A26&", "&'Ссылки'!A2& ", материал: "&'Ссылки'!H4&", цвет: "&'Ссылки'!G3 -> РД-4, нажимная ручка на круглой розетке, материал: алюминий, цвет: никель матовый | T37: ='Петли'!A10&", "&'Ссылки'!C2&", цвет: "&'Ссылки'!G3 -> ПД-2, накладные без врезки, цвет: никель матовый | U37: ="НФ-03, упор дверной " &'Ссылки'!E2 -> НФ-03, упор дверной напольный, высота 40 мм, цвет: никель матовый, резинка серая | V37: нет | W37: ='Ссылки'!F10 -> ПВХ пленка гладкая FineVinyl МВР 15АР-024 0,25*1400, цвет: белый снег | X37: ГОСТ 475-2016 | Y37: ДМ 1 Рп 20.7х10.5 Г ПрБ Мд1 ГОСТ 475-2016 / ДМ 1 Рл 20.7х10.5 Г ПрБ Мд1 ГОСТ 475-2016 | AC37: Дверь_Рен_1Ст_Телескопическая коробка_V3, типоразмер Д-17_1050х2070h_ОДС
A38: - Дверь в служебное помещение ЦИН | B38: Д-17.1 / Д-17.1л | C38: ="Дверь деревянная глухая без порога, телескопический наличник, добор, контурный уплотнитель - белый, нажимная ручка, цилиндровый замок 'ключ-вертушка', ограничитель, внешняя отделка двери древесноволокнистая плита средней плотности с защитным покрытием, эм"&"аль и акриловый лак, цвет "&W38 -> Дверь деревянная глухая без порога, телескопический наличник, добор, контурный уплотнитель - белый, нажимная ручка, цилиндровый замок 'ключ-вертушка', ограничитель, внешняя отделка двери древесноволокнистая плита средней плотности с защитным покрытием, эмаль и акриловый лак, цвет RAL 9001 (кремово-белый) | D38: 1050 | E38: 2070 | F38: нет | G38: 1000 | H38: 2037 | I38: 900 | J38: 2005 | K38: - | L38: Телескопическая | M38: Каркас из бруса хвойных пород, внешняя отделка двери древесноволокнистая плита средней плотности с защитным покрытием | N38: Сплошное заполнение из бруса хвойных пород | O38: 39 | P38: Телескопический, материал: МДФ с защитным покрытием, ширина: 70 мм, толщина: 10 мм, финишное покрытие: эмаль и акриловый полуматовый лак | Q38: Добор с пазом под телескопический наличник, материал: МДФ, финишное покрытие: эмаль и акриловый полуматовый лак | R38: ='Замки'!A66&", "& 'Ссылки'!D3&", материал: "&'Ссылки'!H5&"; цвет: "&'Ссылки'!G8 &"; " &'Замки'!A2&", "& 'Ссылки'!D7&", материал: "&'Ссылки'!H4&"; цвет: "&'Ссылки'!G9 -> ЗД-9, цилиндровый замок, материал: сталь нержавеющая; цвет: матовый хром; ЗД-1, "ключ-вертушка", материал: алюминий; цвет: никель | S38: ='Ручки'!A26&", "&'Ссылки'!A2& ", материал: "&'Ссылки'!H4&", цвет: "&'Ссылки'!G3 -> РД-4, нажимная ручка на круглой розетке, материал: алюминий, цвет: никель матовый | T38: ='Петли'!A10&", "&'Ссылки'!C2&", цвет: "&'Ссылки'!G3 -> ПД-2, накладные без врезки, цвет: никель матовый | U38: ="НФ-03, упор дверной " &'Ссылки'!E2 -> НФ-03, упор дверной напольный, высота 40 мм, цвет: никель матовый, резинка серая | V38: нет | W38: ='Ссылки'!F9 -> RAL 9001 (кремово-белый) | X38: ГОСТ 475-2016 | Y38: ДМ 1 Рп 20.7х10.5 Г ПрБ Мд1 ГОСТ 475-2016 / ДМ 1 Рл 20.7х10.5 Г ПрБ Мд1 ГОСТ 475-2016 | AC38: Дверь_Рен_1Ст_Телескопическая коробка_V3, типоразмер Д-17.1_1050х2070h_ЦИН
A39: - Дверь в диспетчерскую | B39: Д-20 / Д-20л | C39: ="Дверь металлическая, из 2-х листов х/к стали, толщиной 1.0 мм - полотно, 1.2 мм - рама, "&"с заполнением минеральной ватой, глухая со стационарным порогом 14мм, контурный уплотнитель - серый, доводчик, нажимная ручка, цилиндровый замок 'ключ-вертушка', порошковая окраска, цвет "&W39 -> Дверь металлическая, из 2-х листов х/к стали, толщиной 1.0 мм - полотно, 1.2 мм - рама, с заполнением минеральной ватой, глухая со стационарным порогом 14мм, контурный уплотнитель - серый, доводчик, нажимная ручка, цилиндровый замок 'ключ-вертушка', порошковая окраска, цвет RAL 7016 (антрацитово-серый) матовый | D39: 1100 | E39: 2100 | F39: нет | G39: 1058 | H39: 2079 | I39: 971 | J39: 2011 | K39: - | L39: Угловая | M39: Сталь, толщина 1.0 мм | N39: Минеральная вата | O39: 61 | P39: В составе дверной коробки, материал: сталь, ширина: 67 мм, толщина: 15 мм | Q39: нет | R39: ='Замки'!A42&", "& 'Ссылки'!D3&", материал: "&'Ссылки'!H5&"; цвет: "&'Ссылки'!G7 &"; " &'Замки'!A2&", "& 'Ссылки'!D7&", материал: "&'Ссылки'!H4&"; цвет: "&'Ссылки'!G9 -> ЗД-6, цилиндровый замок, материал: сталь нержавеющая; цвет: оцинкованный; ЗД-1, "ключ-вертушка", материал: алюминий; цвет: никель | S39: =Ручки!A10&", "&'Ссылки'!A10&", материал: "&'Ссылки'!H2&", цвет: "&'Ссылки'!G2 -> РД-2, нажимная ручка на планке, материал: сталь нержавеющая AISI 304, цвет: сталь нержавеющая матовая | T39: ='Петли'!A2&", "&'Ссылки'!C3&", цвет: "&'Ссылки'!G6 -> ПД-1, ввертные, цвет: сталь нержавеющая | U39: ="НФ-02, упор дверной " &'Ссылки'!E3 -> НФ-02, упор дверной напольный, высота 85 мм, цвет: серый / серебристый | V39: ='Доводчик'!A2&", "&'Ссылки'!B2&", цвет: "&'Ссылки'!G4 -> ДД-1, доводчик, цвет: серебристый | W39: ='Ссылки'!F2 -> RAL 7016 (антрацитово-серый) матовый | X39: ГОСТ Р 31173-2016 / ТУ 25.12.10-001-17157160-2017 | Y39: ДСВв, В1, Оп, Пр, Прг, Н, П2лс, О - ГОСТ 31173-2016 / ТУ 25.12.10-001-17157160-2017 / ДСВв, В1, Оп, Л, Прг, Н, П2лс, О - ГОСТ 31173-2016 / ТУ 25.12.10-001-17157160-2017 | AC39: Дверь_Рен_1Ст_Угловая коробка_V3, типоразмер Д-20_1100х2100h
A40: - Дверь в нишу СС | B40: Д-22 / Д-22л см. п. 1 Правил | C40: ="Дверь металлическая, из 2-х листов х/к стали, толщиной 1.0 мм - полотно, 1.2 мм - рама, "&"с заполнением минеральной ватой, с приточно-вытяжным вентиляционным отверстием 600х24мм (2 шт.),со стационарным порогом 14 мм, антивандальным сувальдны"&"м замком под универсальный мастер-ключ, порошковая окраска, "&'Ссылки'!F15 -> Дверь металлическая, из 2-х листов х/к стали, толщиной 1.0 мм - полотно, 1.2 мм - рама, с заполнением минеральной ватой, с приточно-вытяжным вентиляционным отверстием 600х24мм (2 шт.),со стационарным порогом 14 мм, антивандальным сувальдным замком под универсальный мастер-ключ, порошковая окраска, цвет принять в соответствии с Цветовой матрицей | D40: 1000 | E40: 2100 | F40: нет | G40: 956 | H40: 2079 | I40: 850 | J40: 2015 | K40: - | L40: Угловая | M40: Сталь, толщина 1.0 мм | N40: Минеральная вата | O40: 52 | P40: В составе дверной коробки, материал: сталь, ширина: 70 мм, толщина: 15 мм | Q40: нет | R40: =Замки!A26&", "&'Ссылки'!D6&"; материал: "&'Ссылки'!H5&", цвет: "&'Ссылки'!G9 -> ЗД-4, антивандальный сувальдный замок, под универсальный мастер-ключ; материал: сталь нержавеющая, цвет: никель | S40: нет | T40: ='Петли'!A2&", "&'Ссылки'!C3&", цвет: "&'Ссылки'!G6 -> ПД-1, ввертные, цвет: сталь нержавеющая | U40: нет | V40: нет | W40: ='Ссылки'!F18 -> RAL 9003 (сигнальный белый)/ RAL 7016 (антрацитово- серый) матовый | X40: ГОСТ Р 31173-2016 / ТУ 25.12.10-001-17157160-2017 | Y40: ДСВв, В1, Оп, Пр, Прг, Н, П2лс, О - ГОСТ 31173-2016 / ТУ 25.12.10-001-17157160-2017 / ДСВв, В1, Оп, Л, Прг, Н, П2лс, О - ГОСТ 31173-2016/ ТУ 25.12.10-001-17157160-2017 | AC40: Дверь_Рен_1Ст_Угловая коробка_V3, типоразмер Д-22_1000х2100h_СС
A41: - Дверь в пространство для прокладки инженерных коммуникаций | B41: Д-23 / Д-23л | C41: ="Дверь металлическая, из 2-х листов х/к стали, толщиной 1.0 мм - полотно, 1.2 мм - рама, "&"с заполнение минераловатным утеплителем, противопожарная, глухая, со стационарным порогом 14 мм, контурный уплотнитель - серый, доводчик, нажимная ручка, цилиндровый замок 'ключ-вертушка', порошковая окраска, ц"&"вет "&W41 -> Дверь металлическая, из 2-х листов х/к стали, толщиной 1.0 мм - полотно, 1.2 мм - рама, с заполнение минераловатным утеплителем, противопожарная, глухая, со стационарным порогом 14 мм, контурный уплотнитель - серый, доводчик, нажимная ручка, цилиндровый замок 'ключ-вертушка', порошковая окраска, цвет RAL 7016 (антрацитово-серый) матовый | D41: 1000 | E41: 1710 | F41: нет | G41: 958 | H41: 1689 | I41: 871 | J41: 1621 | K41: EI 60 | L41: Угловая | M41: Сталь, толщина 1.0 мм | N41: Минеральная вата | O41: 61 | P41: В составе дверной коробки, материал: сталь, ширина: 67 мм, толщина: 15 мм | Q41: нет | R41: ='Замки'!A42&", "& 'Ссылки'!D3&", материал: "&'Ссылки'!H5&"; цвет: "&'Ссылки'!G7 &"; " &'Замки'!A2&", "& 'Ссылки'!D7&", материал: "&'Ссылки'!H4&"; цвет: "&'Ссылки'!G9 -> ЗД-6, цилиндровый замок, материал: сталь нержавеющая; цвет: оцинкованный; ЗД-1, "ключ-вертушка", материал: алюминий; цвет: никель | S41: ='Ручки'!A18&", "&'Ссылки'!A10& ", материал: "&'Ссылки'!H3&", цвет: "&'Ссылки'!G5 -> РД-3, нажимная ручка на планке, материал: сталь нержавеющая / нейлон, цвет: черный | T41: ='Петли'!A2&", "&'Ссылки'!C3&", цвет: "&'Ссылки'!G6 -> ПД-1, ввертные, цвет: сталь нержавеющая | U41: нет | V41: ='Доводчик'!A2&", "&'Ссылки'!B2&", цвет: "&'Ссылки'!G4 -> ДД-1, доводчик, цвет: серебристый | W41: ='Ссылки'!F2 -> RAL 7016 (антрацитово-серый) матовый | X41: ГОСТ Р 57327-2016 / ТУ 25.12.10-001-17157160-2018 | Y41: ДПС 01 1689-958 пр. EI 60 ГОСТ Р 57327-2016 / ТУ 25.12.10-001-17157160-2018 / ДПС 01 1689-958 л. EI 60 ГОСТ Р 57327-2016 / ТУ 25.12.10-001-17157160-2018 | AB41: Сертификат соответствия Техническому регламенту о требованиях пожарной безопасности | AC41: Дверь_Рен_1Ст_Угловая коробка_V3, типоразмер Д-23_1000х1710h_EI60
A42: - Дверь в ПУИ консьержа (при входе из вестибюля) | B42: Д-40 / Д-40л см. п. 1 Правил | C42: ="Дверь металлическая из 2-х листов х/к стали, толщиной 1.0 мм - полотно, 1.2 мм - рама, "&"с заполнением минеральной ватой, глухая, без порога, контурный уплотнитель - серый, доводчик, металлические доборы, нажимная ручка на круглой розетке, цилиндровый замок 'ключ-вертушка', порошковая окраска, "&'Ссылки'!F15 -> Дверь металлическая из 2-х листов х/к стали, толщиной 1.0 мм - полотно, 1.2 мм - рама, с заполнением минеральной ватой, глухая, без порога, контурный уплотнитель - серый, доводчик, металлические доборы, нажимная ручка на круглой розетке, цилиндровый замок 'ключ-вертушка', порошковая окраска, цвет принять в соответствии с Цветовой матрицей | D42: 1000 | E42: 2100 | F42: 15 | G42: 966 | H42: 2063 | I42: 803 | J42: 1984 | K42: - | L42: Блочная | M42: Сталь, толщина 1.0 мм | N42: Минеральная вата | O42: 61 | P42: В составе дверной коробки, материал: сталь, ширина: 67 мм, толщина: 15 мм | Q42: ="Металлический, со стороны вестибюля, материал: сталь; цвет: "&'Ссылки'!F18 -> Металлический, со стороны вестибюля, материал: сталь; цвет: RAL 9003 (сигнальный белый)/ RAL 7016 (антрацитово- серый) матовый | R42: ='Замки'!A42&", "& 'Ссылки'!D3&", материал: "&'Ссылки'!H5&"; цвет: "&'Ссылки'!G7 &"; " &'Замки'!A2&", "& 'Ссылки'!D7&", материал: "&'Ссылки'!H4&"; цвет: "&'Ссылки'!G9 -> ЗД-6, цилиндровый замок, материал: сталь нержавеющая; цвет: оцинкованный; ЗД-1, "ключ-вертушка", материал: алюминий; цвет: никель | S42: ='Ручки'!A2&", "&'Ссылки'!A2& ", материал: "&'Ссылки'!H2&", цвет: "&'Ссылки'!G2 -> РД-1, нажимная ручка на круглой розетке, материал: сталь нержавеющая AISI 304, цвет: сталь нержавеющая матовая | T42: ='Петли'!A2&", "&'Ссылки'!C3&", цвет: "&'Ссылки'!G6 -> ПД-1, ввертные, цвет: сталь нержавеющая | U42: ="По проекту: нет / НФ-02, упор дверной "&'Ссылки'!E3 -> По проекту: нет / НФ-02, упор дверной напольный, высота 85 мм, цвет: серый / серебристый | V42: ='Доводчик'!A2&", "&'Ссылки'!B2&", цвет: "&'Ссылки'!G4 -> ДД-1, доводчик, цвет: серебристый | W42: ='Ссылки'!F18 -> RAL 9003 (сигнальный белый)/ RAL 7016 (антрацитово- серый) матовый | X42: ГОСТ 31173-2016 / ТУ 25.12.10-001-17157160-2017 | Y42: ДСВ, В, Оп, Пр, Прг, Вн, Псп, О - ГОСТ 31173-2016 /ТУ 25.12.10-001-17157160-2017 / ДСВ, В, Оп, Л, Прг, Вн, Псп, О - ГОСТ 31173-2016 / ТУ 25.12.10-001-17157160-2017 | AC42: Дверь_Рен_1Ст_Блочная коробка_V3, типоразмер Д-40_1000х2100h_ПУИ консьерж
A43: - Дверь в ПУИ консьержа (при входе из вестибюля) для стесненных условий | B43: Д-41 / Д-41л см. п. 1 Правил | C43: ="Дверь металлическая, из 2-х листов х/к стали, толщиной 1.0 мм - полотно, 1.2 мм - рама,"&" с заполнением минеральной ватой, глухая, без порога, контурный уплотнитель - серый, доводчик, металлические доборы, нажимная ручка на круглой розетке, цилиндровый замок 'ключ-вертушка', порошковая окраска, "&'Ссылки'!F15 -> Дверь металлическая, из 2-х листов х/к стали, толщиной 1.0 мм - полотно, 1.2 мм - рама, с заполнением минеральной ватой, глухая, без порога, контурный уплотнитель - серый, доводчик, металлические доборы, нажимная ручка на круглой розетке, цилиндровый замок 'ключ-вертушка', порошковая окраска, цвет принять в соответствии с Цветовой матрицей | D43: 850 | E43: 2100 | F43: 15 | G43: 816 | H43: 2063 | I43: 653 | J43: 1984 | K43: - | L43: Блочная | M43: Сталь, толщина 1.0 мм | N43: Минеральная вата | O43: 61 | P43: В составе дверной коробки, материал: сталь, ширина: 67 мм, толщина: 15 мм | Q43: ="Металлический, со стороны вестибюля, материал: сталь; цвет: "&'Ссылки'!F18 -> Металлический, со стороны вестибюля, материал: сталь; цвет: RAL 9003 (сигнальный белый)/ RAL 7016 (антрацитово- серый) матовый | R43: =Замки!A42&", "&'Ссылки'!D3&", материал: "&'Ссылки'!H5&"; цвет: "&'Ссылки'!G7&"; "&Замки!A2&", "&'Ссылки'!D7&", материал: "&'Ссылки'!H4&"; цвет: "&'Ссылки'!G9 -> ЗД-6, цилиндровый замок, материал: сталь нержавеющая; цвет: оцинкованный; ЗД-1, "ключ-вертушка", материал: алюминий; цвет: никель | S43: =Ручки!A2&", "&'Ссылки'!A2&", материал: "&'Ссылки'!H2&", цвет: "&'Ссылки'!G2 -> РД-1, нажимная ручка на круглой розетке, материал: сталь нержавеющая AISI 304, цвет: сталь нержавеющая матовая | T43: ='Петли'!A2&", "&'Ссылки'!C3&", цвет: "&'Ссылки'!G6 -> ПД-1, ввертные, цвет: сталь нержавеющая | U43: ="По проекту: нет / НФ-02, упор дверной "&'Ссылки'!E3 -> По проекту: нет / НФ-02, упор дверной напольный, высота 85 мм, цвет: серый / серебристый | V43: ='Доводчик'!A2&", "&'Ссылки'!B2&", цвет: "&'Ссылки'!G4 -> ДД-1, доводчик, цвет: серебристый | W43: ='Ссылки'!F18 -> RAL 9003 (сигнальный белый)/ RAL 7016 (антрацитово- серый) матовый | X43: ГОСТ 31173-2016 / ТУ 25.12.10-001-17157160-2017 | Y43: ДСВ, В, Оп, Пр, Прг, Вн, Псп, О - ГОСТ 31173-2016 /ТУ 25.12.10-001-17157160-2017 / ДСВ, В, Оп, Л, Прг, Вн, Псп, О - ГОСТ 31173-2016 / ТУ 25.12.10-001-17157160-2017 | AC43: Дверь_Рен_1Ст_Блочная коробка_V3, типоразмер Д-41_800х2100h_ПУИ консьерж
A44: - Дверь в объектовый пункт пожаротушения | B44: Д-50 / Д-50л | C44: ="Дверь металлическая, из 2-х листов х/к стали, толщиной 1.0 мм - полотно, 1.2 мм - рама,"&" с заполнением минеральной ватой, противопожарная, глухая, со стационарным порогом 14 мм, контурный уплотнитель - серый, доводчик, нажимная ручка, цилиндровый замок 'ключ-вертушка', порошковая окраска, "&'Ссылки'!F15 -> Дверь металлическая, из 2-х листов х/к стали, толщиной 1.0 мм - полотно, 1.2 мм - рама, с заполнением минеральной ватой, противопожарная, глухая, со стационарным порогом 14 мм, контурный уплотнитель - серый, доводчик, нажимная ручка, цилиндровый замок 'ключ-вертушка', порошковая окраска, цвет принять в соответствии с Цветовой матрицей | D44: 1000 | E44: 2100 | F44: нет | G44: 958 | H44: 2079 | I44: 871 | J44: 2011 | K44: EI 30 см. п. 5 Правил | L44: Угловая | M44: Сталь, толщина 1.0 мм | N44: Минеральная вата | O44: 61 | P44: В составе дверной коробки, материал: сталь, ширина: 67 мм, толщина: 15 мм | Q44: нет | R44: =Замки!A42&", "&'Ссылки'!D3&", материал: "&'Ссылки'!H5&"; цвет: "&'Ссылки'!G7&"; "&Замки!A2&", "&'Ссылки'!D7&", материал: "&'Ссылки'!H4&"; цвет: "&'Ссылки'!G9 -> ЗД-6, цилиндровый замок, материал: сталь нержавеющая; цвет: оцинкованный; ЗД-1, "ключ-вертушка", материал: алюминий; цвет: никель | S44: =Ручки!A10&", "&'Ссылки'!A10&", материал: "&'Ссылки'!H2&", цвет: "&'Ссылки'!G2 -> РД-2, нажимная ручка на планке, материал: сталь нержавеющая AISI 304, цвет: сталь нержавеющая матовая | T44: ='Петли'!A2&", "&'Ссылки'!C3&", цвет: "&'Ссылки'!G6 -> ПД-1, ввертные, цвет: сталь нержавеющая | U44: нет | V44: ='Доводчик'!A2&", "&'Ссылки'!B2&", цвет: "&'Ссылки'!G4 -> ДД-1, доводчик, цвет: серебристый | W44: ='Ссылки'!F18 -> RAL 9003 (сигнальный белый)/ RAL 7016 (антрацитово- серый) матовый | X44: ГОСТ Р 57327-2016 / ТУ 25.12.10-001- 17157160-2018 | Y44: ДПС 01 2079-958 пр. EI 30 ГОСТ Р 57327-2016 / ТУ 25.12.10-001-17157160-2018 / ДПС 01 2079-958 л. EI 30 ГОСТ Р 57327-2016 / ТУ 25.12.10-001-17157160-2018 | AC44: Дверь_Рен_1Ст_Угловая коробка_V3, типоразмер Д-50_1000х2100h_EI30
B45: Д-51 / Д-51л | C45: ="Дверь металлическая, из 2-х листов х/к стали, толщиной 1.0 мм - полотно, 1.2 мм - рама,"&" с заполнением минеральной ватой, глухая, со стационарным порогом 14 мм, с антивандальным сувальдным замком под универсальный мастер-ключ, порошковая окраска, "&'Ссылки'!F15 -> Дверь металлическая, из 2-х листов х/к стали, толщиной 1.0 мм - полотно, 1.2 мм - рама, с заполнением минеральной ватой, глухая, со стационарным порогом 14 мм, с антивандальным сувальдным замком под универсальный мастер-ключ, порошковая окраска, цвет принять в соответствии с Цветовой матрицей | D45: 1000 | E45: 2100 | F45: нет | G45: 956 | H45: 2079 | I45: 850 | J45: 2015 | K45: - | L45: Угловая | M45: Сталь, толщина 1.0 мм | N45: Минеральная вата | O45: 52 | P45: В составе дверной коробки, материал: сталь, ширина: 70 мм, толщина: 15 мм | Q45: нет | R45: =Замки!A26&", "&'Ссылки'!D6&"; материал: "&'Ссылки'!H5&", цвет: "&'Ссылки'!G9 -> ЗД-4, антивандальный сувальдный замок, под универсальный мастер-ключ; материал: сталь нержавеющая, цвет: никель | S45: нет | T45: ='Петли'!A2&", "&'Ссылки'!C3&", цвет: "&'Ссылки'!G6 -> ПД-1, ввертные, цвет: сталь нержавеющая | U45: нет | V45: нет | W45: ='Ссылки'!F18 -> RAL 9003 (сигнальный белый)/ RAL 7016 (антрацитово- серый) матовый | X45: ГОСТ Р 31173-2016 / ТУ 25.12.10-001- 17157160-2017 | Y45: ДСВ, В, Оп, Пр, Прг, Н, Псп, О - ГОСТ 31173-2016 /ТУ 25.12.10-001-17157160-2017 / ДСВ, В, Оп, Л, Прг, Н, Псп, О - ГОСТ 31173-2016 / ТУ 25.12.10-001-17157160-2017 | AC45: Дверь_Рен_1Ст_Угловая коробка_V3, типоразмер Д-51_1000х2100h
A46: - Ворота металлические | B46: ВМ-1 | C46: ="Ворота гаражные автоматические подъемно-опускные с секционным полотном из стальных сэндвич-панелей с вальным приводом, крепление внутри помещения, цвет "&W46 -> Ворота гаражные автоматические подъемно-опускные с секционным полотном из стальных сэндвич-панелей с вальным приводом, крепление внутри помещения, цвет RAL 7016 (антрацитово-серый) матовый | D46: 3400 (3300***) см. п. 2 Правил | E46: 2300 (2250***) | F46: нет | G46: - | H46: - | I46: 3300 | J46: 2250 | K46: - | L46: Накладная | M46: Сэндвич-панели стальные | N46: Минеральная вата | O46: 60 | P46: - | Q46: - | R46: нет | S46: - | T46: - | U46: - | V46: - | W46: ='Ссылки'!F2 -> RAL 7016 (антрацитово-серый) матовый | X46: ГОСТ 31174-2017 | Y46: ВМ 3400х2300 ГОСТ 31174-2017 | Z46: ***Размер проема в утеплителе в свету | AC46: Ворота_Рен_Подъемно-опускные_V3, типоразмер ВМ-1_3400х2300
B47: ВМ-2 | C47: ="Ворота гаражные автоматические подъемно-опускные с секционным полотном из стальных сэндвич-панелей с вальным приводом, с дверью-калиткой 900х2051мм, в нижней части ворот люк с самозакрывающейся заслонкой 200х200мм, крепление внутри помещения, цвет "&W49 -> Ворота гаражные автоматические подъемно-опускные с секционным полотном из стальных сэндвич-панелей с вальным приводом, с дверью-калиткой 900х2051мм, в нижней части ворот люк с самозакрывающейся заслонкой 200х200мм, крепление внутри помещения, цвет RAL 7016 (антрацитово-серый) матовый | D47: 3400 (3300***) см. п. 2 Правил | E47: 2300 (2250***) | F47: нет | G47: - | H47: - | I47: 3300 | J47: 2250 | K47: - | L47: Накладная | M47: Сэндвич-панели стальные | N47: Минеральная вата | O47: 60 | P47: - | Q47: - | R47: нет | S47: - | T47: - | U47: - | V47: - | W47: ='Ссылки'!F2 -> RAL 7016 (антрацитово-серый) матовый | X47: ГОСТ 31174-2017 | Y47: ВМ 3400х2300 ГОСТ 31174-2017 | Z47: ***Размер проема в утеплителе в свету | AC47: Ворота_Рен_Подъемно-опускные_V3, типоразмер ВМ-2_3400х2300_с дверью
A48: - Ворота металлические | B48: ВМ-3 | C48: ="Ворота гаражные автоматические противопожарные подъемно-опускные с секционным полотном из стальных сэндвич-панелей с вальным приводом, в нижней части ворот люк с самозакрывающейся заслонкой 200х200мм, крепление внутри помещения, цвет "&W48 -> Ворота гаражные автоматические противопожарные подъемно-опускные с секционным полотном из стальных сэндвич-панелей с вальным приводом, в нижней части ворот люк с самозакрывающейся заслонкой 200х200мм, крепление внутри помещения, цвет RAL 7016 (антрацитово-серый) матовый | D48: 3400 (3300***) см. п. 3 Правил | E48: 2300 (2250***) | F48: нет | G48: - | H48: - | I48: 3300 | J48: 2250 | K48: EI 60 | L48: Накладная | M48: Сэндвич-панели стальные | N48: Минеральная вата | O48: 60 | P48: - | Q48: - | R48: нет | S48: - | T48: - | U48: - | V48: - | W48: ='Ссылки'!F2 -> RAL 7016 (антрацитово-серый) матовый | X48: ГОСТ 31174-2017/ ТУ 5284-001-18897806-2016 ГОСТ 53307-2009 | Y48: ВМ 3400х2300 ГОСТ 31174-2017 / ТУ 5284-001-18897806-2016 | Z48: ***Размер проема в утеплителе в свету | AB48: Сертификат соответствия Техническому регламенту о требованиях пожарной безопасности | AC48: Ворота_Рен_Подъемно-опускные_V3, типоразмер ВМ-3_3400х2300_EI60
B49: ВМ-4 | C49: ="Ворота гаражные автоматические противопожарные подъемно-опускные с секционным полотном из стальных сэндвич-панелей с вальным приводом, с дверью-калиткой 900х2051мм, в нижней части ворот люк с самозакрывающейся заслонкой 200х200мм, крепление внутри помещен"&"ия, цвет "&W49 -> Ворота гаражные автоматические противопожарные подъемно-опускные с секционным полотном из стальных сэндвич-панелей с вальным приводом, с дверью-калиткой 900х2051мм, в нижней части ворот люк с самозакрывающейся заслонкой 200х200мм, крепление внутри помещения, цвет RAL 7016 (антрацитово-серый) матовый | D49: 3400 (3300***) см. п. 3 Правил | E49: 2300 (2250***) | F49: нет | G49: - | H49: - | I49: 3300 | J49: 2250 | K49: EI 60 | L49: Накладная | M49: Сэндвич-панели стальные | N49: Минеральная вата | O49: 60 | P49: - | Q49: - | R49: нет | S49: - | T49: - | U49: - | V49: - | W49: ='Ссылки'!F2 -> RAL 7016 (антрацитово-серый) матовый | X49: ГОСТ 31174-2017/ ТУ 5284-001-18897806-2016 ГОСТ 53307-2009 | Y49: ВМ 3400х2300 ГОСТ 31174-2017 / ТУ 5284-001-18897806-2016 | Z49: ***Размер проема в утеплителе в свету | AB49: Сертификат соответствия Техническому регламенту о требованиях пожарной безопасности | AC49: Ворота_Рен_Подъемно-опускные_V3, типоразмер ВМ-4_3400х2300_EI60_с дверью
A50: ТИПОВЫЕ ЭТАЖИ
A51: - Дверь в лифтовый холл из межквартирного коридора (угловая коробка) | B51: Д-8.2 / Д-8.2л | C51: ="Дверь металлическая, из 2-х листов х/к стали, толщиной 1.0 мм - полотно, 1.2 мм - рама, "&"с заполнением минеральной ватой, противопожарная дымогазонепроницаемая остекленная двупольная, противопожарное остекление 150х1400мм, с автоматически выпадающим порогом, контурный уплотнитель - серый, дов"&"одчик, металлические доборы, "&'Ссылки'!A2&", минимальная ширина рабочей створки 950мм, порошковая окраска, цвет "&W51 -> Дверь металлическая, из 2-х листов х/к стали, толщиной 1.0 мм - полотно, 1.2 мм - рама, с заполнением минеральной ватой, противопожарная дымогазонепроницаемая остекленная двупольная, противопожарное остекление 150х1400мм, с автоматически выпадающим порогом, контурный уплотнитель - серый, доводчик, металлические доборы, нажимная ручка на круглой розетке, минимальная ширина рабочей створки 950мм, порошковая окраска, цвет RAL 7016 (антрацитово-серый) матовый | D51: 1400 | E51: 2100 | F51: нет | G51: 1358 | H51: 2078 | I51: 1254 | J51: 2024 | K51: EIS 60 | L51: Угловая | M51: Сталь, толщина 1.0 мм | N51: Минеральная вата | O51: 61 | P51: В составе дверной коробки, материал: сталь, ширина: 67 мм, толщина: 15 мм | Q51: ='Ссылки'!I7 -> Металлический, материал: сталь, цвет: RAL 7016 (антрацитово-серый) | R51: нет | S51: ='Ручки'!A2&", "&'Ссылки'!A2& ", материал: "&'Ссылки'!H2&", цвет: "&'Ссылки'!G2 -> РД-1, нажимная ручка на круглой розетке, материал: сталь нержавеющая AISI 304, цвет: сталь нержавеющая матовая | T51: ='Петли'!A2&", "&'Ссылки'!C3&", цвет: "&'Ссылки'!G6 -> ПД-1, ввертные, цвет: сталь нержавеющая | U51: ="НФ-02, упор дверной " &'Ссылки'!E3 -> НФ-02, упор дверной напольный, высота 85 мм, цвет: серый / серебристый | V51: ='Доводчик'!A2&", "&'Ссылки'!B2&", цвет: "&'Ссылки'!G4 -> ДД-1, доводчик, цвет: серебристый | W51: ='Ссылки'!F2 -> RAL 7016 (антрацитово-серый) матовый | X51: ГОСТ Р 57327-2016 / ТУ 25.12.10-003-17157160-2022 | Y51: ДПСО 02 2078-1358 пр. EIS 60 ГОСТ Р 57327-2016 / ТУ 25.12.10-003-17157160-2022 / ДПСО 02 2078-1358 л. EIS 60 ГОСТ Р 57327-2016 / ТУ 25.12.10-003-17157160-2022 | AB51: Сертификат соответствия Техническому регламенту о требованиях пожарной безопасности | AC51: Дверь_Рен_2Ст_Угловая коробка_V3, типоразмер Д-8.2_1400х2100h_EIS60_RAL7016
A52: - Дверь в лифтовый холл из межквартирного коридора (для примененя в стесненных условиях) (угловая коробка) | B52: Д-24 / Д-24л | C52: ="Дверь металлическая, из 2-х листов х/к стали, толщиной 1.0 мм - полотно, 1.2 мм - рама, "&"с заполнением минеральной ватой, противопожарная дымогазонепроницаемая остекленная, противопожарное остекление 150х1400мм, с автоматически выпадающим порогом, контурный уплотнитель - серый, доводчик, мета"&"ллические доборы, "&'Ссылки'!A2&", порошковая окраска, цвет "&W52 -> Дверь металлическая, из 2-х листов х/к стали, толщиной 1.0 мм - полотно, 1.2 мм - рама, с заполнением минеральной ватой, противопожарная дымогазонепроницаемая остекленная, противопожарное остекление 150х1400мм, с автоматически выпадающим порогом, контурный уплотнитель - серый, доводчик, металлические доборы, нажимная ручка на круглой розетке, порошковая окраска, цвет RAL 7016 (антрацитово-серый) матовый | D52: 1150 | E52: 2100 | F52: нет | G52: 1108 | H52: 2078 | I52: 1022 | J52: 2024 | K52: EIS 60 | L52: Угловая | M52: Сталь, толщина 1.0 мм | N52: Минеральная вата | O52: 61 | P52: В составе дверной коробки, материал: сталь, ширина: 67 мм, толщина: 15 мм | Q52: ='Ссылки'!I7 -> Металлический, материал: сталь, цвет: RAL 7016 (антрацитово-серый) | R52: нет | S52: =Ручки!A2&", "&'Ссылки'!A2&", материал: "&'Ссылки'!H2&", цвет: "&'Ссылки'!G2 -> РД-1, нажимная ручка на круглой розетке, материал: сталь нержавеющая AISI 304, цвет: сталь нержавеющая матовая | T52: ='Петли'!A2&", "&'Ссылки'!C3&", цвет: "&'Ссылки'!G6 -> ПД-1, ввертные, цвет: сталь нержавеющая | U52: ="НФ-02, упор дверной "&'Ссылки'!E3 -> НФ-02, упор дверной напольный, высота 85 мм, цвет: серый / серебристый | V52: ='Доводчик'!A2&", "&'Ссылки'!B2&", цвет: "&'Ссылки'!G4 -> ДД-1, доводчик, цвет: серебристый | W52: ='Ссылки'!F2 -> RAL 7016 (антрацитово-серый) матовый | X52: ГОСТ Р 57327-2016 / ТУ 25.12.10-001-17157160-2018 | Y52: ДПСО 01 2078-1108 пр. EIS 60 ГОСТ Р 57327-2016 / ТУ 25.12.10-001-17157160-2018 / ДПСО 01 2078-1108 л. EIS 60 ГОСТ Р 57327-2016 / ТУ 25.12.10-001-17157160-2018 | AB52: Сертификат соответствия Техническому регламенту о требованиях пожарной безопасности | AC52: Дверь_Рен_1Ст_Угловая коробка_V3, типоразмер Д-24_1150х2100h_EIS60
A53: - Дверь в лифтовый холл из межквартирного коридора (для примененя в стесненных условиях) (блочная коробка) | B53: Д-61 / Д-61л | C53: ="Дверь металлическая, из 2-х листов х/к стали, толщиной 1.0 мм - полотно, 1.2 мм - рама, "&"с заполнением минеральной ватой, противопожарная дымогазонепроницаемая остекленная, противопожарное остекление 150х1400мм, с автоматически выпадающим порогом, контурный уплотнитель - серый, доводчик, мета"&"ллические доборы, "&'Ссылки'!A2&", порошковая окраска, цвет "&W52 -> Дверь металлическая, из 2-х листов х/к стали, толщиной 1.0 мм - полотно, 1.2 мм - рама, с заполнением минеральной ватой, противопожарная дымогазонепроницаемая остекленная, противопожарное остекление 150х1400мм, с автоматически выпадающим порогом, контурный уплотнитель - серый, доводчик, металлические доборы, нажимная ручка на круглой розетке, порошковая окраска, цвет RAL 7016 (антрацитово-серый) матовый | D53: 1080 | E53: 2100 | F53: нет | G53: 1046 | H53: 2073 | I53: 902 | J53: 2004 | K53: EIS 60 | L53: Блочная | M53: Сталь, толщина 1.0 мм | N53: Минеральная вата | O53: 61 | P53: нет | Q53: ='Ссылки'!I7 -> Металлический, материал: сталь, цвет: RAL 7016 (антрацитово-серый) | R53: нет | S53: =Ручки!A2&", "&'Ссылки'!A2&", материал: "&'Ссылки'!H2&", цвет: "&'Ссылки'!G2 -> РД-1, нажимная ручка на круглой розетке, материал: сталь нержавеющая AISI 304, цвет: сталь нержавеющая матовая | T53: ='Петли'!A2&", "&'Ссылки'!C3&", цвет: "&'Ссылки'!G6 -> ПД-1, ввертные, цвет: сталь нержавеющая | U53: ="НФ-02, упор дверной "&'Ссылки'!E3 -> НФ-02, упор дверной напольный, высота 85 мм, цвет: серый / серебристый | V53: ='Доводчик'!A2&", "&'Ссылки'!B2&", цвет: "&'Ссылки'!G4 -> ДД-1, доводчик, цвет: серебристый | W53: ='Ссылки'!F2 -> RAL 7016 (антрацитово-серый) матовый | X53: ГОСТ Р 57327-2016 / ТУ 25.12.10-001-17157160-2018 | Y53: ДПСО 01 2073-1046 пр. EIS 60 ГОСТ Р 57327-2016 / ТУ 25.12.10-001-17157160-2018 / ДПСО 01 2073-1046 л. EIS 60 ГОСТ Р 57327-2016 / ТУ 25.12.10-001-17157160-2018 | AC53: Дверь_Рен_1Ст_Блочная коробка_V3, типоразмер Д-61_1080х2100h_EIS60
A54: - Дверь из лифтового холла в лестничную клетку (угловая коробка) | B54: Д-47 / Д-47л | C54: ="Дверь металлическая, из 2-х листов х/к стали, толщиной 1.0 мм - полотно, 1.2 мм - рама, "&"с заполнением минеральной ватой, противопожарная, дымогазонепроницаемая, остекленная, противопожарное остекление 150х1400мм, с автоматически выпадающим порогом, контурный уплотнитель - серый, доводчик, ме"&"таллические доборы, "&'Ссылки'!A2&", порошковая окраска, цвет "&W54 -> Дверь металлическая, из 2-х листов х/к стали, толщиной 1.0 мм - полотно, 1.2 мм - рама, с заполнением минеральной ватой, противопожарная, дымогазонепроницаемая, остекленная, противопожарное остекление 150х1400мм, с автоматически выпадающим порогом, контурный уплотнитель - серый, доводчик, металлические доборы, нажимная ручка на круглой розетке, порошковая окраска, цвет RAL 7016 (антрацитово-серый) матовый | D54: 1150 | E54: 2090 | F54: нет | G54: 1108 | H54: 2068 | I54: 1022 | J54: 2014 | K54: EIS 60 | L54: Угловая | M54: Сталь, толщина 1.0 мм | N54: Минеральная вата | O54: 61 | P54: В составе дверной коробки, материал: сталь, ширина: 67 мм, толщина: 15 мм | Q54: ='Ссылки'!I7 -> Металлический, материал: сталь, цвет: RAL 7016 (антрацитово-серый) | R54: нет | S54: =Ручки!A2&", "&'Ссылки'!A2&", материал: "&'Ссылки'!H2&", цвет: "&'Ссылки'!G2 -> РД-1, нажимная ручка на круглой розетке, материал: сталь нержавеющая AISI 304, цвет: сталь нержавеющая матовая | T54: ='Петли'!A2&", "&'Ссылки'!C3&", цвет: "&'Ссылки'!G6 -> ПД-1, ввертные, цвет: сталь нержавеющая | U54: ="НФ-02, упор дверной "&'Ссылки'!E3 -> НФ-02, упор дверной напольный, высота 85 мм, цвет: серый / серебристый | V54: ='Доводчик'!A2&", "&'Ссылки'!B2&", цвет: "&'Ссылки'!G4 -> ДД-1, доводчик, цвет: серебристый | W54: ='Ссылки'!F2 -> RAL 7016 (антрацитово-серый) матовый | X54: ГОСТ Р 57327-2016 / ТУ 25.12.10-001-17157160-2018 | Y54: ДПСО 01 2068-1108 пр. EIS 60 ГОСТ Р 57327-2016 / ТУ 25.12.10-001-17157160-2018 / ДПСО 01 2068-1108 л. EIS 60 ГОСТ Р 57327-2016 / ТУ 25.12.10-001-17157160-2018 | AB54: Сертификат соответствия Техническому регламенту о требованиях пожарной безопасности | AC54: Дверь_Рен_1Ст_Угловая коробка_V3, типоразмер Д-47_1150х2090h_EIS60
A55: - Дверь из лифтового холла в лестничную клетку (блочная коробка) | B55: Д-56 / Д-56л | C55: ="Дверь металлическая, из 2-х листов х/к стали, толщиной 1.0 мм - полотно, 1.2 мм - рама, "&"с заполнением минеральной ватой, противопожарная, дымогазонепроницаемая, остекленная, противопожарное остекление 150х1400мм, с автоматически выпадающим порогом, контурный уплотнитель - серый, доводчик, ме"&"таллические доборы, "&'Ссылки'!A2&", порошковая окраска, цвет "&W54 -> Дверь металлическая, из 2-х листов х/к стали, толщиной 1.0 мм - полотно, 1.2 мм - рама, с заполнением минеральной ватой, противопожарная, дымогазонепроницаемая, остекленная, противопожарное остекление 150х1400мм, с автоматически выпадающим порогом, контурный уплотнитель - серый, доводчик, металлические доборы, нажимная ручка на круглой розетке, порошковая окраска, цвет RAL 7016 (антрацитово-серый) матовый | D55: 1200 | E55: 2090 | F55: нет | G55: 1166 | H55: 2063 | I55: 1003 | J55: 1984 | K55: EIS 60 | L55: Блочная | M55: Сталь, толщина 1.0 мм | N55: Минеральная вата | O55: 61 | P55: нет | Q55: ='Ссылки'!I7 -> Металлический, материал: сталь, цвет: RAL 7016 (антрацитово-серый) | R55: нет | S55: =Ручки!A2&", "&'Ссылки'!A2&", материал: "&'Ссылки'!H2&", цвет: "&'Ссылки'!G2 -> РД-1, нажимная ручка на круглой розетке, материал: сталь нержавеющая AISI 304, цвет: сталь нержавеющая матовая | T55: ='Петли'!A2&", "&'Ссылки'!C3&", цвет: "&'Ссылки'!G6 -> ПД-1, ввертные, цвет: сталь нержавеющая | U55: ="НФ-02, упор дверной "&'Ссылки'!E3 -> НФ-02, упор дверной напольный, высота 85 мм, цвет: серый / серебристый | V55: ='Доводчик'!A2&", "&'Ссылки'!B2&", цвет: "&'Ссылки'!G4 -> ДД-1, доводчик, цвет: серебристый | W55: ='Ссылки'!F2 -> RAL 7016 (антрацитово-серый) матовый | X55: ГОСТ Р 57327-2016 / ТУ 25.12.10-001-17157160-2018 | Y55: ДПСО 01 2063-1166 пр. EIS 60 ГОСТ Р 57327-2016 / ТУ 25.12.10-001-17157160-2018 / ДПСО 01 2063-1166 л. EIS 60 ГОСТ Р 57327-2016 / ТУ 25.12.10-001-17157160-2018 | AC55: Дверь_Рен_1Ст_Блочная коробка_V3, типоразмер Д-56_1200х2090h_EIS60
A56: - Дверь в объектовый пункт пожаротушения | B56: Д-50 / Д-50л | C56: ="Дверь металлическая, из 2-х листов х/к стали, толщиной 1.0 мм - полотно, 1.2 мм - рама,"&" с заполнением минеральной ватой, противопожарная, глухая, со стационарным порогом 14 мм, контурный уплотнитель - серый, доводчик, нажимная ручка, цилиндровый замок 'ключ-вертушка', порошковая окраска, "&'Ссылки'!F15 -> Дверь металлическая, из 2-х листов х/к стали, толщиной 1.0 мм - полотно, 1.2 мм - рама, с заполнением минеральной ватой, противопожарная, глухая, со стационарным порогом 14 мм, контурный уплотнитель - серый, доводчик, нажимная ручка, цилиндровый замок 'ключ-вертушка', порошковая окраска, цвет принять в соответствии с Цветовой матрицей | D56: 1000 | E56: 2100 | F56: нет | G56: 958 | H56: 2079 | I56: 871 | J56: 2011 | K56: EI 30 см. п. 5 Правил | L56: Угловая | M56: Сталь, толщина 1.0 мм | N56: Минеральная вата | O56: 61 | P56: В составе дверной коробки, материал: сталь, ширина: 67 мм, толщина: 15 мм | Q56: нет | R56: =Замки!A42&", "&'Ссылки'!D3&", материал: "&'Ссылки'!H5&"; цвет: "&'Ссылки'!G7&"; "&Замки!A2&", "&'Ссылки'!D7&", материал: "&'Ссылки'!H4&"; цвет: "&'Ссылки'!G9 -> ЗД-6, цилиндровый замок, материал: сталь нержавеющая; цвет: оцинкованный; ЗД-1, "ключ-вертушка", материал: алюминий; цвет: никель | S56: =Ручки!A10&", "&'Ссылки'!A10&", материал: "&'Ссылки'!H2&", цвет: "&'Ссылки'!G2 -> РД-2, нажимная ручка на планке, материал: сталь нержавеющая AISI 304, цвет: сталь нержавеющая матовая | T56: ='Петли'!A2&", "&'Ссылки'!C3&", цвет: "&'Ссылки'!G6 -> ПД-1, ввертные, цвет: сталь нержавеющая | U56: нет | V56: ='Доводчик'!A2&", "&'Ссылки'!B2&", цвет: "&'Ссылки'!G4 -> ДД-1, доводчик, цвет: серебристый | W56: ='Ссылки'!F18 -> RAL 9003 (сигнальный белый)/ RAL 7016 (антрацитово- серый) матовый | X56: ГОСТ Р 57327-2016 / ТУ 25.12.10-001-17157160-2018 | Y56: ДПС 01 2079-871 пр. EI 30 ГОСТ Р 57327-2016 / ТУ 25.12.10-001-17157160-2018 / ДПС 01 2079-871 л. EI 30 ГОСТ Р 57327-2016 / ТУ 25.12.10-001-17157160-2018 | AC56: Дверь_Рен_1Ст_Угловая коробка_V3, типоразмер Д-50_1000х2100h_EI30
B57: Д-51 / Д-51л | C57: ="Дверь металлическая, из 2-х листов х/к стали, толщиной 1.0 мм - полотно, 1.2 мм - рама,"&" с заполнением минеральной ватой, глухая, со стационарным порогом 14 мм, с антивандальным сувальдным замком под универсальный мастер-ключ, порошковая окраска, "&'Ссылки'!F15 -> Дверь металлическая, из 2-х листов х/к стали, толщиной 1.0 мм - полотно, 1.2 мм - рама, с заполнением минеральной ватой, глухая, со стационарным порогом 14 мм, с антивандальным сувальдным замком под универсальный мастер-ключ, порошковая окраска, цвет принять в соответствии с Цветовой матрицей | D57: 1000 | E57: 2100 | F57: нет | G57: 956 | H57: 2079 | I57: 850 | J57: 2015 | K57: - | L57: Угловая | M57: Сталь, толщина 1.0 мм | N57: Минеральная вата | O57: 52 | P57: В составе дверной коробки, материал: сталь, ширина: 70 мм, толщина: 15 мм | Q57: нет | R57: =Замки!A26&", "&'Ссылки'!D6&"; материал: "&'Ссылки'!H5&", цвет: "&'Ссылки'!G9 -> ЗД-4, антивандальный сувальдный замок, под универсальный мастер-ключ; материал: сталь нержавеющая, цвет: никель | S57: нет | T57: ='Петли'!A2&", "&'Ссылки'!C3&", цвет: "&'Ссылки'!G6 -> ПД-1, ввертные, цвет: сталь нержавеющая | U57: нет | V57: нет | W57: ='Ссылки'!F18 -> RAL 9003 (сигнальный белый)/ RAL 7016 (антрацитово- серый) матовый | X57: ГОСТ Р 31173-2016 / ТУ 25.12.10-001- 17157160-2017 | Y57: ДСВ, В, Оп, Пр, Прг, Н, Псп, О - ГОСТ 31173-2016 /ТУ 25.12.10-001-17157160-2017 / ДСВ, В, Оп, Л, Прг, Н, Псп, О - ГОСТ 31173-2016 / ТУ 25.12.10-001-17157160-2017 | AC57: Дверь_Рен_1Ст_Угловая коробка_V3, типоразмер Д-51_1000х2100h
A58: - Дверь в нишу СС | B58: Д-22 / Д-22л см. п. 1 Правил | C58: ="Дверь металлическая, из 2-х листов х/к стали, толщиной 1.0 мм - полотно, 1.2 мм - рама, "&"с заполнением минеральной ватой, с приточно-вытяжным вентиляционным отверстием 600х24мм (2 шт.),со стационарным порогом 14 мм, антивандальным сувальдны"&"м замком под универсальный мастер-ключ, порошковая окраска, "&'Ссылки'!F15 -> Дверь металлическая, из 2-х листов х/к стали, толщиной 1.0 мм - полотно, 1.2 мм - рама, с заполнением минеральной ватой, с приточно-вытяжным вентиляционным отверстием 600х24мм (2 шт.),со стационарным порогом 14 мм, антивандальным сувальдным замком под универсальный мастер-ключ, порошковая окраска, цвет принять в соответствии с Цветовой матрицей | D58: 1000 | E58: 2100 | F58: нет | G58: 956 | H58: 2079 | I58: 850 | J58: 2015 | K58: - | L58: Угловая | M58: Сталь, толщина 1.0 мм | N58: Минеральная вата | O58: 52 | P58: В составе дверной коробки, материал: сталь, ширина: 70 мм, толщина: 15 мм | Q58: нет | R58: ='Замки'!A26&", "&'Ссылки'!D6&"; материал: "&'Ссылки'!H5&", цвет: "&'Ссылки'!G9 -> ЗД-4, антивандальный сувальдный замок, под универсальный мастер-ключ; материал: сталь нержавеющая, цвет: никель | S58: нет | T58: ='Петли'!A2&", "&'Ссылки'!C3&", цвет: "&'Ссылки'!G6 -> ПД-1, ввертные, цвет: сталь нержавеющая | U58: нет | V58: нет | W58: ='Ссылки'!F18 -> RAL 9003 (сигнальный белый)/ RAL 7016 (антрацитово- серый) матовый | X58: ГОСТ Р 31173-2016 / ТУ 25.12.10-001-17157160-2017 | Y58: ДСВв, В1, Оп, Пр, Прг, Н, П2лс, М2, О - ГОСТ 31173-2016 / ТУ 25.12.10-001-17157160-2017 / ДСВв, В1, Оп, Л, Прг, Н, П2лс, М2, О - ГОСТ 31173-2016 / ТУ 25.12.10-001-17157160-2017 | AC58: Дверь_Рен_1Ст_Угловая коробка_V3, типоразмер Д-22_1000х2100h_СС
A59: - Дверь в квартиру (угловая коробка) | B59: Д-26 / Д-26л | C59: ="Дверь квартирная металлическая, из х/к стали толщиной 2 мм (рама и полотно), "&"с заполнением минеральной ватой, глухая, с угловой коробкой, со стационарным порогом 14 мм с накладкой из нерж. стали, контурный уплотнитель - белый, доборы и наличники телескопические из МДФ, на"&"жимная ручка на круглой розетке, цилиндровый замок 'ключ-ключ', ночная задвижка, смотровой глазок, цвет "&W59 -> Дверь квартирная металлическая, из х/к стали толщиной 2 мм (рама и полотно), с заполнением минеральной ватой, глухая, с угловой коробкой, со стационарным порогом 14 мм с накладкой из нерж. стали, контурный уплотнитель - белый, доборы и наличники телескопические из МДФ, нажимная ручка на круглой розетке, цилиндровый замок 'ключ-ключ', ночная задвижка, смотровой глазок, цвет RAL 9003 (сигнальный белый) со стороны межквартирного коридора, порошковая окраска, МДФ-панель в цвет межкомнатных дверей со стороны квартиры | D59: 1050 | E59: 2100 | F59: нет | G59: 988 | H59: 2080 | I59: 888 | J59: 2023 | K59: - | L59: Угловая | M59: Сталь, толщина: 2 мм | N59: Минеральная вата | O59: 64 | P59: Со стороны коридора: в составе дверной коробки, материал: сталь, ширина: 67 мм, толщина: 15 мм, цвет: RAL 9003 (сигнальный белый); Со стороны квартиры: телескопический, материал: МДФ с защитным покрытием, ширина: 70 мм, толщина: 10 мм, цвет: RAL 9003 (сигнальный белый) | Q59: ='Ссылки'!I4 -> Добор со стороны квартиры, с пазом под телескопический наличник, материал: МДФ, цвет: RAL 9003 (сигнальный белый) | R59: ='Замки'!A18&", "& 'Ссылки'!D3&", материал: "&'Ссылки'!H5&"; цвет: "&'Ссылки'!G9&"; " &'Замки'!A10&", "& 'Ссылки'!D5&", материал: "&'Ссылки'!H4&"; цвет: "&'Ссылки'!G9 -> ЗД-3, цилиндровый замок, материал: сталь нержавеющая; цвет: никель ; ЗД-2, "ключ-ключ", материал: алюминий; цвет: никель | S59: ='Ручки'!A26&", "&'Ссылки'!A2& ", материал: "&'Ссылки'!H4&", цвет: "&'Ссылки'!G3 -> РД-4, нажимная ручка на круглой розетке, материал: алюминий, цвет: никель матовый | T59: ='Петли'!A2&", "&'Ссылки'!C3&", цвет: "&'Ссылки'!G6 -> ПД-1, ввертные, цвет: сталь нержавеющая | U59: ="НФ-02, упор дверной " &'Ссылки'!E3 -> НФ-02, упор дверной напольный, высота 85 мм, цвет: серый / серебристый | V59: нет | W59: ='Ссылки'!F4 -> RAL 9003 (сигнальный белый) со стороны межквартирного коридора, порошковая окраска, МДФ-панель в цвет межкомнатных дверей со стороны квартиры | X59: ГОСТ Р 31173-2016/ ТУ 25.12.10-001-17157160-2017 | Y59: ДСВх, Б, Оп, Пр, Прг, Н, Псп, М2, О - ГОСТ 31173-2016 / ТУ 25.12.10-001-17157160-2017 / ДСВх, Б, Оп, Л, Прг, Н, Псп, М2, О - ГОСТ 31173-2016 / ТУ 25.12.10-001-17157160-2017 | AC59: Дверь_Рен_1Ст_Угловая коробка_V3, типоразмер Д-26_1050х2100h_Кв
A60: - Дверь в квартиру (блочная коробка) | B60: Д-27 / Д-27л | C60: ="Дверь квартирная, металлическая, из х/к стали толщиной 2 мм (рама и полотно),"&" с заполнением минеральной ватой, глухая, с блочной коробкой, со стационарным порогом 14 мм с накладкой из нерж. стали, контурный уплотнитель - белый, наличники телескопические из МДФ со стороны "&"квартиры, доборы металлические со стороны межквартирного коридора, нажимная ручка на круглой розетке, цилиндровый замок 'ключ-ключ', ночная задвижка, смотровой глазок, цвет "&W60 -> Дверь квартирная, металлическая, из х/к стали толщиной 2 мм (рама и полотно), с заполнением минеральной ватой, глухая, с блочной коробкой, со стационарным порогом 14 мм с накладкой из нерж. стали, контурный уплотнитель - белый, наличники телескопические из МДФ со стороны квартиры, доборы металлические со стороны межквартирного коридора, нажимная ручка на круглой розетке, цилиндровый замок 'ключ-ключ', ночная задвижка, смотровой глазок, цвет RAL 9003 (сигнальный белый) со стороны межквартирного коридора, порошковая окраска, МДФ-панель в цвет межкомнатных дверей со стороны квартиры | D60: 1100 | E60: 2100 | F60: нет | G60: 1044 | H60: 2068 | I60: 895 | J60: 1983 | K60: - | L60: Блочная | M60: Сталь, толщина: 2 мм | N60: Минеральная вата | O60: 64 | P60: Со стороны квартиры: телескопический, материал: МДФ с защитным покрытием, ширина: 70 мм, толщина: 10 мм, цвет: RAL 9003 (сигнальный белый) | Q60: =Ссылки!I5 -> Добор со стороны межквартирного коридора, материал: сталь, цвет: RAL 9003 (сигнальный белый) | R60: ='Замки'!A18&", "& 'Ссылки'!D3&", материал: "&'Ссылки'!H5&"; цвет: "&'Ссылки'!G9&"; " &'Замки'!A10&", "& 'Ссылки'!D5&", материал: "&'Ссылки'!H4&"; цвет: "&'Ссылки'!G9 -> ЗД-3, цилиндровый замок, материал: сталь нержавеющая; цвет: никель ; ЗД-2, "ключ-ключ", материал: алюминий; цвет: никель | S60: ='Ручки'!A26&", "&'Ссылки'!A2& ", материал: "&'Ссылки'!H4&", цвет: "&'Ссылки'!G3 -> РД-4, нажимная ручка на круглой розетке, материал: алюминий, цвет: никель матовый | T60: ='Петли'!A2&", "&'Ссылки'!C3&", цвет: "&'Ссылки'!G6 -> ПД-1, ввертные, цвет: сталь нержавеющая | U60: =" По проекту: нет / НФ-02, упор дверной "&'Ссылки'!E3 -> По проекту: нет / НФ-02, упор дверной напольный, высота 85 мм, цвет: серый / серебристый | V60: нет | W60: ='Ссылки'!F4 -> RAL 9003 (сигнальный белый) со стороны межквартирного коридора, порошковая окраска, МДФ-панель в цвет межкомнатных дверей со стороны квартиры | X60: ГОСТ Р 31173-2016/ ТУ 25.12.10-001-17157160-2017 | Y60: ДСВх, Б, Оп, Пр, Прг, Н, Псп, М2, О - ГОСТ 31173-2016 / ТУ 25.12.10-001-17157160-2017 / ДСВх, Б, Оп, Л, Прг, Н, Псп, М2, О - ГОСТ 31173-2016 / ТУ 25.12.10-001-17157160-2017 | Z60: При размещении дверного блока в зоне примыкающей под 90 град. стены без заплечика ширину проема в монолите/ячеистом бетонном блоке необходимо увеличить на 20 мм. Штукатурный слой примыкающей стены заводится на откос дверного проема до монтажа дверного блока (см. ЖД-ТАС-РЕН-АИ-ТУ, узел 59) | AC60: Дверь_Рен_1Ст_Блочная коробка_V3, типоразмер Д-27_1100х2100h_Кв
A61: - Дверь в квартиру для инвалидов (угловая коробка) | B61: Д-28 / Д-28л | C61: ="Дверь квартирная, металлическая, из х/к стали толщиной 2 мм (рама и полотно), "&"с заполнением минеральной ватой, глухая, с угловой коробкой, со стационарным порогом 14 мм с накладкой из нерж. стали, контурный уплотнитель - белый, доборы и наличники телескопические из МДФ, н"&"ажимная ручка на круглой розетке, дополнительная ручка П-образной формы длиной 0,8 м, цилиндровый замок 'ключ-ключ', ночная задвижка, 2 смотровых глазка на высоте 1,2 и 1,5 м, цвет "&W61 -> Дверь квартирная, металлическая, из х/к стали толщиной 2 мм (рама и полотно), с заполнением минеральной ватой, глухая, с угловой коробкой, со стационарным порогом 14 мм с накладкой из нерж. стали, контурный уплотнитель - белый, доборы и наличники телескопические из МДФ, нажимная ручка на круглой розетке, дополнительная ручка П-образной формы длиной 0,8 м, цилиндровый замок 'ключ-ключ', ночная задвижка, 2 смотровых глазка на высоте 1,2 и 1,5 м, цвет RAL 9003 (сигнальный белый) со стороны межквартирного коридора, порошковая окраска, МДФ-панель в цвет межкомнатных дверей со стороны квартиры | D61: 1050 | E61: 2100 | F61: нет | G61: 988 | H61: 2080 | I61: 888 | J61: 2023 | K61: - | L61: Угловая | M61: Сталь, толщина: 2 мм | N61: Минеральная вата | O61: 64 | P61: Со стороны коридора: в составе дверной коробки, материал: сталь, ширина: 67 мм, толщина: 15 мм, цвет: RAL 9003 (сигнальный белый); Со стороны квартиры: телескопический, материал: МДФ с защитным покрытием, ширина: 70 мм, толщина: 10 мм, цвет: RAL 9003 (сигнальный белый) | Q61: ='Ссылки'!I4 -> Добор со стороны квартиры, с пазом под телескопический наличник, материал: МДФ, цвет: RAL 9003 (сигнальный белый) | R61: ='Замки'!A18&", "& 'Ссылки'!D3&", материал: "&'Ссылки'!H5&"; цвет: "&'Ссылки'!G9&"; " &'Замки'!A10&", "& 'Ссылки'!D5&", материал: "&'Ссылки'!H4&"; цвет: "&'Ссылки'!G9 -> ЗД-3, цилиндровый замок, материал: сталь нержавеющая; цвет: никель ; ЗД-2, "ключ-ключ", материал: алюминий; цвет: никель | S61: ='Ручки'!A26&", "&'Ссылки'!A2& ", материал: "&'Ссылки'!H4&", цвет: "&'Ссылки'!G3&"; "&'Ручки'!A42&", "&'Ссылки'!A5& ", материал: "&'Ссылки'!H5&", цвет: "&'Ссылки'!G6 -> РД-4, нажимная ручка на круглой розетке, материал: алюминий, цвет: никель матовый; РД-6, дополнительная ручка П-образной формы, длина: 0,5-0,8 м, материал: сталь нержавеющая, цвет: сталь нержавеющая | T61: ='Петли'!A2&", "&'Ссылки'!C3&", цвет: "&'Ссылки'!G6 -> ПД-1, ввертные, цвет: сталь нержавеющая | U61: ="НФ-02, упор дверной "&'Ссылки'!E3 -> НФ-02, упор дверной напольный, высота 85 мм, цвет: серый / серебристый | V61: нет | W61: ='Ссылки'!F4 -> RAL 9003 (сигнальный белый) со стороны межквартирного коридора, порошковая окраска, МДФ-панель в цвет межкомнатных дверей со стороны квартиры | X61: ГОСТ Р 31173-2016 / ТУ 25.12.10-001-17157160-2017 | Y61: ДСВх, Б, Оп, Пр, Прг, Н, Псп, М2, О - ГОСТ 31173-2016 / ТУ 25.12.10-001-17157160-2017 / ДСВх, Б, Оп, Л, Прг, Н, Псп, М2, О - ГОСТ 31173-2016 / ТУ 25.12.10-001-17157160-2017 | AC61: Дверь_Рен_1Ст_Угловая коробка_V3, типоразмер Д-28_1050х2100h_Кв_МГН
A62: - Дверь в квартиру для инвалидов (блочная коробка) | B62: Д-29 / Д-29л | C62: ="Дверь квартирная, металлическая, из х/к стали, толщиной 2 мм (рама и полотно)"&", с заполнением минеральной ватой, глухая, с блочной коробкой, со стационарным порогом 14 мм с накладкой из нерж. стали, контурный уплотнитель - белый, наличники телескопические из МДФ со стороны"&" квартиры, доборы металлические со стороны межквартирного коридора, нажимная ручка на круглой розетке, дополнительная ручка П-образной формы длиной 0,8 м, цилиндровый замок 'ключ-ключ', ночная задвижка, 2 смотровых глазка на высоте 1,2 и 1,5 м, цвет "&W62 -> Дверь квартирная, металлическая, из х/к стали, толщиной 2 мм (рама и полотно), с заполнением минеральной ватой, глухая, с блочной коробкой, со стационарным порогом 14 мм с накладкой из нерж. стали, контурный уплотнитель - белый, наличники телескопические из МДФ со стороны квартиры, доборы металлические со стороны межквартирного коридора, нажимная ручка на круглой розетке, дополнительная ручка П-образной формы длиной 0,8 м, цилиндровый замок 'ключ-ключ', ночная задвижка, 2 смотровых глазка на высоте 1,2 и 1,5 м, цвет RAL 9003 (сигнальный белый) со стороны межквартирного коридора, порошковая окраска, МДФ-панель в цвет межкомнатных дверей со стороны квартиры | D62: 1100 | E62: 2100 | F62: нет | G62: 1044 | H62: 2068 | I62: 895 | J62: 1983 | K62: - | L62: Блочная | M62: Сталь, толщина: 2 мм | N62: Минеральная вата | O62: 64 | P62: Со стороны квартиры: телескопический, материал: МДФ с защитным покрытием, ширина: 70 мм, толщина: 10 мм, цвет: RAL 9003 (сигнальный белый) | Q62: =Ссылки!I5 -> Добор со стороны межквартирного коридора, материал: сталь, цвет: RAL 9003 (сигнальный белый) | R62: ='Замки'!A18&", "& 'Ссылки'!D3&", материал: "&'Ссылки'!H5&"; цвет: "&'Ссылки'!G9&"; " &'Замки'!A10&", "& 'Ссылки'!D5&", материал: "&'Ссылки'!H4&"; цвет: "&'Ссылки'!G9 -> ЗД-3, цилиндровый замок, материал: сталь нержавеющая; цвет: никель ; ЗД-2, "ключ-ключ", материал: алюминий; цвет: никель | S62: ='Ручки'!A26&", "&'Ссылки'!A2& ", материал: "&'Ссылки'!H4&", цвет: "&'Ссылки'!G3&"; "&'Ручки'!A42&", "&'Ссылки'!A5& ", материал: "&'Ссылки'!H5&", цвет: "&'Ссылки'!G6 -> РД-4, нажимная ручка на круглой розетке, материал: алюминий, цвет: никель матовый; РД-6, дополнительная ручка П-образной формы, длина: 0,5-0,8 м, материал: сталь нержавеющая, цвет: сталь нержавеющая | T62: ='Петли'!A2&", "&'Ссылки'!C3&", цвет: "&'Ссылки'!G6 -> ПД-1, ввертные, цвет: сталь нержавеющая | U62: =" По проекту: нет / НФ-02, упор дверной "&'Ссылки'!E3 -> По проекту: нет / НФ-02, упор дверной напольный, высота 85 мм, цвет: серый / серебристый | V62: нет | W62: ='Ссылки'!F4 -> RAL 9003 (сигнальный белый) со стороны межквартирного коридора, порошковая окраска, МДФ-панель в цвет межкомнатных дверей со стороны квартиры | X62: ГОСТ Р 31173-2016 / ТУ 25.12.10-001-17157160-2017 | Y62: ДСВх, Б, Оп, Пр, Прг, Н, Псп, М2, О - ГОСТ 31173-2016 / ТУ 25.12.10-001-17157160-2017 / ДСВх, Б, Оп, Л, Прг, Н, Псп, М2, О - ГОСТ 31173-2016 / ТУ 25.12.10-001-17157160-2017 | AC62: Дверь_Рен_1Ст_Блочная коробка_V3, типоразмер Д-29_1100х2100h_Кв_МГН
A63: - Дверь в жилую комнату | B63: Д-30 / Д-30л | C63: ="Дверь деревянная, глухая без порога, каркас и сплошное заполнение дверного полотна из бруса хвойных пород, толщина полотна 39 мм, внешняя отделка двери древесноволокнистая плита средней плотности с защитным покрытием ("&W63&"), телескопический наличник, контурный уплотнитель - белый, нажимная ручка, врезная защелка" -> Дверь деревянная, глухая без порога, каркас и сплошное заполнение дверного полотна из бруса хвойных пород, толщина полотна 39 мм, внешняя отделка двери древесноволокнистая плита средней плотности с защитным покрытием (ПВХ плёнка рельефная по типу текстурированная Imawell Laerche Bianco 21-75033-2930-0-110), телескопический наличник, контурный уплотнитель - белый, нажимная ручка, врезная защелка | D63: 900 | E63: 2070 | F63: нет | G63: 850 | H63: 2037 | I63: 750 | J63: 2005 | K63: - | L63: Телескопическая | M63: Каркас из бруса хвойных пород, внешняя отделка двери древесноволокнистая плита средней плотности с защитным покрытием | N63: Сплошное заполнение из бруса хвойных пород | O63: 39 | P63: ="Телескопический, материал: МДФ с защитным покрытием, ширина: 70 мм, толщина: 10 мм, финишное покрытие: "&'Ссылки'!F3 -> Телескопический, материал: МДФ с защитным покрытием, ширина: 70 мм, толщина: 10 мм, финишное покрытие: ПВХ плёнка рельефная по типу текстурированная Imawell Laerche Bianco 21-75033-2930-0-110 | Q63: ='Ссылки'!I9&"; финишное покрытие: "&'Ссылки'!F3&" (применяется для стен толщиной более 80 мм)" -> Добор с пазом под телескопический наличник, материал: МДФ; финишное покрытие: ПВХ плёнка рельефная по типу текстурированная Imawell Laerche Bianco 21-75033-2930-0-110 (применяется для стен толщиной более 80 мм) | R63: ='Замки'!A50&", "&'Ссылки'!D2& ", материал: "&'Ссылки'!H5&", цвет: "&'Ссылки'!G6 -> ЗД-7, защелка врезная бесшумная, материал: сталь нержавеющая, цвет: сталь нержавеющая | S63: ='Ручки'!A34&", "&'Ссылки'!A2& ", материал: "&'Ссылки'!G6&", цвет: "&'Ссылки'!G6 -> РД-5, нажимная ручка на круглой розетке, материал: сталь нержавеющая , цвет: сталь нержавеющая | T63: ='Петли'!A10&", "&'Ссылки'!C2&", цвет: "&'Ссылки'!G3 -> ПД-2, накладные без врезки, цвет: никель матовый | U63: ="НФ-03, упор дверной " &'Ссылки'!E2 -> НФ-03, упор дверной напольный, высота 40 мм, цвет: никель матовый, резинка серая | V63: нет | W63: ='Ссылки'!F3 -> ПВХ плёнка рельефная по типу текстурированная Imawell Laerche Bianco 21-75033-2930-0-110 | X63: ГОСТ 475-2016 | Y63: ДМ 1 Рп 20.7х9 Г ПрБ Мд1 ГОСТ 475-2016 / ДМ 1 Рл 20.7х9 Г ПрБ Мд1 ГОСТ 475-2016 | AC63: Дверь_Рен_1Ст_Телескопическая коробка_V3, типоразмер Д-30_900х2070h
A64: - Дверь в жилую комнату (квартира для инвалидов) | B64: Д-31 / Д-31л | C64: ="Дверь деревянная глухая без порога, каркас и сплошное заполнение дверного полотна из бруса хвойных пород, толщина полотна 39 мм, внешняя отделка двери древесноволокнистая плита средней плотности с защитным покрытием ("&W64&"), телескопический наличник, контурный уплотнитель - белый, нажимная ручка, врезная защелка" -> Дверь деревянная глухая без порога, каркас и сплошное заполнение дверного полотна из бруса хвойных пород, толщина полотна 39 мм, внешняя отделка двери древесноволокнистая плита средней плотности с защитным покрытием (ПВХ плёнка рельефная по типу текстурированная Imawell Laerche Bianco 21-75033-2930-0-110), телескопический наличник, контурный уплотнитель - белый, нажимная ручка, врезная защелка | D64: 950 | E64: 2070 | F64: нет | G64: 900 | H64: 2037 | I64: 800 | J64: 2005 | K64: - | L64: Телескопическая | M64: Каркас из бруса хвойных пород, внешняя отделка двери древесноволокнистая плита средней плотности с защитным покрытием | N64: Сплошное заполнение из бруса хвойных пород | O64: 39 | P64: ="Телескопический, материал: МДФ с защитным покрытием, ширина: 70 мм, толщина: 10 мм, финишное покрытие: "&'Ссылки'!F3 -> Телескопический, материал: МДФ с защитным покрытием, ширина: 70 мм, толщина: 10 мм, финишное покрытие: ПВХ плёнка рельефная по типу текстурированная Imawell Laerche Bianco 21-75033-2930-0-110 | Q64: ='Ссылки'!I9&"; финишное покрытие: "&'Ссылки'!F3&" (применяется для стен толщиной более 80 мм)" -> Добор с пазом под телескопический наличник, материал: МДФ; финишное покрытие: ПВХ плёнка рельефная по типу текстурированная Imawell Laerche Bianco 21-75033-2930-0-110 (применяется для стен толщиной более 80 мм) | R64: ='Замки'!A50&", "&'Ссылки'!D2& ", материал: "&'Ссылки'!H5&", цвет: "&'Ссылки'!G6 -> ЗД-7, защелка врезная бесшумная, материал: сталь нержавеющая, цвет: сталь нержавеющая | S64: ='Ручки'!A34&", "&'Ссылки'!A2& ", материал: "&'Ссылки'!G6&", цвет: "&'Ссылки'!G6 -> РД-5, нажимная ручка на круглой розетке, материал: сталь нержавеющая , цвет: сталь нержавеющая | T64: ='Петли'!A10&", "&'Ссылки'!C2&", цвет: "&'Ссылки'!G3 -> ПД-2, накладные без врезки, цвет: никель матовый | U64: ="НФ-03, упор дверной " &'Ссылки'!E2 -> НФ-03, упор дверной напольный, высота 40 мм, цвет: никель матовый, резинка серая | V64: нет | W64: ='Ссылки'!F3 -> ПВХ плёнка рельефная по типу текстурированная Imawell Laerche Bianco 21-75033-2930-0-110 | X64: ГОСТ 475-2016 | Y64: ДМ 1 Рп 20.7х9.5 Г ПрБ Мд1 ГОСТ 475-2016 / ДМ 1 Рл 20.7х9.5 Г ПрБ Мд1 ГОСТ 475-2016 | AC64: Дверь_Рен_1Ст_Телескопическая коробка_V3, типоразмер Д-31_950х2070h_кв
A65: - Дверь в кухню | B65: Д-44 / Д-44л | C65: ="Дверь деревянная, остекленная, без порога, каркас и сплошное заполнение дверного полотна из бруса хвойных пород, толщина полотна 39 мм, внешняя отделка двери древесноволокнистая плита средней плотности с защитным покрытием ("&W64&"), телескопический наличник, контурный уплотнитель - белый, нажимная ручка, врезная защелка" -> Дверь деревянная, остекленная, без порога, каркас и сплошное заполнение дверного полотна из бруса хвойных пород, толщина полотна 39 мм, внешняя отделка двери древесноволокнистая плита средней плотности с защитным покрытием (ПВХ плёнка рельефная по типу текстурированная Imawell Laerche Bianco 21-75033-2930-0-110), телескопический наличник, контурный уплотнитель - белый, нажимная ручка, врезная защелка | D65: 800 | E65: 2070 | F65: нет | G65: 750 | H65: 2037 | I65: 650 | J65: 2005 | K65: - | L65: Телескопическая | M65: Каркас из бруса хвойных пород, внешняя отделка двери древесноволокнистая плита средней плотности с защитным покрытием | N65: Стекло - 4мм, матовое химического травления, защитная пленка А3 | O65: 39 | P65: ="Телескопический, материал: МДФ с защитным покрытием, ширина: 70 мм, толщина: 10 мм, финишное покрытие: "&'Ссылки'!F3 -> Телескопический, материал: МДФ с защитным покрытием, ширина: 70 мм, толщина: 10 мм, финишное покрытие: ПВХ плёнка рельефная по типу текстурированная Imawell Laerche Bianco 21-75033-2930-0-110 | Q65: ='Ссылки'!I9&"; финишное покрытие: "&'Ссылки'!F3&" (применяется для стен толщиной более 80 мм)" -> Добор с пазом под телескопический наличник, материал: МДФ; финишное покрытие: ПВХ плёнка рельефная по типу текстурированная Imawell Laerche Bianco 21-75033-2930-0-110 (применяется для стен толщиной более 80 мм) | R65: =Замки!A50&", "&'Ссылки'!D2&", материал: "&'Ссылки'!H5&", цвет: "&'Ссылки'!G6 -> ЗД-7, защелка врезная бесшумная, материал: сталь нержавеющая, цвет: сталь нержавеющая | S65: =Ручки!A34&", "&'Ссылки'!A2&", материал: "&'Ссылки'!G6&", цвет: "&'Ссылки'!G6 -> РД-5, нажимная ручка на круглой розетке, материал: сталь нержавеющая , цвет: сталь нержавеющая | T65: ='Петли'!A10&", "&'Ссылки'!C2&", цвет: "&'Ссылки'!G3 -> ПД-2, накладные без врезки, цвет: никель матовый | U65: ="НФ-03, упор дверной "&'Ссылки'!E2 -> НФ-03, упор дверной напольный, высота 40 мм, цвет: никель матовый, резинка серая | V65: нет | W65: ='Ссылки'!F3 -> ПВХ плёнка рельефная по типу текстурированная Imawell Laerche Bianco 21-75033-2930-0-110 | X65: ГОСТ 475-2016 | Y65: ДМ 1 Рп 20.7х8 О ПрБ Мд1 ГОСТ 475-2016 / ДМ 1 Рл 20.7х8 О ПрБ Мд1 ГОСТ 475-2016 | AC65: Дверь_Рен_1Ст_Телескопическая коробка_V3, типоразмер Д-44_800х2070h
A66: - Дверь в кухню (квартира для инвалидов ) | B66: Д-45 / Д-45л | C66: ="Дверь деревянная, остекленная, без порога, каркас и сплошное заполнение дверного полотна из бруса хвойных пород, толщина полотна 39 мм, внешняя отделка двери древесноволокнистая плита средней плотности с защитным покрытием ("&W64&"), телескопический наличник, контурный уплотнитель - белый, нажимная ручка, врезная защелка" -> Дверь деревянная, остекленная, без порога, каркас и сплошное заполнение дверного полотна из бруса хвойных пород, толщина полотна 39 мм, внешняя отделка двери древесноволокнистая плита средней плотности с защитным покрытием (ПВХ плёнка рельефная по типу текстурированная Imawell Laerche Bianco 21-75033-2930-0-110), телескопический наличник, контурный уплотнитель - белый, нажимная ручка, врезная защелка | D66: 950 | E66: 2070 | F66: нет | G66: 900 | H66: 2037 | I66: 800 | J66: 2005 | K66: - | L66: Телескопическая | M66: Каркас из бруса хвойных пород, внешняя отделка двери древесноволокнистая плита средней плотности с защитным покрытием | N66: Стекло - 4мм, матовое химического травления, защитная пленка А3 | O66: 39 | P66: ="Телескопический, материал: МДФ с защитным покрытием, ширина: 70 мм, толщина: 10 мм, финишное покрытие: "&'Ссылки'!F3 -> Телескопический, материал: МДФ с защитным покрытием, ширина: 70 мм, толщина: 10 мм, финишное покрытие: ПВХ плёнка рельефная по типу текстурированная Imawell Laerche Bianco 21-75033-2930-0-110 | Q66: ='Ссылки'!I9&"; финишное покрытие: "&'Ссылки'!F3&" (применяется для стен толщиной более 80 мм)" -> Добор с пазом под телескопический наличник, материал: МДФ; финишное покрытие: ПВХ плёнка рельефная по типу текстурированная Imawell Laerche Bianco 21-75033-2930-0-110 (применяется для стен толщиной более 80 мм) | R66: =Замки!A50&", "&'Ссылки'!D2&", материал: "&'Ссылки'!H5&", цвет: "&'Ссылки'!G6 -> ЗД-7, защелка врезная бесшумная, материал: сталь нержавеющая, цвет: сталь нержавеющая | S66: =Ручки!A34&", "&'Ссылки'!A2&", материал: "&'Ссылки'!G6&", цвет: "&'Ссылки'!G6 -> РД-5, нажимная ручка на круглой розетке, материал: сталь нержавеющая , цвет: сталь нержавеющая | T66: ='Петли'!A10&", "&'Ссылки'!C2&", цвет: "&'Ссылки'!G3 -> ПД-2, накладные без врезки, цвет: никель матовый | U66: ="НФ-03, упор дверной "&'Ссылки'!E2 -> НФ-03, упор дверной напольный, высота 40 мм, цвет: никель матовый, резинка серая | V66: нет | W66: ='Ссылки'!F3 -> ПВХ плёнка рельефная по типу текстурированная Imawell Laerche Bianco 21-75033-2930-0-110 | X66: ГОСТ 475-2016 | Y66: ДМ 1 Рп 20.7х9.5 О ПрБ Мд1 ГОСТ 475-2016 / ДМ 1 Рл 20.7х9.5 О ПрБ Мд1 ГОСТ 475-2016 | AC66: Дверь_Рен_1Ст_Телескопическая коробка_V3, типоразмер Д-45_950х2070h
A67: - Дверь в с/у | B67: Д-34 / Д-34л | C67: ="Дверь деревянная глухая без порога, каркас и сплошное заполнение дверного полотна из бруса хвойных пород, толщина полотна 39 мм, внешняя отделка двери древесноволокнистая плита средней плотности с защитным покрытием ("&W67&"), телескопический наличник, контурный уплотнитель - белый, нажимная ручка, врезная защелка, фиксатор" -> Дверь деревянная глухая без порога, каркас и сплошное заполнение дверного полотна из бруса хвойных пород, толщина полотна 39 мм, внешняя отделка двери древесноволокнистая плита средней плотности с защитным покрытием (ПВХ плёнка рельефная по типу текстурированная Imawell Laerche Bianco 21-75033-2930-0-110), телескопический наличник, контурный уплотнитель - белый, нажимная ручка, врезная защелка, фиксатор | D67: 800 | E67: 2070 | F67: 15 | G67: 750 | H67: 2037 | I67: 650 | J67: 1990 | K67: - | L67: Телескопическая | M67: Каркас из бруса хвойных пород, внешняя отделка двери древесноволокнистая плита средней плотности с защитным покрытием | N67: Сплошное заполнение из бруса хвойных пород | O67: 39 | P67: ="Телескопический, материал: МДФ с защитным покрытием, ширина: 70 мм, толщина: 10 мм, финишное покрытие: "&'Ссылки'!F3 -> Телескопический, материал: МДФ с защитным покрытием, ширина: 70 мм, толщина: 10 мм, финишное покрытие: ПВХ плёнка рельефная по типу текстурированная Imawell Laerche Bianco 21-75033-2930-0-110 | Q67: ='Ссылки'!I9&"; финишное покрытие: "&'Ссылки'!F3&" (применяется для стен толщиной более 80 мм)" -> Добор с пазом под телескопический наличник, материал: МДФ; финишное покрытие: ПВХ плёнка рельефная по типу текстурированная Imawell Laerche Bianco 21-75033-2930-0-110 (применяется для стен толщиной более 80 мм) | R67: =Замки!A50&", "&'Ссылки'!D2&", материал: "&'Ссылки'!H5&", цвет: "&'Ссылки'!G6&"; "&Замки!A58&", "&'Ссылки'!A6 -> ЗД-7, защелка врезная бесшумная, материал: сталь нержавеющая, цвет: сталь нержавеющая ; ЗД-8, фиксатор, материал: сталь нержавеющая, цвет: сталь нержавеющая | S67: ='Ручки'!A34&", "&'Ссылки'!A2& ", материал: "&'Ссылки'!G6&", цвет: "&'Ссылки'!G6 -> РД-5, нажимная ручка на круглой розетке, материал: сталь нержавеющая , цвет: сталь нержавеющая | T67: ='Петли'!A10&", "&'Ссылки'!C2&", цвет: "&'Ссылки'!G3 -> ПД-2, накладные без врезки, цвет: никель матовый | U67: ="НФ-03, упор дверной " &'Ссылки'!E2 -> НФ-03, упор дверной напольный, высота 40 мм, цвет: никель матовый, резинка серая | V67: нет | W67: ='Ссылки'!F3 -> ПВХ плёнка рельефная по типу текстурированная Imawell Laerche Bianco 21-75033-2930-0-110 | X67: ГОСТ 475-2016 | Y67: ДС 1 Рп 20.7х8 Г ПрБ Мд1 ГОСТ 475-2016 / ДС 1 Рл 20.7х8 Г ПрБ Мд1 ГОСТ 475-2016 | AC67: Дверь_Рен_1Ст_Телескопическая коробка_V3, типоразмер Д-34_800х2070h
A68: - Дверь в с/у (квартира для инвалидов , в т.ч. гостевой с/у в квартире для инвалидов ) | B68: Д-35 / Д-35л | C68: ="Дверь деревянная глухая без порога, каркас и сплошное заполнение дверного полотна из бруса хвойных пород, толщина полотна 39 мм, внешняя отделка двери древесноволокнистая плита средней плотности с защитным покрытием ("&W68&"), телескопический наличник, контурный уплотнитель - белый, нажимная ручка, врезная защелка, фиксатор" -> Дверь деревянная глухая без порога, каркас и сплошное заполнение дверного полотна из бруса хвойных пород, толщина полотна 39 мм, внешняя отделка двери древесноволокнистая плита средней плотности с защитным покрытием (ПВХ плёнка рельефная по типу текстурированная Imawell Laerche Bianco 21-75033-2930-0-110), телескопический наличник, контурный уплотнитель - белый, нажимная ручка, врезная защелка, фиксатор | D68: 950 | E68: 2070 | F68: 14 | G68: 900 | H68: 2022 | I68: 800 | J68: 1991 | K68: - | L68: Телескопическая | M68: Каркас из бруса хвойных пород, внешняя отделка двери древесноволокнистая плита средней плотности с защитным покрытием | N68: Сплошное заполнение из бруса хвойных пород | O68: 39 | P68: ="Телескопический, материал: МДФ с защитным покрытием, ширина: 70 мм, толщина: 10 мм, финишное покрытие: "&'Ссылки'!F3 -> Телескопический, материал: МДФ с защитным покрытием, ширина: 70 мм, толщина: 10 мм, финишное покрытие: ПВХ плёнка рельефная по типу текстурированная Imawell Laerche Bianco 21-75033-2930-0-110 | Q68: ='Ссылки'!I9&"; финишное покрытие: "&'Ссылки'!F3&" (применяется для стен толщиной более 80 мм)" -> Добор с пазом под телескопический наличник, материал: МДФ; финишное покрытие: ПВХ плёнка рельефная по типу текстурированная Imawell Laerche Bianco 21-75033-2930-0-110 (применяется для стен толщиной более 80 мм) | R68: =Замки!A50&", "&'Ссылки'!D2&", материал: "&'Ссылки'!H5&", цвет: "&'Ссылки'!G6&"; "&Замки!A58&", "&'Ссылки'!A6 -> ЗД-7, защелка врезная бесшумная, материал: сталь нержавеющая, цвет: сталь нержавеющая ; ЗД-8, фиксатор, материал: сталь нержавеющая, цвет: сталь нержавеющая | S68: =Ручки!A34&", "&'Ссылки'!A2&", материал: "&'Ссылки'!G6&", цвет: "&'Ссылки'!G6 -> РД-5, нажимная ручка на круглой розетке, материал: сталь нержавеющая , цвет: сталь нержавеющая | T68: ='Петли'!A10&", "&'Ссылки'!C2&", цвет: "&'Ссылки'!G3 -> ПД-2, накладные без врезки, цвет: никель матовый | U68: ="НФ-03, упор дверной "&'Ссылки'!E2 -> НФ-03, упор дверной напольный, высота 40 мм, цвет: никель матовый, резинка серая | V68: нет | W68: ='Ссылки'!F3 -> ПВХ плёнка рельефная по типу текстурированная Imawell Laerche Bianco 21-75033-2930-0-110 | X68: ГОСТ 475-2016 | Y68: ДС 1 Рп 20.7х9.5 Г ПрБ Мд1 ГОСТ 475-2016 / ДС 1 Рл 20.7х9.5 Г ПрБ Мд1 ГОСТ 475-2016 | AC68: Дверь_Рен_1Ст_Телескопическая коробка_V3, типоразмер Д-35_950х2070h_санузел_кв
A69: - Дверь в СТМ | B69: Д-55 / Д-55л | C69: ="Дверь деревянная глухая без порога, каркас и сплошное заполнение дверного полотна из бруса хвойных пород, толщина полотна 39 мм, внешняя отделка двери древесноволокнистая плита средней плотности с защитным покрытием ("&W67&"), телескопический наличник, контурный уплотнитель - белый, нажимная ручка, врезная защелка, фиксатор" -> Дверь деревянная глухая без порога, каркас и сплошное заполнение дверного полотна из бруса хвойных пород, толщина полотна 39 мм, внешняя отделка двери древесноволокнистая плита средней плотности с защитным покрытием (ПВХ плёнка рельефная по типу текстурированная Imawell Laerche Bianco 21-75033-2930-0-110), телескопический наличник, контурный уплотнитель - белый, нажимная ручка, врезная защелка, фиксатор | D69: 800 | E69: 2070 | F69: 10 | G69: 750 | H69: 2047 | I69: 650 | J69: 1995 | K69: - | L69: Телескопическая | M69: Каркас из бруса хвойных пород, внешняя отделка двери древесноволокнистая плита средней плотности с защитным покрытием | N69: Сплошное заполнение из бруса хвойных пород | O69: 39 | P69: ="Телескопический, материал: МДФ с защитным покрытием, ширина: 70 мм, толщина: 10 мм, финишное покрытие: "&'Ссылки'!F3 -> Телескопический, материал: МДФ с защитным покрытием, ширина: 70 мм, толщина: 10 мм, финишное покрытие: ПВХ плёнка рельефная по типу текстурированная Imawell Laerche Bianco 21-75033-2930-0-110 | Q69: ='Ссылки'!I9&"; финишное покрытие: "&'Ссылки'!F3&" (применяется для стен толщиной более 80 мм)" -> Добор с пазом под телескопический наличник, материал: МДФ; финишное покрытие: ПВХ плёнка рельефная по типу текстурированная Imawell Laerche Bianco 21-75033-2930-0-110 (применяется для стен толщиной более 80 мм) | R69: =Замки!A50&", "&'Ссылки'!D2&", материал: "&'Ссылки'!H5&", цвет: "&'Ссылки'!G6&"; "&Замки!A58&", "&'Ссылки'!A6 -> ЗД-7, защелка врезная бесшумная, материал: сталь нержавеющая, цвет: сталь нержавеющая ; ЗД-8, фиксатор, материал: сталь нержавеющая, цвет: сталь нержавеющая | S69: =Ручки!A34&", "&'Ссылки'!A2&", материал: "&'Ссылки'!G6&", цвет: "&'Ссылки'!G6 -> РД-5, нажимная ручка на круглой розетке, материал: сталь нержавеющая , цвет: сталь нержавеющая | T69: ='Петли'!A10&", "&'Ссылки'!C2&", цвет: "&'Ссылки'!G3 -> ПД-2, накладные без врезки, цвет: никель матовый | U69: ="НФ-03, упор дверной "&'Ссылки'!E2 -> НФ-03, упор дверной напольный, высота 40 мм, цвет: никель матовый, резинка серая | V69: нет | W69: ='Ссылки'!F3 -> ПВХ плёнка рельефная по типу текстурированная Imawell Laerche Bianco 21-75033-2930-0-110 | X69: ГОСТ 475-2016 | Y69: ДС 1 Рп 20.7х8 Г ПрБ Мд1 ГОСТ 475-2016 / ДС 1 Рл 20.7х8 Г ПрБ Мд1 ГОСТ 475-2016 | AC69: Дверь_Рен_1Ст_Телескопическая коробка_V3, типоразмер Д-55_800х2070h_санузел_СТМ
A70: ЧЕРДАК, МАШИННОЕ ПОМЕЩЕНИЕ ЛИФТОВ И КРОВЛЯ
A71: - Дверь чердака между тех.пространствами для прокладки инж. коммуникаций | B71: Д-36 / Д-36л | C71: ="Дверь металлическая, из 2-х листов х/к стали, толщиной 1.0 мм - полотно, 1.2 мм - рама,"&" с заполнением из минеральной ваты, глухая со стационарным порогом 14 мм, контурный уплотнитель - серый, нажимная ручка, цилиндровый замок 'ключ-ключ', порошковая окраска, цвет "&W71 -> Дверь металлическая, из 2-х листов х/к стали, толщиной 1.0 мм - полотно, 1.2 мм - рама, с заполнением из минеральной ваты, глухая со стационарным порогом 14 мм, контурный уплотнитель - серый, нажимная ручка, цилиндровый замок 'ключ-ключ', порошковая окраска, цвет RAL 7016 (антрацитово-серый) матовый | D71: 1000 | E71: 1710 | F71: нет | G71: 966 | H71: 1684 | I71: 803 | J71: 1591 | K71: - | L71: Блочная | M71: Сталь, толщина 1.0 мм | N71: Минеральная вата | O71: 61 | P71: нет | Q71: нет | R71: ='Замки'!A42&", "& 'Ссылки'!D3&", материал: "&'Ссылки'!H5&"; цвет: "&'Ссылки'!G9&"; " &'Замки'!A10&", "& 'Ссылки'!D5&", материал: "&'Ссылки'!H4&"; цвет: "&'Ссылки'!G9 -> ЗД-6, цилиндровый замок, материал: сталь нержавеющая; цвет: никель ; ЗД-2, "ключ-ключ", материал: алюминий; цвет: никель | S71: ='Ручки'!A18&", "&'Ссылки'!A10& ", материал: "&'Ссылки'!H3&", цвет: "&'Ссылки'!G5 -> РД-3, нажимная ручка на планке, материал: сталь нержавеющая / нейлон, цвет: черный | T71: ='Петли'!A2&", "&'Ссылки'!C3&", цвет: "&'Ссылки'!G6 -> ПД-1, ввертные, цвет: сталь нержавеющая | U71: нет | V71: нет | W71: ='Ссылки'!F2 -> RAL 7016 (антрацитово-серый) матовый | X71: ГОСТ Р 31173-2016 / ТУ 25.12.10-001-17157160-2017 | Y71: ДСВв, В1, Оп, Пр, Прг, Н, П2лс, М2, О - ГОСТ 31173-2016 / ТУ 25.12.10-001-17157160-2017 / ДСВв, В1, Оп, Л, Прг, Н, П2лс, М2, О - ГОСТ 31173-2016 / ТУ 25.12.10-001-17157160-2017 | AC71: Дверь_Рен_1Ст_Блочная коробка_V3, типоразмер Д-36_1000х1710h
A72: - Дверь выхода из чердака на кровлю - Дверь выхода из помещения СС на кровле (блочная коробка) см. п. 6 Правил | B72: Д-37 / Д-37л | C72: ="Дверь металлическая, из 2-х листов х/к стали, толщиной 1.0 мм - полотно, 1.2 мм - рама, противопожарная"&", глухая со стационарным порогом 14 мм, утепленная, контурный уплотнитель - серый, доводчик, нажимная ручка, цилиндровый замок 'ключ-ключ', порошковая окраска, цвет "&W72 -> Дверь металлическая, из 2-х листов х/к стали, толщиной 1.0 мм - полотно, 1.2 мм - рама, противопожарная, глухая со стационарным порогом 14 мм, утепленная, контурный уплотнитель - серый, доводчик, нажимная ручка, цилиндровый замок 'ключ-ключ', порошковая окраска, цвет RAL 7044 (серый шелк) матовый | D72: 1000 см. п. 4 Правил | E72: 2150 | F72: нет | G72: 966 | H72: 2124 | I72: 803 | J72: 2031 | K72: EI30 | L72: Блочная | M72: Сталь, толщина 1.0 мм | N72: Минеральная вата | O72: 61 | P72: нет | Q72: нет | R72: =Замки!A42&", "&'Ссылки'!D3&", материал: "&'Ссылки'!H5&"; цвет: "&'Ссылки'!G9&"; "&Замки!A10&", "&'Ссылки'!D5&", материал: "&'Ссылки'!H4&"; цвет: "&'Ссылки'!G9 -> ЗД-6, цилиндровый замок, материал: сталь нержавеющая; цвет: никель ; ЗД-2, "ключ-ключ", материал: алюминий; цвет: никель | S72: =Ручки!A18&", "&'Ссылки'!A10&", материал: "&'Ссылки'!H3&", цвет: "&'Ссылки'!G5 -> РД-3, нажимная ручка на планке, материал: сталь нержавеющая / нейлон, цвет: черный | T72: ='Петли'!A2&", "&'Ссылки'!C3&", цвет: "&'Ссылки'!G6 -> ПД-1, ввертные, цвет: сталь нержавеющая | U72: нет | V72: ='Доводчик'!A2&", "&'Ссылки'!B2&", цвет: "&'Ссылки'!G4 -> ДД-1, доводчик, цвет: серебристый | W72: ='Ссылки'!F11 -> RAL 7044 (серый шелк) матовый | X72: ГОСТ Р 57327-2016 / ТУ 25.12.10-001-17157160-2018 | Y72: ДПС 01 2124-966 пр. EI 30 ГОСТ Р 57327-2016 / ТУ 25.12.10-001-17157160-2018 / ДПС 01 2124-966 л. EI 30 ГОСТ Р 57327-2016 / ТУ 25.12.10-001-17157160-2018 | AC72: Дверь_Рен_1Ст_Блочная коробка_V3, типоразмер Д-37_1000х2150h_EI30
A73: - Дверь выхода из чердака на кровлю - Дверь выхода из помещения СС на кровле (угловая коробка) см. п. 6 Правил | B73: Д-52 / Д-52л | C73: ="Дверь металлическая, из 2-х листов х/к стали, толщиной 1.0 мм - полотно, 1.2 мм - рама, противопожарная"&", глухая со стационарным порогом 14 мм, утепленная, контурный уплотнитель - серый, доводчик, нажимная ручка, цилиндровый замок 'ключ-ключ', порошковая окраска, цвет "&W72 -> Дверь металлическая, из 2-х листов х/к стали, толщиной 1.0 мм - полотно, 1.2 мм - рама, противопожарная, глухая со стационарным порогом 14 мм, утепленная, контурный уплотнитель - серый, доводчик, нажимная ручка, цилиндровый замок 'ключ-ключ', порошковая окраска, цвет RAL 7044 (серый шелк) матовый | D73: 1000 см. п. 4 Правил | E73: 2150 | F73: нет | G73: 958 | H73: 2129 | I73: 871 | J73: 2061 | K73: EI30 | L73: Угловая | M73: Сталь, толщина 1.0 мм | N73: Минеральная вата | O73: 61 | P73: В составе дверной коробки, материал: сталь, ширина: 67 мм, толщина: 15 мм | Q73: нет | R73: =Замки!A42&", "&'Ссылки'!D3&", материал: "&'Ссылки'!H5&"; цвет: "&'Ссылки'!G9&"; "&Замки!A10&", "&'Ссылки'!D5&", материал: "&'Ссылки'!H4&"; цвет: "&'Ссылки'!G9 -> ЗД-6, цилиндровый замок, материал: сталь нержавеющая; цвет: никель ; ЗД-2, "ключ-ключ", материал: алюминий; цвет: никель | S73: =Ручки!A18&", "&'Ссылки'!A10&", материал: "&'Ссылки'!H3&", цвет: "&'Ссылки'!G5 -> РД-3, нажимная ручка на планке, материал: сталь нержавеющая / нейлон, цвет: черный | T73: ='Петли'!A2&", "&'Ссылки'!C3&", цвет: "&'Ссылки'!G6 -> ПД-1, ввертные, цвет: сталь нержавеющая | U73: нет | V73: ='Доводчик'!A2&", "&'Ссылки'!B2&", цвет: "&'Ссылки'!G4 -> ДД-1, доводчик, цвет: серебристый | W73: ='Ссылки'!F11 -> RAL 7044 (серый шелк) матовый | X73: ГОСТ Р 57327-2016 / ТУ 25.12.10-001-17157160-2018 | Y73: ДПС 01 2129-958 пр. EI 30 ГОСТ Р 57327-2016 / ТУ 25.12.10-001-17157160-2018 / ДПС 01 2129-958 л. EI 30 ГОСТ Р 57327-2016 / ТУ 25.12.10-001-17157160-2018 | AC73: Дверь_Рен_1Ст_Угловая коробка_V3, типоразмер Д-52_1000х2150h_EI30
A74: - Дверь выхода из машинного помещения лифтов на кровлю (блочная коробка) см. п. 6 Правил | B74: Д-38 / Д-38л | C74: ="Дверь металлическая, из 2-х листов х/к стали, толщиной 1.0 мм - полотно, 1.2 мм - рама, "&"противопожарная, дымогазонепроницаемая, глухая, со стационарным порогом 14 мм, утепленная, контурный уплотнитель - серый, доводчик, нажимная ручка, цилиндровый замок 'ключ-ключ', порошковая окраска, цвет "&W74 -> Дверь металлическая, из 2-х листов х/к стали, толщиной 1.0 мм - полотно, 1.2 мм - рама, противопожарная, дымогазонепроницаемая, глухая, со стационарным порогом 14 мм, утепленная, контурный уплотнитель - серый, доводчик, нажимная ручка, цилиндровый замок 'ключ-ключ', порошковая окраска, цвет RAL 7044 (серый шелк) матовый | D74: 1000 | E74: 2150 | F74: нет | G74: 966 | H74: 2124 | I74: 803 | J74: 2031 | K74: EIS 60 | L74: Блочная | M74: Сталь, толщина 1.0 мм | N74: Минеральная вата | O74: 61 | P74: нет | Q74: нет | R74: =Замки!A42&", "&'Ссылки'!D3&", материал: "&'Ссылки'!H5&"; цвет: "&'Ссылки'!G9&"; "&Замки!A10&", "&'Ссылки'!D5&", материал: "&'Ссылки'!H4&"; цвет: "&'Ссылки'!G9 -> ЗД-6, цилиндровый замок, материал: сталь нержавеющая; цвет: никель ; ЗД-2, "ключ-ключ", материал: алюминий; цвет: никель | S74: =Ручки!A18&", "&'Ссылки'!A10&", материал: "&'Ссылки'!H3&", цвет: "&'Ссылки'!G5 -> РД-3, нажимная ручка на планке, материал: сталь нержавеющая / нейлон, цвет: черный | T74: ='Петли'!A2&", "&'Ссылки'!C3&", цвет: "&'Ссылки'!G6 -> ПД-1, ввертные, цвет: сталь нержавеющая | U74: нет | V74: ='Доводчик'!A2&", "&'Ссылки'!B2&", цвет: "&'Ссылки'!G4 -> ДД-1, доводчик, цвет: серебристый | W74: ='Ссылки'!F11 -> RAL 7044 (серый шелк) матовый | X74: ГОСТ Р 57327-2016 / ТУ 25.12.10-001-17157160-2018 | Y74: ДПС 01 2124-966 пр. EIS 60 ГОСТ Р 57327-2016 / ТУ 25.12.10-001-17157160-2018 / ДПС 01 2124-966 л. EIS 60 ГОСТ Р 57327-2016 / ТУ 25.12.10-001-17157160-2018 | AB74: Сертификат соответствия Техническому регламенту о требованиях пожарной безопасности | AC74: Дверь_Рен_1Ст_Блочная коробка_V3, типоразмер Д-38_1000х2150h_EIS60
A75: - Дверь выхода из машинного помещения лифтов на кровлю (угловая коробка) см. п. 6 Правил | B75: Д-53 / Д-53л | C75: ="Дверь металлическая, из 2-х листов х/к стали, толщиной 1.0 мм - полотно, 1.2 мм - рама, "&"противопожарная, дымогазонепроницаемая, глухая, со стационарным порогом 14 мм, утепленная, контурный уплотнитель - серый, доводчик, нажимная ручка, цилиндровый замок 'ключ-ключ', порошковая окраска, цвет "&W74 -> Дверь металлическая, из 2-х листов х/к стали, толщиной 1.0 мм - полотно, 1.2 мм - рама, противопожарная, дымогазонепроницаемая, глухая, со стационарным порогом 14 мм, утепленная, контурный уплотнитель - серый, доводчик, нажимная ручка, цилиндровый замок 'ключ-ключ', порошковая окраска, цвет RAL 7044 (серый шелк) матовый | D75: 1000 | E75: 2150 | F75: нет | G75: 958 | H75: 2129 | I75: 871 | J75: 2061 | K75: EIS 60 | L75: Угловая | M75: Сталь, толщина 1.0 мм | N75: Минеральная вата | O75: 61 | P75: В составе дверной коробки, материал: сталь, ширина: 67 мм, толщина: 15 мм | Q75: нет | R75: =Замки!A42&", "&'Ссылки'!D3&", материал: "&'Ссылки'!H5&"; цвет: "&'Ссылки'!G9&"; "&Замки!A10&", "&'Ссылки'!D5&", материал: "&'Ссылки'!H4&"; цвет: "&'Ссылки'!G9 -> ЗД-6, цилиндровый замок, материал: сталь нержавеющая; цвет: никель ; ЗД-2, "ключ-ключ", материал: алюминий; цвет: никель | S75: =Ручки!A18&", "&'Ссылки'!A10&", материал: "&'Ссылки'!H3&", цвет: "&'Ссылки'!G5 -> РД-3, нажимная ручка на планке, материал: сталь нержавеющая / нейлон, цвет: черный | T75: ='Петли'!A2&", "&'Ссылки'!C3&", цвет: "&'Ссылки'!G6 -> ПД-1, ввертные, цвет: сталь нержавеющая | U75: нет | V75: ='Доводчик'!A2&", "&'Ссылки'!B2&", цвет: "&'Ссылки'!G4 -> ДД-1, доводчик, цвет: серебристый | W75: ='Ссылки'!F11 -> RAL 7044 (серый шелк) матовый | X75: ГОСТ Р 57327-2016 / ТУ 25.12.10-001-17157160-2018 | Y75: ДПС 01 2129-958 пр. EIS 60 ГОСТ Р 57327-2016 / ТУ 25.12.10-001-17157160-2018 / ДПС 01 2129-958 л. EIS 60 ГОСТ Р 57327-2016 / ТУ 25.12.10-001-17157160-2018 | AC75: Дверь_Рен_1Ст_Угловая коробка_V3, типоразмер Д-53_1000х2150h_EIS60
A76: - Дверь выхода из лестничной клетки на кровлю (блочная коробка) см. п. 6 Правил | B76: Д-39 / Д-39л | C76: ="Дверь металлическая, из 2-х листов х/к стали, толщиной 1.0 мм - полотно, 1.2 мм - рама, "&"противопожарная глухая, со стационарным порогом 14 мм, утепленная, контурный уплотнитель - серый, доводчик, нажимная ручка, цилиндровый замок 'ключ-ключ', порошковая окраска, цвет "&W76 -> Дверь металлическая, из 2-х листов х/к стали, толщиной 1.0 мм - полотно, 1.2 мм - рама, противопожарная глухая, со стационарным порогом 14 мм, утепленная, контурный уплотнитель - серый, доводчик, нажимная ручка, цилиндровый замок 'ключ-ключ', порошковая окраска, цвет RAL 7044 (серый шелк) матовый | D76: 1000 | E76: 2150 | F76: нет | G76: 966 | H76: 2124 | I76: 803 | J76: 2031 | K76: EI 30 | L76: Блочная | M76: Сталь, толщина 1.0 мм | N76: Минеральная вата | O76: 61 | P76: нет | Q76: нет | R76: =Замки!A42&", "&'Ссылки'!D3&", материал: "&'Ссылки'!H5&"; цвет: "&'Ссылки'!G9&"; "&Замки!A10&", "&'Ссылки'!D5&", материал: "&'Ссылки'!H4&"; цвет: "&'Ссылки'!G9 -> ЗД-6, цилиндровый замок, материал: сталь нержавеющая; цвет: никель ; ЗД-2, "ключ-ключ", материал: алюминий; цвет: никель | S76: =Ручки!A18&", "&'Ссылки'!A10&", материал: "&'Ссылки'!H3&", цвет: "&'Ссылки'!G5 -> РД-3, нажимная ручка на планке, материал: сталь нержавеющая / нейлон, цвет: черный | T76: ='Петли'!A2&", "&'Ссылки'!C3&", цвет: "&'Ссылки'!G6 -> ПД-1, ввертные, цвет: сталь нержавеющая | U76: нет | V76: ='Доводчик'!A2&", "&'Ссылки'!B2&", цвет: "&'Ссылки'!G4 -> ДД-1, доводчик, цвет: серебристый | W76: ='Ссылки'!F11 -> RAL 7044 (серый шелк) матовый | X76: ГОСТ Р 57327-2016 / ТУ 25.12.10-001-17157160-2018 | Y76: ДПС 01 2124-966 пр. EI 30 ГОСТ Р 57327-2016 / ТУ 25.12.10-001-17157160-2018 / ДПС 01 2124-966 л. EI 30 ГОСТ Р 57327-2016 / ТУ 25.12.10-001-17157160-2018 | AB76: Сертификат соответствия Техническому регламенту о требованиях пожарной безопасности | AC76: Дверь_Рен_1Ст_Блочная коробка_V3, типоразмер Д-39_1000х2150h_EI30
A77: - Дверь выхода из лестничной клетки на кровлю (угловая коробка) см. п. 6 Правил | B77: Д-54 / Д-54л | C77: ="Дверь металлическая, из 2-х листов х/к стали, толщиной 1.0 мм - полотно, 1.2 мм - рама, "&"противопожарная глухая, со стационарным порогом 14 мм, утепленная, контурный уплотнитель - серый, доводчик, нажимная ручка, цилиндровый замок 'ключ-ключ', порошковая окраска, цвет "&W76 -> Дверь металлическая, из 2-х листов х/к стали, толщиной 1.0 мм - полотно, 1.2 мм - рама, противопожарная глухая, со стационарным порогом 14 мм, утепленная, контурный уплотнитель - серый, доводчик, нажимная ручка, цилиндровый замок 'ключ-ключ', порошковая окраска, цвет RAL 7044 (серый шелк) матовый | D77: 1000 | E77: 2150 | F77: нет | G77: 958 | H77: 2129 | I77: 871 | J77: 2061 | K77: EI 30 | L77: Угловая | M77: Сталь, толщина 1.0 мм | N77: Минеральная вата | O77: 61 | P77: В составе дверной коробки, материал: сталь, ширина: 67 мм, толщина: 15 мм | Q77: нет | R77: =Замки!A42&", "&'Ссылки'!D3&", материал: "&'Ссылки'!H5&"; цвет: "&'Ссылки'!G9&"; "&Замки!A10&", "&'Ссылки'!D5&", материал: "&'Ссылки'!H4&"; цвет: "&'Ссылки'!G9 -> ЗД-6, цилиндровый замок, материал: сталь нержавеющая; цвет: никель ; ЗД-2, "ключ-ключ", материал: алюминий; цвет: никель | S77: =Ручки!A18&", "&'Ссылки'!A10&", материал: "&'Ссылки'!H3&", цвет: "&'Ссылки'!G5 -> РД-3, нажимная ручка на планке, материал: сталь нержавеющая / нейлон, цвет: черный | T77: ='Петли'!A2&", "&'Ссылки'!C3&", цвет: "&'Ссылки'!G6 -> ПД-1, ввертные, цвет: сталь нержавеющая | U77: нет | V77: ='Доводчик'!A2&", "&'Ссылки'!B2&", цвет: "&'Ссылки'!G4 -> ДД-1, доводчик, цвет: серебристый | W77: ='Ссылки'!F11 -> RAL 7044 (серый шелк) матовый | X77: ГОСТ Р 57327-2016 / ТУ 25.12.10-001-17157160-2018 | Y77: ДПС 01 2129-958 пр. EI 30 ГОСТ Р 57327-2016 / ТУ 25.12.10-001-17157160-2018 / ДПС 01 2129-958 л. EI 30 ГОСТ Р 57327-2016 / ТУ 25.12.10-001-17157160-2018 | AC77: Дверь_Рен_1Ст_Угловая коробка_V3, типоразмер Д-54_1000х2150h_EI30
A78: ЛЮКИ
A79: - Люк в перекрытии в тех.пространство - Люк в перекрытии в машинное помещение | B79: Л-1 | C79: Люк металлический в перекрытии противопожарный, покрытие из рифленого листового металла 3мм, газовые пружины, контурный уплотнитель, поворотная ручка | D79: 1010 (800*) | E79: 1060 (824*) | F79: нет | G79: 1000 | H79: 1050 | I79: 800 | J79: 824 | K79: EI 60 | L79: Блочная | M79: Рифленый листовой металл, толщина: 3 мм | N79: Минеральная вата | O79: 125 | P79: нет | Q79: нет | R79: - | S79: ='Ссылки'!A12 -> поворотная ручка | T79: Петли с газовыми пружинами | U79: нет | V79: нет | W79: ='Ссылки'!F16 -> без окраски | X79: ГОСТ Р 57327-2016 / ТУ 25.12.10-001-71298931-2019 | Y79: ЛПС 01 1000-1050 EI60 ГОСТ Р 57327-2016 / ТУ 25.12.10-001-71298931-2019 | Z79: *Размер проема в плите перекрытия в свету без учета выемки под опирание люка (см. альбом ЖД-ТАС-РЕН-АР-ТУ.ТЭ) | AB79: Сертификат соответствия Техническому регламенту о требованиях пожарной безопасности | AC79: Люк_Рен_1Ст_V3, типоразмер Л-1_1000х1060_EI60
A80: - Люк ревизионный в с/у консьержа - Люк ревизионный в с/у ЦИН - Люк ревизионный в ПУИ ЦИН - Люк ревизионный в с/у ОДС - Люк ревизионный в универсальный с/у ОДС - Люк ревизионный в ПУИ ОДС - Люк ревизионный в душевой персонала ОДС - Люк ревизионный в с/у квартиры | B80: Л-2 | C80: Люк доступа пластиковый ревизионный, утопленная ручка, цвет белый | D80: 200 | E80: 200 | F80: по проекту | G80: 196 | H80: 196 | I80: 176 | J80: 176 | K80: - | L80: Угловая | M80: ABS-пластик | N80: нет | O80: 10 | P80: В составе дверной коробки, материал: ABS-пластик, ширина: 11 мм, толщина: 4 мм | Q80: нет | R80: - | S80: ='Ссылки'!A7 -> утопленная ручка | T80: - | U80: нет | V80: нет | W80: ='Ссылки'!F19 -> белый | X80: нет | Y80: ЛС 01 200-200 | AC80: Люк_Рен_1Ст_V3, типоразмер Л-2_200х200h
A81: - Люк ревизионный в с/у ЦИН - Люк ревизионный в ПУИ ЦИН | B81: Л-3 | C81: Люк доступа пластиковый ревизионный, утопленная ручка, цвет белый | D81: 300 | E81: 400 | F81: по проекту | G81: 296 | H81: 396 | I81: 267 | J81: 367 | K81: - | L81: Угловая | M81: ABS-пластик | N81: нет | O81: 10 | P81: В составе дверной коробки, материал: ABS-пластик, ширина: 11 мм, толщина: 4 мм | Q81: нет | R81: - | S81: ='Ссылки'!A7 -> утопленная ручка | T81: - | U81: нет | V81: нет | W81: ='Ссылки'!F19 -> белый | X81: нет | Y81: ЛС 01 400-300 | AC81: Люк_Рен_1Ст_V3, типоразмер Л-3_300х400h
A82: - Люк ревизионный в с/у охраны - Люк ревизионный в с/у консьержа - Люк ревизионный в с/у ОДС - Люк ревизионный в универсальный с/у ОДС - Люк ревизионный в ПУИ ОДС - Люк ревизионный в душевой персонала ОДС - Люк ревизионный в с/у квартиры | B82: Л-4 | C82: Люк доступа пластиковый ревизионный, утопленная ручка, цвет белый | D82: 400 | E82: 600 | F82: по проекту | G82: 400 | H82: 600 | I82: 367 | J82: 567 | K82: - | L82: Угловая | M82: ABS-пластик | N82: нет | O82: 10 | P82: В составе дверной коробки, материал: ABS-пластик, ширина: 11 мм, толщина: 4 мм | Q82: нет | R82: - | S82: ='Ссылки'!A7 -> утопленная ручка | T82: - | U82: нет | V82: нет | W82: ='Ссылки'!F19 -> белый | X82: нет | Y82: ЛС 01 600-400 | AC82: Люк_Рен_1Ст_V3, типоразмер Л-4_400х600h
A83: - Люк потолочный в с/у консьержа - Люк потолочный в ПУИ консьержа - Люк потолочный в ЦИН | B83: Л-6 | C83: ="Люк доступа металлический ревизионный, потолочный, контурный уплотнитель, замок-защелка, под покраску" -> Люк доступа металлический ревизионный, потолочный, контурный уплотнитель, замок-защелка, под покраску | D83: 604 | E83: 604 | F83: нет | G83: 600 | H83: 600 | I83: 577 | J83: 577 | K83: - | L83: Блочная | M83: Алюминий, ГСП-А | N83: нет | O83: 15 | P83: нет | Q83: - | R83: нет | S83: нет | T83: - | U83: нет | V83: нет | W83: ='Ссылки'!F16 -> без окраски | X83: нет | Y83: ЛП 01 600-600 | AC83: Люк_Рен_1Ст_V3, типоразмер Л-6_604х604h_потолочный
A84: - Люк потолочный в с/у консьержа - Люк потолочный в ПУИ консьержа - Люк потолочный в ЦИН | B84: Л-17 | C84: ="Люк доступа металлический ревизионный, потолочный, контурный уплотнитель, замок-защелка, под покраску" -> Люк доступа металлический ревизионный, потолочный, контурный уплотнитель, замок-защелка, под покраску | D84: 504 | E84: 704 | F84: нет | G84: 500 | H84: 700 | I84: 477 | J84: 677 | K84: - | L84: Блочная | M84: Алюминий, ГСП-А | N84: нет | O84: 15 | P84: нет | Q84: - | R84: нет | S84: нет | T84: - | U84: нет | V84: нет | W84: ='Ссылки'!F16 -> без окраски | X84: нет | Y84: ЛП 01 500-700 | AC84: Люк_Рен_1Ст_V3, типоразмер Л-17_504х704h_потолочный
A85: - Люк ревизионный в кухне | B85: Л-7 | C85: ="Люк доступа металлический ревизионный, съемная дверца, утопленные ручки, "&R85&", цвет "&W85 -> Люк доступа металлический ревизионный, съемная дверца, утопленные ручки, защелка магнитная, цвет RAL 9003 (сигнальный белый) | D85: 300 | E85: 400 | F85: по проекту | G85: 300 | H85: 400 | I85: 294 | J85: 395 | K85: - | L85: Угловая | M85: Сталь Ст3 толщ. 0,7 мм | N85: нет | O85: 10 | P85: В составе дверной коробки, материал: сталь Ст3 0,8 мм, ширина: 30 мм, толщина: 5 мм | Q85: нет | R85: ='Ссылки'!D11 -> защелка магнитная | S85: ='Ссылки'!A7 -> утопленная ручка | T85: - | U85: нет | V85: нет | W85: ='Ссылки'!F12 -> RAL 9003 (сигнальный белый) | X85: нет | Y85: ЛС 400-300 | AC85: Люк_Рен_1Ст_V3, типоразмер Л-7_300х400h_кв
A86: - Люк ревизионный в межквартирном коридоре | B86: Л-8 | C86: ="Люк доступа металлический ревизионный, "&'Ссылки'!D9&", цвет "&W86 -> Люк доступа металлический ревизионный, почтовый замок ø23 мм, цвет RAL 9003 (сигнальный белый) | D86: 300 | E86: 800 | F86: по проекту | G86: 300 | H86: 800 | I86: 294 | J86: 795 | K86: - | L86: Угловая | M86: Сталь Ст3 толщ. 0,7 мм | N86: нет | O86: 10 | P86: В составе дверной коробки, материал: сталь Ст3 0,8 мм, ширина: 30 мм, толщина: 5 мм | Q86: нет | R86: ='Ссылки'!D9 -> почтовый замок ø23 мм | S86: нет | T86: - | U86: нет | V86: нет | W86: ='Ссылки'!F12 -> RAL 9003 (сигнальный белый) | X86: нет | Y86: ЛС 01 800-300 | AC86: Люк_Рен_1Ст_V3, типоразмер Л-8_300х800h
B87: Л-9 | C87: ="Люк доступа металлический ревизионный, "&'Ссылки'!D9&", цвет "&W87 -> Люк доступа металлический ревизионный, почтовый замок ø23 мм, цвет RAL 9003 (сигнальный белый) | D87: 500 | E87: 800 | F87: по проекту | G87: 500 | H87: 800 | I87: 494 | J87: 795 | K87: - | L87: Угловая | M87: Сталь Ст3 толщ. 0,7 мм | N87: нет | O87: 10 | P87: В составе дверной коробки, материал: сталь Ст3 0,8 мм, ширина: 30 мм, толщина: 5 мм | Q87: нет | R87: ='Ссылки'!D9 -> почтовый замок ø23 мм | S87: нет | T87: - | U87: нет | V87: нет | W87: ='Ссылки'!F12 -> RAL 9003 (сигнальный белый) | X87: нет | Y87: ЛС 01 800-500 | AC87: Люк_Рен_1Ст_V3, типоразмер Л-9_500х800h
B88: Л-10 | C88: ="Люк доступа металлический ревизионный, "&'Ссылки'!D9&", цвет "&W88 -> Люк доступа металлический ревизионный, почтовый замок ø23 мм, цвет RAL 9003 (сигнальный белый) | D88: по проекту | E88: по проекту | F88: по проекту | G88: по проекту | H88: по проекту | I88: по проекту | J88: по проекту | K88: - | L88: Угловая | M88: Сталь Ст3 толщ. 0,7 мм | N88: нет | O88: 10 | P88: В составе дверной коробки, материал: сталь Ст3 0,8 мм, ширина: 30 мм, толщина: 5 мм | Q88: нет | R88: ='Ссылки'!D9 -> почтовый замок ø23 мм | S88: нет | T88: - | U88: нет | V88: нет | W88: ='Ссылки'!F12 -> RAL 9003 (сигнальный белый) | X88: нет | Y88: по проекту | AC88: Люк_Рен_1Ст_V3, типоразмер Л-10
B89: Л-11 | C89: ="Люк доступа металлический ревизионный, "&'Ссылки'!D9&", цвет "&W89 -> Люк доступа металлический ревизионный, почтовый замок ø23 мм, цвет RAL 9003 (сигнальный белый) | D89: 500 | E89: по проекту | F89: по проекту | G89: 500 | H89: по проекту | I89: 494 | J89: по проекту | K89: - | L89: Угловая | M89: Сталь Ст3 толщ. 0,7 мм | N89: нет | O89: 10 | P89: В составе дверной коробки, материал: сталь Ст3 0,8 мм, ширина: 30 мм, толщина: 5 мм | Q89: нет | R89: ='Ссылки'!D9 -> почтовый замок ø23 мм | S89: нет | T89: - | U89: нет | V89: нет | W89: ='Ссылки'!F12 -> RAL 9003 (сигнальный белый) | X89: нет | Y89: по проекту | Z89: Люк выше отм. верха ШПК | AC89: Люк_Рен_1Ст_V3, типоразмер Л-11
B90: Л-12 | C90: ="Люк доступа металлический ревизионный, "&'Ссылки'!D9&", цвет "&W90 -> Люк доступа металлический ревизионный, почтовый замок ø23 мм, цвет RAL 9003 (сигнальный белый) | D90: 500 | E90: по проекту | F90: по проекту | G90: 500 | H90: по проекту | I90: 494 | J90: по проекту | K90: - | L90: Угловая | M90: Сталь Ст3 толщ. 0,7 мм | N90: нет | O90: 10 | P90: В составе дверной коробки, материал: сталь Ст3 0,8 мм, ширина: 30 мм, толщина: 5 мм | Q90: нет | R90: ='Ссылки'!D9 -> почтовый замок ø23 мм | S90: нет | T90: - | U90: нет | V90: нет | W90: ='Ссылки'!F12 -> RAL 9003 (сигнальный белый) | X90: нет | Y90: по проекту | Z90: Люк ниже отм. верха ШПК | AC90: Люк_Рен_1Ст_V3, типоразмер Л-12
B91: Л-13 | C91: ="Панель доступа металлическая съемная ревизионная, "&'Ссылки'!D11&", цвет "&W91 -> Панель доступа металлическая съемная ревизионная, защелка магнитная, цвет RAL 9003 (сигнальный белый) | D91: 300 | E91: по проекту | F91: по проекту | G91: 300 | H91: по проекту | I91: 294 | J91: по проекту | K91: - | L91: Угловая | M91: Сталь Ст3 толщ. 0,7 мм | N91: нет | O91: 10 | P91: В составе дверной коробки, материал: сталь Ст3 0,8 мм, ширина: 30 мм, толщина: 5 мм | Q91: нет | R91: нет | S91: нет | T91: - | U91: нет | V91: нет | W91: ='Ссылки'!F12 -> RAL 9003 (сигнальный белый) | X91: нет | Y91: по проекту | AC91: Люк_Рен_1Ст_V3, типоразмер Л-13
B92: Л-14 | C92: ="Панель доступа металлическая съемная ревизионная, "&'Ссылки'!D11&", цвет "&W92 -> Панель доступа металлическая съемная ревизионная, защелка магнитная, цвет RAL 9003 (сигнальный белый) | D92: 500 | E92: по проекту | F92: по проекту | G92: 500 | H92: по проекту | I92: 494 | J92: по проекту | K92: - | L92: Угловая | M92: Сталь Ст3 толщ. 0,7 мм | N92: нет | O92: 10 | P92: В составе дверной коробки, материал: сталь Ст3 0,8 мм, ширина: 30 мм, толщина: 5 мм | Q92: нет | R92: нет | S92: нет | T92: - | U92: нет | V92: нет | W92: ='Ссылки'!F12 -> RAL 9003 (сигнальный белый) | X92: нет | Y92: по проекту | AC92: Люк_Рен_1Ст_V3, типоразмер Л-14
A93: - Люк выхода из чердака на кровлю (угловая коробка) см. п.6 Правил | B93: Л-15 | C93: ="Люк металлический глухой с порогом, из 2-х листов х/к стали, толщиной 0.8 мм каждый - полотно, 1.0 мм - рама, утепленный, контурный уплотнитель - серый, доводчик, нажимная ручка, цилиндровый замок 'ключ-ключ', цвет "&W93 -> Люк металлический глухой с порогом, из 2-х листов х/к стали, толщиной 0.8 мм каждый - полотно, 1.0 мм - рама, утепленный, контурный уплотнитель - серый, доводчик, нажимная ручка, цилиндровый замок 'ключ-ключ', цвет RAL 7044 (серый шелк) матовый | D93: 1000 см. п.4 Правил | E93: 1400 | F93: нет | G93: 958 | H93: 1379 | I93: 871 | J93: 1311 | K93: - | L93: Угловая | M93: Сталь, толщина 0,8 мм | N93: Минеральная вата | O93: 61 | P93: В составе дверной коробки, материал: сталь, ширина: 67 мм, толщина: 15 мм | Q93: нет | R93: =Замки!A42&", "&'Ссылки'!D3&", материал: "&'Ссылки'!H5&"; цвет: "&'Ссылки'!G9&"; "&Замки!A10&", "&'Ссылки'!D5&", материал: "&'Ссылки'!H4&"; цвет: "&'Ссылки'!G9 -> ЗД-6, цилиндровый замок, материал: сталь нержавеющая; цвет: никель ; ЗД-2, "ключ-ключ", материал: алюминий; цвет: никель | S93: =Ручки!A18&", "&'Ссылки'!A10&", материал: "&'Ссылки'!H3&", цвет: "&'Ссылки'!G5 -> РД-3, нажимная ручка на планке, материал: сталь нержавеющая / нейлон, цвет: черный | T93: ='Петли'!A2&", "&'Ссылки'!C3&", цвет: "&'Ссылки'!G6 -> ПД-1, ввертные, цвет: сталь нержавеющая | U93: нет | V93: ='Доводчик'!A2&", "&'Ссылки'!B2&", цвет: "&'Ссылки'!G4 -> ДД-1, доводчик, цвет: серебристый | W93: ='Ссылки'!F11 -> RAL 7044 (серый шелк) матовый | X93: ГОСТ Р 31173-2016 / ТУ 25.12.10-001-17157160-2017 | Y93: ДСН, А, Оп, Пр, Прг, Н, Псп, М2 - ГОСТ 31173-2016 /ТУ 25.12.10-001-17157160-2017 / ДСН, А, Оп, Л, Прг, Н, Псп, М2 - ГОСТ 31173-2016/ ТУ 25.12.10-001-17157160-2017 | AC93: Люк_Рен_1Ст_Угловая коробка_Кровля_V3, типоразмер Л-15_1000х1400h
A94: - Люк выхода из чердака на кровлю (блочная коробка) см. п.6 Правил | B94: Л-16 | C94: ="Люк металлический глухой с порогом, из 2-х листов х/к стали, толщиной 0.8 мм - полотно, 1.0 мм - рама, утепленный, контурный уплотнитель - серый, доводчик, нажимная ручка, цилиндровый замок 'ключ-ключ', цвет "&W93 -> Люк металлический глухой с порогом, из 2-х листов х/к стали, толщиной 0.8 мм - полотно, 1.0 мм - рама, утепленный, контурный уплотнитель - серый, доводчик, нажимная ручка, цилиндровый замок 'ключ-ключ', цвет RAL 7044 (серый шелк) матовый | D94: 1000 см. п.4 Правил | E94: 1400 | F94: нет | G94: 966 | H94: 1374 | I94: 803 | J94: 1281 | K94: - | L94: Блочная | M94: Сталь, толщина 0,8 мм | N94: Минеральная вата | O94: 61 | P94: нет | Q94: нет | R94: =Замки!A42&", "&'Ссылки'!D3&", материал: "&'Ссылки'!H5&"; цвет: "&'Ссылки'!G9&"; "&Замки!A10&", "&'Ссылки'!D5&", материал: "&'Ссылки'!H4&"; цвет: "&'Ссылки'!G9 -> ЗД-6, цилиндровый замок, материал: сталь нержавеющая; цвет: никель ; ЗД-2, "ключ-ключ", материал: алюминий; цвет: никель | S94: =Ручки!A18&", "&'Ссылки'!A10&", материал: "&'Ссылки'!H3&", цвет: "&'Ссылки'!G5 -> РД-3, нажимная ручка на планке, материал: сталь нержавеющая / нейлон, цвет: черный | T94: ='Петли'!A2&", "&'Ссылки'!C3&", цвет: "&'Ссылки'!G6 -> ПД-1, ввертные, цвет: сталь нержавеющая | U94: нет | V94: ='Доводчик'!A2&", "&'Ссылки'!B2&", цвет: "&'Ссылки'!G4 -> ДД-1, доводчик, цвет: серебристый | W94: ='Ссылки'!F11 -> RAL 7044 (серый шелк) матовый | X94: ГОСТ Р 31173-2016 / ТУ 25.12.10-001-17157160-2017 | Y94: ДСН, А, Оп, Пр, Прг, Н, Псп, М2 - ГОСТ 31173-2016 /ТУ 25.12.10-001-17157160-2017 / ДСН, А, Оп, Л, Прг, Н, Псп, М2 - ГОСТ 31173-2016/ ТУ 25.12.10-001-17157160-2017 | AC94: Люк_Рен_1Ст_Блочная коробка_Кровля_V3, типоразмер Л-16_1000х1400h
A96: Правила маркировки и размещения дверей:
A97: 1. Если двери при всех одинаковых характеристиках отличаются только цветом, то маркировать такие двери следует с числовым индексом через точку. Например: дверь в нишу СС на типовом этаже имеет цвет RAL 9003, а на 1 этаже RAL 7016. Тогда дверь на 1 этаже будет иметь марку Д-22.1, дверь на типовом этаже будет иметь марку Д-22.2.
A98: 2. При необходимости допускается применять нетиповые размеры проема в стене для металлических ворот, в пределах от 3400 мм до 6000 мм по ширине с шагом 200 и от 2300 до 3500 мм по высоте, с шагом 100 мм. Минимальная высота притолоки для подсистемы ворот 550 мм. Минимальный размер боковых простенков 300 мм - со стороны установки привода, 120 мм - с другой стороны.
A99: 3. При необходимости допускается применять нетиповые размеры проема в стене для металлических противопожарных ворот, в пределах от 3400 мм до 6000 мм по ширине и от 2300 до 6000 мм по высоте, с шагом 100 мм. Минимальная высота притолоки для подсистемы ворот: 650 мм - при ширине ворот до 4000 мм; 750 мм - при ширине ворот 4000 мм и более. Минимальный размер боковых простенков 450 мм - со стороны установки привода, 300 мм - с другой стороны.
A100: 4. При отсутствии возможности заложить в проект дверной блок с указанной шириной, можно изменить габариты. Минимально допустимая ширина дверного блока 910 мм.
A101: 5. Степень огнестойкости дверного блока определяется типом противопожарной преграды, в которой он устанавливается (согласно Федеральному закону от 22.07.2008 (ред. от 25.12.2023) N 123-ФЗ Технический регламент о требованиях пожарной безопасности).
...

Sheet Ручки
A1: Марка | B1: Изображение (условное) | C1: Параметр | D1: Наименование | E1: Условие применения
A2: РД-1 | C2: Наименование | D2: Ручка нажимная | E2: Строго
C3: Торговая марка | D3: DOORLOCK | E3: Допускается применение аналогов
C4: Артикул | D4: 038/F-S9/55 U-form | E4: Допускается применение аналогов
C5: Вариант исполнения | D5: На круглой розетке | E5: Строго
C6: Материал | D6: Сталь нержавеющая AISI 304 | E6: Строго
C7: Цвет | D7: Сталь нержавеющая матовая | E7: Допускается отклонение
A9: Марка | B9: Изображение (условное) | C9: Параметр | D9: Наименование | E9: Условие применения
A10: РД-2 | C10: Наименование | D10: Ручка нажимная | E10: Строго
C11: Торговая марка | D11: DOORLOCK | E11: Допускается применение аналогов
C12: Артикул | D12: 038KP/F PZ72 U-form | E12: Допускается применение аналогов
C13: Вариант исполнения | D13: На накладке | E13: Строго
C14: Материал | D14: Сталь нержавеющая AISI 304 | E14: Строго
C15: Цвет | D15: Сталь нержавеющая матовая | E15: Допускается отклонение
A17: Марка | B17: Изображение (условное) | C17: Параметр | D17: Наименование | E17: Условие применения
A18: РД-3 | C18: Наименование | D18: Ручка нажимная | E18: Строго
C19: Торговая марка | D19: DOORLOCK | E19: Допускается применение аналогов
C20: Артикул | D20: V S38KP/F PZ72 | E20: Допускается применение аналогов
C21: Вариант исполнения | D21: На накладке | E21: Строго
C22: Материал | D22: Сталь нержавеющая/Нейлон | E22: Строго
C23: Цвет | D23: Черный | E23: Допускается отклонение
A25: Марка | B25: Изображение (условное) | C25: Параметр | D25: Наименование | E25: Условие применения
A26: РД-4 | C26: Наименование | D26: Ручка нажимная | E26: Строго
C27: Торговая марка | D27: DOORLOCK | E27: Допускается применение аналогов
C28: Артикул | D28: Fenix A16R, SNi | E28: Допускается применение аналогов
C29: Вариант исполнения | D29: На круглой розетке | E29: Строго
C30: Материал | D30: Алюминий | E30: Строго
C31: Цвет | D31: Никель матовый | E31: Допускается отклонение
A33: Марка | B33: Изображение (условное) | C33: Параметр | D33: Наименование | E33: Условие применения
A34: РД-5 | C34: Наименование | D34: Ручка нажимная | E34: Строго
C35: Торговая марка | D35: FUARO | E35: Допускается применение аналогов
C36: Артикул | D36: (DSS-0201/19) INOX 201 | E36: Допускается применение аналогов
C37: Вариант исполнения | D37: На круглой розетке | E37: Строго
C38: Материал | D38: Сталь нержавеющая | E38: Строго
C39: Цвет | D39: Сталь нержавеющая | E39: Допускается отклонение
A41: Марка | B41: Изображение (условное) | C41: Параметр | D41: Наименование | E41: Условие применения
A42: РД-6 | C42: Наименование | D42: Ручка П-образная | E42: Строго
C43: Торговая марка | D43: н/д | E43: Допускается применение аналогов
C44: Артикул | D44: н/д | E44: Допускается применение аналогов
C45: Вариант исполнения | D45: 0,5-0,8 м | E45: Строго
C46: Материал | D46: Сталь нержавеющая | E46: Строго
C47: Цвет | D47: Сталь нержавеющая | E47: Допускается отклонение
A49: Марка | B49: Изображение (условное) | C49: Параметр | D49: Наименование | E49: Условие применения
A50: РД-7 | C50: Наименование | D50: Ручка врезная | E50: Строго
C51: Торговая марка | D51: ARMADILLO | E51: Допускается применение аналогов
C52: Артикул | D52: SH.QUADRO55.010 | E52: Допускается применение аналогов
C53: Вариант исполнения | D53: Для раздвижных дверей | E53: Строго
C54: Материал | D54: Цинковый сплав | E54: Строго
C55: Цвет | D55: Матовый никель | E55: Допускается отклонение
A57: Марка | B57: Изображение (условное) | C57: Параметр | D57: Наименование | E57: Условие применения
A58: РД-8 | C58: Наименование | D58: Ручка нажимная | E58: Строго
C59: Торговая марка | D59: DOORLOCK | E59: Допускается применение аналогов
C60: Артикул | D60: 038KP/F UG | E60: Допускается применение аналогов
C61: Вариант исполнения | D61: На накладке | E61: Строго
C62: Материал | D62: Сталь нержавеющая AISI 304 | E62: Строго
C63: Цвет | D63: Сталь нержавеющая матовая | E63: Допускается отклонение
A65: Марка | B65: Изображение (условное) | C65: Параметр | D65: Наименование | E65: Условие применения
A66: РД-9 | C66: Наименование | D66: Ручка нажимная / фиксированная | E66: Строго
C67: Торговая марка | D67: DOORLOCK | E67: Допускается применение аналогов
C68: Артикул | D68: V S38KP-KNOB/F PZ72 | E68: Допускается применение аналогов
C69: Вариант исполнения | D69: На накладке | E69: Строго
C70: Материал | D70: Сталь нержавеющая/Нейлон | E70: Строго
C71: Цвет | D71: Черный | E71: Допускается отклонение

Sheet Замки
A1: Марка | B1: Изображение (условное) | C1: Параметр | D1: Наименование | E1: Условие применения
A2: ЗД-1 | C2: Наименование | D2: Замок цилиндровый | E2: Строго
C3: Торговая марка | D3: DOORLOCK | E3: Допускается применение аналогов
C4: Артикул | D4: V K2300AB N | E4: Допускается применение аналогов
C5: Вариант исполнения | D5: Ключ-вертушка | E5: Строго
C6: Материал | D6: Сплав алюминиевый | E6: Строго
C7: Цвет | D7: Никель | E7: Допускается отклонение
A9: Марка | B9: Изображение (условное) | C9: Параметр | D9: Наименование | E9: Условие применения
A10: ЗД-2 | C10: Наименование | D10: Замок цилиндровый | E10: Строго
C11: Торговая марка | D11: DOORLOCK | E11: Допускается применение аналогов
C12: Артикул | D12: V 2300AB N | E12: Допускается применение аналогов
C13: Вариант исполнения | D13: Ключ-ключ | E13: Строго
C14: Материал | D14: Сплав алюминиевый | E14: Строго
C15: Цвет | D15: Никель | E15: Допускается отклонение
A17: Марка | B17: Изображение (условное) | C17: Параметр | D17: Наименование | E17: Условие применения
A18: ЗД-3 | C18: Наименование | D18: Замок цилиндровый | E18: Строго
C19: Торговая марка | D19: ГАРДИАН | E19: Допускается применение аналогов
C20: Артикул | D20: 32.11 | E20: Допускается применение аналогов
C21: Вариант исполнения | D21: Основной | E21: Строго
C22: Материал | D22: Сталь нержавеющая | E22: Строго
C23: Цвет | D23: Никель | E23: Допускается отклонение
A25: Марка | B25: Изображение (условное) | C25: Параметр | D25: Наименование | E25: Условие применения
A26: ЗД-4 | C26: Наименование | D26: Замок антивандальный | E26: Строго
C27: Торговая марка | D27: ГАРДИАН | E27: Допускается применение аналогов
C28: Артикул | D28: 44936 | E28: Допускается применение аналогов
C29: Вариант исполнения | D29: Сувальдный | E29: Строго
C30: Материал | D30: Сталь нержавеющая | E30: Строго
C31: Цвет | D31: Никель | E31: Допускается отклонение
A33: Марка | B33: Изображение (условное) | C33: Параметр | D33: Наименование | E33: Условие применения
A34: ЗД-5 | C34: Наименование | D34: Замок цилиндровый огнестойкий | E34: Строго
C35: Торговая марка | D35: DOORLOCK | E35: Допускается применение аналогов
C36: Артикул | D36: V1901 | E36: Допускается применение аналогов
C37: Вариант исполнения | D37: Антипаника/самозапирающийся | E37: Строго
C38: Материал | D38: Сталь нержавеющая | E38: Строго
C39: Цвет | D39: Оцинкованный | E39: Допускается отклонение
A41: Марка | B41: Изображение (условное) | C41: Параметр | D41: Наименование | E41: Условие применения
A42: ЗД-6 | C42: Наименование | D42: Замок цилиндровый огнестойкий | E42: Строго
C43: Торговая марка | D43: DOORLOCK | E43: Допускается применение аналогов
C44: Артикул | D44: V1739С | E44: Допускается применение аналогов
C45: Вариант исполнения | D45: Огнестойкий | E45: Строго
C46: Материал | D46: Сталь нержавеющая | E46: Строго
C47: Цвет | D47: Оцинкованный | E47: Допускается отклонение
A49: Марка | B49: Изображение (условное) | C49: Параметр | D49: Наименование | E49: Условие применения
A50: ЗД-7 | C50: Наименование | D50: Защелка бесшумная многофункциональная | E50: Строго
C51: Торговая марка | D51: MORELLI | E51: Допускается применение аналогов
C52: Артикул | D52: 1870P SN | E52: Допускается применение аналогов
C53: Вариант исполнения | D53: - | E53: -
C54: Материал | D54: Сталь нержавеющая | E54: Строго
C55: Цвет | D55: Никель | E55: Допускается отклонение
A57: Марка | B57: Изображение (условное) | C57: Параметр | D57: Наименование | E57: Условие применения
A58: ЗД-8 | C58: Наименование | D58: Ручка поворотная | E58: Строго
C59: Торговая марка | D59: Fuaro | E59: Допускается применение аналогов
C60: Артикул | D60: DSS-02-BK6 | E60: Допускается применение аналогов
C61: Вариант исполнения | D61: Завертка | E61: Строго
C62: Материал | D62: Сталь нержавеющая | E62: Строго
C63: Цвет | D63: Сталь нержавеющая | E63: Допускается отклонение
A65: Марка | B65: Изображение (условное) | C65: Параметр | D65: Наименование | E65: Условие применения
A66: ЗД-9 | C66: Наименование | D66: Замок цилиндровый | E66: Строго
C67: Торговая марка | D67: DOORLOCK | E67: Допускается применение аналогов
C68: Артикул | D68: DL4292С/55/72/20/SCr | E68: Допускается применение аналогов
C69: Вариант исполнения | D69: - | E69: -
C70: Материал | D70: Сталь нержавеющая | E70: Строго
C71: Цвет | D71: Матовый хром | E71: Допускается отклонение

Sheet Петли
A1: Марка | B1: Изображение (условное) | C1: Параметр | D1: Наименование | E1: Условие применения
A2: ПД-1 | C2: Наименование | D2: Петля дверная | E2: Строго
C3: Торговая марка | D3: La Florida | E3: Допускается применение аналогов
C4: Артикул | D4: Ф 1000044 | E4: Допускается применение аналогов
C5: Вариант исполнения | D5: Ввертная | E5: Допускается замена на приварные регулируаемые
C6: Материал | D6: Сталь нержавеющая | E6: Строго
C7: Цвет | D7: Сталь нержавеющая | E7: Допускается отклонение
A9: Марка | B9: Изображение (условное) | C9: Параметр | D9: Наименование | E9: Условие применения
A10: ПД-2 | C10: Наименование | D10: Петля накладная | E10: Допускается монтаж во врезном исполнении
C11: Торговая марка | D11: Ajax | E11: Допускается применение аналогов
C12: Артикул | D12: IN4000W SN (100/P-2B 100x2,3) | E12: Допускается применение аналогов
C13: Вариант исполнения | D13: Без врезки | E13: Строго
C14: Материал | D14: Сталь | E14: Строго
C15: Цвет | D15: Никель матовый | E15: Допускается отклонение
A17: Марка | B17: Изображение (условное) | C17: Параметр | D17: Наименование | E17: Условие применения
A18: ПД-3 | C18: Наименование | D18: Складная система книжка | E18: Строго
C19: Торговая марка | D19: ARMADILLO | E19: Допускается применение аналогов
C20: Артикул | D20: FOLDING/40/1000 track | E20: Допускается применение аналогов
C21: Вариант исполнения | D21: Врезная | E21: Строго
C22: Материал | D22: Сталь | E22: Строго
C23: Цвет | D23: Черный | E23: Допускается отклонение

Sheet Ссылки
A1: Ручки | B1: Устройства самозакрывания | C1: Петли | D1: Замки | E1: Дверные упоры | F1: Цвет двери | G1: Цвет фурнитуры | H1: Материал фурнитуры | I1: Доборы
A2: нажимная ручка на круглой розетке | B2: доводчик | C2: накладные без врезки | D2: защелка врезная бесшумная | E2: напольный, высота 40 мм, цвет: никель матовый, резинка серая | F2: RAL 7016 (антрацитово-серый) матовый | G2: сталь нержавеющая матовая | H2: сталь нержавеющая AISI 304 | I2: Металлический наружный, материал: сталь, цвет определяется в соответствии с фасадной концепцией
A3: врезная | C3: ввертные | D3: цилиндровый замок | E3: напольный, высота 85 мм, цвет: серый / серебристый | F3: ПВХ плёнка рельефная по типу текстурированная Imawell Laerche Bianco 21-75033-2930-0-110 | G3: никель матовый | H3: сталь нержавеющая / нейлон | I3: Металлический наружный, материал: сталь, цвет: RAL 7016 (антрацитово-серый)
C4: складная система книжка | D4: цилиндровый замок, самозапирающийся, антипаника | F4: RAL 9003 (сигнальный белый) со стороны межквартирного коридора, порошковая окраска, МДФ-панель в цвет межкомнатных дверей со стороны квартиры | G4: серебристый | H4: алюминий | I4: Добор со стороны квартиры, с пазом под телескопический наличник, материал: МДФ, цвет: RAL 9003 (сигнальный белый)
A5: дополнительная ручка П-образной формы, длина: 0,5-0,8 м | D5: "ключ-ключ" | F5: RAL 2011 (насыщенный оранжевый) матовый | G5: черный | H5: сталь нержавеющая | I5: Добор со стороны межквартирного коридора, материал: сталь, цвет: RAL 9003 (сигнальный белый)
A6: фиксатор, материал: сталь нержавеющая, цвет: сталь нержавеющая | D6: антивандальный сувальдный замок, под универсальный мастер-ключ | F6: RAL 9003 (сигнальный белый) / RAL 7016 (антрацитово-серый) / RAL 9004 (сигнальный черный) / RAL 9017 (черный транспортный) | G6: сталь нержавеющая | H6: цинковый сплав | I6: Металлический, материал: сталь, цвет: RAL 2011 (насыщенный оранжевый)
A7: утопленная ручка | D7: "ключ-вертушка" | F7: цвет принять в соответствии с фасадной концепцией | G7: оцинкованный | I7: Металлический, материал: сталь, цвет: RAL 7016 (антрацитово-серый)
F8: RAL 7016 (антрацитово-серый) / RAL 9004 (сигнальный черный) | G8: матовый хром | I8: Металлический, материал: сталь, цвет принять в соответствии с Цветовой матрицей
A9: ручка-скоба | D9: почтовый замок ø23 мм | F9: RAL 9001 (кремово-белый) | G9: никель | I9: Добор с пазом под телескопический наличник, материал: МДФ
A10: нажимная ручка на планке | F10: ПВХ пленка гладкая FineVinyl МВР 15АР-024 0,25*1400, цвет: белый снег
D11: защелка магнитная | F11: RAL 7044 (серый шелк) матовый
A12: поворотная ручка | F12: RAL 9003 (сигнальный белый)
A13: нажимная / фиксированная ручка на планке | D13: замок "антипаника" | F13: RAL 7016 (антрацитово-серый)
F14: RAL 9003 (сигнальный белый) / RAL 9017 (черный транспортный) / RAL 1018 (цинково-желтый) (NCS S 0570-Y) / NCS S 1060-G70Y / NCS S 0570-Y30R / RAL 2008 (ярко-красно-оранжевый)
F15: цвет принять в соответствии с Цветовой матрицей
F16: без окраски
F17: ПВХ плёнка рельефная, цвет: лиственница белая
F18: RAL 9003 (сигнальный белый)/ RAL 7016 (антрацитово- серый) матовый
F19: белый

Sheet Доводчик
A1: Марка | B1: Изображение (условное) | C1: Параметр | D1: Наименование | E1: Условие применения
A2: ДД-1 | C2: Наименование | D2: Доводчик | E2: Строго
C3: Торговая марка | D3: DOORLOCK | E3: Допускается применение аналогов
C4: Артикул | D4: DL100 size 3/4 | E4: Допускается применение аналогов
C5: Вариант исполнения | D5: Верхний | E5: Строго
C6: Цвет | D6: Серебристый | E6: Допускается отклонение

Sheet Архив
A1: Дверные ручки | B1: Доводчики | C1: Петли | D1: Замки | E1: Дверные упоры | F1: Цвет
A2: DoorLock DL 038/F-S9/55 PZ U-form Rt, материал: нержавеющая сталь, цвет: нержавеющая сталь матовая | B2: DL100, цвет: серебристый | C2: Rucetti RFH-100*75*2.5 SN, высота: 100 мм, материал: сталь, цвет: белый никель, 2 шт. | D2: Morelli 1870cp, материал: сталь, цвет: белый никель | E2: Apecs DS-0014-NIS, напольный, высота 40 мм, цвет: сатин, резинка серая | F2: матовый RAL 7016 (серый)
A3: DoorLock DL 038/F PZ Rt, материал: нержавеющая сталь, цвет: нержавеющая сталь матовая | C3: La Florida Ф 1000044, 4 шт. | D3: цилиндровый замок NEMEF 1769/01, материал: сталь, цвет: цинк | E3: Apecs DS-0009-INOX, напольный, высота 85 мм, цвет: нержавеющая сталь | F3: рельефная ПВХ плёнка по типу текстурированная Imawell Laerche Bianco 21-75033-2930-0-110
A4: DoorLock DL Fenix A 16R SN, материал: алюминий, цвет: матовый никель | C4: AGB ECLIPSE 2.0, высота: 110 мм, материал: ЦАМ, цвет: матовый хром, 3 шт. | D4: цилиндровый механизм Fuaro/Apecs, 30/30 мм, ключ-вертушка, цвет: матовый хром | F4: со стороны межквартирного коридора RAL 9003 (белый), порошковая окраска, со стороны квартиры: МДФ-панель в цвет межкомнатных дверей
A5: нажимная ручка Fuaro DSS 0201/19, материал: нержавеющая сталь, цвет: матовый никель | C5: La Florida Ф 1000044, 3 шт. | D5: накладка на цилиндр Fuaro DSS-02-ET, материал: нержавеющая сталь, цвет: матовый никель | F5: матовый RAL 2011 (оранжевый)
A6: фиксатор Fuaro DSS-02-BK6, материал: нержавеющая сталь, цвет: матовый никель | D6: сувальдный замок BORDER 72221 3В8-6 ЛК 5Т/15, под универсальный мастер-ключ, материал: сталь, цвет: никель | F6: цвет определяется в соответствии с Цветовой матрицей
A7: утопленная ручка | D7: накладка на цилиндр Brialma 9400 YALE F1 CR SAT, цвет: матовый хром | F7: цвет определяется в соответствии с фасадной концепцией
A8: дополнительная ручка П-образной формы, "ОЛИМП" PNPot-25-800-S, длина: 0,8 м, материал: сталь, цвет: сталь сатиновая | D8: почтовый замок ø23 мм | F8: RAL 9001 (бежевый)
A9: ручка-скоба | D9: защелка магнитная | F9: матовый RAL 7044 (серый)
A10: поворотная ручка | F10: RAL 9003 (белый)
F11: цвет металлоконструкций RAL 7016 (серый), цвет полотна серый

Sheet DoorHan (архив)
C2: ДВЕРИ ВЕРСИЯ 2
A3: Помещение | B3: Марка (правая/ левая) | C3: Описание | D3: Характеристики | E3: Обозначение | F3: Проем в стене, мм | H3: Коробка, мм | J3: Огнестой- кость | K3: Документы от производителя, необходимые для предоставления в МФР и МГЭ
F4: Ширина | G4: Высота | H4: Ширина | I4: Высота
A6: Лестничная клетка | B6: Д-21 / Д-21л | C6: металлическая противопожарная | D6: Дверь противопожарная глухая со стационарным порогом 14 мм, контурный уплотнитель, нажимная ручка на круглой розетке, отбойная пластина h=200мм со стороны помещения автостоянки, цвет RAL 7016 | E6: ГОСТ Р 57327-2016 | F6: 1400 | G6: 2100 | H6: 1350 | I6: 2050 | J6: EI 60 | K6: Сертификата соответствия Техническому регламенту о требованиях пожарной безопасности
A7: Ворота металлические | B7: ВМ-1 | C7: Ворота гаражные | D7: Ворота подъемно-поворотные с секционным полотном из стальных сэндвич-панелей с вальным приводом, крепление внутри помещения | E7: ГОСТ 31174-2017 | F7: 3500* | G7: 2400* | J7: -
B8: ВМ-2 | C8: Ворота гаражные противопожарные | D8: Ворота противопожарные подъемно-поворотные с секционным полотном из стальных сэндвич-панелей с вальным приводом, крепление внутри помещения, в нижней части ворот люк с самозакрывающейся заслонкой 200х200мм, цвет RAL 7016 | E8: ГОСТ 31174-2017 ГОСТ 53307-2009 | F8: 3200* | G8: 2300* | J8: EI 60 | K8: Сертификата соответствия Техническому регламенту о требованиях пожарной безопасности
B9: ВМ-3 | C9: Ворота гаражные противопожарные с дверью | D9: Ворота противопожарные подъемно-поворотные с секционным полотном из стальных сэндвич-панелей с вальным приводом, с дверью, крепление внутри помещения, в нижней части ворот люк с самозакрывающейся заслонкой 200х200мм, цвет RAL 7016 | E9: ГОСТ 31174-2017 ГОСТ 53307-2009 | F9: 3200* | G9: 2300* | J9: EI 60 | K9: Сертификата соответствия Техническому регламенту о требованиях пожарной безопасности
A10: Штора противопожарная | B10: ШТ-1 | C10: Штора противопожарная | D10: Штора противопожарная с электроприводом, накладной монтаж, цвет RAL 7016 | E10: ГОСТ 53307-2009 | F10: 3200* | G10: 2300* | J10: E120 I60 | K10: Сертификата соответствия Техническому регламенту о требованиях пожарной безопасности

Sheet Фортус (архив)
A1: А
C2: ДВЕРИ ВЕРСИЯ 2
A3: Этаж | B3: Помещение | C3: Марка (правая/ левая) | D3: Описание | E3: Наличие механического замка | F3: Наличие доводчика | G3: Характеристики | H3: Обозначение | I3: Проем в стене, мм | M3: Коробка, мм | O3: Огнестой- кость | P3: Документы от производителя, необходимые для предоставления в МФР и МГЭ | Q3: Замечания к ранее разработанному ППР
I4: Ширина | J4: Высота | K4: Порог констр., мм | L4: Толщина стены | M4: Ширина | N4: Высота
A5: Подземный этаж, автостоянка
A6: Подземный этаж | B6: - ИТП - Насосная - Помещение СС с противопожарным клапаном для вентиляции - Венткамера - ПУТ - Помещение узла учета тепла - Водомерный узел | C6: Д-1 / Д-1л | D6: металлическая противопожарная | E6: да | F6: да | G6: Дверь противопожарная глухая со стационарным порогом, контурный уплотнитель, нажимная ручка, цилиндровый замок "ключ-вертушка", цвет RAL 7016 | H6: ГОСТ Р 57327-2016 | I6: 1000 | J6: 2100 | K6: В тех. помещениях подземного этажа без автостоянки предусмотреть конструктивный порог по проекту | M6: =I6-40 -> 960 | N6: =J6-30 -> 2070 | O6: EI 30 | P6: Сертификата соответствия Техническому регламенту о требованиях пожарной безопасности
B7: Электрощитовая и ВРУ автостоянки | C7: Д-1.1 / Д-1.1л | D7: металлическая противопожарная | E7: да | F7: да | G7: Дверь противопожарная глухая со стационарным порогом, контурный уплотнитель, нажимная ручка, врезной самозапирающийся замок (ключ только с наружной стороны), крепление заводского исполнения для присоединения заземления на высоте 400мм, цвет RAL 7016 | H7: ГОСТ Р 57327-2016 | I7: 1000 | J7: 2100 | K7: - | M7: =I7-40 -> 960 | N7: =J7-30 -> 2070 | O7: EI 30 | P7: Сертификата соответствия Техническому регламенту о требованиях пожарной безопасности
B8: - ИТП - Насосная - Помещение СС с противопожарным клапаном для вентиляции - Венткамера - ПУТ - Помещение узла учета тепла - Водомерный узел - Помещение для прокладки инженерных коммуникаций | C8: Д-2 / Д-2л | D8: металлическая противопожарная | E8: да | F8: да | G8: Дверь противопожарная глухая со стационарным порогом, контурный уплотнитель, нажимная ручка, цилиндровый замок "ключ-вертушка", цвет RAL 7016 | H8: ГОСТ Р 57327-2016 | I8: 1000 | J8: 2100 | K8: В тех. помещениях подземного этажа без автостоянки предусмотреть конструктивный порог по проекту | M8: =I8-40 -> 960 | N8: =J8-30 -> 2070 | O8: EI 60 | P8: Сертификата соответствия Техническому регламенту о требованиях пожарной безопасности
B9: Электрощитовая и ВРУ автостоянки | C9: Д-2.1 / Д-2.1л | D9: металлическая противопожарная | E9: да | F9: да | G9: Дверь противопожарная глухая со стационарным порогом, контурный уплотнитель, нажимная ручка, врезной самозапирающийся замок (ключ только с наружной стороны), крепление заводского исполнения для присоединения заземления на высоте 400мм, цвет RAL 7016 | H9: ГОСТ Р 57327-2016 | I9: 1000 | J9: 2100 | K9: - | M9: =I9-40 -> 960 | N9: =J9-30 -> 2070 | O9: EI 60
B10: - Помещение для прокладки инженерных коммуникациий | C10: Д-3 / Д-3л | D10: металлическая | E10: да | F10: да | G10: Дверь глухая со стационарным порогом, контурный уплотнитель, нажимная ручка, цилиндровый замок "ключ-вертушка", цвет RAL 7016 | H10: ГОСТ Р 31173-2016 | I10: 1000 | J10: 2100 | K10: - | M10: =I10-40 -> 960 | N10: =J10-30 -> 2070 | O10: -
B11: ИТП (дверь выхода непосредственно наружу) | C11: Д-4 / Д-4л | D11: металлическая | E11: да | F11: да | G11: Дверь глухая усиленная, утепленная, с порогом, контурный уплотнитель, нажимная ручка, цилиндровый замок "ключ-вертушка", цвет RAL 7016 | H11: ГОСТ Р 31173-2016 | I11: 1100 | J11: 2100 | K11: - | M11: =I11-30 -> 1070 | N11: =J11-30 -> 2070 | O11: -
B12: Лестничная клетка | C12: Д-5 / Д-5л | D12: металлическая | E12: - | F12: да | G12: Дверь глухая со стационарным порогом 14 мм, контурный уплотнитель, нажимная ручка на круглой розетке, отбойная пластина h=200мм со стороны помещения автостоянки, цвет RAL 7016 | H12: ГОСТ Р 31173-2016 | I12: 1100 | J12: 2100 | K12: - | M12: =I12-40 -> 1060 | N12: =J12-30 -> 2070 | O12: -
B13: - Лестничная клетка - Рампа | C13: Д-6 / Д-6л | D13: металлическая противопожарная | E13: - | F13: да | G13: Дверь противопожарная глухая со стационарным порогом 14 мм, контурный уплотнитель, нажимная ручка на круглой розетке, отбойная пластина h=200мм со стороны помещения автостоянки, цвет RAL 7016 | H13: ГОСТ Р 57327-2016 | I13: 1100 | J13: 2100 | K13: - | M13: =I13-40 -> 1060 | N13: =J13-30 -> 2070 | O13: EI 60 | P13: Сертификата соответствия Техническому регламенту о требованиях пожарной безопасности
B14: Рампа | C14: Д-7 / Д-7л | D14: металлическая противопожарная | E14: - | F14: да | G14: Дверь противопожарная глухая со стационарным порогом 14мм, контурный уплотнитель, нажимная ручка на круглой розетке, отбойная пластина h=200мм со стороны помещения автостоянки, цвет RAL 7016 | H14: ГОСТ Р 57327-2016 | I14: 1100 | J14: 2100 | K14: - | M14: =I14-40 -> 1060 | N14: =J14-30 -> 2070 | O14: EI 30 | P14: Сертификата соответствия Техническому регламенту о требованиях пожарной безопасности
B15: Лифтовый холл | C15: Д-8.1 / Д-8.1л | D15: металлическая противопожарная остекленная | E15: - | F15: да | G15: Дверь противопожарная дымогазонепроницаемая остекленная двупольная, противопожарное остекление 150х1400мм, с автоматически выпадающим порогом, контурный уплотнитель, нажимная ручка на круглой розетке, отбойная пластина h=200мм с узкой стороны полотна, цвет RAL 7016, минимальная ширина рабочей створки 1000мм | H15: ГОСТ Р 57327-2016 | I15: 1400 | J15: 2100 | K15: - | M15: =I15-25 -> 1375 | N15: =J15-30 -> 2070 | O15: EIS 60 | P15: Сертификата соответствия Техническому регламенту о требованиях пожарной безопасности
C16: Д-9 / Д-9л | I16: 1400 | J16: 2100 | M16: =I16-25 -> 1375 | N16: =J16-30 -> 2070 | O16: EIS 30 | P16: Сертификата соответствия Техническому регламенту о требованиях пожарной безопасности
B17: Тамбур-шлюз при лифтовом холле | C17: Д-10 / Д-10л | D17: металлическая противопожарная остекленная | E17: - | F17: да | G17: Дверь противопожарная остекленная двупольная, противопожарное остекление 150х1400мм, со стационарным порогом 14 мм, контурный уплотнитель, нажимная ручка на круглой розетке, отбойная пластина h=200мм со стороны лифтового холла, цвет RAL 7016, минимальная ширина рабочей створки 1000мм | H17: ГОСТ Р 57327-2016 | I17: 1400 | J17: 2100 | K17: - | M17: =I17-25 -> 1375 | N17: =J17-30 -> 2070 | O17: EI 60 | P17: Сертификата соответствия Техническому регламенту о требованиях пожарной безопасности
C18: Д-11 / Д-11л | I18: 1400 | J18: 2100 | M18: =I18-25 -> 1375 | N18: =J18-30 -> 2070 | O18: EI 30 | P18: Сертификата соответствия Техническому регламенту о требованиях пожарной безопасности
B19: Гермодверь в венткамере | C19: Д-12 | D19: Дверь герметичная | E19: - | F19: нет | G19: Дверь герметичная утепленная | H19: Серия-5.904-4 | I19: 700 | J19: 1450 | K19: 500мм от чистого пола | M19: 500 | N19: 1250 | O19: -
A20: Первый этаж
A21: 1 этаж | B21: Помещение охраны | C21: Д-13 / Д-13л | D21: металлическая противопожарная | E21: да | F21: да | G21: Дверь противопожарная глухая, со стационарным порогом, утепленная, контурный уплотнитель, нажимная ручка, цилиндровый замок "ключ-вертушка", цвет RAL 7016 | H21: ГОСТ Р 57327-2016 | I21: 1000 | J21: 2100 | K21: - | M21: =I21-40 -> 960 | N21: =J21-30 -> 2070 | O21: EI 60 | P21: Сертификата соответствия Техническому регламенту о требованиях пожарной безопасности
B22: Помещение консьержа | C22: Д-14 / Д-14л см. прим.1 под таблицей | D22: металлическая | E22: да | F22: да | G22: Дверь глухая, со стационарным порогом, утепленная, контурный уплотнитель, нажимная ручка, цилиндровый замок "ключ-вертушка", цвет* | H22: ГОСТ Р 31173-2016 | I22: 1000 | J22: 2100 | K22: - | M22: =I22-40 -> 960 | N22: =J22-30 -> 2070 | O22: -
B23: ПУИ ЦИН | C23: Д-15.1 / Д-15.1л | D23: деревянная | E23: да | F23: нет | G23: Дверь глухая без порога, телескопический наличник, контурный уплотнитель, поверхность - эмаль, нажимная ручка, цилиндровый замок "ключ-вертушка", ограничитель | H23: ГОСТ 475-2016 | I23: 800 | J23: 2100 | K23: 15 | M23: 770 | N23: 2055 | O23: -
B24: Универсальный с/у ЦИН | C24: Д-16.1 / Д-16.1л | D24: деревянная | E24: да | F24: нет | G24: Дверь глухая без порога, телескопический наличник, контурный уплотнитель, поверхность - эмаль, нажимная ручка, цилиндровый замок "ключ-вертушка", ограничитель | H24: ГОСТ 475-2016 | I24: 1050 | J24: 2100 | K24: 14 | M24: 1020 | N24: 2056 | O24: -
B25: Служебное помещение ЦИН | C25: Д-17.1 / Д-17.1л | D25: деревянная | E25: да | F25: нет | G25: Дверь глухая без порога, телескопический наличник, контурный уплотнитель, поверхность - эмаль, нажимная ручка, цилиндровый замок "ключ-вертушка", ограничитель | H25: ГОСТ 475-2016 | I25: 1050 | J25: 2100 | K25: - | M25: 1020 | N25: 2070 | O25: -
B26: - Тамбур мусоросборной камеры (наружная дверь) | C26: Д-18 / Д-18л | D26: металлическая | E26: да | F26: да | G26: Дверь глухая с верхней фрамугой, со стационарным порогом 14мм, утепленная, контурный уплотнитель, металлический добор внешний, нажимная ручка, цилиндровый замок, высота дверного полотна 2400мм, цвет* | H26: ГОСТ Р 31173-2016 | I26: 1300 | J26: 3300* | K26: - | M26: =I26-40 -> 1260 | N26: 3260* | O26: -
B27: Дверь между тамбуром и мусоросборной камерой | C27: Д-7 / Д-7л | D27: металлическая противопожарная | E27: - | F27: да | G27: Дверь противопожарная глухая со стационарным порогом 14мм, контурный уплотнитель, нажимная ручка на круглой розетке, отбойная пластина h=200мм со стороны помещения автостоянки, цвет RAL 7016 | H27: ГОСТ Р 57327-2016 | I27: 1100 | J27: 2100 | K27: - | M27: 1060 | N27: 2070 | O27: EI 30 | P27: Сертификата соответствия Техническому регламенту о требованиях пожарной безопасности
B28: Диспетчерская | C28: Д-20 / Д-20л | D28: металлическая | E28: да | F28: да | G28: Дверь глухая со стационарным порогом 14мм, с доводчиком, контурный уплотнитель, нажимная ручка, цилиндровый замок "ключ-вертушка", цвет RAL 7016 | H28: ГОСТ Р 31173-2016 | I28: 1100 | J28: 2100 | K28: - | M28: 1060 | N28: 2070 | O28: -
