Workbook

Sheet Лист изменений
A1: Дата | B1: Место применения | C1: Марка | D1: Содержание изменения
A2: 2022 г.
A3: 44847 | B3: Для всех видов отделки | D3: Указания класса пожарной опасности заменено на указание группы горючести (в соответствии с изменениями в 123-ФЗ)
A4: 44847 | B4: Для всех видов отделки | D4: Грунтовка под финишный слой отделки перенесена в раздел Чистовой отделки стен
A5: 44847 | B5: Для всех видов отделки | D5: Указано количество слоев для всех грунтовок и красок
A6: 44847 | B6: Потолок | D6: Исключено указание класса пожарной опасности подвесных потолков типа Грильято
A7: 44847 | B7: ОТДЕЛКА АР ПОДЗЕМНОГО ЭТАЖА: АВТОСТОЯНКА: Лифтовый холл, тамбур-шлюз (при лифтовом холле), Лестничная клетка (площадка подземного этажа, междуэтажная площадка, лестничный марш), Отделка дверных откосов лифтового холла, тамбур-шлюза, лестничной клетки | C7: ОТ-3 | D7: Исключена Шпатлевка на цементной основе с последующей Грунтовкой акрилового глубокого проникновения под отделку Структурной краской. Изменено название чистового слоя отделки: Текстурная краска заменена на Структурную негорючую краску
A8: 44847 | B8: ОТДЕЛКА АР ПОДЗЕМНОГО ЭТАЖА: ИНЖЕНЕРНЫЕ И ТЕХНИЧЕСКИЕ ПОМЕЩЕНИЯ | D8: Добавлены новые места применения: Приямки ВК и Эксплуатируемые технические ниши, назначена отделка
A9: 44847 | B9: ОТДЕЛКА АР ПОДЗЕМНОГО ЭТАЖА: ИНЖЕНЕРНЫЕ И ТЕХНИЧЕСКИЕ ПОМЕЩЕНИЯ: Помещение ИТП и ВНС, венткамера ПД, венткамера автостоянки, насосная АПТ, расположенные под помещениями БКТ (Ф3.5, Ф4.3) и ОДС | D9: Указания об устройстве звукоизоляционной общивке стен перенесены в Альбом строительных конструкций и материалов. Внутренние ненесущие стены и перегородки ЖД-ТАС-РЕН-АР-ВК.С
A10: 44847 | B10: ОТДЕЛКА АР ПОДЗЕМНОГО ЭТАЖА: АВТОСТОЯНКА: Отделка откосов проемов в наружных стенах, Помещение хранения автомобилей, Рампа | C10: ОТ-1, ОТ-2 | D10: Для указанных помещений в соответствии с новой версией Каталога отделочных материалов и оборудования название финишного чистового слоя отделки изменено на Простая окраска влагостойкой негорючей краской за 2 раза, группа горючести НГ
A11: 44847 | B11: ОТДЕЛКА АР ПОДЗЕМНОГО ЭТАЖА: ИНЖЕНЕРНЫЕ И ТЕХНИЧЕСКИЕ ПОМЕЩЕНИЯ: Приямки лифтовых шахт | C11: ОТ-14 | D11: Упрочняющая и обеспыливающая пропитка перенесена в раздел Чистовой отделки стен
A12: 44847 | B12: ОТДЕЛКА АР ПОДЗЕМНОГО ЭТАЖА: АВТОСТОЯНКА: Рампа | C12: ПТ-1 | D12: Грунтовка под финишную отделку заменена на Грунтовку силикатную
A13: 44847 | B13: ОТДЕЛКА АР ПОДЗЕМНОГО ЭТАЖА: АВТОСТОЯНКА | D13: Место применния Отделка торцов и нижней поверхности лестничных маршей эвакуационных лестниц из подземного этажа с назначеной отделкой ПТ-4 перенесено из раздела первого этажа в раздел подземного этажа
A14: 44847 | B14: ОТДЕЛКА АР 1 ЭТАЖА: МОП: Тамбур, Вестибюль, Колясочная ИНЖЕНЕРНЫЕ И ТЕХНИЧЕСКИЕ ПОМЕЩЕНИЯ: Тамбур мусоросборной камеры | D14: Исключена чистовая отделка керамогранитом по основанию Утеплитель. Для указанных помещений должна применяться зашивка утеплителя листами ГСП--Н2 согласно Альбома строительных конструкций и материалов. Внутренние ненесущие стены и перегородки ЖД-ТАС-РЕН-АР-ВК.С
A15: 44847 | B15: ОТДЕЛКА АР 1 ЭТАЖА: МОП: Помещение консьержа | D15: Исключена Шпатлевка на гипсовой основе с последующей Грунтовкой акрилового глубокого проникновения под отделку Структурной краской. Изменено название чистового слоя отделки: Текстурная краска заменена на Структурную негорючую краску
A16: 44847 | B16: ОТДЕЛКА АР 1 ЭТАЖА: МОП: Лестничная клетка (эвакуационная лестница из подземного этажа), Лестничная клетка (жилая часть) | D16: Исключена Шпатлевка на цементной основе с последующей Грунтовкой акрилового глубокого проникновения под отделку Структурной краской. Изменено название чистового слоя отделки: Текстурная краска заменена на Структурную негорючую краску
A17: 44847 | B17: ОТДЕЛКА АР 1 ЭТАЖА: МОП, ПОМЕЩЕНИЕ ОХРАНЫ ОТДЕЛКА АР ТИПОВЫХ ЭТАЖЕЙ: МОП, КВАРТИРЫ | D17: Толщина штукатурки по основанию Ячеистый бетонный блок под окраску и оклейку обоями увеличена с 17 мм до 20 мм
A18: 44847 | B18: ОТДЕЛКА АР 1 ЭТАЖА: ИНЖЕНЕРНЫЕ И ТЕХНИЧЕСКИЕ ПОМЕЩЕНИЯ | D18: Добавлено место применения Отделка дверного откоса в мусоросборной камере. Назначена отделка ОС-25 + ОТ-7
A19: 44847 | B19: ОТДЕЛКА АР 1 ЭТАЖА: ИНЖЕНЕРНЫЕ И ТЕХНИЧЕСКИЕ ПОМЕЩЕНИЯ | D19: Добавлены места применения: техническое пространство для прокладки инженерных коммуникаций, эксплуатируемые технические ниши, назначена отделка
A20: 44847 | B20: ОТДЕЛКА АР 1 ЭТАЖА: МОП, ПОМЕЩЕНИЕ ОХРАНЫ ОТДЕЛКА АР ТИПОВЫХ ЭТАЖЕЙ: МОП, КВАРТИРЫ | D20: Для основания ГКЛ/ГВЛВ под окраску и оклейку предусмотрено сплошное выравнивание гипсовыми смесями толщиной 10 мм.
A21: 44847 | B21: ОТДЕЛКА АР 1 ЭТАЖА: ОДС, ЦИН | D21: Для сухих помещений в соответствии с новой версией Каталога отделочных материалов и оборудования название финишного чистового слоя отделки изменено на Улучшенная окраска водно-дисперсионной краской за 2 раза, группа горючести Г1
A22: 44847 | B22: ОТДЕЛКА АР 1 ЭТАЖА: ЦИН | D22: Название места применения Детская зона изменено на Зона ожидания с детским уголком
A23: 44847 | B23: ОТДЕЛКА АР 1 ЭТАЖА | D23: Добавлен подраздел СТАНЦИЯ МОНИТОРИНГА НЕСУЩИХ КОНСТРУКЦИЙ И ИНЖЕНЕРНЫХ СИСТЕМ
A24: 44847 | B24: ОТДЕЛКА АР ТИПОВЫХ ЭТАЖЕЙ | D24: Разделены основания ПГП и ГКЛ (ГКЛВ) / ГВЛВ
... A29: 44847 | B29: ОТДЕЛКА АР ТИПОВЫХ ЭТАЖЕЙ: КВАРТИРЫ: Жилая комната, Холл, Кухня | D29: Отделка потолка с окраской заменена устройством натяжного потолка с предварительной обоработкой упрочняющей и обеспыливающей пропиткой
A30: 44887 | B30: Потолок | C30: ПТ-9 | D30: Откорретирован состав марки: к шпатлевке на цементной основе добавлено указание о проклейке стыков армирующей лентой
A31: 44887 | B31: Потолок | C31: ПТ-18 | D31: Откорретирован состав марки: к шпатлевке на гипсовой основе добавлено указание о проклейке стыков армирующей лентой
A32: 44887 | B32: Потолок | C32: ПТ-27 | D32: Добавлен новый тип потолка для тамбура переходного балкона на типовых этажах, в новой марке добавлено утепление
A33: 44887 | B33: ОТДЕЛКА АР ТИПОВЫХ ЭТАЖЕЙ: МОП: Тамбур | D33: Марка применяемого потолка изменена с ПТ-2 на ПТ-27
A34: 44887 | B34: Назначена отделка по основанию Кирпич ОС-40 | C34: ПТ-28 | D34: Добавлен новый тип потолка для зашивки перекидок под потолком помещений БКТ
A35: 44894 | B35: Полы | C35: П-48 | D35: Добавлен новый тип пола для тамбура переходного балкона на типовых этажах, в новой марке добавлено утепление
A36: 44894 | B36: Полы | C36: П-35 | D36: Из места применения исключен тамбур переходного балкона
A37: 44894 | B37: Полы | C37: П-49 | D37: Добавлен новый тип пола в месте устройства пандуса на перепаде полов для подземного этажа без автостоянки
A38: 44894 | B38: Плинтус напольный | C38: ПЛН-1 | D38: Добавлено место применения П-48
A39: 44894 | B39: ОТДЕЛКА АР ТИПОВЫХ ЭТАЖЕЙ: МОП: Тамбур | D39: Марка применяемого пола изменена с П-35 на П-48
A40: 44894 | B40: Черновая отделка стен | C40: ОС-31 | D40: Изменена толщина сплошного выравнивания гипсовыми смесями: с 10 мм на 10-40 мм согласно узлам отделки откосов ЖД-ТАС-РЕН-АИ-ТУ, добавлена сетка СВУ 120-2600 СП 31-111-2004
A41: 44894 | B41: Черновая отделка стен | C41: ОС-32 | D41: Изменена толщина сплошного выравнивания гипсовыми смесями: с 17-60 мм на 20-60 мм
A42: 44894 | B42: ОТДЕЛКА АР ТИПОВЫХ ЭТАЖЕЙ: МОП: Отделка оконных откосов в лифтовом холле | D42: Назначена отделка оконных откосов по основанию Монолитный ж/бетон / Наружная стеновая панель, марка ОС-31
A43: 44894 | B43: Черновая отделка стен | C43: ОС-44 | D43: Добавлен новый тип отделки откосов, со сплошным выравниванием на цементной основе 10-40 мм
A44: 44894 | B44: ОТДЕЛКА АР ТИПОВЫХ ЭТАЖЕЙ: МОП: Отделка оконных откосов в лестничной клетке | D44: Назначена отделка оконных откосов по основанию Монолитный ж/бетон / Наружная стеновая панель, марка ОС-44
...

Sheet 1. ОТДЕЛКА АР ПОДЗЕМНОГО ЭТАЖА
C1: ОТДЕЛКА ПОМЕЩЕНИЙ ПОДЗЕМНОГО ЭТАЖА. ВЕРСИЯ 3
A2: Место применения | C2: СТЕНЫ | U2: ПОТОЛОК | Y2: ПОЛ
C3: Черновая отделка стен | R3: Чистовая отделка стен | U3: Черновая / Чистовая отделка потолка | Y3: Марка покрытия | AB3: Плинтус
C4: Монолитный ж/бетон | F4: Выравнивание монолитных конструкций в местах стыка со стеной из кирпича | I4: Кирпич | L4: Утеплитель | O4: ГСП-А (ГСП-Н2) | R4: Марка материала | U4: Монолитный ж/бетон | X4: Плинтус
C5: АВТОСТОЯНКА
A6: Отделка откосов проемов в наружных стенах | C6: ='ОС'!A7 -> ОС-4 | D6: ='ОС'!B7 -> Грунтовка Бетонконтакт | E6: ='ОС'!C7 -> 1 слой | R6: ='ОТ'!A3 -> ОТ-1 | S6: ='ОТ'!B3 -> Грунтовка под финишную отделку | T6: ='ОТ'!C3 -> 1 слой
D7: ='ОС'!B8 -> Профиль углозащитный оцинкованный 25х25мм, сплошное выравнивание смесями цементно-песчаными по сетке тканой стальной 10х10х0.8 мм | E7: ='ОС'!C8&" мм" -> 10 мм | S7: ='ОТ'!B4 -> Простая окраска краской влагостойкой за 2 раза, группа горючести Г1 | T7: ='ОТ'!C4 -> 2 слоя
A8: Помещение автостоянки, зона размещения теплового узла, расположенного в помещение автостоянки под секциями жилой части здания | B8: Основное пространство | C8: ='ОС'!A3 -> ОС-1 | D8: ='ОС'!B3 -> Грунтовка Бетонконтакт | E8: ='ОС'!C3 -> 1 слой | F8: ='ОС'!A144 -> ОС-53 | G8: ='ОС'!B144 -> Грунтовка Бетонконтакт | H8: ='ОС'!C144 -> 1 слой | I8: ='ОС'!A13 -> ОС-7 | J8: ='ОС'!B13 -> Грунтовка глубокого проникновения | K8: ='ОС'!C13 -> 1 слой | R8: ='ОТ'!A3 -> ОТ-1 | S8: ='ОТ'!B3 -> Грунтовка под финишную отделку | T8: ='ОТ'!C3 -> 1 слой | U8: ='ПТ'!A3 -> ПТ-1 | V8: ='ПТ'!B3 -> Грунтовка Бетонконтакт | W8: ='ПТ'!C3 -> 1 слой | X8: нет | Y8: ='П'!A28&" / "&'П'!A32 -> П-7.1 / П-7.2 | Z8: ='П'!C28 -> Система покрытия ТН-ПОЛ ТАЙКОР Кварц: - Эмаль TAIKOR Top 425 - 2 слоя (Колеруется в RAL-7030) - Засыпка кварцевым песком. Фракции: 0,5 мм; 0,1-0,63 мм - Грунт TAIKOR Primer 150 - 2 слоя | AA8: ='П'!D28 -> 1 слой | AB8: нет | AC8: нет | AD8: нет
S9: ='ОТ'!B4 -> Простая окраска краской влагостойкой за 2 раза, группа горючести Г1 | T9: ='ОТ'!C4 -> 2 слоя | V9: ='ПТ'!B4 -> Затирка поверхности после демонтажа опалубки | W9: ='ПТ'!C4&" мм" -> 2-4 мм | Z9: =П!C29 -> Стяжка бетонная В15, F100, W4, армированная сеткой 5Вр1 с ячейкой 100х100 по уклону с прорезкой усадочных швов | AA9: ='П'!D29&" мм / "&'П'!D33&" мм" -> 98-148 мм / 148 мм
B10: Область входа в жилой дом (акцентные стены) | D10: ='ОС'!B4 -> Затирка поверхности после демонтажа опалубки | E10: ='ОС'!C4&" мм" -> 2-4 мм | G10: ='ОС'!B145 -> Сплошное выравнивание смесями цементно-песчаными по сетке тканой стальной 10х10х0.8 мм | H10: ='ОС'!C145&" мм" -> до 35 мм | J10: ='ОС'!B14 -> Простая штукатурка смесями цементно-песчаными по сетке тканой стальной 10х10х0.8 мм | K10: ='ОС'!C14&" мм" -> 14 мм | R10: ='ОТ'!A5 -> ОТ-2 | S10: ='ОТ'!B5 -> Грунтовка под финишную отделку | T10: ='ОТ'!C5 -> 1 слой | V10: ='ПТ'!B5 -> Грунтовка под финишную отделку | W10: ='ПТ'!C5 -> 1 слой | Z10: =П!C30 -> Система покрытия ТН-ПОЛ ТАЙКОР Барьер: - Покрытие TAIKOR Elastic 300 с заведением на стены на 200 мм - 2 слоя - Грунт TAIKOR Primer 210 с заведением на стены на 200 мм - 1 слой - Подливка выбоин до 30 мм составом Sika grout 316, 5% от площади пола | AA10: ='П'!D30 -> 1 слой
S11: ='ОТ'!B6 -> Простая окраска краской влагостойкой за 2 раза, группа горючести Г1 (акцентная) | T11: ='ОТ'!C6 -> 2 слоя | V11: ='ПТ'!B6 -> Простая окраска краской влагостойкой за 2 раза, группа горючести Г1 | W11: ='ПТ'!C6 -> 2 слоя | Z11: =П!C31 -> Монолитный ж/бетон | AA11: =П!D31 -> по проекту
A12: Рампа | B12: Проезжая часть | C12: ='ОС'!A3 -> ОС-1 | D12: ='ОС'!B3 -> Грунтовка Бетонконтакт | E12: ='ОС'!C3 -> 1 слой | F12: ='ОС'!A144 -> ОС-53 | G12: ='ОС'!B144 -> Грунтовка Бетонконтакт | H12: ='ОС'!C144 -> 1 слой | I12: ='ОС'!A13 -> ОС-7 | J12: ='ОС'!B13 -> Грунтовка глубокого проникновения | K12: ='ОС'!C13 -> 1 слой | L12: ='ОС'!A6 -> ОС-3 | M12: ='ОС'!B6 -> Слой штукатурно-клеевой Технониколь 210 или аналог, армированный сеткой фасадной стеклотканевой щелочестойкой М3600 | N12: ='ОС'!C6&" мм" -> 10 мм | R12: ='ОТ'!A3 -> ОТ-1 | S12: ='ОТ'!B3 -> Грунтовка под финишную отделку | T12: ='ОТ'!C3 -> 1 слой | U12: ='ПТ'!A3 -> ПТ-1 | V12: ='ПТ'!B3 -> Грунтовка Бетонконтакт | W12: ='ПТ'!C3 -> 1 слой | X12: нет | Y12: ='П'!A36&" / "&'П'!A40&" / "&'П'!A44 -> П-8.1 / П-8.2 / П-8.3 | Z12: ='П'!C36 -> Система покрытия ТН-ПОЛ ТАЙКОР Кварц усиленная: - Эмаль TAIKOR Top 425 - 2 слоя (Колеруется в RAL -7030) - Засыпка кварцевым песком. Фракции: 0,5 мм; 0,1-0,63 мм - Грунт TAIKOR Primer 150 - 1 слой - Засыпка кварцевым песком. Фракции: 0,5 мм; 0,1-0,63 мм - Грунт TAIKOR Primer 150 - 2 слоя | AA12: ='П'!D36 -> 1 слой | AB12: нет | AC12: нет | AD12: нет
Z13: =П!C37 -> Стяжка бетонная В15, F100, W4, армированная сеткой 5Вр1 с ячейкой 100х100 по уклону с прорезкой усадочных швов | AA13: ='П'!D37&" мм / "&'П'!D41&" мм / "&'П'!D45&" мм" -> 97-147 мм / 97 мм / 147 мм
Z14: =П!C38 -> Система покрытия ТН-ПОЛ ТАЙКОР Барьер: - Покрытие TAIKOR Elastic 300 с заведением на стены на 200 мм - 2 слоя - Грунт TAIKOR Primer 210 с заведением на стены на 200 мм - 1 слой - Подливка выбоин до 30 мм составом Sika grout 316, 5% от площади пола | AA14: ='П'!D38 -> 1 слой
V15: ='ПТ'!B4 -> Затирка поверхности после демонтажа опалубки | W15: ='ПТ'!C4&" мм" -> 2-4 мм | Z15: =П!C39 -> Монолитный ж/бетон | AA15: =П!D39 -> по проекту
B16: Пешеходная зона | Y16: ='П'!A48&" / "&'П'!A53&" / "&'П'!A58 -> П-9.1 / П-9.2 / П-9.3 | Z16: ='П'!C48 -> Система покрытия ТН-ПОЛ ТАЙКОР Кварц: - Эмаль TAIKOR Top 425 - 2 слоя (Колеруется в RAL -7030) - Засыпка кварцевым песком. Фракции: 0,5 мм; 0,1-0,63 мм - Грунт TAIKOR Primer 150 - 2 слоя | AA16: ='П'!D48 -> 1 слой
Z17: =П!C49 -> Стяжка бетонная В15, F100, W4, армированная сеткой 5Вр1 с ячейкой 100х100 с прорезкой усадочных швов | AA17: ='П'!D49&" мм" -> 98 мм
Z18: =П!C50 -> Гравий керамзитовый фр. 10-20 мм, П25, М250, пропит. цем. молочком | AA18: ='П'!D50&" мм / "&'П'!D55&" мм / "&'П'!D60&" мм" -> 100-150 мм / 100 мм / 150 мм
D19: ='ОС'!B4 -> Затирка поверхности после демонтажа опалубки | E19: ='ОС'!C4&" мм" -> 2-4 мм | G19: ='ОС'!B145 -> Сплошное выравнивание смесями цементно-песчаными по сетке тканой стальной 10х10х0.8 мм | H19: ='ОС'!C145&" мм" -> до 35 мм | J19: ='ОС'!B14 -> Простая штукатурка смесями цементно-песчаными по сетке тканой стальной 10х10х0.8 мм | K19: ='ОС'!C14&" мм" -> 14 мм | S19: ='ОТ'!B4 -> Простая окраска краской влагостойкой за 2 раза, группа горючести Г1 | T19: ='ОТ'!C4 -> 2 слоя | V19: ='ПТ'!B5 -> Грунтовка под финишную отделку | W19: ='ПТ'!C5 -> 1 слой | Z19: =П!C51 -> Система покрытия ТН-ПОЛ ТАЙКОР Барьер: - Покрытие TAIKOR Elastic 300 с заведением на стены на 200 мм - 2 слоя - Грунт TAIKOR Primer 210 с заведением на стены на 200 мм - 1 слой - Подливка выбоин до 30 мм составом Sika grout 316, 5% от площади пола | AA19: ='П'!D51 -> 1 слой
Z20: =П!C52 -> Монолитный ж/бетон | AA20: =П!D52 -> по проекту
B21: Зона въезда/выезда | Y21: ='П'!A63 -> П-10 | Z21: ='П'!C63 -> Система покрытия ТН-ПОЛ ТАЙКОР Кварц усиленная: - Эмаль TAIKOR Top 425 - 2 слоя (Колеруется в RAL -7030) - Засыпка кварцевым песком. Фракции: 0,5 мм; 0,1-0,63 мм - Грунт TAIKOR Primer 150 - 1 слой - Засыпка кварцевым песком. Фракции: 0,5 мм; 0,1-0,63 мм - Грунт TAIKOR Primer 150 - 2 слоя | AA21: ='П'!D63 -> 1 слой
V22: ='ПТ'!B6 -> Простая окраска краской влагостойкой за 2 раза, группа горючести Г1 | W22: ='ПТ'!C6 -> 2 слоя | Z22: =П!C64 -> Стяжка бетонная В15, F100, W4, армированная сеткой 5Вр1 с ячейкой 100х100 с прорезкой усадочных швов | AA22: ='П'!D64&" мм" -> 98 мм
Z23: =П!C65 -> Пенополистирол экструдированный (Технониколь CARBON SOLID 500), прочность на сжатие 10% линейной деформации не менее 0,5 мПа, λ=0,036 Вт/м°С | AA23: =П!D65&" мм" -> 50 мм
Z24: =П!C66 -> Система покрытия ТН-ПОЛ ТАЙКОР Барьер: - Покрытие TAIKOR Elastic 300 с заведением на стены на 200 мм - 2 слоя - Грунт TAIKOR Primer 210 с заведением на стены на 200 мм - 1 слой - Подливка выбоин до 30 мм составом Sika grout 316, 5% от площади пола | AA24: ='П'!D66 -> 1 слой
Z25: =П!C67 -> Монолитный ж/бетон | AA25: =П!D67 -> по проекту
A26: Универсальный с/у | B26: До уровня подвесного потолка | C26: ='ОС'!A3 -> ОС-1 | D26: ='ОС'!B3 -> Грунтовка Бетонконтакт | E26: ='ОС'!C3 -> 1 слой | F26: ='ОС'!A144 -> ОС-53 | G26: ='ОС'!B144 -> Грунтовка Бетонконтакт | H26: ='ОС'!C144 -> 1 слой | I26: ='ОС'!A13 -> ОС-7 | J26: ='ОС'!B13 -> Грунтовка глубокого проникновения | K26: ='ОС'!C13 -> 1 слой | R26: ='ОТ'!A30 -> ОТ-15 | S26: ='ОТ'!B30 -> Грунтовка глубокого проникновения | T26: ='ОТ'!C30 -> 1 слой | U26: ='ПТ'!A45 -> ПТ-9 | V26: ='ПТ'!B45 -> Каркас металлический П 113 (профиль ПН 28х27 и ПП 60х27) | W26: ='ПТ'!C45&" мм" -> 27 мм | X26: нет | Y26: =П!A344 -> П-56 | Z26: =П!C344 -> Керамогранит с затиркой швов | AA26: =П!D344&" мм" -> 9 мм | AB26: нет | AC26: нет | AD26: нет
D27: ='ОС'!B4 -> Затирка поверхности после демонтажа опалубки | E27: ='ОС'!C4&" мм" -> 2-4 мм | G27: ='ОС'!B145 -> Сплошное выравнивание смесями цементно-песчаными по сетке тканой стальной 10х10х0.8 мм | H27: ='ОС'!C145&" мм" -> до 35 мм | J27: ='ОС'!B14 -> Простая штукатурка смесями цементно-песчаными по сетке тканой стальной 10х10х0.8 мм | K27: ='ОС'!C14&" мм" -> 14 мм | S27: ='ОТ'!B31 -> Керамическая плитка на растворе цементно-песчаном с затиркой швов | T27: ='ОТ'!C31&" мм" -> 12* мм | V27: ='ПТ'!B46 -> ГСП-Н2 | W27: ='ПТ'!C46&" мм" -> 12,5 мм | Z27: =П!C345 -> Клей плиточный водостойкий Церезит СМ 16 | AA27: =П!D345&" мм" -> 6 мм
O28: ='ОС'!A46 -> ОС-24 | P28: ='ОС'!B46 -> Шпатлевка стыков ГСП с проклейкой лентой армирующей | Q28: ='ОС'!C46 -> - | R28: ='ОТ'!A32 -> ОТ-16 | S28: ='ОТ'!B32 -> Грунтовка Бетонконтакт | T28: ='ОТ'!C32 -> 1 слой | V28: ='ПТ'!B47 -> Грунтовка глубокого проникновения | W28: ='ПТ'!C47 -> 1 слой | Z28: =П!C346 -> Гидроизоляция цементная Церезит CR 65 WATERPROOF с заведением на стены на 200 мм с прокладкой по углам водонепроницаемой ленты для герметизации швов Церезит CL 152 | AA28: =П!D346 -> 2 слоя
V29: ='ПТ'!B48 -> Шпатлевка поверхности на цементной основе (с проклейкой стыков лентой армирующей) | W29: ='ПТ'!C48&" мм" -> 2 мм | Z29: =П!C347 -> Стяжка полусухая цементно-песчаная М150, армированная фиброволокном (фибра полипропиленовая 12мм, расход 0.6кг/м3) | AA29: =П!D347&" мм" -> 42 мм
V30: ='ПТ'!B49 -> Грунтовка под финишную отделку | W30: ='ПТ'!C49 -> 1 слой | Z30: =П!C347 -> Стяжка полусухая цементно-песчаная М150, армированная фиброволокном (фибра полипропиленовая 12мм, расход 0.6кг/м3) | AA30: =П!D347 -> 42
B31: Выше уровня подвесного потолка | Z31: =П!C348 -> Пленка пароизоляционная армированная | AA31: =П!D348 -> 1 слой
V32: ='ПТ'!B50 -> Улучшенная окраска краской влагостойкой водно-дисперсионной за 2 раза | W32: ='ПТ'!C50 -> 2 слоя | Z32: =П!C349 -> Гравий керамзитовый фр. 10-20 мм, П25, М250 | AA32: =П!D349&" мм" -> 90 мм
Z33: =П!C350 -> Монолитный ж/бетон | AA33: =П!D350 -> по проекту
A34: Лифтовый холл, тамбур-шлюз (при лифтовом холле) | B34: До отметки 60мм выше отметки низа подвесного потолка "Грильято" | C34: ='ОС'!A36 -> ОС-19 | D34: ='ОС'!B36 -> Грунтовка Бетонконтакт | E34: ='ОС'!C36 -> 1 слой | F34: ='ОС'!A47 -> ОС-25 | G34: ='ОС'!B47 -> Грунтовка Бетонконтакт | H34: ='ОС'!C47 -> 1 слой | I34: ='ОС'!A15 -> ОС-8 | J34: ='ОС'!B15 -> Грунтовка глубокого проникновения | K34: ='ОС'!C15 -> 1 слой | L34: ='ОС'!A6 -> ОС-3 | M34: ='ОС'!B6 -> Слой штукатурно-клеевой Технониколь 210 или аналог, армированный сеткой фасадной стеклотканевой щелочестойкой М3600 | N34: ='ОС'!C6&" мм" -> 10 мм | R34: ='ОТ'!A7 -> ОТ-3 | S34: ='ОТ'!B7 -> Грунт-краска колеруемая, группа горючести НГ | T34: ='ОТ'!C7 -> 1 слой | U34: ='ПТ'!A7 -> ПТ-2 | V34: ='ПТ'!B7 -> Грунтовка Бетонконтакт | W34: ='ПТ'!C7 -> 1 слой | X34: нет | Y34: ='П'!A80 -> П-13 | Z34: ='П'!C80 -> Керамогранит с затиркой швов | AA34: ='П'!D80&" мм" -> 8 мм | AB34: =П!A361 -> ПЛН-02 | AC34: =П!C361 -> Плинтус из керамогранита h=100мм (нарезать из керамогранита отделки пола) | AD34: =П!D361&" мм" -> 8 мм
V35: ='ПТ'!B8 -> Затирка поверхности после демонтажа опалубки | W35: ='ПТ'!C8&" мм" -> 2-4 мм | Z35: =П!C81 -> Клей плиточный водостойкий Церезит СМ 16 | AA35: =П!D81&" мм" -> 6 мм
D36: ='ОС'!B37 -> Улучшенная штукатурка смесями цементно-песчаными | E36: ='ОС'!C37&" мм" -> 17 мм | G36: ='ОС'!B48 -> Сплошное выравнивание смесями цементно-песчаными по сетке тканой стальной 10х10х0.8 мм | H36: ='ОС'!C48&" мм" -> до 35 мм | J36: ='ОС'!B16 -> Улучшенная штукатурка смесями цементно-песчаными по сетке тканой стальной 10х10х0.8 мм | K36: ='ОС'!C16&" мм" -> 17 мм | S36: ='ОТ'!B8 -> Окраска краской структурной негорючей, нанесение краскопультом, группа горючести НГ | T36: ='ОТ'!C8 -> 1 слой | V36: ='ПТ'!B9 -> Грунтовка под финишную отделку | W36: ='ПТ'!C9 -> 1 слой | Z36: =П!C82 -> Грунтовка глубокого проникновения Церезит CT 17 | AA36: ='П'!D82 -> 1 слой
V37: ='ПТ'!B10 -> Простая окраска краской водно-дисперсионной негорючей за 2 раза (цвет белый), группа горючести НГ | W37: ='ПТ'!C10 -> 2 слоя | Z37: =П!C83 -> Стяжка полусухая цементно-песчаная М150, армированная фиброволокном (фибра полипропиленовая 12мм, расход 0.6кг/м3) | AA37: ='П'!D83&" мм" -> 51 мм
B38: Выше отметки 60мм от низа подвестного потолка "Грильято" | C38: ='ОС'!A3 -> ОС-1 | D38: ='ОС'!B3 -> Грунтовка Бетонконтакт | E38: ='ОС'!C3 -> 1 слой | F38: ='ОС'!A3 -> ОС-1 | G38: ='ОС'!B3 -> Грунтовка Бетонконтакт | H38: ='ОС'!C3 -> 1 слой | I38: ='ОС'!A13 -> ОС-7 | J38: ='ОС'!B13 -> Грунтовка глубокого проникновения | K38: ='ОС'!C13 -> 1 слой | R38: ='ОТ'!A9 -> ОТ-4 | S38: ='ОТ'!B9 -> Грунтовка под финишную отделку | T38: ='ОТ'!C9 -> 1 слой | Z38: =П!C84 -> Пленка пароизоляционная армированная | AA38: ='П'!D84 -> 1 слой
D39: ='ОС'!B4 -> Затирка поверхности после демонтажа опалубки | E39: ='ОС'!C4&" мм" -> 2-4 мм | G39: ='ОС'!B4 -> Затирка поверхности после демонтажа опалубки | H39: ='ОС'!C4&" мм" -> 2-4 мм | J39: ='ОС'!B14 -> Простая штукатурка смесями цементно-песчаными по сетке тканой стальной 10х10х0.8 мм | K39: ='ОС'!C14&" мм" -> 14 мм | S39: ='ОТ'!B10 -> Простая окраска краской водно-дисперсионной негорючей за 2 раза, группа горючести НГ | T39: ='ОТ'!C10 -> 2 слоя | V39: ='ПТ'!B11 -> Потолок подвесной металлический типа "Грильято" 75х75х40 (цвет белый) на металлическом каркасе, группа горючести НГ | W39: ='ПТ'!C11&" мм" -> 40 мм | Z39: =П!C85 -> Гравий керамзитовый фр. 10-20 мм, П25, М250 | AA39: ='П'!D85&" мм" -> 85 мм
Z40: =П!C86 -> Монолитный ж/бетон | AA40: ='П'!D86 -> по проекту
...

Sheet 2. ОТДЕЛКА АР 1 ЭТАЖА
C1: ОТДЕЛКА ПОМЕЩЕНИЙ ПЕРВОГО ЭТАЖА. ВЕРСИЯ 3
A2: Место применения | C2: СТЕНЫ | X2: ПОТОЛОК | AB2: ПОЛ
C3: Черновая отделка стен | U3: Чистовая отделка стен | X3: Черновая / Чистовая отделка потолка | AB3: Марка покрытия | AE3: Плинтус
C4: Монолитный ж/бетон | F4: Выравнивание монолитных конструкций в местах стыка со стеной из ячеистых бетонных блоков/кирпича | I4: Ячеистый бетонный блок | L4: Кирпич | O4: Утеплитель | R4: ГСП-А (ГСП-Н2) | U4: Марка покрытия | X4: Монолитный ж/бетон | AA4: Плинтус
C5: МОП
A6: Отделка откосов проемов в наружных стенах МОП | B6: Вестибюль, колясочная | C6: ='ОС'!A75 -> ОС-34 | D6: ='ОС'!B75 -> Каркас металлический С625 (профиль ПН 50х40 и ПС 50х50) | E6: ='ОС'!C75&" мм" -> 50 мм | I6: ='ОС'!A75 -> ОС-34 | J6: ='ОС'!B75 -> Каркас металлический С625 (профиль ПН 50х40 и ПС 50х50) | K6: ='ОС'!C75&" мм" -> 50 мм | U6: ='ОТ'!A21 -> ОТ-10 | V6: ='ОТ'!B21 -> Грунтовка под финишную отделку | W6: ='ОТ'!C21 -> 1 слой
D7: ='ОС'!B76 -> ГСП-Н2 | E7: ='ОС'!C76&" мм" -> 12,5 мм | J7: ='ОС'!B76 -> ГСП-Н2 | K7: ='ОС'!C76&" мм" -> 12,5 мм | V7: ='ОТ'!B22 -> Улучшенная окраска краской водно-дисперсионной негорючей за 2 раза, группа горючести НГ | W7: ='ОТ'!C22 -> 2 слоя
B8: Помещение консьержа | D8: ='ОС'!B77 -> Грунтовка глубокого проникновения | E8: ='ОС'!C77 -> 1 слой | J8: ='ОС'!B77 -> Грунтовка глубокого проникновения | K8: ='ОС'!C77 -> 1 слой | U8: ='ОТ'!A17 -> ОТ-8 | V8: ='ОТ'!B17 -> Грунтовка под финишную отделку | W8: ='ОТ'!C17 -> 1 слой
D9: ='ОС'!B78 -> Профиль угловой оцинкованный перфорированный 31х31х0,4 мм, шпатлевка поверхности на гипсовой основе | E9: ='ОС'!C78&" мм" -> 2 мм | J9: ='ОС'!B78 -> Профиль угловой оцинкованный перфорированный 31х31х0,4 мм, шпатлевка поверхности на гипсовой основе | K9: ='ОС'!C78&" мм" -> 2 мм | V9: ='ОТ'!B18 -> Улучшенная окраска краской водно-дисперсионной за 2 раза | W9: ='ОТ'!C18 -> 2 слоя
A10: Тамбур МОП (граничащий с улицей) | B10: До отметки 60 мм выше отметки низа подвесного потолка "Грильято" | C10: ='ОС'!A3 -> ОС-1 | D10: ='ОС'!B3 -> Грунтовка Бетонконтакт | E10: ='ОС'!C3 -> 1 слой | F10: ='ОС'!A144 -> ОС-53 | G10: ='ОС'!B144 -> Грунтовка Бетонконтакт | H10: ='ОС'!C144 -> 1 слой | I10: ='ОС'!A28 -> ОС-15 | J10: ='ОС'!B28 -> Грунтовка глубокого проникновения | K10: ='ОС'!C28 -> 1 слой | U10: ='ОТ'!A47 -> ОТ-25 | V10: ='ОТ'!B47 -> Грунтовка глубокого проникновения | W10: ='ОТ'!C47 -> 1 слой | X10: ='ПТ'!A34 -> ПТ-7 | Y10: ='ПТ'!B34 -> Смесь клеевая для монтажа утеплителя (Технониколь 110) | Z10: ='ПТ'!C34&" мм" -> 5 мм | AA10: нет | AB10: ='П'!A100 -> П-17 | AC10: ='П'!C100 -> Решетка грязезащитное (резина+щетка+скребок) (вес 18,1 кг/м2) | AD10: ='П'!D100&" мм" -> 20 мм | AE10: нет | AF10: нет | AG10: нет
V11: ='ОТ'!B48 -> Керамогранит на растворе цементно-песчаном с затиркой швов, группа горючести НГ | W11: ='ОТ'!C48&" мм" -> 15* мм | AC11: =П!C101 -> Керамогранит с затиркой швов | AD11: =П!D101&" мм" -> 9 мм
D12: ='ОС'!B4 -> Затирка поверхности после демонтажа опалубки | E12: ='ОС'!C4&" мм" -> 2-4 мм | G12: ='ОС'!B145 -> Сплошное выравнивание смесями цементно-песчаными по сетке тканой стальной 10х10х0.8 мм | H12: ='ОС'!C145&" мм" -> до 35 мм | J12: ='ОС'!B29 -> Простая штукатурка смесями цементно-песчаными | K12: ='ОС'!C29&" мм" -> 14 мм | Y12: ='ПТ'!B35 -> Утеплитель минераловатный (Технониколь - ТЕХНОФАС ДЕКОР) ρ=90-110 кг/м³, предел прочности на отрыв не менее 15 кПа, λ=0,044 Вт/м°С | Z12: ='ПТ'!C35 -> по проекту | AC12: =П!C102 -> Клей плиточный водостойкий Церезит СМ 16 | AD12: =П!D102&" мм" -> 6 мм
AC13: =П!C103 -> Гидроизоляция однокомпонентная полимерная эластичная Церезит CL 51 с заведением на стены на 200 мм с прокладкой по углам водонепроницаемой ленты для герметизации швов Церезит CL 152 | AD13: ='П'!D103 -> 2 слоя
R14: ='ОС'!A46 -> ОС-24 | S14: ='ОС'!B46 -> Шпатлевка стыков ГСП с проклейкой лентой армирующей | T14: ='ОС'!C46 -> - | U14: ='ОТ'!A49 -> ОТ-26 | V14: ='ОТ'!B49 -> Грунтовка Бетонконтакт | W14: ='ОТ'!C49 -> 1 слой | AC14: =П!C104 -> Грунтовка глубокого проникновения Церезит CT 17 | AD14: =П!D104 -> 1 слой
V15: ='ОТ'!B50 -> Керамогранит на растворе цементно-песчаном с затиркой швов, группа горючести НГ | W15: ='ОТ'!C50&" мм" -> 15* мм | AC15: =П!C105 -> Стяжка полусухая цементно-песчаная М150, армированная фиброволокном (фибра полипропиленовая 12мм, расход 0.6кг/м3) | AD15: ='П'!D105&" мм" -> 44 мм
Y16: ='ПТ'!B36 -> Слой штукатурно-клеевой Технониколь 210 или аналог, армированный сеткой фасадной стеклотканевой щелочестойкой М3600 | Z16: ='ПТ'!C36&" мм" -> 10 мм | AC16: =П!C106 -> Плиты теплоизоляционные LOGICPIR Пол ФЛ/ФЛ, прочность на сжатие 10% линейной деформации не менее 150 кПа, λ=0.025 Вт/м°С | AD16: =П!D106&" мм" -> 20 мм
AC17: =П!C107 -> Монолитный ж/бетон | AD17: ='П'!D107 -> по проекту
B18: Выше отметки 60 мм от низа подвесного потолка "Грильято" | C18: ='ОС'!A3 -> ОС-1 | D18: ='ОС'!B3 -> Грунтовка Бетонконтакт | E18: ='ОС'!C3 -> 1 слой | F18: ='ОС'!A3 -> ОС-1 | G18: ='ОС'!B3 -> Грунтовка Бетонконтакт | H18: ='ОС'!C3 -> 1 слой | I18: ='ОС'!A28 -> ОС-15 | J18: ='ОС'!B28 -> Грунтовка глубокого проникновения | K18: ='ОС'!C28 -> 1 слой | R18: ='ОС'!A46 -> ОС-24 | S18: ='ОС'!B46 -> Шпатлевка стыков ГСП с проклейкой лентой армирующей | T18: ='ОС'!C46 -> - | U18: ='ОТ'!A51 -> ОТ-27 | V18: ='ОТ'!B51 -> Грунтовка под финишную отделку | W18: ='ОТ'!C51 -> 1 слой | AB18: ='П'!A108 -> П-18 | AC18: =П!C108 -> Керамогранит с затиркой швов | AD18: ='П'!D108&" мм" -> 9 мм
AC19: =П!C109 -> Клей плиточный водостойкий Церезит СМ 16 | AD19: =П!D109&" мм" -> 6 мм
Y20: ='ПТ'!B37 -> Грунтовка под финишную отделку | Z20: ='ПТ'!C37 -> 1 слой | AC20: =П!C110 -> Гидроизоляция однокомпонентная полимерная эластичная Церезит CL 51 с заведением на стены на 200 мм с прокладкой по углам водонепроницаемой ленты для герметизации швов Церезит CL 152 | AD20: ='П'!D110 -> 2 слоя
D21: ='ОС'!B4 -> Затирка поверхности после демонтажа опалубки | E21: ='ОС'!C4&" мм" -> 2-4 мм | G21: ='ОС'!B4 -> Затирка поверхности после демонтажа опалубки | H21: ='ОС'!C4&" мм" -> 2-4 мм | J21: ='ОС'!B29 -> Простая штукатурка смесями цементно-песчаными | K21: ='ОС'!C29&" мм" -> 14 мм | V21: ='ОТ'!B52 -> Простая окраска краской влагостойкой негорючей за 2 раза, группа горючести НГ | W21: ='ОТ'!C52 -> 2 слоя | Y21: ='ПТ'!B38 -> Простая окраска краской влагостойкой негорючей за 2 раза (цвет черный), группа горючести НГ | Z21: ='ПТ'!C38 -> 2 слоя | AC21: =П!C111 -> Грунтовка глубокого проникновения Церезит CT 17 | AD21: =П!D111 -> 1 слой
AC22: =П!C112 -> Стяжка полусухая цементно-песчаная М150, армированная фиброволокном (фибра полипропиленовая 12мм, расход 0.6кг/м3) | AD22: ='П'!D112&" мм" -> 64 мм
Y23: ='ПТ'!B39 -> Потолок подвесной металлический типа "Грильято" 75х75х40 (цвет черный) на металлическом каркасе, группа горючести НГ | Z23: ='ПТ'!C39&" мм" -> 40 мм | AC23: =П!C113 -> Плиты теплоизоляционные LOGICPIR Пол ФЛ/ФЛ, прочность на сжатие 10% линейной деформации не менее 150 кПа, λ=0.025 Вт/м°С | AD23: =П!D113&" мм" -> 20 мм
AC24: =П!C114 -> Монолитный ж/бетон | AD24: ='П'!D114 -> по проекту
B25: Пространство за неутепленной зашивкой | X25: ='ПТ'!A160 -> ПТ-34 | Y25: ='ПТ'!B160 -> Смесь клеевая для монтажа утеплителя (Технониколь 110) | Z25: ='ПТ'!C160&" мм" -> 5 мм | AB25: =П!A191 -> П-31 | AC25: =П!C191 -> Стяжка полусухая цементно-песчаная М150, армированная фиброволокном (фибра полипропиленовая 12мм, расход 0.6кг/м3) | AD25: =П!D191&" мм" -> 40 мм
Y26: ='ПТ'!B161 -> Утеплитель минераловатный (Технониколь - ТЕХНОФАС ДЕКОР) ρ=90-110 кг/м³, предел прочности на отрыв не менее 15 кПа, λ=0,044 Вт/м°С | Z26: ='ПТ'!C161 -> по проекту | AC26: =П!C192 -> Плиты теплоизоляционные LOGICPIR Пол ФЛ/ФЛ, прочность на сжатие 10% линейной деформации не менее 150 кПа, λ=0.025 Вт/м°С | AD26: =П!D192&" мм" -> 20 мм
AC27: =П!C193 -> Монолитный ж/бетон | AD27: =П!D193 -> по проекту
A28: Тамбур МОП (второй тамбур западающей входной группы) | B28: До отметки 60 мм выше отметки низа подвесного потолка "Грильято" | C28: ='ОС'!A3 -> ОС-1 | D28: ='ОС'!B3 -> Грунтовка Бетонконтакт | E28: ='ОС'!C3 -> 1 слой | F28: ='ОС'!A144 -> ОС-53 | G28: ='ОС'!B144 -> Грунтовка Бетонконтакт | H28: ='ОС'!C144 -> 1 слой | I28: ='ОС'!A28 -> ОС-15 | J28: ='ОС'!B28 -> Грунтовка глубокого проникновения | K28: ='ОС'!C28 -> 1 слой | U28: ='ОТ'!A47 -> ОТ-25 | V28: ='ОТ'!B47 -> Грунтовка глубокого проникновения | W28: ='ОТ'!C47 -> 1 слой | X28: ='ПТ'!A147 -> ПТ-32 | Y28: ='ПТ'!B147 -> Смесь клеевая для монтажа утеплителя (Технониколь 110) | Z28: ='ПТ'!C147&" мм" -> 5 мм | AA28: нет | AB28: ='П'!A100 -> П-17 | AC28: ='П'!C100 -> Решетка грязезащитное (резина+щетка+скребок) (вес 18,1 кг/м2) | AD28: ='П'!D100&" мм" -> 20 мм | AE28: нет | AF28: нет | AG28: нет
AC29: =П!C101 -> Керамогранит с затиркой швов | AD29: =П!D101&" мм" -> 9 мм
D30: ='ОС'!B4 -> Затирка поверхности после демонтажа опалубки | E30: ='ОС'!C4&" мм" -> 2-4 мм | G30: ='ОС'!B145 -> Сплошное выравнивание смесями цементно-песчаными по сетке тканой стальной 10х10х0.8 мм | H30: ='ОС'!C145&" мм" -> до 35 мм | J30: ='ОС'!B29 -> Простая штукатурка смесями цементно-песчаными | K30: ='ОС'!C29&" мм" -> 14 мм | V30: ='ОТ'!B48 -> Керамогранит на растворе цементно-песчаном с затиркой швов, группа горючести НГ | W30: ='ОТ'!C48&" мм" -> 15* мм | Y30: ='ПТ'!B148 -> Утеплитель минераловатный (Технониколь - ТЕХНОФАС ДЕКОР) ρ=90-110 кг/м³, предел прочности на отрыв не менее 15 кПа, λ=0,044 Вт/м°С | Z30: ='ПТ'!C148&" мм" -> 150 мм | AC30: =П!C102 -> Клей плиточный водостойкий Церезит СМ 16 | AD30: =П!D102&" мм" -> 6 мм
AC31: =П!C103 -> Гидроизоляция однокомпонентная полимерная эластичная Церезит CL 51 с заведением на стены на 200 мм с прокладкой по углам водонепроницаемой ленты для герметизации швов Церезит CL 152 | AD31: ='П'!D103 -> 2 слоя
R32: ='ОС'!A46 -> ОС-24 | S32: ='ОС'!B46 -> Шпатлевка стыков ГСП с проклейкой лентой армирующей | T32: ='ОС'!C46 -> - | U32: ='ОТ'!A49 -> ОТ-26 | V32: ='ОТ'!B49 -> Грунтовка Бетонконтакт | W32: ='ОТ'!C49 -> 1 слой | AC32: =П!C104 -> Грунтовка глубокого проникновения Церезит CT 17 | AD32: =П!D104 -> 1 слой
AC33: =П!C105 -> Стяжка полусухая цементно-песчаная М150, армированная фиброволокном (фибра полипропиленовая 12мм, расход 0.6кг/м3) | AD33: ='П'!D105&" мм" -> 44 мм
V34: ='ОТ'!B50 -> Керамогранит на растворе цементно-песчаном с затиркой швов, группа горючести НГ | W34: ='ОТ'!C50&" мм" -> 15* мм | Y34: ='ПТ'!B149 -> Слой штукатурно-клеевой Технониколь 210 или аналог, армированный сеткой фасадной стеклотканевой щелочестойкой М3600 | Z34: ='ПТ'!C149&" мм" -> 10 мм | AC34: =П!C106 -> Плиты теплоизоляционные LOGICPIR Пол ФЛ/ФЛ, прочность на сжатие 10% линейной деформации не менее 150 кПа, λ=0.025 Вт/м°С | AD34: =П!D106&" мм" -> 20 мм
AC35: =П!C107 -> Монолитный ж/бетон | AD35: ='П'!D107 -> по проекту
B36: Выше отметки 60 мм от низа подвесного потолка "Грильято" | C36: ='ОС'!A3 -> ОС-1 | D36: ='ОС'!B3 -> Грунтовка Бетонконтакт | E36: ='ОС'!C3 -> 1 слой | F36: ='ОС'!A3 -> ОС-1 | G36: ='ОС'!B3 -> Грунтовка Бетонконтакт | H36: ='ОС'!C3 -> 1 слой | I36: ='ОС'!A28 -> ОС-15 | J36: ='ОС'!B28 -> Грунтовка глубокого проникновения | K36: ='ОС'!C28 -> 1 слой | R36: ='ОС'!A46 -> ОС-24 | S36: ='ОС'!B46 -> Шпатлевка стыков ГСП с проклейкой лентой армирующей | T36: ='ОС'!C46 -> - | U36: ='ОТ'!A51 -> ОТ-27 | V36: ='ОТ'!B51 -> Грунтовка под финишную отделку | W36: ='ОТ'!C51 -> 1 слой | AB36: ='П'!A108 -> П-18 | AC36: =П!C108 -> Керамогранит с затиркой швов | AD36: ='П'!D108&" мм" -> 9 мм
AC37: =П!C109 -> Клей плиточный водостойкий Церезит СМ 16 | AD37: =П!D109&" мм" -> 6 мм
Y38: ='ПТ'!B150 -> Грунтовка под финишную отделку | Z38: ='ПТ'!C150 -> 1 слой | AC38: =П!C110 -> Гидроизоляция однокомпонентная полимерная эластичная Церезит CL 51 с заведением на стены на 200 мм с прокладкой по углам водонепроницаемой ленты для герметизации швов Церезит CL 152 | AD38: ='П'!D110 -> 2 слоя
D39: ='ОС'!B4 -> Затирка поверхности после демонтажа опалубки | E39: ='ОС'!C4&" мм" -> 2-4 мм | G39: ='ОС'!B4 -> Затирка поверхности после демонтажа опалубки | H39: ='ОС'!C4&" мм" -> 2-4 мм | J39: ='ОС'!B29 -> Простая штукатурка смесями цементно-песчаными | K39: ='ОС'!C29&" мм" -> 14 мм | V39: ='ОТ'!B52 -> Простая окраска краской влагостойкой негорючей за 2 раза, группа горючести НГ | W39: ='ОТ'!C52 -> 2 слоя | Y39: ='ПТ'!B151 -> Простая окраска краской влагостойкой негорючей за 2 раза (цвет черный), группа горючести НГ | Z39: ='ПТ'!C151 -> 2 слоя | AC39: =П!C111 -> Грунтовка глубокого проникновения Церезит CT 17 | AD39: =П!D111 -> 1 слой
AC40: =П!C112 -> Стяжка полусухая цементно-песчаная М150, армированная фиброволокном (фибра полипропиленовая 12мм, расход 0.6кг/м3) | AD40: ='П'!D112&" мм" -> 64 мм
...

Sheet 3. ОТДЕЛКА АР ТИПОВЫХ ЭТАЖЕЙ
C1: ОТДЕЛКА ПОМЕЩЕНИЙ ТИПОВОГО ЭТАЖА. ВЕРСИЯ 3
A2: Место применения | C2: СТЕНЫ | AA2: ПОТОЛОК | AG2: ПОЛ
C3: Черновая отделка стен | X3: Чистовая отделка стен | AA3: Черновая / Чистовая отделка потолка | AG3: Марка покрытия | AJ3: Плинтус
C4: Наружная стеновая панель | F4: Монолитный ж/бетон | I4: Выравнивание монолитных конструкций в местах стыка со стеной из ячеистых бетонных блоков | L4: Ячеистый бетонный блок | O4: Утеплитель | R4: ПГП | U4: ГСП-А (ГСП-Н2) | X4: Марка покрытия | AA4: Монолитный ж/бетон | AD4: Плинтус
C5: МОП
A6: Отделка оконных откосов в лестничной клетке | C6: ='ОС'!A113 -> ОС-44 | D6: ='ОС'!B113 -> Грунтовка Бетонконтакт | E6: ='ОС'!C113 -> 1 слой | F6: ='ОС'!A134 -> ОС-50 | G6: ='ОС'!B134 -> Грунтовка Бетонконтакт | H6: ='ОС'!C134 -> 1 слой | L6: ='ОС'!A61 -> ОС-29 | M6: ='ОС'!B61 -> Профиль угловой ПВХ перфорированный с армирующей стеклотканевой сеткой 100х100мм, сплошное выравнивание смесями цементно-песчаными по сетке тканой стальной 10х10х0.8 мм | N6: ='ОС'!C61&" мм" -> 17-35 мм | X6: ='ОТ'!A21 -> ОТ-10 | Y6: ='ОТ'!B21 -> Грунтовка под финишную отделку | Z6: ='ОТ'!C21 -> 1 слой
D7: ='ОС'!B114 -> Профиль угловой ПВХ перфорированный с армирующей стеклотканевой сеткой 100х100мм, сплошное выравнивание смесями цементно-песчаными по сетке тканой стальной 10х10х0.8 мм | E7: ='ОС'!C114&" мм" -> 10-40 мм | G7: ='ОС'!B135 -> Профиль угловой ПВХ перфорированный с армирующей стеклотканевой сеткой 100х100мм, сплошное выравнивание смесями цементно-песчаными по сетке тканой стальной 10х10х0.8 мм | H7: ='ОС'!C135&" мм" -> 17-40 мм | Y7: ='ОТ'!B22 -> Улучшенная окраска краской водно-дисперсионной негорючей за 2 раза, группа горючести НГ | Z7: ='ОТ'!C22 -> 2 слоя
D8: ='ОС'!B115 -> Грунтовка глубокого проникновения | E8: ='ОС'!C115 -> 1 слой | G8: ='ОС'!B136 -> Грунтовка глубокого проникновения | H8: ='ОС'!C136 -> 1 слой | M8: ='ОС'!B62 -> Грунтовка глубокого проникновения | N8: ='ОС'!C62 -> 1 слой
D9: ='ОС'!B116 -> Шпатлевка поверхности на цементной основе | E9: ='ОС'!C116&" мм" -> 2 мм | G9: ='ОС'!B137 -> Шпатлевка поверхности на цементной основе | H9: ='ОС'!C137&" мм" -> 2 мм | M9: ='ОС'!B63 -> Шпатлевка поверхности на цементной основе | N9: ='ОС'!C63&" мм" -> 2 мм
A10: Отделка оконных откосов в лифтовом холле | C10: ='ОС'!A67 -> ОС-31 | D10: ='ОС'!B67 -> Грунтовка Бетонконтакт | E10: ='ОС'!C67 -> 1 слой | F10: ='ОС'!A130 -> ОС-49 | G10: ='ОС'!B130 -> Грунтовка Бетонконтакт | H10: ='ОС'!C130 -> 1 слой | L10: ='ОС'!A117 -> ОС-45 | M10: ='ОС'!B117 -> ГСП-Н2 | N10: ='ОС'!C117&" мм" -> 12,5 мм | X10: ='ОТ'!A21 -> ОТ-10 | Y10: ='ОТ'!B21 -> Грунтовка под финишную отделку | Z10: ='ОТ'!C21 -> 1 слой
D11: ='ОС'!B68 -> Профиль угловой ПВХ перфорированный с армирующей стеклотканевой сеткой 100х100мм, сплошное выравнивание смесями гипсовыми по сетке СВУ 120-2600 СП 31-111-2004 | E11: ='ОС'!C68&" мм" -> 10-40 мм | G11: ='ОС'!B131 -> Профиль угловой ПВХ перфорированный с армирующей стеклотканевой сеткой 100х100мм, сплошное выравнивание смесями гипсовыми по сетке СВУ 120-2600 СП 31-111-2004 | H11: ='ОС'!C131&" мм" -> 17-40 мм | M11: ='ОС'!B118 -> Грунтовка глубокого проникновения | N11: ='ОС'!C118 -> 1 слой
M12: ='ОС'!B119 -> Профиль угловой ПВХ перфорированный с армирующей стеклотканевой сеткой 100х100мм, сплошное выравнивание смесями гипсовыми по сетке СВУ 120-2600 СП 31-111-2004 | N12: ='ОС'!C119&" мм" -> 19 мм | Y12: ='ОТ'!B22 -> Улучшенная окраска краской водно-дисперсионной негорючей за 2 раза, группа горючести НГ | Z12: ='ОТ'!C22 -> 2 слоя
D13: ='ОС'!B69 -> Грунтовка глубокого проникновения | E13: ='ОС'!C69 -> 1 слой | G13: ='ОС'!B132 -> Грунтовка глубокого проникновения | H13: ='ОС'!C132 -> 1 слой | M13: ='ОС'!B120 -> Грунтовка глубокого проникновения | N13: ='ОС'!C120 -> 1 слой
D14: ='ОС'!B70 -> Шпатлевка поверхности на гипсовой основе | E14: ='ОС'!C70&" мм" -> 2 мм | G14: ='ОС'!B133 -> Шпатлевка поверхности на гипсовой основе | H14: ='ОС'!C133&" мм" -> 2 мм | M14: ='ОС'!B121 -> Шпатлевка поверхности на гипсовой основе | N14: ='ОС'!C121&" мм" -> 2 мм
A15: Отделка откосов двери из тамбура лифтового холла на переходной балкон | F15: ='ОС'!A153 -> ОС-56 | G15: ='ОС'!B153 -> Каркас металлический С623 (профиль ПН 28х27 и ПП 60х27) | H15: ='ОС'!C153&" мм" -> 27 мм | L15: ='ОС'!A153 -> ОС-56 | M15: ='ОС'!B153 -> Каркас металлический С623 (профиль ПН 28х27 и ПП 60х27) | N15: ='ОС'!C153&" мм" -> 27 мм | X15: ='ОТ'!A7 -> ОТ-3 | Y15: ='ОТ'!B7 -> Грунт-краска колеруемая, группа горючести НГ | Z15: ='ОТ'!C9 -> 1 слой | AJ15: =П!A361 -> ПЛН-02 | AK15: =П!C361 -> Плинтус из керамогранита h=100мм (нарезать из керамогранита отделки пола) | AL15: =П!D361&" мм" -> 8 мм
G16: ='ОС'!B154 -> ГСП-Н2 | H16: ='ОС'!C154&" мм" -> 12,5 мм | M16: ='ОС'!B154 -> ГСП-Н2 | N16: ='ОС'!C154&" мм" -> 12,5 мм
G17: ='ОС'!B155 -> Грунтовка глубокого проникновения | H17: ='ОС'!C155 -> 1 слой | M17: ='ОС'!B155 -> Грунтовка глубокого проникновения | N17: ='ОС'!C155 -> 1 слой | Y17: ='ОТ'!B8 -> Окраска краской структурной негорючей, нанесение краскопультом, группа горючести НГ | Z17: ='ОТ'!C10 -> 2 слоя
G18: ='ОС'!B156 -> Профиль углозащитный оцинкованный 25х25мм, слой штукатурно-клеевой Технониколь 210 или аналог, армированный сеткой фасадной стеклотканевой щелочестойкой М3600 | H18: ='ОС'!C156&" мм" -> 10 мм | M18: ='ОС'!B156 -> Профиль углозащитный оцинкованный 25х25мм, слой штукатурно-клеевой Технониколь 210 или аналог, армированный сеткой фасадной стеклотканевой щелочестойкой М3600 | N18: ='ОС'!C156&" мм" -> 10 мм
A19: Отделка откосов двери с переходного балкона на лестничную клетку | F19: ='ОС'!A146&" (вертикальный откос со стороны дверной ручки, горизонтальный откос)" -> ОС-55.1 (вертикальный откос со стороны дверной ручки, горизонтальный откос) | G19: ='ОС'!B146 -> Каркас металлический С623 (профиль ПН 28х27 и ПП 60х27) | H19: ='ОС'!C146&" мм" -> 27 мм | L19: ='ОС'!A146&" (вертикальный откос со стороны дверной ручки, горизонтальный откос)" -> ОС-55.1 (вертикальный откос со стороны дверной ручки, горизонтальный откос) | M19: ='ОС'!B146 -> Каркас металлический С623 (профиль ПН 28х27 и ПП 60х27) | N19: ='ОС'!C146&" мм" -> 27 мм | X19: ='ОТ'!A7 -> ОТ-3 | Y19: ='ОТ'!B7 -> Грунт-краска колеруемая, группа горючести НГ | Z19: ='ОТ'!C9 -> 1 слой | AJ19: =П!A368 -> ПЛН-10 | AK19: =П!C368 -> Покрытие негорючее защитно-декоративное моющееся, окраска низа стен h=100мм, полоса по поверхности пола, ступеней b=50мм, RAL 7040 (Серое окно) | AL19: -
G20: ='ОС'!B147 -> ГСП-Н2 | H20: ='ОС'!C147&" мм" -> 12,5 мм | M20: ='ОС'!B147 -> ГСП-Н2 | N20: ='ОС'!C147&" мм" -> 12,5 мм
G21: ='ОС'!B148 -> Грунтовка глубокого проникновения | H21: ='ОС'!C148 -> 1 слой | M21: ='ОС'!B148 -> Грунтовка глубокого проникновения | N21: ='ОС'!C148 -> 1 слой | Y21: ='ОТ'!B8 -> Окраска краской структурной негорючей, нанесение краскопультом, группа горючести НГ | Z21: ='ОТ'!C10 -> 2 слоя
G22: ='ОС'!B149 -> Профиль углозащитный оцинкованный 25х25мм, сплошное выравнивание смесями цементно-песчаными по сетке тканой стальной 10х10х0.8 мм | H22: ='ОС'!C149&" мм" -> 10 мм | M22: ='ОС'!B149 -> Профиль углозащитный оцинкованный 25х25мм, сплошное выравнивание смесями цементно-песчаными по сетке тканой стальной 10х10х0.8 мм | N22: ='ОС'!C149&" мм" -> 10 мм
F23: ='ОС'!A150&" (вертикальный откос со стороны дверных петель)" -> ОС-55.2 (вертикальный откос со стороны дверных петель) | G23: ='ОС'!B150 -> ГСП-Н2 | H23: ='ОС'!C150&" мм" -> 12,5 мм | L23: ='ОС'!A150&" (вертикальный откос со стороны дверных петель)" -> ОС-55.2 (вертикальный откос со стороны дверных петель) | M23: ='ОС'!B150 -> ГСП-Н2 | N23: ='ОС'!C150&" мм" -> 12,5 мм
G24: ='ОС'!B151 -> Грунтовка глубокого проникновения | H24: ='ОС'!C151 -> 1 слой | M24: ='ОС'!B151 -> Грунтовка глубокого проникновения | N24: ='ОС'!C151 -> 1 слой
G25: ='ОС'!B152 -> Профиль углозащитный оцинкованный 25х25мм, сплошное выравнивание смесями цементно-песчаными по сетке тканой стальной 10х10х0.8 мм | H25: ='ОС'!C152&" мм" -> 10 мм | M25: ='ОС'!B152 -> Профиль углозащитный оцинкованный 25х25мм, сплошное выравнивание смесями цементно-песчаными по сетке тканой стальной 10х10х0.8 мм | N25: ='ОС'!C152&" мм" -> 10 мм
A26: Лифтовый холл, межквартирный коридор | B26: До отметки 60 мм выше отметки низа подвесного потолка "Грильято" | C26: ='ОС'!A23 -> ОС-12 | D26: ='ОС'!B23 -> Грунтовка Бетонконтакт | E26: ='ОС'!C23 -> 1 слой | F26: ='ОС'!A40 -> ОС-21 | G26: ='ОС'!B40 -> Грунтовка Бетонконтакт | H26: ='ОС'!C40 -> 1 слой | I26: ='ОС'!A25 -> ОС-13 | J26: ='ОС'!B25 -> Грунтовка Бетонконтакт | K26: ='ОС'!C25 -> 1 слой | L26: ='ОС'!A38 -> ОС-20 | M26: ='ОС'!B38 -> Грунтовка глубокого проникновения | N26: ='ОС'!C38 -> 1 слой | R26: ='ОС'!A19 -> ОС-10 | S26: ='ОС'!B19 -> Грунтовка глубокого проникновения | T26: ='ОС'!C19 -> 1 слой | U26: ='ОС'!A19 -> ОС-10 | V26: ='ОС'!B19 -> Грунтовка глубокого проникновения | W26: ='ОС'!C19 -> 1 слой | X26: ='ОТ'!A7 -> ОТ-3 | Y26: ='ОТ'!B7 -> Грунт-краска колеруемая, группа горючести НГ | Z26: ='ОТ'!C7 -> 1 слой | AA26: ='ПТ'!A7 -> ПТ-2 | AB26: ='ПТ'!B7 -> Грунтовка Бетонконтакт | AC26: ='ПТ'!C7 -> 1 слой | AD26: нет | AE26: нет | AF26: нет | AG26: =П!A213 -> П-35 | AH26: =П!C213 -> Керамогранит с затиркой швов | AI26: =П!D213&" мм" -> 8 мм | AJ26: =П!A361 -> ПЛН-02 | AK26: =П!C361 -> Плинтус из керамогранита h=100мм (нарезать из керамогранита отделки пола) | AL26: =П!D361&" мм" -> 8 мм
AB27: ='ПТ'!B8 -> Затирка поверхности после демонтажа опалубки | AC27: ='ПТ'!C8&" мм" -> 2-4 мм | AH27: =П!C214 -> Клей плиточный водостойкий Церезит СМ 16 | AI27: =П!D214&" мм" -> 6 мм
D28: ='ОС'!B24 -> Сплошное выравнивание смесями гипсовыми | E28: ='ОС'!C24&" мм" -> 10 мм | G28: ='ОС'!B41 -> Улучшенная штукатурка смесями гипсовыми | H28: ='ОС'!C41&" мм" -> 17 мм | J28: ='ОС'!B26 -> Сплошное выравнивание смесями гипсовыми по сетке СВУ 120-2600 СП 31-111-2004 | K28: ='ОС'!C26&" мм" -> до 35 мм | M28: ='ОС'!B39 -> Улучшенная штукатурка смесями гипсовыми | N28: ='ОС'!C39&" мм" -> 17 мм | Y28: ='ОТ'!B8 -> Окраска краской структурной негорючей, нанесение краскопультом, группа горючести НГ | Z28: ='ОТ'!C8 -> 1 слой | AB28: ='ПТ'!B9 -> Грунтовка под финишную отделку | AC28: ='ПТ'!C9 -> 1 слой | AH28: =П!C215 -> Грунтовка глубокого проникновения Церезит CT 17 | AI28: =П!D215 -> 1 слой
B29: Выше отметки 60 мм от низа подвесного потолка "Грильято" | C29: ='ОС'!A3 -> ОС-1 | D29: ='ОС'!B3 -> Грунтовка Бетонконтакт | E29: ='ОС'!C3 -> 1 слой | F29: ='ОС'!A3 -> ОС-1 | G29: ='ОС'!B3 -> Грунтовка Бетонконтакт | H29: ='ОС'!C3 -> 1 слой | I29: ='ОС'!A3 -> ОС-1 | J29: ='ОС'!B3 -> Грунтовка Бетонконтакт | K29: ='ОС'!C3 -> 1 слой | L29: ='ОС'!A30 -> ОС-16 | M29: ='ОС'!B30 -> Грунтовка глубокого проникновения | N29: ='ОС'!C30 -> 1 слой | S29: ='ОС'!B20 -> Сплошное выравнивание смесями гипсовыми | T29: ='ОС'!C20&" мм" -> 10 мм | V29: ='ОС'!B20 -> Сплошное выравнивание смесями гипсовыми | W29: ='ОС'!C20&" мм" -> 10 мм | X29: ='ОТ'!A9 -> ОТ-4 | Y29: ='ОТ'!B9 -> Грунтовка под финишную отделку | Z29: ='ОТ'!C9 -> 1 слой | AB29: ='ПТ'!B10 -> Простая окраска краской водно-дисперсионной негорючей за 2 раза (цвет белый), группа горючести НГ | AC29: ='ПТ'!C10 -> 2 слоя | AH29: =П!C216 -> Стяжка полусухая цементно-песчаная М150, армированная фиброволокном (фибра полипропиленовая 12мм, расход 0.6кг/м3) | AI29: =П!D216&" мм" -> 86 мм
D30: ='ОС'!B4 -> Затирка поверхности после демонтажа опалубки | E30: ='ОС'!C4&" мм" -> 2-4 мм | G30: ='ОС'!B4 -> Затирка поверхности после демонтажа опалубки | H30: ='ОС'!C4&" мм" -> 2-4 мм | J30: ='ОС'!B4 -> Затирка поверхности после демонтажа опалубки | K30: ='ОС'!C4&" мм" -> 2-4 мм | M30: ='ОС'!B31 -> Простая штукатурка смесями гипсовыми | N30: ='ОС'!C31&" мм" -> 14 мм | Y30: ='ОТ'!B10 -> Простая окраска краской водно-дисперсионной негорючей за 2 раза, группа горючести НГ | Z30: ='ОТ'!C10 -> 2 слоя | AB30: ='ПТ'!B11 -> Потолок подвесной металлический типа "Грильято" 75х75х40 (цвет белый) на металлическом каркасе, группа горючести НГ | AC30: ='ПТ'!C12 -> 1 слой | AH30: =П!C217 -> Монолитный ж/бетон | AI30: =П!D217 -> по проекту
A31: Помещение ствола мусоропровода | F31: ='ОС'!A103 -> ОС-41 | G31: ='ОС'!B103 -> Грунтовка Бетонконтакт | H31: ='ОС'!C103 -> 1 слой | L31: ='ОС'!A91 -> ОС-38 | M31: ='ОС'!B91 -> Грунтовка глубокого проникновения | N31: ='ОС'!C91 -> 1 слой | X31: ='ОТ'!A15 -> ОТ-7 | Y31: ='ОТ'!B15 -> Грунтовка под финишную отделку | Z31: ='ОТ'!C15 -> 1 слой | AA31: ='ПТ'!A98 -> ПТ-20 | AB31: ='ПТ'!B98 -> Грунтовка Бетонконтакт | AC31: ='ПТ'!C98 -> 1 слой | AD31: нет | AE31: нет | AF31: нет | AG31: =П!A213 -> П-35 | AH31: =П!C213 -> Керамогранит с затиркой швов | AI31: =П!D213&" мм" -> 8 мм | AJ31: =П!A361 -> ПЛН-02 | AK31: =П!C361 -> Плинтус из керамогранита h=100мм (нарезать из керамогранита отделки пола) | AL31: =П!D361&" мм" -> 8 мм
AB32: ='ПТ'!B99 -> Затирка поверхности после демонтажа опалубки | AC32: ='ПТ'!C99&" мм" -> 2-4 мм | AH32: =П!C214 -> Клей плиточный водостойкий Церезит СМ 16 | AI32: =П!D214&" мм" -> 6 мм
G33: ='ОС'!B104 -> Улучшенная штукатурка смесями гипсовыми | H33: ='ОС'!C104&" мм" -> 17 мм | M33: ='ОС'!B92 -> Улучшенная штукатурка смесями гипсовыми | N33: ='ОС'!C92&" мм" -> 17 мм | AB33: ='ПТ'!B100 -> Грунтовка глубокого проникновения | AC33: ='ПТ'!C100 -> 1 слой | AH33: =П!C215 -> Грунтовка глубокого проникновения Церезит CT 17 | AI33: =П!D215 -> 1 слой
Y34: ='ОТ'!B16 -> Улучшенная окраска краской водно-дисперсионной влагостойкой за 2 раза | Z34: ='ОТ'!C16 -> 2 слоя | AB34: ='ПТ'!B101 -> Шпатлевка поверхности на гипсовой основе | AC34: ='ПТ'!C101&" мм" -> 2 мм | AH34: =П!C216 -> Стяжка полусухая цементно-песчаная М150, армированная фиброволокном (фибра полипропиленовая 12мм, расход 0.6кг/м3) | AI34: =П!D216&" мм" -> 86 мм
G35: ='ОС'!B105 -> Грунтовка глубокого проникновения | H35: ='ОС'!C105 -> 1 слой | M35: ='ОС'!B93 -> Грунтовка глубокого проникновения | N35: ='ОС'!C93 -> 1 слой | AB35: ='ПТ'!B102 -> Грунтовка под финишную отделку | AC35: ='ПТ'!C102 -> 1 слой
G36: ='ОС'!B106 -> Шпатлевка поверхности на гипсовой основе | H36: ='ОС'!C106&" мм" -> 2 мм | M36: ='ОС'!B94 -> Шпатлевка поверхности на гипсовой основе | N36: ='ОС'!C94&" мм" -> 2 мм | AB36: ='ПТ'!B103 -> Улучшенная окраска краской влагостойкой водно-дисперсионной за 2 раза | AC36: ='ПТ'!C103 -> 2 слоя | AH36: =П!C217 -> Монолитный ж/бетон | AI36: =П!D217 -> по проекту
A37: Лестничная клетка | B37: Площадка типового этажа | C37: ='ОС'!A17 -> ОС-9 | D37: ='ОС'!B17 -> Грунтовка Бетонконтакт | E37: ='ОС'!C17 -> 1 слой | F37: ='ОС'!A36 -> ОС-19 | G37: ='ОС'!B36 -> Грунтовка Бетонконтакт | H37: ='ОС'!C36 -> 1 слой | L37: ='ОС'!A34 -> ОС-18 | M37: ='ОС'!B34 -> Грунтовка глубокого проникновения | N37: ='ОС'!C34 -> 1 слой | O37: ='ОС'!A6 -> ОС-3 | P37: ='ОС'!B6 -> Слой штукатурно-клеевой Технониколь 210 или аналог, армированный сеткой фасадной стеклотканевой щелочестойкой М3600 | Q37: ='ОС'!C6&" мм" -> 10 мм | X37: ='ОТ'!A7 -> ОТ-3 | Y37: ='ОТ'!B7 -> Грунт-краска колеруемая, группа горючести НГ | Z37: ='ОТ'!C7 -> 1 слой | AA37: ='ПТ'!A17 -> ПТ-4 | AB37: ='ПТ'!B17 -> Грунтовка Бетонконтакт | AC37: ='ПТ'!C17 -> 1 слой | AD37: нет | AE37: нет | AF37: нет | AG37: ='П'!A12 -> П-3 | AH37: ='П'!C12 -> Пропитка упрочняющая и обеспыливающая | AI37: ='П'!D12 -> 1 слой | AJ37: =П!A368 -> ПЛН-10 | AK37: =П!C368 -> Покрытие негорючее защитно-декоративное моющееся, окраска низа стен h=100мм, полоса по поверхности пола, ступеней b=50мм, RAL 7040 (Серое окно) | AL37: -
AB38: ='ПТ'!B18 -> Затирка поверхности после демонтажа опалубки | AC38: ='ПТ'!C18&" мм" -> 2-4 мм | AH38: =П!C13 -> Наливной пол (цементная основа) Церезит CN 76 EXTRAHART | AI38: ='П'!D13&" мм" -> 20 мм
AB39: ='ПТ'!B19 -> Грунтовка глубокого проникновения | AC39: ='ПТ'!C19 -> 1 слой | AH39: =П!C14 -> Грунтовка глубокого проникновения Церезит CT 17 | AI39: ='П'!D14 -> 1 слой
AB40: ='ПТ'!B20 -> Шпатлевка поверхности на цементной основе | AC40: ='ПТ'!C20&" мм" -> 2 мм | AH40: =П!C15 -> Стяжка полусухая цементно-песчаная М150, армированная фиброволокном (фибра полипропиленовая 12мм, расход 0.6кг/м3) | AI40: ='П'!D15&" мм" -> 90 мм
...

Sheet 4. ОТДЕЛКА АР ТЕХ. ПР-ВА И МАШ.
C1: ОТДЕЛКА ПОМЕЩЕНИЙ ТЕХ. ПР-ВА, ЧЕРДАКА И МАШИННОГО ПОМ. ЛИФТОВ. ВЕРСИЯ 3
A2: Место применения | C2: СТЕНЫ | R2: ПОТОЛОК | V2: ПОЛ
C3: Черновая отделка стен | O3: Чистовая отделка стен | R3: Черновая / Чистовая отделка потолка | V3: Марка покрытия | Y3: Плинтус
C4: Монолитный ж/бетон / Наружная стеновая панель | F4: Кирпич | I4: Ячеистый бетонный блок | L4: Утеплитель | O4: Наименование материала | R4: Монолитный ж/бетон | U4: Плинтус
C5: ТЕХНИЧЕСКОЕ ПРОСТРАНСТВО И МАШИННОЕ ПОМЕЩЕНИЕ ЛИФТА
A6: Техническое пространство для прокладки инженерных коммуникаций, чердак | C6: ='ОС'!A3 -> ОС-1 | D6: ='ОС'!B3 -> Грунтовка Бетонконтакт | E6: ='ОС'!C3 -> 1 слой | F6: ='ОС'!A13 -> ОС-7 | G6: ='ОС'!B13 -> Грунтовка глубокого проникновения | H6: ='ОС'!C13 -> 1 слой | I6: ='ОС'!A28 -> ОС-15 | J6: ='ОС'!B28 -> Грунтовка глубокого проникновения | K6: ='ОС'!C28 -> 1 слой | O6: ='ОТ'!A29 -> ОТ-14 | P6: ='ОТ'!B29 -> Пропитка упрочняющая обеспыливающая | Q6: ='ОТ'!C29 -> 1 слой | R6: ='ПТ'!A126 -> ПТ-26 | S6: ='ПТ'!B126 -> Грунтовка Бетонконтакт | T6: ='ПТ'!C126 -> 1 слой | U6: нет | V6: ='П'!A21 -> П-5 | W6: ='П'!C21 -> Пропитка упрочняющая и обеспыливающая | X6: ='П'!D21 -> 1 слой | Y6: нет | Z6: нет
S7: ='ПТ'!B127 -> Затирка поверхности после демонтажа опалубки | T7: ='ПТ'!C127&" мм" -> 2-4 мм | W7: =П!C22 -> Стяжка полусухая цементно-песчаная М150, армированная фиброволокном (фибра полипропиленовая 12мм, расход 0.6кг/м3) | X7: ='П'!D22&" мм" -> 40 мм
W8: =П!C23 -> Пленка полиэтиленовая 200 мкр | X8: ='П'!D23 -> 1 слой
W9: =П!C24 -> Утеплитель минераловатный (Технониколь ТЕХНОФЛОР СТАНДАРТ) q=100-120 кг/м3, предел прочности на сжатие не менее 30 кПа, λ=0,044 Вт/м°С | X9: ='П'!D24&" мм" -> 50 мм
W10: =П!C25 -> Монолитный ж/бетон | X10: ='П'!D25 -> по проекту
B11: В зоне установки металлического поддона под вентиляционную шахту | D11: ='ОС'!B4 -> Затирка поверхности после демонтажа опалубки | E11: ='ОС'!C4&" мм" -> 2-4 мм | G11: ='ОС'!B14 -> Простая штукатурка смесями цементно-песчаными по сетке тканой стальной 10х10х0.8 мм | H11: ='ОС'!C14&" мм" -> 14 мм | J11: ='ОС'!B29 -> Простая штукатурка смесями цементно-песчаными | K11: ='ОС'!C29&" мм" -> 14 мм | S11: ='ПТ'!B128 -> Пропитка упрочняющая обеспыливающая | T11: ='ПТ'!C128 -> 1 слой | V11: =П!A278 -> П-47 | W11: =П!C278 -> Гидроизоляция 2й слой (Технониколь Техноэласт ЭКП), масса 1 м2 ≥5,25 кг, теплостойкость ≥100°С с заведением на бортик кирпича | X11: =П!D278 -> 1 слой
W12: =П!C279 -> Гидроизоляция 1й слой (Технониколь Техноэласт ФИКС П ЭМП), масса 1 м2 ≥4,0 кг, теплостойкость ≥100°С с заведением на бортик кирпича | X12: =П!D279 -> 1 слой
W13: =П!C280 -> Стяжка полусухая цементно-песчаная М150, армированная фиброволокном (фибра полипропиленовая 12мм, расход 0.6кг/м3) | X13: =П!D280&" мм" -> 43 мм
W14: =П!C281 -> Пленка полиэтиленовая 200 мкр | X14: =П!D281 -> 1 слой
W15: =П!C282 -> Утеплитель минераловатный (Технониколь ТЕХНОФЛОР СТАНДАРТ) q=100-120 кг/м3, предел прочности на сжатие не менее 30 кПа, λ=0,044 Вт/м°С | X15: =П!D282&" мм" -> 50 мм
W16: =П!C283 -> Монолитный ж/бетон | X16: =П!D283 -> по проекту
A17: Эксплуатируемые технические ниши | C17: ='ОС'!A3 -> ОС-1 | D17: ='ОС'!B3 -> Грунтовка Бетонконтакт | E17: ='ОС'!C3 -> 1 слой | F17: ='ОС'!A13 -> ОС-7 | G17: ='ОС'!B13 -> Грунтовка глубокого проникновения | H17: ='ОС'!C13 -> 1 слой | I17: ='ОС'!A28 -> ОС-15 | J17: ='ОС'!B28 -> Грунтовка глубокого проникновения | K17: ='ОС'!C28 -> 1 слой | O17: ='ОТ'!A29 -> ОТ-14 | P17: ='ОТ'!B29 -> Пропитка упрочняющая обеспыливающая | Q17: ='ОТ'!C29 -> 1 слой | R17: ='ПТ'!A140 -> ПТ-30 | S17: ='ПТ'!B140 -> Пропитка упрочняющая обеспыливающая | T17: ='ПТ'!C140 -> 1 слой | U17: нет | V17: ='П'!A21 -> П-5 | W17: ='П'!C21 -> Пропитка упрочняющая и обеспыливающая | X17: ='П'!D21 -> 1 слой | Y17: нет | Z17: нет
W18: =П!C22 -> Стяжка полусухая цементно-песчаная М150, армированная фиброволокном (фибра полипропиленовая 12мм, расход 0.6кг/м3) | X18: ='П'!D22&" мм" -> 40 мм
D19: ='ОС'!B4 -> Затирка поверхности после демонтажа опалубки | E19: ='ОС'!C4&" мм" -> 2-4 мм | G19: ='ОС'!B14 -> Простая штукатурка смесями цементно-песчаными по сетке тканой стальной 10х10х0.8 мм | H19: ='ОС'!C14&" мм" -> 14 мм | J19: ='ОС'!B29 -> Простая штукатурка смесями цементно-песчаными | K19: ='ОС'!C29&" мм" -> 14 мм | W19: =П!C23 -> Пленка полиэтиленовая 200 мкр | X19: ='П'!D23 -> 1 слой
W20: =П!C24 -> Утеплитель минераловатный (Технониколь ТЕХНОФЛОР СТАНДАРТ) q=100-120 кг/м3, предел прочности на сжатие не менее 30 кПа, λ=0,044 Вт/м°С | X20: ='П'!D24&" мм" -> 50 мм
W21: =П!C25 -> Монолитный ж/бетон | X21: ='П'!D25 -> по проекту
A22: Машинное помещение лифтов, помещение СС (на кровле) | C22: ='ОС'!A3 -> ОС-1 | D22: ='ОС'!B3 -> Грунтовка Бетонконтакт | E22: ='ОС'!C3 -> 1 слой | F22: ='ОС'!A13 -> ОС-7 | G22: ='ОС'!B13 -> Грунтовка глубокого проникновения | H22: ='ОС'!C13 -> 1 слой | I22: ='ОС'!A28 -> ОС-15 | J22: ='ОС'!B28 -> Грунтовка глубокого проникновения | K22: ='ОС'!C28 -> 1 слой | O22: ='ОТ'!A11 -> ОТ-5 | P22: ='ОТ'!B11 -> Грунтовка под финишную отделку | Q22: ='ОТ'!C11 -> 1 слой | R22: ='ПТ'!A23 -> ПТ-5 | S22: ='ПТ'!B23 -> Грунтовка Бетонконтакт | T22: ='ПТ'!C23 -> 1 слой | U22: нет | V22: =П!A275 -> П-46 | W22: =П!C275 -> Пропитка упрочняющая и обеспыливающая | X22: =П!D275 -> 1 слой | Y22: нет | Z22: нет
S23: ='ПТ'!B24 -> Затирка поверхности после демонтажа опалубки | T23: ='ПТ'!C24&" мм" -> 2-4 мм | W23: =П!C276 -> Стяжка полусухая цементно-песчаная М150, армированная фиброволокном (фибра полипропиленовая 12мм, расход 0.6кг/м3) | X23: =П!D276&" мм" -> 50 мм
D24: ='ОС'!B4 -> Затирка поверхности после демонтажа опалубки | E24: ='ОС'!C4&" мм" -> 2-4 мм | G24: ='ОС'!B14 -> Простая штукатурка смесями цементно-песчаными по сетке тканой стальной 10х10х0.8 мм | H24: ='ОС'!C14&" мм" -> 14 мм | J24: ='ОС'!B29 -> Простая штукатурка смесями цементно-песчаными | K24: ='ОС'!C29&" мм" -> 14 мм | P24: ='ОТ'!B12 -> Простая окраска краской водно-дисперсионной за 2 раза | Q24: ='ОТ'!C12 -> 2 слоя | S24: ='ПТ'!B25 -> Грунтовка под финишную отделку | T24: ='ПТ'!C25 -> 1 слой
S25: ='ПТ'!B26 -> Простая окраска краской водно-дисперсионной за 2 раза | T25: ='ПТ'!C26 -> 2 слоя | W25: =П!C277 -> Монолитный ж/бетон | X25: =П!D277 -> по проекту
A26: Лестничная клетка (жилая часть) | B26: Междуэтажная лестничная площадка, площадка лестницы перед выходом на кровлю | C26: ='ОС'!A36 -> ОС-19 | D26: ='ОС'!B36 -> Грунтовка Бетонконтакт | E26: ='ОС'!C36 -> 1 слой | F26: ='ОС'!A15 -> ОС-8 | G26: ='ОС'!B15 -> Грунтовка глубокого проникновения | H26: ='ОС'!C15 -> 1 слой | I26: ='ОС'!A34 -> ОС-18 | J26: ='ОС'!B34 -> Грунтовка глубокого проникновения | K26: ='ОС'!C34 -> 1 слой | L26: ='ОС'!A6 -> ОС-3 | M26: ='ОС'!B6 -> Слой штукатурно-клеевой Технониколь 210 или аналог, армированный сеткой фасадной стеклотканевой щелочестойкой М3600 | N26: ='ОС'!C6&" мм" -> 10 мм | O26: ='ОТ'!A7 -> ОТ-3 | P26: ='ОТ'!B7 -> Грунт-краска колеруемая, группа горючести НГ | Q26: ='ОТ'!C7 -> 1 слой | R26: ='ПТ'!A17 -> ПТ-4 | S26: ='ПТ'!B17 -> Грунтовка Бетонконтакт | T26: ='ПТ'!C17 -> 1 слой | U26: нет | V26: ='П'!A17 -> П-4 | W26: ='П'!C17 -> Пропитка упрочняющая и обеспыливающая | X26: ='П'!D17 -> 1 слой | Y26: =П!A368 -> ПЛН-10 | Z26: =П!C368 -> Покрытие негорючее защитно-декоративное моющееся, окраска низа стен h=100мм, полоса по поверхности пола, ступеней b=50мм, RAL 7040 (Серое окно)
S27: ='ПТ'!B18 -> Затирка поверхности после демонтажа опалубки | T27: ='ПТ'!C18&" мм" -> 2-4 мм | W27: =П!C18 -> Пол наливной (цементная основа) Церезит CN 76 EXTRAHART | X27: ='П'!D18&" мм" -> 20 мм
S28: ='ПТ'!B19 -> Грунтовка глубокого проникновения | T28: ='ПТ'!C19 -> 1 слой
S29: ='ПТ'!B20 -> Шпатлевка поверхности на цементной основе | T29: ='ПТ'!C20&" мм" -> 2 мм | W29: ='П'!C19 -> Грунтовка Бетоноконтакт Церезит CT 19 | X29: ='П'!D19 -> 1 слой
S30: ='ПТ'!B21 -> Грунтовка под финишную отделку | T30: ='ПТ'!C21 -> 1 слой
S31: ='ПТ'!B22 -> Улучшенная окраска краской водно-дисперсионной негорючей за 2 раза, группа горючести НГ | T31: ='ПТ'!C22 -> 2 слоя | W31: ='П'!C20 -> Монолитный ж/бетон | X31: ='П'!D20 -> по проекту
B32: Лестничные марши | D32: ='ОС'!B37 -> Улучшенная штукатурка смесями цементно-песчаными | E32: ='ОС'!C37&" мм" -> 17 мм | G32: ='ОС'!B16 -> Улучшенная штукатурка смесями цементно-песчаными по сетке тканой стальной 10х10х0.8 мм | H32: ='ОС'!C16&" мм" -> 17 мм | J32: ='ОС'!B35 -> Улучшенная штукатурка смесями цементно-песчаными | K32: ='ОС'!C35&" мм" -> 17 мм | P32: ='ОТ'!B8 -> Окраска краской структурной негорючей, нанесение краскопультом, группа горючести НГ | Q32: ='ОТ'!C8 -> 1 слой | R32: ='ПТ'!A58 -> ПТ-11 | S32: ='ПТ'!B58 -> Грунтовка Бетонконтакт | T32: ='ПТ'!C58 -> 1 слой | U32: нет | V32: ='П'!A26 -> П-6 | W32: ='П'!C26 -> Пропитка упрочняющая и обеспыливающая | X32: ='П'!D26 -> 1 слой
S33: ='ПТ'!B59 -> Шпатлевка поверхности на цементной основе | T33: ='ПТ'!C59&" мм" -> 2 мм
