Workbook

Sheet Лист изменений
A1: Дата | B1: Место применения | C1: Марка | D1: Содержание изменения
A2: 2022 г.
A3: 44847 | B3: Для всех видов отделки | D3: Указания класса пожарной опасности заменено на указание группы горючести (в соответствии с изменениями в 123-ФЗ)
A4: 44847 | B4: Для всех видов отделки | D4: Грунтовка под финишный слой отделки перенесена в раздел Чистовой отделки стен
A5: 44847 | B5: Для всех видов отделки | D5: Указано количество слоев для всех грунтовок и красок
A6: 44847 | B6: Потолок | D6: Исключено указание класса пожарной опасности подвесных потолков типа Грильято
A7: 44847 | B7: ОТДЕЛКА АР ПОДЗЕМНОГО ЭТАЖА: АВТОСТОЯНКА: Лифтовый холл, тамбур-шлюз (при лифтовом холле), Лестничная клетка (площадка подземного этажа, междуэтажная площадка, лестничный марш), Отделка дверных откосов лифтового холла, тамбур-шлюза, лестничной клетки | C7: ОТ-3 | D7: Исключена Шпатлевка на цементной основе с последующей Грунтовкой акрилового глубокого проникновения под отделку Структурной краской. Изменено название чистового слоя отделки: Текстурная краска заменена на Структурную негорючую краску
A8: 44847 | B8: ОТДЕЛКА АР ПОДЗЕМНОГО ЭТАЖА: ИНЖЕНЕРНЫЕ И ТЕХНИЧЕСКИЕ ПОМЕЩЕНИЯ | D8: Добавлены новые места применения: Приямки ВК и Эксплуатируемые технические ниши, назначена отделка
A9: 44847 | B9: ОТДЕЛКА АР ПОДЗЕМНОГО ЭТАЖА: ИНЖЕНЕРНЫЕ И ТЕХНИЧЕСКИЕ ПОМЕЩЕНИЯ: Помещение ИТП и ВНС, венткамера ПД, венткамера автостоянки, насосная АПТ, расположенные под помещениями БКТ (Ф3.5, Ф4.3) и ОДС | D9: Указания об устройстве звукоизоляционной общивке стен перенесены в Альбом строительных конструкций и материалов. Внутренние ненесущие стены и перегородки ЖД-ТАС-РЕН-АР-ВК.С
A10: 44847 | B10: ОТДЕЛКА АР ПОДЗЕМНОГО ЭТАЖА: АВТОСТОЯНКА: Отделка откосов проемов в наружных стенах, Помещение хранения автомобилей, Рампа | C10: ОТ-1, ОТ-2 | D10: Для указанных помещений в соответствии с новой версией Каталога отделочных материалов и оборудования название финишного чистового слоя отделки изменено на Простая окраска влагостойкой негорючей краской за 2 раза, группа горючести НГ
A11: 44847 | B11: ОТДЕЛКА АР ПОДЗЕМНОГО ЭТАЖА: ИНЖЕНЕРНЫЕ И ТЕХНИЧЕСКИЕ ПОМЕЩЕНИЯ: Приямки лифтовых шахт | C11: ОТ-14 | D11: Упрочняющая и обеспыливающая пропитка перенесена в раздел Чистовой отделки стен
A12: 44847 | B12: ОТДЕЛКА АР ПОДЗЕМНОГО ЭТАЖА: АВТОСТОЯНКА: Рампа | C12: ПТ-1 | D12: Грунтовка под финишную отделку заменена на Грунтовку силикатную
A13: 44847 | B13: ОТДЕЛКА АР ПОДЗЕМНОГО ЭТАЖА: АВТОСТОЯНКА | D13: Место применния Отделка торцов и нижней поверхности лестничных маршей эвакуационных лестниц из подземного этажа с назначеной отделкой ПТ-4 перенесено из раздела первого этажа в раздел подземного этажа
A14: 44847 | B14: ОТДЕЛКА АР 1 ЭТАЖА: МОП: Тамбур, Вестибюль, Колясочная ИНЖЕНЕРНЫЕ И ТЕХНИЧЕСКИЕ ПОМЕЩЕНИЯ: Тамбур мусоросборной камеры | D14: Исключена чистовая отделка керамогранитом по основанию Утеплитель. Для указанных помещений должна применяться зашивка утеплителя листами ГСП--Н2 согласно Альбома строительных конструкций и материалов. Внутренние ненесущие стены и перегородки ЖД-ТАС-РЕН-АР-ВК.С
A15: 44847 | B15: ОТДЕЛКА АР 1 ЭТАЖА: МОП: Помещение консьержа | D15: Исключена Шпатлевка на гипсовой основе с последующей Грунтовкой акрилового глубокого проникновения под отделку Структурной краской. Изменено название чистового слоя отделки: Текстурная краска заменена на Структурную негорючую краску
A16: 44847 | B16: ОТДЕЛКА АР 1 ЭТАЖА: МОП: Лестничная клетка (эвакуационная лестница из подземного этажа), Лестничная клетка (жилая часть) | D16: Исключена Шпатлевка на цементной основе с последующей Грунтовкой акрилового глубокого проникновения под отделку Структурной краской. Изменено название чистового слоя отделки: Текстурная краска заменена на Структурную негорючую краску
A17: 44847 | B17: ОТДЕЛКА АР 1 ЭТАЖА: МОП, ПОМЕЩЕНИЕ ОХРАНЫ ОТДЕЛКА АР ТИПОВЫХ ЭТАЖЕЙ: МОП, КВАРТИРЫ | D17: Толщина штукатурки по основанию Ячеистый бетонный блок под окраску и оклейку обоями увеличена с 17 мм до 20 мм
A18: 44847 | B18: ОТДЕЛКА АР 1 ЭТАЖА: ИНЖЕНЕРНЫЕ И ТЕХНИЧЕСКИЕ ПОМЕЩЕНИЯ | D18: Добавлено место применения Отделка дверного откоса в мусоросборной камере. Назначена отделка ОС-25 + ОТ-7
A19: 44847 | B19: ОТДЕЛКА АР 1 ЭТАЖА: ИНЖЕНЕРНЫЕ И ТЕХНИЧЕСКИЕ ПОМЕЩЕНИЯ | D19: Добавлены места применения: техническое пространство для прокладки инженерных коммуникаций, эксплуатируемые технические ниши, назначена отделка
A20: 44847 | B20: ОТДЕЛКА АР 1 ЭТАЖА: МОП, ПОМЕЩЕНИЕ ОХРАНЫ ОТДЕЛКА АР ТИПОВЫХ ЭТАЖЕЙ: МОП, КВАРТИРЫ | D20: Для основания ГКЛ/ГВЛВ под окраску и оклейку предусмотрено сплошное выравнивание гипсовыми смесями толщиной 10 мм.
A21: 44847 | B21: ОТДЕЛКА АР 1 ЭТАЖА: ОДС, ЦИН | D21: Для сухих помещений в соответствии с новой версией Каталога отделочных материалов и оборудования название финишного чистового слоя отделки изменено на Улучшенная окраска водно-дисперсионной краской за 2 раза, группа горючести Г1
A22: 44847 | B22: ОТДЕЛКА АР 1 ЭТАЖА: ЦИН | D22: Название места применения Детская зона изменено на Зона ожидания с детским уголком
A23: 44847 | B23: ОТДЕЛКА АР 1 ЭТАЖА | D23: Добавлен подраздел СТАНЦИЯ МОНИТОРИНГА НЕСУЩИХ КОНСТРУКЦИЙ И ИНЖЕНЕРНЫХ СИСТЕМ
A24: 44847 | B24: ОТДЕЛКА АР ТИПОВЫХ ЭТАЖЕЙ | D24: Разделены основания ПГП и ГКЛ (ГКЛВ) / ГВЛВ
... A29: 44847 | B29: ОТДЕЛКА АР ТИПОВЫХ ЭТАЖЕЙ: КВАРТИРЫ: Жилая комната, Холл, Кухня | D29: Отделка потолка с окраской заменена устройством натяжного потолка с предварительной обоработкой упрочняющей и обеспыливающей пропиткой
A30: 44887 | B30: Потолок | C30: ПТ-9 | D30: Откорретирован состав марки: к шпатлевке на цементной основе добавлено указание о проклейке стыков армирующей лентой
A31: 44887 | B31: Потолок | C31: ПТ-18 | D31: Откорретирован состав марки: к шпатлевке на гипсовой основе добавлено указание о проклейке стыков армирующей лентой
A32: 44887 | B32: Потолок | C32: ПТ-27 | D32: Добавлен новый тип потолка для тамбура переходного балкона на типовых этажах, в новой марке добавлено утепление
A33: 44887 | B33: ОТДЕЛКА АР ТИПОВЫХ ЭТАЖЕЙ: МОП: Тамбур | D33: Марка применяемого потолка изменена с ПТ-2 на ПТ-27
A34: 44887 | B34: Назначена отделка по основанию Кирпич ОС-40 | C34: ПТ-28 | D34: Добавлен новый тип потолка для зашивки перекидок под потолком помещений БКТ
A35: 44894 | B35: Полы | C35: П-48 | D35: Добавлен новый тип пола для тамбура переходного балкона на типовых этажах, в новой марке добавлено утепление
A36: 44894 | B36: Полы | C36: П-35 | D36: Из места применения исключен тамбур переходного балкона
A37: 44894 | B37: Полы | C37: П-49 | D37: Добавлен новый тип пола в месте устройства пандуса на перепаде полов для подземного этажа без автостоянки
A38: 44894 | B38: Плинтус напольный | C38: ПЛН-1 | D38: Добавлено место применения П-48
A39: 44894 | B39: ОТДЕЛКА АР ТИПОВЫХ ЭТАЖЕЙ: МОП: Тамбур | D39: Марка применяемого пола изменена с П-35 на П-48
A40: 44894 | B40: Черновая отделка стен | C40: ОС-31 | D40: Изменена толщина сплошного выравнивания гипсовыми смесями: с 10 мм на 10-40 мм согласно узлам отделки откосов ЖД-ТАС-РЕН-АИ-ТУ, добавлена сетка СВУ 120-2600 СП 31-111-2004
A41: 44894 | B41: Черновая отделка стен | C41: ОС-32 | D41: Изменена толщина сплошного выравнивания гипсовыми смесями: с 17-60 мм на 20-60 мм
A42: 44894 | B42: ОТДЕЛКА АР ТИПОВЫХ ЭТАЖЕЙ: МОП: Отделка оконных откосов в лифтовом холле | D42: Назначена отделка оконных откосов по основанию Монолитный ж/бетон / Наружная стеновая панель, марка ОС-31
A43: 44894 | B43: Черновая отделка стен | C43: ОС-44 | D43: Добавлен новый тип отделки откосов, со сплошным выравниванием на цементной основе 10-40 мм
A44: 44894 | B44: ОТДЕЛКА АР ТИПОВЫХ ЭТАЖЕЙ: МОП: Отделка оконных откосов в лестничной клетке | D44: Назначена отделка оконных откосов по основанию Монолитный ж/бетон / Наружная стеновая панель, марка ОС-44
A45: 44894 | B45: Черновая отделка стен | C45: ОС-34 | D45: Добавлен лист ГСП-Н2 12,5 мм, изменена толщина сплошного выравнивания гипсовыми смесями: с 20-60 мм на 20-50 мм согласно узлам отделки откосов ЖД-ТАС-РЕН-АИ-ТУ
A46: 44894 | B46: ОТДЕЛКА АР ТИПОВЫХ ЭТАЖЕЙ: КВАРТИРЫ: Отделка оконных и балконных откосов | D46: Отделка оконных и балконных откосов разделена на две независимые позиции
A47: 44894 | B47: Для всех видов отделки | D47: Основание Ячеистый газобетонный блок исправлено на Ячеистый бетонный блок
A48: 44894 | B48: ОТДЕЛКА АР ТИПОВЫХ ЭТАЖЕЙ: КВАРТИРЫ: Отделка балконных откосов | D48: Назначена отделка балконных откосов: черновая по основанию Ячеистый бетонный блок - марка ОС-33, чистовая - марка ОТ-8
A49: 44894 | B49: Черновая отделка стен | C49: ОС-45 | D49: Добавлен новый тип отделки откосов, лист ГСП-Н2 12,5 мм, сплошное выравнивания гипсовыми смесями 20-25 мм согласно узлам отделки откосов ЖД-ТАС-РЕН-АР-ТУ.ТЭ
A50: 44894 | B50: ОТДЕЛКА АР ТИПОВЫХ ЭТАЖЕЙ: КВАРТИРЫ: Отделка оконных откосов | D50: Назначена отделка оконных откосов по основанию Ячеистый бетонный блок, марка ОС-45
A51: 44894 | B51: ОТДЕЛКА АР ТИПОВЫХ ЭТАЖЕЙ: МОП: Отделка оконных откосов в лифтовом холле | D51: Назначена отделка оконных откосов по основанию Ячеистый бетонный блок, марка ОС-45
A52: 44894 | B52: Черновая отделка стен | C52: ОС-29 | D52: Добавлен лист ГСП-Н2 12,5 мм, изменена толщина штукатурки цементно-песчаными смесями: с 20-35 мм на 20-25 мм согласно узлам отделки откосов ЖД-ТАС-РЕН-АИ-ТУ
A53: 44922 | B53: Черновая отделка стен | C53: ОС-46 | D53: Добавлен новый тип отделки с улучшенной штукатуркой гипсовыми смесями по сетке СВУ 120-2600 СП 31-111-2004
A54: 44922 | B54: ОТДЕЛКА АР 1 ЭТАЖА: ЦИН: Помещение приема пищи | D54: Назначена отделка по основанию Кирпич ОС-40
A55: 44922 | B55: ОТДЕЛКА АР 1 ЭТАЖА: ЦИН: Помещение приема пищи, Фартук кухни h=600 мм от столешницы | D55: Назначена отделка по основанию Кирпич ОС-46
A56: 44922 | B56: Потолок | C56: ПТ-7, ПТ-10, ПТ-13, ПТ-14, ПТ-15, ПТ-25, ПТ-27 | D56: В состав отделки включен слой Клеевая смесь для монтажа утеплителя (Технониколь 110) толщиной 5 мм
A57: 44922 | B57: Потолок | C57: ПТ-29 | D57: Добавлен новый тип отделки, включающий подвесной кассетный потолок для отделки козырьков входных групп МОП
A58: 03-04.2023 г.
A59: 45002 | B59: ОТДЕЛКА АР ТИПОВЫХ ЭТАЖЕЙ | D59: Для типовых этажей разделены основания Наружная стеновая панель и Монолитный ж/б бетон
A60: 45002 | B60: Черновая отделка стен | C60: ОС-47, ОС-48, ОС-49, ОС-50, ОС-51, ОС-52 | D60: Добавлены новые типы отделки
A61: 45002 | B61: Чистовая отделка стен | C61: ОТ-30, ОТ-31 | D61: Добавлен новый тип отделки
A62: 45002 | B62: ОТДЕЛКА АР ТИПОВЫХ ЭТАЖЕЙ: МОП: Лестничная клетка | D62: Назначена отделка ОС-47 по основанию Монолитный ж/б бетон
A63: 45002 | B63: ОТДЕЛКА АР ТИПОВЫХ ЭТАЖЕЙ: МОП: Лифтовый холл, межквартирный коридор | D63: Назначена отделка ОС-48 по основанию Монолитный ж/б бетон и Выравнивание монолитных конструкций в местах стыка со стеной из ячеистых бетонных блоков
A64: 45002 | B64: ОТДЕЛКА АР ТИПОВЫХ ЭТАЖЕЙ: МОП: Отделка оконных откосов в лифтовом холле | D64: Назначена отделка ОС-49 по основанию Монолитный ж/б бетон
A65: 45002 | B65: ОТДЕЛКА АР ТИПОВЫХ ЭТАЖЕЙ: МОП: Отделка оконных откосов в лестничной клетке | D65: Назначена отделка ОС-50 по основанию Монолитный ж/б бетон
A66: 45002 | B66: ОТДЕЛКА АР ПОДЗЕМНОГО ЭТАЖА: ИНЖЕНЕРНЫЕ И ТЕХНИЧЕСКИЕ ПОМЕЩЕНИЯ: Помещение для размещения вторичных узлов учета тепла, тепловой узел, электрощитовая и ВРУ автостоянки, тамбур-шлюз (технических помещений) | D66: Место применения разделено на Электрощитовая и ВРУ автостоянки, тамбур-шлюз (технических помещений) и Помещение для размещения вторичных узлов учета тепла, тепловой узел
A67: 45002 | B67: ОТДЕЛКА АР ПОДЗЕМНОГО ЭТАЖА: ИНЖЕНЕРНЫЕ И ТЕХНИЧЕСКИЕ ПОМЕЩЕНИЯ: Электрощитовая и ВРУ автостоянки, тамбур-шлюз (технических помещений) | D67: Назначен пол П-11
A68: 45002 | B68: ОТДЕЛКА АР 1 ЭТАЖА: ЦИН: ПУИ, выше 2,04 м (стена без оборудования от отм. пола) до отм. 60мм выше отметки низа реечного потолка | D68: Назначен плинтус ПЛН-02
A69: 45002 | B69: ОТДЕЛКА АР ПОДЗЕМНОГО, 1, ТИПОВЫХ ЭТАЖЕЙ: МОП: Лестничная клетка, торцы лестничных маршей, этажных и междуэтажных площадок | D69: Назначена отделка ОС-51, ОТ-30
A70: 45002 | B70: ОТДЕЛКА АР 1 ЭТАЖА: МОП: Помещение консьержа ПОМЕЩЕНИЕ ОХРАНЫ: Помещение охраны | D70: Сплошное выравнивание гипсовыми смесями заменено (ОС-10) на Шпатлевка поверхности на гипсовой основе (с проклейкой стыков армирующей лентой) (ОС-23)
A71: 45002 | B71: ОТДЕЛКА АР 1 ЭТАЖА: ИНЖЕНЕРНЫЕ И ТЕХНИЧЕСКИЕ ПОМЕЩЕНИЯ: Отделка дверного откоса в мусоросборной камере | D71: Назначена отделка по основанию Ячеистый бетонный блок ОС-7; чистовая отделка с улучшенной окраской (ОТ-7) заменена на простую окраску (ОТ-6)
A72: 45002 | B72: ОТДЕЛКА АР 1 ЭТАЖА: ПОМЕЩЕНИЕ ОХРАНЫ: С/у охраны ОДС: ПУИ, универсальный с/у ОДС, с/у персонала ЦИН: ПУИ, универсальный с/у | D72: Назначена простая штукатурка цементно-песчаными смесями (ОС-15, ОС-52) вместо улучшенной (ОС-18, ОС-27)
A73: 45002 | B73: Чистовая отделка стен | C73: ОТ-13 | D73: Исключено указание окраски обоев в 1 слой
A74: 45002 | B74: Потолок | C74: ПТ-19 | D74: Исключена затирка за реечным потолком
A75: 45002 | B75: Потолок | D75: Откорректирована толщина затирки поверхности после демонтажа опалубки с 4 мм на 2-4 мм
A76: 45002 | B76: Черновая отделка стен | D76: Откорректирована толщина затирки поверхности после демонтажа опалубки с 4 мм на 2-4 мм
A77: 45002 | B77: Потолок | C77: ПТ-6 | D77: Шпатлевка с проклейкой армирующей ленты по швам стыка ГКЛ заменена на Шпатлевка стыков ГКЛ/ГВЛВ с проклейкой армирующей лентой
A78: 45002 | B78: ОТДЕЛКА АР 1 ЭТАЖА: ЦИН: ПУИ, универсальный с/у | D78: Назначен тип пола П-23 (вместо П-26)
A79: 45002 | B79: Потолок | C79: ПТ-30 | D79: Добавлен новый тип отделки потолка (упрочняющая и обеспыливающая пропитка)
A80: 45002 | B80: ОТДЕЛКА АР ПОДЗЕМНОГО, 1, ТИПОВЫХ ЭТАЖЕЙ: ИНЖЕНЕРНЫЕ И ТЕХНИЧЕСКИЕ ПОМЕЩЕНИЯ: Эксплуатируемые технические ниши | D80: Отделка потолка заменена на ПТ-30
A81: 45002 | B81: ОТДЕЛКА АР 1 ЭТАЖА: МОП: Отделка откосов проемов в наружных стенах | D81: Место применения разделено на Отделка откосов проемов в наружных стенах: Вестибюль, колясочная и Отделка откосов проемов в наружных стенах: Помещение консьержа
A82: 45002 | B82: ОТДЕЛКА АР 1 ЭТАЖА: МОП: Отделка откосов проемов в наружных стенах,помещение консьержа | D82: Назначена чистовая отделка ОТ-7
A83: 45002 | B83: ОТДЕЛКА АР 1 ЭТАЖА: ОДС, ЦИН | D83: Добавлены места применения Отделка откосов проемов в наружных стенах ОДС и Отделка откосов проемов в наружных стенах ЦИН, назначены черновая отделка ОС-32, ОС-34 и чистовая отделка ОТ-31
A84: 45021 | B84: Черновая отделка стен | D84: Добавлены новые виды черновой отделки ОС-53, ОС-54
A85: 45021 | B85: ОТДЕЛКА АР 1 ЭТАЖА | D85: Добавлено основание Выравнивание монолитных конструкций в местах стыка со стеной из ячеистых бетонных блоков, назначены типы отделки ОС-13, ОС-42, ОС-53, ОС-54
A86: 45021 | B86: ОТДЕЛКА АР 1 ЭТАЖА: Электрощитовые жилой и нежилой части | D86: Назначена отделка ниже уровня фальшпола: пропитка упрочняющая обеспыливающая (ОТ-14)
A87: 45021 | B87: ОТДЕЛКА АР ТИПОВЫХ ЭТАЖЕЙ: | D87: Откорректировано название основания: ГСП-А (ГСП-Н2) / ГВЛВ (за исключением шкаф-пакетов типов 1, 2, 3)
A88: 45043 | B88: Потолок | C88: ПТ-6, ПТ-7, ПТ-10, ПТ-13, ПТ-14, ПТ-25, ПТ-27, ПТ-28, ПТ-29 | D88: Откорректировны формулировки в описании слоев конструкций (без именения применяемых материалов и толщины слоев)
A89: 07.2023 г.
A90: 45127 | B90: Изменения мест применения
A91: 45127 | B91: ОТДЕЛКА АР 1 ЭТАЖА: Лестничная клетка (жилая часть) | D91: По замечанию МФР разделены места применения торцы междуэтажных площадок и торцы лестничных маршей. Отделка торцов лестничных маршей оставлена без изменений, для торцов междуэтажных площадок назначена отделка ОС-26 (со слоем затирки)
A92: 45127 | B92: ОТДЕЛКА АР ТИПОВЫХ ЭТАЖЕЙ: Лестничная клетка | D92: По замечанию МФР разделены места применения торцы этажных и междуэтажных площадок и торцы лестничных маршей. Отделка торцов лестничных маршей оставлена без изменений, для торцов этажных и междуэтажных площадок назначена отделка ОС-26 (со слоем затирки)
A93: 45127 | B93: ОТДЕЛКА АР ТИПОВЫХ ЭТАЖЕЙ: Холл. встроенный шкаф | D93: Название места применения Холл изменено на Холл, встроенный шкаф
A94: 45127 | B94: ОТДЕЛКА АР ТИПОВЫХ ЭТАЖЕЙ | D94: Добавлено место применения Холл, встроенный шкаф: Шкаф-пакет
A95: 45127 | B95: ОТДЕЛКА АР 1 ЭТАЖА | D95: Добавлены места применения Тамбур БКТ (без отделки), Сухие помещения БКТ (без отделки): Зашивки перекидок коммуникаций под потолком
A96: 45127 | B96: ОТДЕЛКА ПОМЕЩЕНИЙ ТЕХ. ПР-ВА, ЧЕРДАКА И МАШИННОГО ПОМ. ЛИФТОВ | D96: Добавлены места применения Отделка дверных откосов технического пространства для прокладки инженерных коммуникаций, чердака и Отделка дверных откосов машинного помещения лифтов, помещения СС (на кровле), Лестничная клетка (жилая часть)
A97: 45127 | B97: ОТДЕЛКА АР 1 ЭТАЖА | D97: Добавлено место применения Лестничная клетка (лестница в техническое пространство для прокладки инженерных коммуникаций), назначены марки отделки
A98: 45127 | B98: ОТДЕЛКА АР 1 ЭТАЖА ЦИН Тамбур ЦИН, Место администратора, Информационная зона, Рабочая зона специалистов, Зона службы охраны, Зона ожидания ОДС Тамбур ОДС, Сухие помещения ОДС (кроме серверной) | D98: Добавлено место применения Зашивка инженерных коммуникаций под потолком
A99: 45127 | B99: ОТДЕЛКА АР ПОДЗЕМНОГО ЭТАЖА Тамбур-шлюз (технических помещений), Электрощитовая и ВРУ автостоянки | D99: Разделены места применения Тамбур-шлюз (технических помещений) и Электрощитовая и ВРУ автостоянки: по требованию МФР в помещениях назначен разный тип пола и плинтуса
A100: 45127 | B100: ОТДЕЛКА АР ПОДЗЕМНОГО ЭТАЖА Лифтовый холл, тамбур-шлюз (при лифтовом холле) - до отметки 60мм выше отметки низа подвесного потолка "Грильято", Лестничная клетка ОТДЕЛКА АР 1 ЭТАЖА Лестничная клетка (эвакуационная лестница из подземного этажа), Лестничная клетка (жилая часть) ОТДЕЛКА АР ТИПОВЫХ ЭТАЖЕЙ Лестничная клетка | D100: По основанию монолитный ж/б назначена марка черновой отделки ОС-19 (улучшенная штукатурка 17 мм).
A101: 45127 | B101: ОТДЕЛКА АР ТИПОВЫХ ЭТАЖЕЙ Лифтовый холл, межквартирный коридор - до отметки 60мм выше отметки низа подвесного потолка "Грильято" | D101: По основанию монолитный ж/б назначена марка черновой отделки ОС-21 (улучшенная штукатурка 17 мм).
A102: 45127 | B102: ОТДЕЛКА АР ТИПОВЫХ ЭТАЖЕЙ Помещение ствола мусоропровода | D102: По основанию монолитный ж/б назначена марка черновой отделки ОС-41 (улучшенная штукатурка 17 мм, шпатлевка).
A103: 45127 | B103: Изменения оснований под отделку
A104: 45127 | B104: ОТДЕЛКА АР ПОДЗЕМНОГО ЭТАЖА | D104: Добавлено новое основание под отделку Выравнивание монолитных конструкций в местах стыка со стеной из кирпича, назначены типы отделки
...

Sheet 1. ОТДЕЛКА АР ПОДЗЕМНОГО ЭТАЖА
C1: ОТДЕЛКА ПОМЕЩЕНИЙ ПОДЗЕМНОГО ЭТАЖА. ВЕРСИЯ 3
A2: Место применения | C2: СТЕНЫ | U2: ПОТОЛОК | Y2: ПОЛ
C3: Черновая отделка стен | R3: Чистовая отделка стен | U3: Черновая / Чистовая отделка потолка | Y3: Марка покрытия | AB3: Плинтус
C4: Монолитный ж/бетон | F4: Выравнивание монолитных конструкций в местах стыка со стеной из кирпича | I4: Кирпич | L4: Утеплитель | O4: ГСП-А (ГСП-Н2) | R4: Марка материала | U4: Монолитный ж/бетон | X4: Плинтус
C5: АВТОСТОЯНКА
A6: Отделка откосов проемов в наружных стенах | C6: ='ОС'!A7 -> ОС-4 | D6: ='ОС'!B7 -> Грунтовка Бетонконтакт | E6: ='ОС'!C7 -> 1 слой | R6: ='ОТ'!A3 -> ОТ-1 | S6: ='ОТ'!B3 -> Грунтовка под финишную отделку | T6: ='ОТ'!C3 -> 1 слой
D7: ='ОС'!B8 -> Профиль углозащитный оцинкованный 25х25мм, сплошное выравнивание смесями цементно-песчаными по сетке тканой стальной 10х10х0.8 мм | E7: ='ОС'!C8&" мм" -> 10 мм | S7: ='ОТ'!B4 -> Простая окраска краской влагостойкой за 2 раза, группа горючести Г1 | T7: ='ОТ'!C4 -> 2 слоя
A8: Помещение автостоянки, зона размещения теплового узла, расположенного в помещение автостоянки под секциями жилой части здания | B8: Основное пространство | C8: ='ОС'!A3 -> ОС-1 | D8: ='ОС'!B3 -> Грунтовка Бетонконтакт | E8: ='ОС'!C3 -> 1 слой | F8: ='ОС'!A144 -> ОС-53 | G8: ='ОС'!B144 -> Грунтовка Бетонконтакт | H8: ='ОС'!C144 -> 1 слой | I8: ='ОС'!A13 -> ОС-7 | J8: ='ОС'!B13 -> Грунтовка глубокого проникновения | K8: ='ОС'!C13 -> 1 слой | R8: ='ОТ'!A3 -> ОТ-1 | S8: ='ОТ'!B3 -> Грунтовка под финишную отделку | T8: ='ОТ'!C3 -> 1 слой | U8: ='ПТ'!A3 -> ПТ-1 | V8: ='ПТ'!B3 -> Грунтовка Бетонконтакт | W8: ='ПТ'!C3 -> 1 слой | X8: нет | Y8: ='П'!A28&" / "&'П'!A32 -> П-7.1 / П-7.2 | Z8: ='П'!C28 -> Система покрытия ТН-ПОЛ ТАЙКОР Кварц: - Эмаль TAIKOR Top 425 - 2 слоя (Колеруется в RAL-7030) - Засыпка кварцевым песком. Фракции: 0,5 мм; 0,1-0,63 мм - Грунт TAIKOR Primer 150 - 2 слоя | AA8: ='П'!D28 -> 1 слой | AB8: нет | AC8: нет | AD8: нет
S9: ='ОТ'!B4 -> Простая окраска краской влагостойкой за 2 раза, группа горючести Г1 | T9: ='ОТ'!C4 -> 2 слоя | V9: ='ПТ'!B4 -> Затирка поверхности после демонтажа опалубки | W9: ='ПТ'!C4&" мм" -> 2-4 мм | Z9: =П!C29 -> Стяжка бетонная В15, F100, W4, армированная сеткой 5Вр1 с ячейкой 100х100 по уклону с прорезкой усадочных швов | AA9: ='П'!D29&" мм / "&'П'!D33&" мм" -> 98-148 мм / 148 мм
B10: Область входа в жилой дом (акцентные стены) | D10: ='ОС'!B4 -> Затирка поверхности после демонтажа опалубки | E10: ='ОС'!C4&" мм" -> 2-4 мм | G10: ='ОС'!B145 -> Сплошное выравнивание смесями цементно-песчаными по сетке тканой стальной 10х10х0.8 мм | H10: ='ОС'!C145&" мм" -> до 35 мм | J10: ='ОС'!B14 -> Простая штукатурка смесями цементно-песчаными по сетке тканой стальной 10х10х0.8 мм | K10: ='ОС'!C14&" мм" -> 14 мм | R10: ='ОТ'!A5 -> ОТ-2 | S10: ='ОТ'!B5 -> Грунтовка под финишную отделку | T10: ='ОТ'!C5 -> 1 слой | V10: ='ПТ'!B5 -> Грунтовка под финишную отделку | W10: ='ПТ'!C5 -> 1 слой | Z10: =П!C30 -> Система покрытия ТН-ПОЛ ТАЙКОР Барьер: - Покрытие TAIKOR Elastic 300 с заведением на стены на 200 мм - 2 слоя - Грунт TAIKOR Primer 210 с заведением на стены на 200 мм - 1 слой - Подливка выбоин до 30 мм составом Sika grout 316, 5% от площади пола | AA10: ='П'!D30 -> 1 слой
S11: ='ОТ'!B6 -> Простая окраска краской влагостойкой за 2 раза, группа горючести Г1 (акцентная) | T11: ='ОТ'!C6 -> 2 слоя | V11: ='ПТ'!B6 -> Простая окраска краской влагостойкой за 2 раза, группа горючести Г1 | W11: ='ПТ'!C6 -> 2 слоя | Z11: =П!C31 -> Монолитный ж/бетон | AA11: =П!D31 -> по проекту
A12: Рампа | B12: Проезжая часть | C12: ='ОС'!A3 -> ОС-1 | D12: ='ОС'!B3 -> Грунтовка Бетонконтакт | E12: ='ОС'!C3 -> 1 слой | F12: ='ОС'!A144 -> ОС-53 | G12: ='ОС'!B144 -> Грунтовка Бетонконтакт | H12: ='ОС'!C144 -> 1 слой | I12: ='ОС'!A13 -> ОС-7 | J12: ='ОС'!B13 -> Грунтовка глубокого проникновения | K12: ='ОС'!C13 -> 1 слой | L12: ='ОС'!A6 -> ОС-3 | M12: ='ОС'!B6 -> Слой штукатурно-клеевой Технониколь 210 или аналог, армированный сеткой фасадной стеклотканевой щелочестойкой М3600 | N12: ='ОС'!C6&" мм" -> 10 мм | R12: ='ОТ'!A3 -> ОТ-1 | S12: ='ОТ'!B3 -> Грунтовка под финишную отделку | T12: ='ОТ'!C3 -> 1 слой | U12: ='ПТ'!A3 -> ПТ-1 | V12: ='ПТ'!B3 -> Грунтовка Бетонконтакт | W12: ='ПТ'!C3 -> 1 слой | X12: нет | Y12: ='П'!A36&" / "&'П'!A40&" / "&'П'!A44 -> П-8.1 / П-8.2 / П-8.3 | Z12: ='П'!C36 -> Система покрытия ТН-ПОЛ ТАЙКОР Кварц усиленная: - Эмаль TAIKOR Top 425 - 2 слоя (Колеруется в RAL -7030) - Засыпка кварцевым песком. Фракции: 0,5 мм; 0,1-0,63 мм - Грунт TAIKOR Primer 150 - 1 слой - Засыпка кварцевым песком. Фракции: 0,5 мм; 0,1-0,63 мм - Грунт TAIKOR Primer 150 - 2 слоя | AA12: ='П'!D36 -> 1 слой | AB12: нет | AC12: нет | AD12: нет
Z13: =П!C37 -> Стяжка бетонная В15, F100, W4, армированная сеткой 5Вр1 с ячейкой 100х100 по уклону с прорезкой усадочных швов | AA13: ='П'!D37&" мм / "&'П'!D41&" мм / "&'П'!D45&" мм" -> 97-147 мм / 97 мм / 147 мм
Z14: =П!C38 -> Система покрытия ТН-ПОЛ ТАЙКОР Барьер: - Покрытие TAIKOR Elastic 300 с заведением на стены на 200 мм - 2 слоя - Грунт TAIKOR Primer 210 с заведением на стены на 200 мм - 1 слой - Подливка выбоин до 30 мм составом Sika grout 316, 5% от площади пола | AA14: ='П'!D38 -> 1 слой
V15: ='ПТ'!B4 -> Затирка поверхности после демонтажа опалубки | W15: ='ПТ'!C4&" мм" -> 2-4 мм | Z15: =П!C39 -> Монолитный ж/бетон | AA15: =П!D39 -> по проекту
B16: Пешеходная зона | Y16: ='П'!A48&" / "&'П'!A53&" / "&'П'!A58 -> П-9.1 / П-9.2 / П-9.3 | Z16: ='П'!C48 -> Система покрытия ТН-ПОЛ ТАЙКОР Кварц: - Эмаль TAIKOR Top 425 - 2 слоя (Колеруется в RAL -7030) - Засыпка кварцевым песком. Фракции: 0,5 мм; 0,1-0,63 мм - Грунт TAIKOR Primer 150 - 2 слоя | AA16: ='П'!D48 -> 1 слой
Z17: =П!C49 -> Стяжка бетонная В15, F100, W4, армированная сеткой 5Вр1 с ячейкой 100х100 с прорезкой усадочных швов | AA17: ='П'!D49&" мм" -> 98 мм
Z18: =П!C50 -> Гравий керамзитовый фр. 10-20 мм, П25, М250, пропит. цем. молочком | AA18: ='П'!D50&" мм / "&'П'!D55&" мм / "&'П'!D60&" мм" -> 100-150 мм / 100 мм / 150 мм
D19: ='ОС'!B4 -> Затирка поверхности после демонтажа опалубки | E19: ='ОС'!C4&" мм" -> 2-4 мм | G19: ='ОС'!B145 -> Сплошное выравнивание смесями цементно-песчаными по сетке тканой стальной 10х10х0.8 мм | H19: ='ОС'!C145&" мм" -> до 35 мм | J19: ='ОС'!B14 -> Простая штукатурка смесями цементно-песчаными по сетке тканой стальной 10х10х0.8 мм | K19: ='ОС'!C14&" мм" -> 14 мм | S19: ='ОТ'!B4 -> Простая окраска краской влагостойкой за 2 раза, группа горючести Г1 | T19: ='ОТ'!C4 -> 2 слоя | V19: ='ПТ'!B5 -> Грунтовка под финишную отделку | W19: ='ПТ'!C5 -> 1 слой | Z19: =П!C51 -> Система покрытия ТН-ПОЛ ТАЙКОР Барьер: - Покрытие TAIKOR Elastic 300 с заведением на стены на 200 мм - 2 слоя - Грунт TAIKOR Primer 210 с заведением на стены на 200 мм - 1 слой - Подливка выбоин до 30 мм составом Sika grout 316, 5% от площади пола | AA19: ='П'!D51 -> 1 слой
Z20: =П!C52 -> Монолитный ж/бетон | AA20: =П!D52 -> по проекту
B21: Зона въезда/выезда | Y21: ='П'!A63 -> П-10 | Z21: ='П'!C63 -> Система покрытия ТН-ПОЛ ТАЙКОР Кварц усиленная: - Эмаль TAIKOR Top 425 - 2 слоя (Колеруется в RAL -7030) - Засыпка кварцевым песком. Фракции: 0,5 мм; 0,1-0,63 мм - Грунт TAIKOR Primer 150 - 1 слой - Засыпка кварцевым песком. Фракции: 0,5 мм; 0,1-0,63 мм - Грунт TAIKOR Primer 150 - 2 слоя | AA21: ='П'!D63 -> 1 слой
V22: ='ПТ'!B6 -> Простая окраска краской влагостойкой за 2 раза, группа горючести Г1 | W22: ='ПТ'!C6 -> 2 слоя | Z22: =П!C64 -> Стяжка бетонная В15, F100, W4, армированная сеткой 5Вр1 с ячейкой 100х100 с прорезкой усадочных швов | AA22: ='П'!D64&" мм" -> 98 мм
Z23: =П!C65 -> Пенополистирол экструдированный (Технониколь CARBON SOLID 500), прочность на сжатие 10% линейной деформации не менее 0,5 мПа, λ=0,036 Вт/м°С | AA23: =П!D65&" мм" -> 50 мм
Z24: =П!C66 -> Система покрытия ТН-ПОЛ ТАЙКОР Барьер: - Покрытие TAIKOR Elastic 300 с заведением на стены на 200 мм - 2 слоя - Грунт TAIKOR Primer 210 с заведением на стены на 200 мм - 1 слой - Подливка выбоин до 30 мм составом Sika grout 316, 5% от площади пола | AA24: ='П'!D66 -> 1 слой
Z25: =П!C67 -> Монолитный ж/бетон | AA25: =П!D67 -> по проекту
A26: Универсальный с/у | B26: До уровня подвесного потолка | C26: ='ОС'!A3 -> ОС-1 | D26: ='ОС'!B3 -> Грунтовка Бетонконтакт | E26: ='ОС'!C3 -> 1 слой | F26: ='ОС'!A144 -> ОС-53 | G26: ='ОС'!B144 -> Грунтовка Бетонконтакт | H26: ='ОС'!C144 -> 1 слой | I26: ='ОС'!A13 -> ОС-7 | J26: ='ОС'!B13 -> Грунтовка глубокого проникновения | K26: ='ОС'!C13 -> 1 слой | R26: ='ОТ'!A30 -> ОТ-15 | S26: ='ОТ'!B30 -> Грунтовка глубокого проникновения | T26: ='ОТ'!C30 -> 1 слой | U26: ='ПТ'!A45 -> ПТ-9 | V26: ='ПТ'!B45 -> Каркас металлический П 113 (профиль ПН 28х27 и ПП 60х27) | W26: ='ПТ'!C45&" мм" -> 27 мм | X26: нет | Y26: =П!A344 -> П-56 | Z26: =П!C344 -> Керамогранит с затиркой швов | AA26: =П!D344&" мм" -> 9 мм | AB26: нет | AC26: нет | AD26: нет
D27: ='ОС'!B4 -> Затирка поверхности после демонтажа опалубки | E27: ='ОС'!C4&" мм" -> 2-4 мм | G27: ='ОС'!B145 -> Сплошное выравнивание смесями цементно-песчаными по сетке тканой стальной 10х10х0.8 мм | H27: ='ОС'!C145&" мм" -> до 35 мм | J27: ='ОС'!B14 -> Простая штукатурка смесями цементно-песчаными по сетке тканой стальной 10х10х0.8 мм | K27: ='ОС'!C14&" мм" -> 14 мм | S27: ='ОТ'!B31 -> Керамическая плитка на растворе цементно-песчаном с затиркой швов | T27: ='ОТ'!C31&" мм" -> 12* мм | V27: ='ПТ'!B46 -> ГСП-Н2 | W27: ='ПТ'!C46&" мм" -> 12,5 мм | Z27: =П!C345 -> Клей плиточный водостойкий Церезит СМ 16 | AA27: =П!D345&" мм" -> 6 мм
O28: ='ОС'!A46 -> ОС-24 | P28: ='ОС'!B46 -> Шпатлевка стыков ГСП с проклейкой лентой армирующей | Q28: ='ОС'!C46 -> - | R28: ='ОТ'!A32 -> ОТ-16 | S28: ='ОТ'!B32 -> Грунтовка Бетонконтакт | T28: ='ОТ'!C32 -> 1 слой | V28: ='ПТ'!B47 -> Грунтовка глубокого проникновения | W28: ='ПТ'!C47 -> 1 слой | Z28: =П!C346 -> Гидроизоляция цементная Церезит CR 65 WATERPROOF с заведением на стены на 200 мм с прокладкой по углам водонепроницаемой ленты для герметизации швов Церезит CL 152 | AA28: =П!D346 -> 2 слоя
V29: ='ПТ'!B48 -> Шпатлевка поверхности на цементной основе (с проклейкой стыков лентой армирующей) | W29: ='ПТ'!C48&" мм" -> 2 мм | Z29: =П!C347 -> Стяжка полусухая цементно-песчаная М150, армированная фиброволокном (фибра полипропиленовая 12мм, расход 0.6кг/м3) | AA29: =П!D347&" мм" -> 42 мм
V30: ='ПТ'!B49 -> Грунтовка под финишную отделку | W30: ='ПТ'!C49 -> 1 слой | Z30: =П!C347 -> Стяжка полусухая цементно-песчаная М150, армированная фиброволокном (фибра полипропиленовая 12мм, расход 0.6кг/м3) | AA30: =П!D347 -> 42
B31: Выше уровня подвесного потолка | Z31: =П!C348 -> Пленка пароизоляционная армированная | AA31: =П!D348 -> 1 слой
V32: ='ПТ'!B50 -> Улучшенная окраска краской влагостойкой водно-дисперсионной за 2 раза | W32: ='ПТ'!C50 -> 2 слоя | Z32: =П!C349 -> Гравий керамзитовый фр. 10-20 мм, П25, М250 | AA32: =П!D349&" мм" -> 90 мм
Z33: =П!C350 -> Монолитный ж/бетон | AA33: =П!D350 -> по проекту
A34: Лифтовый холл, тамбур-шлюз (при лифтовом холле) | B34: До отметки 60мм выше отметки низа подвесного потолка "Грильято" | C34: ='ОС'!A36 -> ОС-19 | D34: ='ОС'!B36 -> Грунтовка Бетонконтакт | E34: ='ОС'!C36 -> 1 слой | F34: ='ОС'!A47 -> ОС-25 | G34: ='ОС'!B47 -> Грунтовка Бетонконтакт | H34: ='ОС'!C47 -> 1 слой | I34: ='ОС'!A15 -> ОС-8 | J34: ='ОС'!B15 -> Грунтовка глубокого проникновения | K34: ='ОС'!C15 -> 1 слой | L34: ='ОС'!A6 -> ОС-3 | M34: ='ОС'!B6 -> Слой штукатурно-клеевой Технониколь 210 или аналог, армированный сеткой фасадной стеклотканевой щелочестойкой М3600 | N34: ='ОС'!C6&" мм" -> 10 мм | R34: ='ОТ'!A7 -> ОТ-3 | S34: ='ОТ'!B7 -> Грунт-краска колеруемая, группа горючести НГ | T34: ='ОТ'!C7 -> 1 слой | U34: ='ПТ'!A7 -> ПТ-2 | V34: ='ПТ'!B7 -> Грунтовка Бетонконтакт | W34: ='ПТ'!C7 -> 1 слой | X34: нет | Y34: ='П'!A80 -> П-13 | Z34: ='П'!C80 -> Керамогранит с затиркой швов | AA34: ='П'!D80&" мм" -> 8 мм | AB34: =П!A361 -> ПЛН-02 | AC34: =П!C361 -> Плинтус из керамогранита h=100мм (нарезать из керамогранита отделки пола) | AD34: =П!D361&" мм" -> 8 мм
V35: ='ПТ'!B8 -> Затирка поверхности после демонтажа опалубки | W35: ='ПТ'!C8&" мм" -> 2-4 мм | Z35: =П!C81 -> Клей плиточный водостойкий Церезит СМ 16 | AA35: =П!D81&" мм" -> 6 мм
D36: ='ОС'!B37 -> Улучшенная штукатурка смесями цементно-песчаными | E36: ='ОС'!C37&" мм" -> 17 мм | G36: ='ОС'!B48 -> Сплошное выравнивание смесями цементно-песчаными по сетке тканой стальной 10х10х0.8 мм | H36: ='ОС'!C48&" мм" -> до 35 мм | J36: ='ОС'!B16 -> Улучшенная штукатурка смесями цементно-песчаными по сетке тканой стальной 10х10х0.8 мм | K36: ='ОС'!C16&" мм" -> 17 мм | S36: ='ОТ'!B8 -> Окраска краской структурной негорючей, нанесение краскопультом, группа горючести НГ | T36: ='ОТ'!C8 -> 1 слой | V36: ='ПТ'!B9 -> Грунтовка под финишную отделку | W36: ='ПТ'!C9 -> 1 слой | Z36: =П!C82 -> Грунтовка глубокого проникновения Церезит CT 17 | AA36: ='П'!D82 -> 1 слой
V37: ='ПТ'!B10 -> Простая окраска краской водно-дисперсионной негорючей за 2 раза (цвет белый), группа горючести НГ | W37: ='ПТ'!C10 -> 2 слоя | Z37: =П!C83 -> Стяжка полусухая цементно-песчаная М150, армированная фиброволокном (фибра полипропиленовая 12мм, расход 0.6кг/м3) | AA37: ='П'!D83&" мм" -> 51 мм
B38: Выше отметки 60мм от низа подвестного потолка "Грильято" | C38: ='ОС'!A3 -> ОС-1 | D38: ='ОС'!B3 -> Грунтовка Бетонконтакт | E38: ='ОС'!C3 -> 1 слой | F38: ='ОС'!A3 -> ОС-1 | G38: ='ОС'!B3 -> Грунтовка Бетонконтакт | H38: ='ОС'!C3 -> 1 слой | I38: ='ОС'!A13 -> ОС-7 | J38: ='ОС'!B13 -> Грунтовка глубокого проникновения | K38: ='ОС'!C13 -> 1 слой | R38: ='ОТ'!A9 -> ОТ-4 | S38: ='ОТ'!B9 -> Грунтовка под финишную отделку | T38: ='ОТ'!C9 -> 1 слой | Z38: =П!C84 -> Пленка пароизоляционная армированная | AA38: ='П'!D84 -> 1 слой
D39: ='ОС'!B4 -> Затирка поверхности после демонтажа опалубки | E39: ='ОС'!C4&" мм" -> 2-4 мм | G39: ='ОС'!B4 -> Затирка поверхности после демонтажа опалубки | H39: ='ОС'!C4&" мм" -> 2-4 мм | J39: ='ОС'!B14 -> Простая штукатурка смесями цементно-песчаными по сетке тканой стальной 10х10х0.8 мм | K39: ='ОС'!C14&" мм" -> 14 мм | S39: ='ОТ'!B10 -> Простая окраска краской водно-дисперсионной негорючей за 2 раза, группа горючести НГ | T39: ='ОТ'!C10 -> 2 слоя | V39: ='ПТ'!B11 -> Потолок подвесной металлический типа "Грильято" 75х75х40 (цвет белый) на металлическом каркасе, группа горючести НГ | W39: ='ПТ'!C11&" мм" -> 40 мм | Z39: =П!C85 -> Гравий керамзитовый фр. 10-20 мм, П25, М250 | AA39: ='П'!D85&" мм" -> 85 мм
Z40: =П!C86 -> Монолитный ж/бетон | AA40: ='П'!D86 -> по проекту
A41: Лестничная клетка | B41: Площадка подземного этажа | C41: ='ОС'!A36 -> ОС-19 | D41: ='ОС'!B36 -> Грунтовка Бетонконтакт | E41: ='ОС'!C36 -> 1 слой | F41: ='ОС'!A47 -> ОС-25 | G41: ='ОС'!B47 -> Грунтовка Бетонконтакт | H41: ='ОС'!C47 -> 1 слой | I41: ='ОС'!A15 -> ОС-8 | J41: ='ОС'!B15 -> Грунтовка глубокого проникновения | K41: ='ОС'!C15 -> 1 слой | L41: ='ОС'!A6 -> ОС-3 | M41: ='ОС'!B6 -> Слой штукатурно-клеевой Технониколь 210 или аналог, армированный сеткой фасадной стеклотканевой щелочестойкой М3600 | N41: ='ОС'!C6&" мм" -> 10 мм | R41: ='ОТ'!A7 -> ОТ-3 | S41: ='ОТ'!B7 -> Грунт-краска колеруемая, группа горючести НГ | T41: ='ОТ'!C7 -> 1 слой | U41: ='ПТ'!A17 -> ПТ-4 | V41: ='ПТ'!B17 -> Грунтовка Бетонконтакт | W41: ='ПТ'!C17 -> 1 слой | X41: нет | Y41: ='П'!A3 -> П-1 | Z41: ='П'!C3 -> Керамогранит с затиркой швов | AA41: ='П'!D3&" мм" -> 8 мм | AB41: =П!A361 -> ПЛН-02 | AC41: =П!C361 -> Плинтус из керамогранита h=100мм (нарезать из керамогранита отделки пола) | AD41: =П!D361&" мм" -> 8 мм
Z42: =П!C4 -> Клей плиточный водостойкий Церезит СМ 16 | AA42: =П!D4&" мм" -> 6 мм
Z43: =П!C5 -> Грунтовка глубокого проникновения Церезит CT 17 | AA43: ='П'!D5 -> 1 слой
V44: ='ПТ'!B18 -> Затирка поверхности после демонтажа опалубки | W44: ='ПТ'!C18&" мм" -> 2-4 мм | Z44: =П!C6 -> Стяжка полусухая цементно-песчаная М150, армированная фиброволокном (фибра полипропиленовая 12мм, расход 0.6кг/м3) | AA44: ='П'!D6&" мм" -> 96 мм
V45: ='ПТ'!B19 -> Грунтовка глубокого проникновения | W45: ='ПТ'!C19 -> 1 слой | Z45: =П!C7 -> Монолитный ж/бетон | AA45: ='П'!D7 -> по проекту
B46: Междуэтажная лестничная площадка, лестничные марши | D46: ='ОС'!B37 -> Улучшенная штукатурка смесями цементно-песчаными | E46: ='ОС'!C37&" мм" -> 17 мм | G46: ='ОС'!B48 -> Сплошное выравнивание смесями цементно-песчаными по сетке тканой стальной 10х10х0.8 мм | H46: ='ОС'!C48&" мм" -> до 35 мм | J46: ='ОС'!B16 -> Улучшенная штукатурка смесями цементно-песчаными по сетке тканой стальной 10х10х0.8 мм | K46: ='ОС'!C16&" мм" -> 17 мм | S46: ='ОТ'!B8 -> Окраска краской структурной негорючей, нанесение краскопультом, группа горючести НГ | T46: ='ОТ'!C8 -> 1 слой | V46: ='ПТ'!B20 -> Шпатлевка поверхности на цементной основе | W46: ='ПТ'!C20&" мм" -> 2 мм | Y46: ='П'!A8 -> П-2 | Z46: =П!C8 -> Керамогранит с затиркой швов | AA46: ='П'!D8&" мм" -> 8 мм
V47: ='ПТ'!B21 -> Грунтовка под финишную отделку | W47: ='ПТ'!C21 -> 1 слой | Z47: =П!C9 -> Клей плиточный водостойкий Церезит СМ 16 | AA47: =П!D9&" мм" -> 6 мм
Z48: ='П'!C10 -> Смесь ремонтная Церезит CD 24 | AA48: ='П'!D10&" мм" -> 6 мм
V49: ='ПТ'!B22 -> Улучшенная окраска краской водно-дисперсионной негорючей за 2 раза, группа горючести НГ | W49: ='ПТ'!C22 -> 2 слоя | Z49: =П!C11 -> Монолитный ж/бетон | AA49: ='П'!D11 -> по проекту
B50: Торцы лестничных маршей, этажных и междуэтажных лестничных площадок | C50: ='ОС'!A49 -> ОС-26 | D50: ='ОС'!B49 -> Грунтовка Бетонконтакт | E50: ='ОС'!C49 -> 1 слой | R50: ='ОТ'!A21 -> ОТ-10 | S50: ='ОТ'!B21 -> Грунтовка под финишную отделку | T50: ='ОТ'!C21 -> 1 слой
D51: ='ОС'!B50 -> Затирка поверхности после демонтажа опалубки | E51: ='ОС'!C50&" мм" -> 2-4 мм
D52: ='ОС'!B51 -> Грунтовка глубокого проникновения | E52: ='ОС'!C51 -> 1 слой | S52: ='ОТ'!B22 -> Улучшенная окраска краской водно-дисперсионной негорючей за 2 раза, группа горючести НГ | T52: ='ОТ'!C22 -> 2 слоя
D53: ='ОС'!B52 -> Шпатлевка поверхности на цементной основе | E53: ='ОС'!C52&" мм" -> 2 мм
A54: Отделка дверных откосов лифтового холла, тамбур-шлюза, лестничной клетки | C54: ='ОС'!A164 -> ОС-60 | D54: ='ОС'!B164 -> Грунтовка Бетонконтакт | E54: ='ОС'!C164 -> 1 слой | I54: ='ОС'!A11 -> ОС-6 | J54: ='ОС'!B11 -> Грунтовка глубокого проникновения | K54: ='ОС'!C11 -> 1 слой | R54: ='ОТ'!A7 -> ОТ-3 | S54: ='ОТ'!B7 -> Грунт-краска колеруемая, группа горючести НГ | T54: ='ОТ'!C7 -> 1 слой
D55: ='ОС'!B165 -> Профиль углозащитный оцинкованный 25х25мм, улучшенная штукатурка смесями цементно-песчаными по сетке тканой стальной 10х10х0.8 мм | E55: ='ОС'!C165&" мм" -> 17 мм | J55: ='ОС'!B12 -> Профиль углозащитный оцинкованный 25х25мм, улучшенная штукатурка смесями цементно-песчаными по сетке тканой стальной 10х10х0.8 мм | K55: ='ОС'!C12&" мм" -> 17 мм | S55: ='ОТ'!B8 -> Окраска краской структурной негорючей, нанесение краскопультом, группа горючести НГ | T55: ='ОТ'!C8 -> 1 слой
C56: ИНЖЕНЕРНЫЕ И ТЕХНИЧЕСКИЕ ПОМЕЩЕНИЯ
A57: Отделка дверных откосов технических помещений | C57: ='ОС'!A7 -> ОС-4 | D57: ='ОС'!B7 -> Грунтовка Бетонконтакт | E57: ='ОС'!C7 -> 1 слой | I57: ='ОС'!A9 -> ОС-5 | J57: ='ОС'!B9 -> Грунтовка глубокого проникновения | K57: ='ОС'!C9 -> 1 слой | R57: ='ОТ'!A11 -> ОТ-5 | S57: ='ОТ'!B11 -> Грунтовка под финишную отделку | T57: ='ОТ'!C11 -> 1 слой
D58: ='ОС'!B8 -> Профиль углозащитный оцинкованный 25х25мм, сплошное выравнивание смесями цементно-песчаными по сетке тканой стальной 10х10х0.8 мм | E58: ='ОС'!C8&" мм" -> 10 мм | J58: ='ОС'!B10 -> Профиль углозащитный оцинкованный 25х25мм, простая штукатурка смесями цементно-песчаными по сетке тканой стальной 10х10х0.8 мм | K58: ='ОС'!C10&" мм" -> 14 мм | S58: ='ОТ'!B12 -> Простая окраска краской водно-дисперсионной за 2 раза | T58: ='ОТ'!C12 -> 2 слоя
A59: Отделка откосов технического пространства для прокладки инженерных коммуникаций (для объектов без подземного паркинга) | C59: ='ОС'!A3 -> ОС-1 | D59: ='ОС'!B3 -> Грунтовка Бетонконтакт | E59: ='ОС'!C3 -> 1 слой | I59: ='ОС'!A9 -> ОС-5 | J59: ='ОС'!B9 -> Грунтовка глубокого проникновения | K59: ='ОС'!C9 -> 1 слой | R59: ='ОТ'!A29 -> ОТ-14 | S59: ='ОТ'!B29 -> Пропитка упрочняющая обеспыливающая | T59: ='ОТ'!C29 -> 1 слой
D60: ='ОС'!B4 -> Затирка поверхности после демонтажа опалубки | E60: ='ОС'!C4&" мм" -> 2-4 мм | J60: ='ОС'!B10 -> Профиль углозащитный оцинкованный 25х25мм, простая штукатурка смесями цементно-песчаными по сетке тканой стальной 10х10х0.8 мм | K60: ='ОС'!C10&" мм" -> 14 мм
A61: Помещение ИТП и ВНС, водомерный узел, венткамера ПД, венткамера автостоянки, насосная АПТ, помещение уборочной техники | B61: Выше 1,8м | C61: ='ОС'!A3 -> ОС-1 | D61: ='ОС'!B3 -> Грунтовка Бетонконтакт | E61: ='ОС'!C3 -> 1 слой | F61: ='ОС'!A144 -> ОС-53 | G61: ='ОС'!B144 -> Грунтовка Бетонконтакт | H61: ='ОС'!C144 -> 1 слой | I61: ='ОС'!A13 -> ОС-7 | J61: ='ОС'!B13 -> Грунтовка глубокого проникновения | K61: ='ОС'!C13 -> 1 слой | R61: ='ОТ'!A11 -> ОТ-5 | S61: ='ОТ'!B11 -> Грунтовка под финишную отделку | T61: ='ОТ'!C11 -> 1 слой | U61: ='ПТ'!A23 -> ПТ-5 | V61: ='ПТ'!B23 -> Грунтовка Бетонконтакт | W61: ='ПТ'!C23 -> 1 слой | X61: нет | Y61: ='П'!A68 -> П-11 | Z61: ='П'!C68 -> Керамогранит с затиркой швов, износостойкость неглазурованных плиток не более 0,5 г/см2, класс износостойкости PEI 5, предел прочности при изгибе не менее 35 МПа по ГОСТ 13996-2019 Таблица 24, морозостойкая, класс противоскольжения R9 | AA61: ='П'!D68&" мм" -> 8 мм | AB61: нет | AC61: нет | AD61: нет
V62: ='ПТ'!B24 -> Затирка поверхности после демонтажа опалубки | W62: ='ПТ'!C24&" мм" -> 2-4 мм | Z62: =П!C69 -> Клей плиточный водостойкий Церезит СМ 16 | AA62: =П!D69&" мм" -> 6 мм
S63: ='ОТ'!B12 -> Простая окраска краской водно-дисперсионной за 2 раза | T63: ='ОТ'!C12 -> 2 слоя | Z63: =П!C70 -> Гидроизоляция цементная Церезит CR 65 WATERPROOF с заведением на стены на 200 мм с прокладкой по углам водонепроницаемой ленты для герметизации швов Церезит CL 152 | AA63: =П!D70&" мм" -> 2 мм
V64: ='ПТ'!B25 -> Грунтовка под финишную отделку | W64: ='ПТ'!C25 -> 1 слой | Z64: =П!C71 -> Стяжка полусухая цементно-песчаная М150, армированная фиброволокном (фибра полипропиленовая 12мм, расход 0.6кг/м3) | AA64: =П!D71&" мм" -> 43-133 мм
Z65: =П!C72 -> Монолитный ж/бетон | AA65: ='П'!D72 -> по проекту
Y66: ='П'!A87 -> П-14 | Z66: ='П'!C87 -> Керамогранит с затиркой швов, износостойкость неглазурованных плиток не более 0,5 г/см2, класс износостойкости PEI 5, предел прочности при изгибе не менее 35 МПа по ГОСТ 13996-2019 Таблица 24, морозостойкая, класс противоскольжения R9 | AA66: ='П'!D87&" мм" -> 8 мм
Z67: =П!C88 -> Клей плиточный водостойкий Церезит СМ 16 | AA67: =П!D88&" мм" -> 6 мм
Z68: =П!C89 -> Грунтовка Бетоноконтакт Церезит CT 19 | AA68: ='П'!D89 -> 1 слой
Z69: =П!C90 -> Плита бетонная В15 W4 армированная в 2 слоя сеткой Ø5 В500С с ячейкой 100*100 | AA69: =П!D90 -> по проекту
Z70: =П!C91 -> Прокладка Виброрез-Н | AA70: ='П'!D91&" мм" -> 30 мм
V71: ='ПТ'!B26 -> Простая окраска краской водно-дисперсионной за 2 раза | W71: ='ПТ'!C26 -> 2 слоя | Z71: =П!C92 -> Монолитный ж/бетон | AA71: ='П'!D92 -> по проекту
B72: До 1,8м | D72: ='ОС'!B4 -> Затирка поверхности после демонтажа опалубки | E72: ='ОС'!C4&" мм" -> 2-4 мм | G72: ='ОС'!B145 -> Сплошное выравнивание смесями цементно-песчаными по сетке тканой стальной 10х10х0.8 мм | H72: ='ОС'!C145&" мм" -> до 35 мм | J72: ='ОС'!B14 -> Простая штукатурка смесями цементно-песчаными по сетке тканой стальной 10х10х0.8 мм | K72: ='ОС'!C14&" мм" -> 14 мм | R72: ='ОТ'!A30 -> ОТ-15 | S72: ='ОТ'!B30 -> Грунтовка глубокого проникновения | T72: ='ОТ'!C30 -> 1 слой | Y72: ='П'!A93 -> П-15 | Z72: =П!C93 -> Керамогранит с затиркой швов, износостойкость неглазурованных плиток не более 0,5 г/см2, класс износостойкости PEI 5, предел прочности при изгибе не менее 35 МПа по ГОСТ 13996-2019 Таблица 24, морозостойкая, класс противоскольжения R9 | AA72: ='П'!D93&" мм" -> 8 мм
Z73: =П!C94 -> Клей плиточный водостойкий Церезит СМ 16 | AA73: =П!D94&" мм" -> 6 мм
Z74: =П!C95 -> Грунтовка Бетоноконтакт Церезит CT 19 | AA74: ='П'!D95 -> 1 слой
Z75: =П!C96 -> Плита бетонная В15 W4 армированная в 2 слоя сеткой Ø5 В500С с ячейкой 100*100 | AA75: =П!D96 -> по проекту
Z76: =П!C97 -> Монолитный ж/бетон | AA76: =П!D97 -> по проекту
Y77: ='П'!A166 -> П-26 | Z77: ='П'!C166 -> Керамогранит с затиркой швов, износостойкость неглазурованных плиток не более 0,5 г/см2, класс износостойкости PEI 5, предел прочности при изгибе не менее 35 МПа по ГОСТ 13996-2019 Таблица 24, морозостойкая, класс противоскольжения R9 | AA77: ='П'!D166&" мм" -> 8 мм
Z78: =П!C167 -> Клей плиточный водостойкий Церезит СМ 16 | AA78: =П!D167&" мм" -> 6 мм
S79: ='ОТ'!B31 -> Керамическая плитка на растворе цементно-песчаном с затиркой швов | T79: ='ОТ'!C31&" мм" -> 12* мм | Z79: =П!C168 -> Гидроизоляция цементная Церезит CR 65 WATERPROOF с заведением на стены на 200 мм с прокладкой по углам водонепроницаемой ленты для герметизации швов Церезит CL 152 | AA79: =П!D168&" мм" -> 2 мм
Z80: =П!C169 -> Плита бетонная В15, W4 армированная в 2 слоя сеткой Ø5 В500С с ячейкой 100x100 | AA80: =П!D169&" мм" -> 43-133 мм
Z81: =П!C170 -> Монолитный ж/бетон | AA81: ='П'!D170 -> по проекту
A82: Помещение ИТП и ВНС, венткамера ПД, венткамера автостоянки, насосная АПТ, расположенные под помещениями БКТ (Ф3.5, Ф4.3) и ОДС | B82: Выше 1,8м | O82: ='ОС'!A46 -> ОС-24 | P82: ='ОС'!B46 -> Шпатлевка стыков ГСП с проклейкой лентой армирующей | R82: ='ОТ'!A11 -> ОТ-5 | S82: ='ОТ'!B11 -> Грунтовка под финишную отделку | T82: ='ОТ'!C11 -> 1 слой | U82: ='ПТ'!A27 -> ПТ-6 | V82: ='ПТ'!B27 -> Потолок подвесной звукоизоляционный на каркасе металлическом П 113 (профиль ПН 28х27 и ПП 60х27), смонтированном на креплениях Виброфлекс К-15, с заполнением плитами из стеклянного штапельного волокна (Шуманет-БМ) ρ=47 кг/м³ - 50мм, в 2 слоя | W82: ='ПТ'!C27&" мм" -> 100 мм | X82: нет | Y82: ='П'!A68 -> П-11 | Z82: ='П'!C68 -> Керамогранит с затиркой швов, износостойкость неглазурованных плиток не более 0,5 г/см2, класс износостойкости PEI 5, предел прочности при изгибе не менее 35 МПа по ГОСТ 13996-2019 Таблица 24, морозостойкая, класс противоскольжения R9 | AA82: ='П'!D68&" мм" -> 8 мм | AB82: нет | AC82: нет | AD82: нет
Z83: =П!C69 -> Клей плиточный водостойкий Церезит СМ 16 | AA83: =П!D69&" мм" -> 6 мм
Z84: =П!C70 -> Гидроизоляция цементная Церезит CR 65 WATERPROOF с заведением на стены на 200 мм с прокладкой по углам водонепроницаемой ленты для герметизации швов Церезит CL 152 | AA84: =П!D70&" мм" -> 2 мм
S85: ='ОТ'!B12 -> Простая окраска краской водно-дисперсионной за 2 раза | T85: ='ОТ'!C12 -> 2 слоя | V85: ='ПТ'!B28 -> Триплекс звукоизоляционный Саундлайн-dB | W85: ='ПТ'!C28&" мм" -> 16.5 мм
Z86: ='П'!C71 -> Стяжка полусухая цементно-песчаная М150, армированная фиброволокном (фибра полипропиленовая 12мм, расход 0.6кг/м3) | AA86: ='П'!D71&" мм" -> 43-133 мм
V87: ='ПТ'!B29 -> Лист гипсокартонный звукоизоляционный AKU-line ГКЛА | W87: ='ПТ'!C29&" мм" -> 12.5 мм | Z87: =П!C72 -> Монолитный ж/бетон | AA87: ='П'!D72 -> по проекту
Y88: ='П'!A87 -> П-14 | Z88: ='П'!C87 -> Керамогранит с затиркой швов, износостойкость неглазурованных плиток не более 0,5 г/см2, класс износостойкости PEI 5, предел прочности при изгибе не менее 35 МПа по ГОСТ 13996-2019 Таблица 24, морозостойкая, класс противоскольжения R9 | AA88: ='П'!D87&" мм" -> 8 мм
Z89: =П!C88 -> Клей плиточный водостойкий Церезит СМ 16 | AA89: =П!D88&" мм" -> 6 мм
Z90: =П!C89 -> Грунтовка Бетоноконтакт Церезит CT 19 | AA90: ='П'!D89 -> 1 слой
Z91: =П!C90 -> Плита бетонная В15 W4 армированная в 2 слоя сеткой Ø5 В500С с ячейкой 100*100 | AA91: =П!D90 -> по проекту
Z92: =П!C91 -> Прокладка Виброрез-Н | AA92: ='П'!D91&" мм" -> 30 мм
Z93: =П!C92 -> Монолитный ж/бетон | AA93: ='П'!D92 -> по проекту
B94: До 1,8м | R94: ='ОТ'!A32 -> ОТ-16 | S94: ='ОТ'!B32 -> Грунтовка Бетонконтакт | T94: ='ОТ'!C32 -> 1 слой | Y94: ='П'!A93 -> П-15 | Z94: =П!C93 -> Керамогранит с затиркой швов, износостойкость неглазурованных плиток не более 0,5 г/см2, класс износостойкости PEI 5, предел прочности при изгибе не менее 35 МПа по ГОСТ 13996-2019 Таблица 24, морозостойкая, класс противоскольжения R9 | AA94: ='П'!D93&" мм" -> 8 мм
Z95: =П!C94 -> Клей плиточный водостойкий Церезит СМ 16 | AA95: =П!D94&" мм" -> 6 мм
Z96: =П!C95 -> Грунтовка Бетоноконтакт Церезит CT 19 | AA96: ='П'!D95 -> 1 слой
Z97: =П!C96 -> Плита бетонная В15 W4 армированная в 2 слоя сеткой Ø5 В500С с ячейкой 100*100 | AA97: =П!D96 -> по проекту
Z98: =П!C97 -> Монолитный ж/бетон | AA98: =П!D97 -> по проекту
V99: ='ПТ'!B30 -> Грунтовка глубокого проникновения | W99: ='ПТ'!C30 -> 1 слой | Y99: ='П'!A166 -> П-26 | Z99: ='П'!C166 -> Керамогранит с затиркой швов, износостойкость неглазурованных плиток не более 0,5 г/см2, класс износостойкости PEI 5, предел прочности при изгибе не менее 35 МПа по ГОСТ 13996-2019 Таблица 24, морозостойкая, класс противоскольжения R9 | AA99: ='П'!D68&" мм" -> 8 мм
S100: ='ОТ'!B33 -> Керамическая плитка на растворе цементно-песчаном с затиркой швов | T100: ='ОТ'!C33&" мм" -> 12* мм | V100: ='ПТ'!B31 -> Шпатлевка стыков ГСП с проклейкой лентой армирующей | W100: - | Z100: =П!C167 -> Клей плиточный водостойкий Церезит СМ 16 | AA100: =П!D69&" мм" -> 6 мм
...

Sheet 2. ОТДЕЛКА АР 1 ЭТАЖА
C1: ОТДЕЛКА ПОМЕЩЕНИЙ ПЕРВОГО ЭТАЖА. ВЕРСИЯ 3
A2: Место применения | C2: СТЕНЫ | X2: ПОТОЛОК | AB2: ПОЛ
C3: Черновая отделка стен | U3: Чистовая отделка стен | X3: Черновая / Чистовая отделка потолка | AB3: Марка покрытия | AE3: Плинтус
C4: Монолитный ж/бетон | F4: Выравнивание монолитных конструкций в местах стыка со стеной из ячеистых бетонных блоков/кирпича | I4: Ячеистый бетонный блок | L4: Кирпич | O4: Утеплитель | R4: ГСП-А (ГСП-Н2) | U4: Марка покрытия | X4: Монолитный ж/бетон | AA4: Плинтус
C5: МОП
A6: Отделка откосов проемов в наружных стенах МОП | B6: Вестибюль, колясочная | C6: ='ОС'!A75 -> ОС-34 | D6: ='ОС'!B75 -> Каркас металлический С625 (профиль ПН 50х40 и ПС 50х50) | E6: ='ОС'!C75&" мм" -> 50 мм | I6: ='ОС'!A75 -> ОС-34 | J6: ='ОС'!B75 -> Каркас металлический С625 (профиль ПН 50х40 и ПС 50х50) | K6: ='ОС'!C75&" мм" -> 50 мм | U6: ='ОТ'!A21 -> ОТ-10 | V6: ='ОТ'!B21 -> Грунтовка под финишную отделку | W6: ='ОТ'!C21 -> 1 слой
D7: ='ОС'!B76 -> ГСП-Н2 | E7: ='ОС'!C76&" мм" -> 12,5 мм | J7: ='ОС'!B76 -> ГСП-Н2 | K7: ='ОС'!C76&" мм" -> 12,5 мм | V7: ='ОТ'!B22 -> Улучшенная окраска краской водно-дисперсионной негорючей за 2 раза, группа горючести НГ | W7: ='ОТ'!C22 -> 2 слоя
B8: Помещение консьержа | D8: ='ОС'!B77 -> Грунтовка глубокого проникновения | E8: ='ОС'!C77 -> 1 слой | J8: ='ОС'!B77 -> Грунтовка глубокого проникновения | K8: ='ОС'!C77 -> 1 слой | U8: ='ОТ'!A17 -> ОТ-8 | V8: ='ОТ'!B17 -> Грунтовка под финишную отделку | W8: ='ОТ'!C17 -> 1 слой
D9: ='ОС'!B78 -> Профиль угловой оцинкованный перфорированный 31х31х0,4 мм, шпатлевка поверхности на гипсовой основе | E9: ='ОС'!C78&" мм" -> 2 мм | J9: ='ОС'!B78 -> Профиль угловой оцинкованный перфорированный 31х31х0,4 мм, шпатлевка поверхности на гипсовой основе | K9: ='ОС'!C78&" мм" -> 2 мм | V9: ='ОТ'!B18 -> Улучшенная окраска краской водно-дисперсионной за 2 раза | W9: ='ОТ'!C18 -> 2 слоя
A10: Тамбур МОП (граничащий с улицей) | B10: До отметки 60 мм выше отметки низа подвесного потолка "Грильято" | C10: ='ОС'!A3 -> ОС-1 | D10: ='ОС'!B3 -> Грунтовка Бетонконтакт | E10: ='ОС'!C3 -> 1 слой | F10: ='ОС'!A144 -> ОС-53 | G10: ='ОС'!B144 -> Грунтовка Бетонконтакт | H10: ='ОС'!C144 -> 1 слой | I10: ='ОС'!A28 -> ОС-15 | J10: ='ОС'!B28 -> Грунтовка глубокого проникновения | K10: ='ОС'!C28 -> 1 слой | U10: ='ОТ'!A47 -> ОТ-25 | V10: ='ОТ'!B47 -> Грунтовка глубокого проникновения | W10: ='ОТ'!C47 -> 1 слой | X10: ='ПТ'!A34 -> ПТ-7 | Y10: ='ПТ'!B34 -> Смесь клеевая для монтажа утеплителя (Технониколь 110) | Z10: ='ПТ'!C34&" мм" -> 5 мм | AA10: нет | AB10: ='П'!A100 -> П-17 | AC10: ='П'!C100 -> Решетка грязезащитное (резина+щетка+скребок) (вес 18,1 кг/м2) | AD10: ='П'!D100&" мм" -> 20 мм | AE10: нет | AF10: нет | AG10: нет
V11: ='ОТ'!B48 -> Керамогранит на растворе цементно-песчаном с затиркой швов, группа горючести НГ | W11: ='ОТ'!C48&" мм" -> 15* мм | AC11: =П!C101 -> Керамогранит с затиркой швов | AD11: =П!D101&" мм" -> 9 мм
D12: ='ОС'!B4 -> Затирка поверхности после демонтажа опалубки | E12: ='ОС'!C4&" мм" -> 2-4 мм | G12: ='ОС'!B145 -> Сплошное выравнивание смесями цементно-песчаными по сетке тканой стальной 10х10х0.8 мм | H12: ='ОС'!C145&" мм" -> до 35 мм | J12: ='ОС'!B29 -> Простая штукатурка смесями цементно-песчаными | K12: ='ОС'!C29&" мм" -> 14 мм | Y12: ='ПТ'!B35 -> Утеплитель минераловатный (Технониколь - ТЕХНОФАС ДЕКОР) ρ=90-110 кг/м³, предел прочности на отрыв не менее 15 кПа, λ=0,044 Вт/м°С | Z12: ='ПТ'!C35 -> по проекту | AC12: =П!C102 -> Клей плиточный водостойкий Церезит СМ 16 | AD12: =П!D102&" мм" -> 6 мм
AC13: =П!C103 -> Гидроизоляция однокомпонентная полимерная эластичная Церезит CL 51 с заведением на стены на 200 мм с прокладкой по углам водонепроницаемой ленты для герметизации швов Церезит CL 152 | AD13: ='П'!D103 -> 2 слоя
R14: ='ОС'!A46 -> ОС-24 | S14: ='ОС'!B46 -> Шпатлевка стыков ГСП с проклейкой лентой армирующей | T14: ='ОС'!C46 -> - | U14: ='ОТ'!A49 -> ОТ-26 | V14: ='ОТ'!B49 -> Грунтовка Бетонконтакт | W14: ='ОТ'!C49 -> 1 слой | AC14: =П!C104 -> Грунтовка глубокого проникновения Церезит CT 17 | AD14: =П!D104 -> 1 слой
V15: ='ОТ'!B50 -> Керамогранит на растворе цементно-песчаном с затиркой швов, группа горючести НГ | W15: ='ОТ'!C50&" мм" -> 15* мм | AC15: =П!C105 -> Стяжка полусухая цементно-песчаная М150, армированная фиброволокном (фибра полипропиленовая 12мм, расход 0.6кг/м3) | AD15: ='П'!D105&" мм" -> 44 мм
Y16: ='ПТ'!B36 -> Слой штукатурно-клеевой Технониколь 210 или аналог, армированный сеткой фасадной стеклотканевой щелочестойкой М3600 | Z16: ='ПТ'!C36&" мм" -> 10 мм | AC16: =П!C106 -> Плиты теплоизоляционные LOGICPIR Пол ФЛ/ФЛ, прочность на сжатие 10% линейной деформации не менее 150 кПа, λ=0.025 Вт/м°С | AD16: =П!D106&" мм" -> 20 мм
AC17: =П!C107 -> Монолитный ж/бетон | AD17: ='П'!D107 -> по проекту
B18: Выше отметки 60 мм от низа подвесного потолка "Грильято" | C18: ='ОС'!A3 -> ОС-1 | D18: ='ОС'!B3 -> Грунтовка Бетонконтакт | E18: ='ОС'!C3 -> 1 слой | F18: ='ОС'!A3 -> ОС-1 | G18: ='ОС'!B3 -> Грунтовка Бетонконтакт | H18: ='ОС'!C3 -> 1 слой | I18: ='ОС'!A28 -> ОС-15 | J18: ='ОС'!B28 -> Грунтовка глубокого проникновения | K18: ='ОС'!C28 -> 1 слой | R18: ='ОС'!A46 -> ОС-24 | S18: ='ОС'!B46 -> Шпатлевка стыков ГСП с проклейкой лентой армирующей | T18: ='ОС'!C46 -> - | U18: ='ОТ'!A51 -> ОТ-27 | V18: ='ОТ'!B51 -> Грунтовка под финишную отделку | W18: ='ОТ'!C51 -> 1 слой | AB18: ='П'!A108 -> П-18 | AC18: =П!C108 -> Керамогранит с затиркой швов | AD18: ='П'!D108&" мм" -> 9 мм
AC19: =П!C109 -> Клей плиточный водостойкий Церезит СМ 16 | AD19: =П!D109&" мм" -> 6 мм
Y20: ='ПТ'!B37 -> Грунтовка под финишную отделку | Z20: ='ПТ'!C37 -> 1 слой | AC20: =П!C110 -> Гидроизоляция однокомпонентная полимерная эластичная Церезит CL 51 с заведением на стены на 200 мм с прокладкой по углам водонепроницаемой ленты для герметизации швов Церезит CL 152 | AD20: ='П'!D110 -> 2 слоя
D21: ='ОС'!B4 -> Затирка поверхности после демонтажа опалубки | E21: ='ОС'!C4&" мм" -> 2-4 мм | G21: ='ОС'!B4 -> Затирка поверхности после демонтажа опалубки | H21: ='ОС'!C4&" мм" -> 2-4 мм | J21: ='ОС'!B29 -> Простая штукатурка смесями цементно-песчаными | K21: ='ОС'!C29&" мм" -> 14 мм | V21: ='ОТ'!B52 -> Простая окраска краской влагостойкой негорючей за 2 раза, группа горючести НГ | W21: ='ОТ'!C52 -> 2 слоя | Y21: ='ПТ'!B38 -> Простая окраска краской влагостойкой негорючей за 2 раза (цвет черный), группа горючести НГ | Z21: ='ПТ'!C38 -> 2 слоя | AC21: =П!C111 -> Грунтовка глубокого проникновения Церезит CT 17 | AD21: =П!D111 -> 1 слой
AC22: =П!C112 -> Стяжка полусухая цементно-песчаная М150, армированная фиброволокном (фибра полипропиленовая 12мм, расход 0.6кг/м3) | AD22: ='П'!D112&" мм" -> 64 мм
Y23: ='ПТ'!B39 -> Потолок подвесной металлический типа "Грильято" 75х75х40 (цвет черный) на металлическом каркасе, группа горючести НГ | Z23: ='ПТ'!C39&" мм" -> 40 мм | AC23: =П!C113 -> Плиты теплоизоляционные LOGICPIR Пол ФЛ/ФЛ, прочность на сжатие 10% линейной деформации не менее 150 кПа, λ=0.025 Вт/м°С | AD23: =П!D113&" мм" -> 20 мм
AC24: =П!C114 -> Монолитный ж/бетон | AD24: ='П'!D114 -> по проекту
B25: Пространство за неутепленной зашивкой | X25: ='ПТ'!A160 -> ПТ-34 | Y25: ='ПТ'!B160 -> Смесь клеевая для монтажа утеплителя (Технониколь 110) | Z25: ='ПТ'!C160&" мм" -> 5 мм | AB25: =П!A191 -> П-31 | AC25: =П!C191 -> Стяжка полусухая цементно-песчаная М150, армированная фиброволокном (фибра полипропиленовая 12мм, расход 0.6кг/м3) | AD25: =П!D191&" мм" -> 40 мм
Y26: ='ПТ'!B161 -> Утеплитель минераловатный (Технониколь - ТЕХНОФАС ДЕКОР) ρ=90-110 кг/м³, предел прочности на отрыв не менее 15 кПа, λ=0,044 Вт/м°С | Z26: ='ПТ'!C161 -> по проекту | AC26: =П!C192 -> Плиты теплоизоляционные LOGICPIR Пол ФЛ/ФЛ, прочность на сжатие 10% линейной деформации не менее 150 кПа, λ=0.025 Вт/м°С | AD26: =П!D192&" мм" -> 20 мм
AC27: =П!C193 -> Монолитный ж/бетон | AD27: =П!D193 -> по проекту
A28: Тамбур МОП (второй тамбур западающей входной группы) | B28: До отметки 60 мм выше отметки низа подвесного потолка "Грильято" | C28: ='ОС'!A3 -> ОС-1 | D28: ='ОС'!B3 -> Грунтовка Бетонконтакт | E28: ='ОС'!C3 -> 1 слой | F28: ='ОС'!A144 -> ОС-53 | G28: ='ОС'!B144 -> Грунтовка Бетонконтакт | H28: ='ОС'!C144 -> 1 слой | I28: ='ОС'!A28 -> ОС-15 | J28: ='ОС'!B28 -> Грунтовка глубокого проникновения | K28: ='ОС'!C28 -> 1 слой | U28: ='ОТ'!A47 -> ОТ-25 | V28: ='ОТ'!B47 -> Грунтовка глубокого проникновения | W28: ='ОТ'!C47 -> 1 слой | X28: ='ПТ'!A147 -> ПТ-32 | Y28: ='ПТ'!B147 -> Смесь клеевая для монтажа утеплителя (Технониколь 110) | Z28: ='ПТ'!C147&" мм" -> 5 мм | AA28: нет | AB28: ='П'!A100 -> П-17 | AC28: ='П'!C100 -> Решетка грязезащитное (резина+щетка+скребок) (вес 18,1 кг/м2) | AD28: ='П'!D100&" мм" -> 20 мм | AE28: нет | AF28: нет | AG28: нет
AC29: =П!C101 -> Керамогранит с затиркой швов | AD29: =П!D101&" мм" -> 9 мм
D30: ='ОС'!B4 -> Затирка поверхности после демонтажа опалубки | E30: ='ОС'!C4&" мм" -> 2-4 мм | G30: ='ОС'!B145 -> Сплошное выравнивание смесями цементно-песчаными по сетке тканой стальной 10х10х0.8 мм | H30: ='ОС'!C145&" мм" -> до 35 мм | J30: ='ОС'!B29 -> Простая штукатурка смесями цементно-песчаными | K30: ='ОС'!C29&" мм" -> 14 мм | V30: ='ОТ'!B48 -> Керамогранит на растворе цементно-песчаном с затиркой швов, группа горючести НГ | W30: ='ОТ'!C48&" мм" -> 15* мм | Y30: ='ПТ'!B148 -> Утеплитель минераловатный (Технониколь - ТЕХНОФАС ДЕКОР) ρ=90-110 кг/м³, предел прочности на отрыв не менее 15 кПа, λ=0,044 Вт/м°С | Z30: ='ПТ'!C148&" мм" -> 150 мм | AC30: =П!C102 -> Клей плиточный водостойкий Церезит СМ 16 | AD30: =П!D102&" мм" -> 6 мм
AC31: =П!C103 -> Гидроизоляция однокомпонентная полимерная эластичная Церезит CL 51 с заведением на стены на 200 мм с прокладкой по углам водонепроницаемой ленты для герметизации швов Церезит CL 152 | AD31: ='П'!D103 -> 2 слоя
R32: ='ОС'!A46 -> ОС-24 | S32: ='ОС'!B46 -> Шпатлевка стыков ГСП с проклейкой лентой армирующей | T32: ='ОС'!C46 -> - | U32: ='ОТ'!A49 -> ОТ-26 | V32: ='ОТ'!B49 -> Грунтовка Бетонконтакт | W32: ='ОТ'!C49 -> 1 слой | AC32: =П!C104 -> Грунтовка глубокого проникновения Церезит CT 17 | AD32: =П!D104 -> 1 слой
AC33: =П!C105 -> Стяжка полусухая цементно-песчаная М150, армированная фиброволокном (фибра полипропиленовая 12мм, расход 0.6кг/м3) | AD33: ='П'!D105&" мм" -> 44 мм
V34: ='ОТ'!B50 -> Керамогранит на растворе цементно-песчаном с затиркой швов, группа горючести НГ | W34: ='ОТ'!C50&" мм" -> 15* мм | Y34: ='ПТ'!B149 -> Слой штукатурно-клеевой Технониколь 210 или аналог, армированный сеткой фасадной стеклотканевой щелочестойкой М3600 | Z34: ='ПТ'!C149&" мм" -> 10 мм | AC34: =П!C106 -> Плиты теплоизоляционные LOGICPIR Пол ФЛ/ФЛ, прочность на сжатие 10% линейной деформации не менее 150 кПа, λ=0.025 Вт/м°С | AD34: =П!D106&" мм" -> 20 мм
AC35: =П!C107 -> Монолитный ж/бетон | AD35: ='П'!D107 -> по проекту
B36: Выше отметки 60 мм от низа подвесного потолка "Грильято" | C36: ='ОС'!A3 -> ОС-1 | D36: ='ОС'!B3 -> Грунтовка Бетонконтакт | E36: ='ОС'!C3 -> 1 слой | F36: ='ОС'!A3 -> ОС-1 | G36: ='ОС'!B3 -> Грунтовка Бетонконтакт | H36: ='ОС'!C3 -> 1 слой | I36: ='ОС'!A28 -> ОС-15 | J36: ='ОС'!B28 -> Грунтовка глубокого проникновения | K36: ='ОС'!C28 -> 1 слой | R36: ='ОС'!A46 -> ОС-24 | S36: ='ОС'!B46 -> Шпатлевка стыков ГСП с проклейкой лентой армирующей | T36: ='ОС'!C46 -> - | U36: ='ОТ'!A51 -> ОТ-27 | V36: ='ОТ'!B51 -> Грунтовка под финишную отделку | W36: ='ОТ'!C51 -> 1 слой | AB36: ='П'!A108 -> П-18 | AC36: =П!C108 -> Керамогранит с затиркой швов | AD36: ='П'!D108&" мм" -> 9 мм
AC37: =П!C109 -> Клей плиточный водостойкий Церезит СМ 16 | AD37: =П!D109&" мм" -> 6 мм
Y38: ='ПТ'!B150 -> Грунтовка под финишную отделку | Z38: ='ПТ'!C150 -> 1 слой | AC38: =П!C110 -> Гидроизоляция однокомпонентная полимерная эластичная Церезит CL 51 с заведением на стены на 200 мм с прокладкой по углам водонепроницаемой ленты для герметизации швов Церезит CL 152 | AD38: ='П'!D110 -> 2 слоя
D39: ='ОС'!B4 -> Затирка поверхности после демонтажа опалубки | E39: ='ОС'!C4&" мм" -> 2-4 мм | G39: ='ОС'!B4 -> Затирка поверхности после демонтажа опалубки | H39: ='ОС'!C4&" мм" -> 2-4 мм | J39: ='ОС'!B29 -> Простая штукатурка смесями цементно-песчаными | K39: ='ОС'!C29&" мм" -> 14 мм | V39: ='ОТ'!B52 -> Простая окраска краской влагостойкой негорючей за 2 раза, группа горючести НГ | W39: ='ОТ'!C52 -> 2 слоя | Y39: ='ПТ'!B151 -> Простая окраска краской влагостойкой негорючей за 2 раза (цвет черный), группа горючести НГ | Z39: ='ПТ'!C151 -> 2 слоя | AC39: =П!C111 -> Грунтовка глубокого проникновения Церезит CT 17 | AD39: =П!D111 -> 1 слой
AC40: =П!C112 -> Стяжка полусухая цементно-песчаная М150, армированная фиброволокном (фибра полипропиленовая 12мм, расход 0.6кг/м3) | AD40: ='П'!D112&" мм" -> 64 мм
Y41: ='ПТ'!B152 -> Потолок подвесной металлический типа "Грильято" 75х75х40 (цвет черный) на металлическом каркасе, группа горючести НГ | Z41: ='ПТ'!C152&" мм" -> 40 мм | AC41: =П!C113 -> Плиты теплоизоляционные LOGICPIR Пол ФЛ/ФЛ, прочность на сжатие 10% линейной деформации не менее 150 кПа, λ=0.025 Вт/м°С | AD41: =П!D113&" мм" -> 20 мм
AC42: =П!C114 -> Монолитный ж/бетон | AD42: ='П'!D114 -> по проекту
A43: Тамбур МОП (второй тамбур выступающей входной группы) | B43: До отметки 60 мм выше отметки низа подвесного потолка "Грильято" | C43: ='ОС'!A3 -> ОС-1 | D43: ='ОС'!B3 -> Грунтовка Бетонконтакт | E43: ='ОС'!C3 -> 1 слой | F43: ='ОС'!A144 -> ОС-53 | G43: ='ОС'!B144 -> Грунтовка Бетонконтакт | H43: ='ОС'!C144 -> 1 слой | I43: ='ОС'!A28 -> ОС-15 | J43: ='ОС'!B28 -> Грунтовка глубокого проникновения | K43: ='ОС'!C28 -> 1 слой | U43: ='ОТ'!A47 -> ОТ-25 | V43: ='ОТ'!B47 -> Грунтовка глубокого проникновения | W43: ='ОТ'!C47 -> 1 слой | X43: ='ПТ'!A12 -> ПТ-3 | Y43: ='ПТ'!B12 -> Грунтовка Бетонконтакт | Z43: ='ПТ'!C12 -> 1 слой | AA43: нет | AB43: ='П'!A108 -> П-18 | AC43: ='П'!C108 -> Керамогранит с затиркой швов | AD43: ='П'!D108&" мм" -> 9 мм | AE43: нет | AF43: нет | AG43: нет
V44: ='ОТ'!B48 -> Керамогранит на растворе цементно-песчаном с затиркой швов, группа горючести НГ | W44: ='ОТ'!C48&" мм" -> 15* мм | Y44: ='ПТ'!B13 -> Затирка поверхности после демонтажа опалубки | Z44: ='ПТ'!C13&" мм" -> 2-4 мм | AC44: =П!C109 -> Клей плиточный водостойкий Церезит СМ 16 | AD44: =П!D109&" мм" -> 6 мм
D45: ='ОС'!B4 -> Затирка поверхности после демонтажа опалубки | E45: ='ОС'!C4&" мм" -> 2-4 мм | G45: ='ОС'!B145 -> Сплошное выравнивание смесями цементно-песчаными по сетке тканой стальной 10х10х0.8 мм | H45: ='ОС'!C145&" мм" -> до 35 мм | J45: ='ОС'!B29 -> Простая штукатурка смесями цементно-песчаными | K45: ='ОС'!C29&" мм" -> 14 мм | AC45: =П!C110 -> Гидроизоляция однокомпонентная полимерная эластичная Церезит CL 51 с заведением на стены на 200 мм с прокладкой по углам водонепроницаемой ленты для герметизации швов Церезит CL 152 | AD45: ='П'!D110 -> 2 слоя
R46: ='ОС'!A46 -> ОС-24 | S46: ='ОС'!B46 -> Шпатлевка стыков ГСП с проклейкой лентой армирующей | T46: ='ОС'!C46 -> - | U46: ='ОТ'!A49 -> ОТ-26 | V46: ='ОТ'!B49 -> Грунтовка Бетонконтакт | W46: ='ОТ'!C49 -> 1 слой | Y46: ='ПТ'!B14 -> Грунтовка под финишную отделку | Z46: ='ПТ'!C14 -> 1 слой | AC46: =П!C111 -> Грунтовка глубокого проникновения Церезит CT 17 | AD46: =П!D111 -> 1 слой
V47: ='ОТ'!B50 -> Керамогранит на растворе цементно-песчаном с затиркой швов, группа горючести НГ | W47: ='ОТ'!C50&" мм" -> 15* мм | Y47: ='ПТ'!B15 -> Простая окраска краской влагостойкой негорючей за 2 раза (цвет черный), группа горючести НГ | Z47: ='ПТ'!C15 -> 2 слоя | AC47: =П!C112 -> Стяжка полусухая цементно-песчаная М150, армированная фиброволокном (фибра полипропиленовая 12мм, расход 0.6кг/м3) | AD47: ='П'!D112&" мм" -> 64 мм
B48: Выше отметки 60 мм от низа подвесного потолка "Грильято" | C48: ='ОС'!A3 -> ОС-1 | D48: ='ОС'!B3 -> Грунтовка Бетонконтакт | E48: ='ОС'!C3 -> 1 слой | F48: ='ОС'!A3 -> ОС-1 | G48: ='ОС'!B3 -> Грунтовка Бетонконтакт | H48: ='ОС'!C3 -> 1 слой | I48: ='ОС'!A28 -> ОС-15 | J48: ='ОС'!B28 -> Грунтовка глубокого проникновения | K48: ='ОС'!C28 -> 1 слой | R48: ='ОС'!A46 -> ОС-24 | S48: ='ОС'!B46 -> Шпатлевка стыков ГСП с проклейкой лентой армирующей | T48: ='ОС'!C46 -> - | U48: ='ОТ'!A51 -> ОТ-27 | V48: ='ОТ'!B51 -> Грунтовка под финишную отделку | W48: ='ОТ'!C51 -> 1 слой | Y48: ='ПТ'!B16 -> Потолок подвесной металлический типа "Грильято" 75х75х40 (цвет черный) на металлическом каркасе, группа горючести НГ | Z48: ='ПТ'!C16&" мм" -> 40 мм | AC48: =П!C113 -> Плиты теплоизоляционные LOGICPIR Пол ФЛ/ФЛ, прочность на сжатие 10% линейной деформации не менее 150 кПа, λ=0.025 Вт/м°С | AD48: =П!D113&" мм" -> 20 мм
D49: ='ОС'!B4 -> Затирка поверхности после демонтажа опалубки | E49: ='ОС'!C4&" мм" -> 2-4 мм | G49: ='ОС'!B4 -> Затирка поверхности после демонтажа опалубки | H49: ='ОС'!C4&" мм" -> 2-4 мм | J49: ='ОС'!B29 -> Простая штукатурка смесями цементно-песчаными | K49: ='ОС'!C29&" мм" -> 14 мм | V49: ='ОТ'!B52 -> Простая окраска краской влагостойкой негорючей за 2 раза, группа горючести НГ | W49: ='ОТ'!C52 -> 2 слоя | AC49: =П!C114 -> Монолитный ж/бетон | AD49: ='П'!D114 -> по проекту
A50: Вестибюль, колясочная | B50: До отметки 60 мм выше отметки низа подвесного потолка "Грильято" | C50: ='ОС'!A3 -> ОС-1 | D50: ='ОС'!B3 -> Грунтовка Бетонконтакт | E50: ='ОС'!C3 -> 1 слой | F50: ='ОС'!A144 -> ОС-53 | G50: ='ОС'!B144 -> Грунтовка Бетонконтакт | H50: ='ОС'!C144 -> 1 слой | I50: ='ОС'!A28 -> ОС-15 | J50: ='ОС'!B28 -> Грунтовка глубокого проникновения | K50: ='ОС'!C28 -> 1 слой | L50: ='ОС'!A13 -> ОС-7 | M50: ='ОС'!B13 -> Грунтовка глубокого проникновения | N50: ='ОС'!C13 -> 1 слой | U50: ='ОТ'!A47 -> ОТ-25 | V50: ='ОТ'!B47 -> Грунтовка глубокого проникновения | W50: ='ОТ'!C47 -> 1 слой | X50: ='ПТ'!A12 -> ПТ-3 | Y50: ='ПТ'!B12 -> Грунтовка Бетонконтакт | Z50: ='ПТ'!C12 -> 1 слой | AA50: нет | AB50: ='П'!A115 -> П-19 | AC50: =П!C115 -> Керамогранит с затиркой швов | AD50: ='П'!D115&" мм" -> 9 мм | AE50: нет | AF50: нет | AG50: нет
AC51: =П!C116 -> Клей плиточный водостойкий Церезит СМ 16 | AD51: =П!D116&" мм" -> 6 мм
D52: ='ОС'!B4 -> Затирка поверхности после демонтажа опалубки | E52: ='ОС'!C4&" мм" -> 2-4 мм | G52: ='ОС'!B145 -> Сплошное выравнивание смесями цементно-песчаными по сетке тканой стальной 10х10х0.8 мм | H52: ='ОС'!C145&" мм" -> до 35 мм | J52: ='ОС'!B29 -> Простая штукатурка смесями цементно-песчаными | K52: ='ОС'!C29&" мм" -> 14 мм | M52: ='ОС'!B14 -> Простая штукатурка смесями цементно-песчаными по сетке тканой стальной 10х10х0.8 мм | N52: ='ОС'!C14&" мм" -> 14 мм | V52: ='ОТ'!B48 -> Керамогранит на растворе цементно-песчаном с затиркой швов, группа горючести НГ | W52: ='ОТ'!C48&" мм" -> 15* мм | Y52: ='ПТ'!B13 -> Затирка поверхности после демонтажа опалубки | Z52: ='ПТ'!C13&" мм" -> 2-4 мм | AC52: =П!C117 -> Грунтовка глубокого проникновения Церезит CT 17 | AD52: ='П'!D117 -> 1 слой
AC53: =П!C118 -> Стяжка полусухая цементно-песчаная М150, армированная фиброволокном (фибра полипропиленовая 12мм, расход 0.6кг/м3) | AD53: ='П'!D118&" мм" -> 65 мм
R54: ='ОС'!A46 -> ОС-24 | S54: ='ОС'!B46 -> Шпатлевка стыков ГСП с проклейкой лентой армирующей | T54: ='ОС'!C46 -> - | U54: ='ОТ'!A49 -> ОТ-26 | V54: ='ОТ'!B49 -> Грунтовка Бетонконтакт | W54: ='ОТ'!C49 -> 1 слой | Y54: ='ПТ'!B14 -> Грунтовка под финишную отделку | Z54: ='ПТ'!C14 -> 1 слой | AC54: =П!C119 -> Пленка полиэтиленовая 200 мкр | AD54: ='П'!D119 -> 1 слой
V55: ='ОТ'!B50 -> Керамогранит на растворе цементно-песчаном с затиркой швов, группа горючести НГ | W55: ='ОТ'!C50&" мм" -> 15* мм | Y55: ='ПТ'!B15 -> Простая окраска краской влагостойкой негорючей за 2 раза (цвет черный), группа горючести НГ | Z55: ='ПТ'!C15 -> 2 слоя | AC55: =П!C120 -> Утеплитель минераловатный (Технониколь ТЕХНОФЛОР СТАНДАРТ) q=100-120 кг/м3, предел прочности на сжатие не менее 30 кПа, λ=0,044 Вт/м°С | AD55: ='П'!D120&" мм" -> 30 мм
B56: Выше отметки 60 мм от низа подвесного потолка "Грильято" | C56: ='ОС'!A3 -> ОС-1 | D56: ='ОС'!B3 -> Грунтовка Бетонконтакт | E56: ='ОС'!C3 -> 1 слой | F56: ='ОС'!A3 -> ОС-1 | G56: ='ОС'!B3 -> Грунтовка Бетонконтакт | H56: ='ОС'!C3 -> 1 слой | I56: ='ОС'!A28 -> ОС-15 | J56: ='ОС'!B28 -> Грунтовка глубокого проникновения | K56: ='ОС'!C28 -> 1 слой | L56: ='ОС'!A13 -> ОС-7 | M56: ='ОС'!B13 -> Грунтовка глубокого проникновения | N56: ='ОС'!C13 -> 1 слой | R56: ='ОС'!A46 -> ОС-24 | S56: ='ОС'!B46 -> Шпатлевка стыков ГСП с проклейкой лентой армирующей | T56: ='ОС'!C46 -> - | U56: ='ОТ'!A51 -> ОТ-27 | V56: ='ОТ'!B51 -> Грунтовка под финишную отделку | W56: ='ОТ'!C51 -> 1 слой
D57: ='ОС'!B4 -> Затирка поверхности после демонтажа опалубки | E57: ='ОС'!C4&" мм" -> 2-4 мм | G57: ='ОС'!B4 -> Затирка поверхности после демонтажа опалубки | H57: ='ОС'!C4&" мм" -> 2-4 мм | J57: ='ОС'!B29 -> Простая штукатурка смесями цементно-песчаными | K57: ='ОС'!C29&" мм" -> 14 мм | M57: ='ОС'!B14 -> Простая штукатурка смесями цементно-песчаными по сетке тканой стальной 10х10х0.8 мм | N57: ='ОС'!C14&" мм" -> 14 мм | V57: ='ОТ'!B52 -> Простая окраска краской влагостойкой негорючей за 2 раза, группа горючести НГ | W57: ='ОТ'!C52 -> 2 слоя | Y57: ='ПТ'!B16 -> Потолок подвесной металлический типа "Грильято" 75х75х40 (цвет черный) на металлическом каркасе, группа горючести НГ | Z57: ='ПТ'!C16&" мм" -> 40 мм | AC57: ='П'!C121 -> Монолитный ж/бетон | AD57: ='П'!D121 -> по проекту
A58: Помещение консьержа | B58: До отметки 60 мм выше отметки низа подвесного потолка "Грильято" | C58: ='ОС'!A40 -> ОС-21 | D58: ='ОС'!B40 -> Грунтовка Бетонконтакт | E58: ='ОС'!C40 -> 1 слой | F58: ='ОС'!A25 -> ОС-13 | G58: ='ОС'!B25 -> Грунтовка Бетонконтакт | H58: ='ОС'!C25 -> 1 слой | I58: ='ОС'!A38 -> ОС-20 | J58: ='ОС'!B38 -> Грунтовка глубокого проникновения | K58: ='ОС'!C38 -> 1 слой | R58: ='ОС'!A44 -> ОС-23 | S58: ='ОС'!B44 -> Грунтовка глубокого проникновения | T58: ='ОС'!C44 -> 1 слой | U58: ='ОТ'!A7 -> ОТ-3 | V58: ='ОТ'!B7 -> Грунт-краска колеруемая, группа горючести НГ | W58: ='ОТ'!C7 -> 1 слой | X58: ='ПТ'!A7 -> ПТ-2 | Y58: ='ПТ'!B7 -> Грунтовка Бетонконтакт | Z58: ='ПТ'!C7 -> 1 слой | AA58: нет | AB58: ='П'!A122 -> П-20 | AC58: =П!C122 -> Керамогранит с затиркой швов | AD58: ='П'!D122&" мм" -> 9 мм | AE58: =П!A360 -> ПЛН-01 | AF58: =П!C360 -> Плинтус из керамогранита h=100мм (нарезать из керамогранита отделки пола) | AG58: =П!D360&" мм" -> 9 мм
Y59: ='ПТ'!B8 -> Затирка поверхности после демонтажа опалубки | Z59: ='ПТ'!C8&" мм" -> 2-4 мм | AC59: =П!C123 -> Клей плиточный водостойкий Церезит СМ 16 | AD59: =П!D123&" мм" -> 6 мм
D60: ='ОС'!B41 -> Улучшенная штукатурка смесями гипсовыми | E60: ='ОС'!C41&" мм" -> 17 мм | G60: ='ОС'!B26 -> Сплошное выравнивание смесями гипсовыми по сетке СВУ 120-2600 СП 31-111-2004 | H60: ='ОС'!C26&" мм" -> до 35 мм | J60: ='ОС'!B39 -> Улучшенная штукатурка смесями гипсовыми | K60: ='ОС'!C39&" мм" -> 17 мм | S60: ='ОС'!B45 -> Шпатлевка поверхности на гипсовой основе (с проклейкой стыков лентой армирующей) | T60: ='ОС'!C45&" мм" -> 2 мм | V60: ='ОТ'!B8 -> Окраска краской структурной негорючей, нанесение краскопультом, группа горючести НГ | W60: ='ОТ'!C8 -> 1 слой | Y60: ='ПТ'!B9 -> Грунтовка под финишную отделку | Z60: ='ПТ'!C9 -> 1 слой | AC60: =П!C124 -> Грунтовка глубокого проникновения Церезит CT 17 | AD60: ='П'!D124 -> 1 слой
Y61: ='ПТ'!B10 -> Простая окраска краской водно-дисперсионной негорючей за 2 раза (цвет белый), группа горючести НГ | Z61: ='ПТ'!C10 -> 2 слоя | AC61: =П!C125 -> Стяжка полусухая цементно-песчаная М150, армированная фиброволокном (фибра полипропиленовая 12мм, расход 0.6кг/м3) | AD61: ='П'!D125&" мм" -> 45 мм
B62: Выше отметки 60 мм от низа подвесного потолка "Грильято" | C62: ='ОС'!A3 -> ОС-1 | D62: ='ОС'!B3 -> Грунтовка Бетонконтакт | E62: ='ОС'!C3 -> 1 слой | F62: ='ОС'!A3 -> ОС-1 | G62: ='ОС'!B3 -> Грунтовка Бетонконтакт | H62: ='ОС'!C3 -> 1 слой | I62: ='ОС'!A30 -> ОС-16 | J62: ='ОС'!B30 -> Грунтовка глубокого проникновения | K62: ='ОС'!C30 -> 1 слой | O62: ='ОС'!A6 -> ОС-3 | P62: ='ОС'!B6 -> Слой штукатурно-клеевой Технониколь 210 или аналог, армированный сеткой фасадной стеклотканевой щелочестойкой М3600 | Q62: ='ОС'!C6&" мм" -> 10 мм | R62: ='ОС'!A46 -> ОС-24 | S62: ='ОС'!B46 -> Шпатлевка стыков ГСП с проклейкой лентой армирующей | T62: ='ОС'!C46 -> - | U62: ='ОТ'!A9 -> ОТ-4 | V62: ='ОТ'!B9 -> Грунтовка под финишную отделку | W62: ='ОТ'!C9 -> 1 слой | AC62: =П!C126 -> Пленка полиэтиленовая 200 мкр | AD62: ='П'!D126 -> 1 слой
D63: ='ОС'!B4 -> Затирка поверхности после демонтажа опалубки | E63: ='ОС'!C4&" мм" -> 2-4 мм | G63: ='ОС'!B4 -> Затирка поверхности после демонтажа опалубки | H63: ='ОС'!C4&" мм" -> 2-4 мм | J63: ='ОС'!B31 -> Простая штукатурка смесями гипсовыми | K63: ='ОС'!C31&" мм" -> 14 мм | V63: ='ОТ'!B10 -> Простая окраска краской водно-дисперсионной негорючей за 2 раза, группа горючести НГ | W63: ='ОТ'!C10 -> 2 слоя | Y63: ='ПТ'!B11 -> Потолок подвесной металлический типа "Грильято" 75х75х40 (цвет белый) на металлическом каркасе, группа горючести НГ | Z63: ='ПТ'!C11&" мм" -> 40 мм | AC63: =П!C127 -> Утеплитель минераловатный (Технониколь ТЕХНОФЛОР СТАНДАРТ) q=100-120 кг/м3, предел прочности на сжатие не менее 30 кПа, λ=0,044 Вт/м°С | AD63: ='П'!D127&" мм" -> 50 мм
AC64: =П!C128 -> Монолитный ж/бетон | AD64: ='П'!D128 -> по проекту
A65: С/у консьержа, ПУИ консьержа | B65: До уровня подвесного потолка | C65: ='ОС'!A3 -> ОС-1 | D65: ='ОС'!B3 -> Грунтовка Бетонконтакт | E65: ='ОС'!C3 -> 1 слой | F65: ='ОС'!A144 -> ОС-53 | G65: ='ОС'!B144 -> Грунтовка Бетонконтакт | H65: ='ОС'!C144 -> 1 слой | I65: ='ОС'!A28 -> ОС-15 | J65: ='ОС'!B28 -> Грунтовка глубокого проникновения | K65: ='ОС'!C28 -> 1 слой | U65: ='ОТ'!A30 -> ОТ-15 | V65: ='ОТ'!B30 -> Грунтовка глубокого проникновения | W65: ='ОТ'!C30 -> 1 слой | X65: ='ПТ'!A45 -> ПТ-9 | Y65: ='ПТ'!B45 -> Каркас металлический П 113 (профиль ПН 28х27 и ПП 60х27) | Z65: ='ПТ'!C45&" мм" -> 27 мм | AA65: нет | AB65: ='П'!A129 -> П-21 | AC65: =П!C129 -> Керамогранит с затиркой швов | AD65: ='П'!D129&" мм" -> 9 мм | AE65: нет | AF65: нет | AG65: нет
Y66: ='ПТ'!B46 -> ГСП-Н2 | Z66: ='ПТ'!C46&" мм" -> 12,5 мм | AC66: =П!C130 -> Клей плиточный водостойкий Церезит СМ 16 | AD66: =П!D130&" мм" -> 6 мм
D67: ='ОС'!B4 -> Затирка поверхности после демонтажа опалубки | E67: ='ОС'!C4&" мм" -> 2-4 мм | G67: ='ОС'!B145 -> Сплошное выравнивание смесями цементно-песчаными по сетке тканой стальной 10х10х0.8 мм | H67: ='ОС'!C145&" мм" -> до 35 мм | J67: ='ОС'!B29 -> Простая штукатурка смесями цементно-песчаными | K67: ='ОС'!C29&" мм" -> 14 мм | V67: ='ОТ'!B31 -> Керамическая плитка на растворе цементно-песчаном с затиркой швов | W67: ='ОТ'!C31&" мм" -> 12* мм | Y67: ='ПТ'!B47 -> Грунтовка глубокого проникновения | Z67: ='ПТ'!C47 -> 1 слой | AC67: =П!C131 -> Гидроизоляция однокомпонентная полимерная эластичная Церезит CL 51 с заведением на стены на 200 мм с прокладкой по углам водонепроницаемой ленты для герметизации швов Церезит CL 152 | AD67: ='П'!D131 -> 2 слоя
Y68: ='ПТ'!B48 -> Шпатлевка поверхности на цементной основе (с проклейкой стыков лентой армирующей) | Z68: ='ПТ'!C48&" мм" -> 2 мм | AC68: =П!C132 -> Грунтовка глубокого проникновения Церезит CT 17 | AD68: =П!D132 -> 1 слой
R69: ='ОС'!A46 -> ОС-24 | S69: ='ОС'!B46 -> Шпатлевка стыков ГСП с проклейкой лентой армирующей | T69: ='ОС'!C46 -> - | U69: ='ОТ'!A32 -> ОТ-16 | V69: ='ОТ'!B32 -> Грунтовка Бетонконтакт | W69: ='ОТ'!C32 -> 1 слой | AC69: =П!C133 -> Стяжка полусухая цементно-песчаная М150, армированная фиброволокном (фибра полипропиленовая 12мм, расход 0.6кг/м3) | AD69: ='П'!D133&" мм" -> 45 мм
V70: ='ОТ'!B33 -> Керамическая плитка на растворе цементно-песчаном с затиркой швов | W70: ='ОТ'!C33&" мм" -> 12* мм | Y70: ='ПТ'!B49 -> Грунтовка под финишную отделку | Z70: ='ПТ'!C49 -> 1 слой | AC70: =П!C134 -> Полиэтиленовая пленка 200 мкр | AD70: ='П'!D134 -> 1 слой
Y71: ='ПТ'!B50 -> Улучшенная окраска краской влагостойкой водно-дисперсионной за 2 раза | Z71: ='ПТ'!C50 -> 2 слоя | AC71: =П!C135 -> Утеплитель минераловатный (Технониколь ТЕХНОФЛОР СТАНДАРТ) q=100-120 кг/м3, предел прочности на сжатие не менее 30 кПа, λ=0,044 Вт/м°С | AD71: ='П'!D135&" мм" -> 50 мм
B72: Выше уровня подвесного потолка | AC72: =П!C136 -> Монолитный ж/бетон | AD72: ='П'!D136 -> по проекту
A73: Лестничная клетка (эвакуационная лестница из подземного этажа) | C73: ='ОС'!A36 -> ОС-19 | D73: ='ОС'!B36 -> Грунтовка Бетонконтакт | E73: ='ОС'!C36 -> 1 слой | F73: ='ОС'!A47 -> ОС-25 | G73: ='ОС'!B47 -> Грунтовка Бетонконтакт | H73: ='ОС'!C47 -> 1 слой | I73: ='ОС'!A34 -> ОС-18 | J73: ='ОС'!B34 -> Грунтовка глубокого проникновения | K73: ='ОС'!C34 -> 1 слой | L73: ='ОС'!A15 -> ОС-8 | M73: ='ОС'!B15 -> Грунтовка глубокого проникновения | N73: ='ОС'!C15 -> 1 слой | O73: ='ОС'!A6 -> ОС-3 | P73: ='ОС'!B6 -> Слой штукатурно-клеевой Технониколь 210 или аналог, армированный сеткой фасадной стеклотканевой щелочестойкой М3600 | Q73: ='ОС'!C6&" мм" -> 10 мм | U73: ='ОТ'!A7 -> ОТ-3 | V73: ='ОТ'!B7 -> Грунт-краска колеруемая, группа горючести НГ | W73: ='ОТ'!C7 -> 1 слой | X73: ='ПТ'!A51 -> ПТ-10 | Y73: ='ПТ'!B51 -> Смесь клеевая для монтажа утеплителя (Технониколь 110) | Z73: ='ПТ'!C51&" мм" -> 5 мм | AA73: нет | AB73: ='П'!A3 -> П-1 | AC73: ='П'!C3 -> Керамогранит с затиркой швов | AD73: ='П'!D3&" мм" -> 8 мм | AE73: =П!A361 -> ПЛН-02 | AF73: =П!C361 -> Плинтус из керамогранита h=100мм (нарезать из керамогранита отделки пола) | AG73: =П!D361&" мм" -> 8 мм
Y74: ='ПТ'!B52 -> Утеплитель минераловатный (Технониколь - ТЕХНОФАС ДЕКОР) ρ=90-110 кг/м³, предел прочности на отрыв не менее 15 кПа, λ=0,044 Вт/м°С | Z74: ='ПТ'!C52&" мм" -> 150 мм | AC74: =П!C4 -> Клей плиточный водостойкий Церезит СМ 16 | AD74: =П!D4&" мм" -> 6 мм
Y75: ='ПТ'!B53 -> Слой штукатурно-клеевой Технониколь 210 или аналог, армированный сеткой фасадной стеклотканевой щелочестойкой М3600 | Z75: ='ПТ'!C53&" мм" -> 10 мм | AC75: =П!C5 -> Грунтовка глубокого проникновения Церезит CT 17 | AD75: ='П'!D5 -> 1 слой
V76: ='ОТ'!B8 -> Окраска краской структурной негорючей, нанесение краскопультом, группа горючести НГ | W76: ='ОТ'!C8 -> 1 слой | Y76: ='ПТ'!B54 -> Грунтовка глубокого проникновения | Z76: ='ПТ'!C54 -> 1 слой
D77: ='ОС'!B37 -> Улучшенная штукатурка смесями цементно-песчаными | E77: ='ОС'!C37&" мм" -> 17 мм | G77: ='ОС'!B48 -> Сплошное выравнивание смесями цементно-песчаными по сетке тканой стальной 10х10х0.8 мм | H77: ='ОС'!C48 -> до 35 | J77: ='ОС'!B35 -> Улучшенная штукатурка смесями цементно-песчаными | K77: ='ОС'!C35&" мм" -> 17 мм | M77: ='ОС'!B16 -> Улучшенная штукатурка смесями цементно-песчаными по сетке тканой стальной 10х10х0.8 мм | N77: ='ОС'!C16&" мм" -> 17 мм | Y77: ='ПТ'!B55 -> Шпатлевка поверхности на цементной основе | Z77: ='ПТ'!C55&" мм" -> 2 мм | AC77: ='П'!C6 -> Стяжка полусухая цементно-песчаная М150, армированная фиброволокном (фибра полипропиленовая 12мм, расход 0.6кг/м3) | AD77: ='П'!D6&" мм" -> 96 мм
Y78: ='ПТ'!B56 -> Грунтовка под финишную отделку | Z78: ='ПТ'!C56 -> 1 слой
Y79: ='ПТ'!B57 -> Улучшенная окраска краской водно-дисперсионной негорючей за 2 раза, группа горючести НГ | Z79: ='ПТ'!C57 -> 2 слоя | AC79: ='П'!C7 -> Монолитный ж/бетон | AD79: ='П'!D7 -> по проекту
A80: Лестничная клетка (жилая часть) | B80: Площадка 1-го этажа | C80: ='ОС'!A36 -> ОС-19 | D80: ='ОС'!B36 -> Грунтовка Бетонконтакт | E80: ='ОС'!C36 -> 1 слой | O80: ='ОС'!A6 -> ОС-3 | P80: ='ОС'!B6 -> Слой штукатурно-клеевой Технониколь 210 или аналог, армированный сеткой фасадной стеклотканевой щелочестойкой М3600 | Q80: ='ОС'!C6&" мм" -> 10 мм | U80: ='ОТ'!A7 -> ОТ-3 | V80: ='ОТ'!B7 -> Грунт-краска колеруемая, группа горючести НГ | W80: ='ОТ'!C7 -> 1 слой | AB80: ='П'!A3 -> П-1 | AC80: ='П'!C3 -> Керамогранит с затиркой швов | AD80: ='П'!D3&" мм" -> 8 мм | AE80: =П!A361 -> ПЛН-02 | AF80: =П!C361 -> Плинтус из керамогранита h=100мм (нарезать из керамогранита отделки пола) | AG80: =П!D361&" мм" -> 8 мм
AC81: =П!C4 -> Клей плиточный водостойкий Церезит СМ 16 | AD81: =П!D4&" мм" -> 6 мм
AC82: =П!C5 -> Грунтовка глубокого проникновения Церезит CT 17 | AD82: ='П'!D5 -> 1 слой
AC83: =П!C6 -> Стяжка полусухая цементно-песчаная М150, армированная фиброволокном (фибра полипропиленовая 12мм, расход 0.6кг/м3) | AD83: ='П'!D6&" мм" -> 96 мм
D84: ='ОС'!B37 -> Улучшенная штукатурка смесями цементно-песчаными | E84: ='ОС'!C37&" мм" -> 17 мм | V84: ='ОТ'!B8 -> Окраска краской структурной негорючей, нанесение краскопультом, группа горючести НГ | W84: ='ОТ'!C8 -> 1 слой | AC84: =П!C7 -> Монолитный ж/бетон | AD84: ='П'!D7 -> по проекту
B85: Междуэтажная лестничная площадка | X85: ='ПТ'!A17 -> ПТ-4 | Y85: ='ПТ'!B17 -> Грунтовка Бетонконтакт | Z85: ='ПТ'!C17 -> 1 слой | AA85: нет | AB85: ='П'!A17 -> П-4 | AC85: ='П'!C17 -> Пропитка упрочняющая и обеспыливающая | AD85: ='П'!D17 -> 1 слой | AE85: =П!A368 -> ПЛН-10 | AF85: =П!C368 -> Покрытие негорючее защитно-декоративное моющееся, окраска низа стен h=100мм, полоса по поверхности пола, ступеней b=50мм, RAL 7040 (Серое окно)
Y86: ='ПТ'!B18 -> Затирка поверхности после демонтажа опалубки | Z86: ='ПТ'!C18&" мм" -> 2-4 мм | AC86: =П!C18 -> Пол наливной (цементная основа) Церезит CN 76 EXTRAHART | AD86: ='П'!D18&" мм" -> 20 мм
Y87: ='ПТ'!B19 -> Грунтовка глубокого проникновения | Z87: ='ПТ'!C19 -> 1 слой
Y88: ='ПТ'!B20 -> Шпатлевка поверхности на цементной основе | Z88: ='ПТ'!C20&" мм" -> 2 мм | AC88: ='П'!C19 -> Грунтовка Бетоноконтакт Церезит CT 19 | AD88: ='П'!D19 -> 1 слой
Y89: ='ПТ'!B21 -> Грунтовка под финишную отделку | Z89: ='ПТ'!C21 -> 1 слой | AC89: =П!C20 -> Монолитный ж/бетон | AD89: =П!D20 -> по проекту
Y90: ='ПТ'!B22 -> Улучшенная окраска краской водно-дисперсионной негорючей за 2 раза, группа горючести НГ | Z90: ='ПТ'!C22 -> 2 слоя
B91: Лестничные марши | X91: ='ПТ'!A58 -> ПТ-11 | Y91: ='ПТ'!B58 -> Грунтовка Бетонконтакт | Z91: ='ПТ'!C58 -> 1 слой | AA91: нет | AB91: ='П'!A26 -> П-6 | AC91: ='П'!C26 -> Пропитка упрочняющая и обеспыливающая | AD91: ='П'!D26 -> 1 слой
Y92: ='ПТ'!B59 -> Шпатлевка поверхности на цементной основе | Z92: ='ПТ'!C59&" мм" -> 2 мм
Y93: ='ПТ'!B60 -> Грунтовка под финишную отделку | Z93: ='ПТ'!C60 -> 1 слой | AC93: ='П'!C27 -> Монолитный ж/бетон | AD93: ='П'!D27 -> по проекту
Y94: ='ПТ'!B61 -> Улучшенная окраска краской водно-дисперсионной негорючей за 2 раза, группа горючести НГ | Z94: ='ПТ'!C61 -> 2 слоя
B95: Торцы междуэтажных лестничных площадок | C95: ='ОС'!A49 -> ОС-26 | D95: ='ОС'!B49 -> Грунтовка Бетонконтакт | E95: ='ОС'!C49 -> 1 слой | U95: ='ОТ'!A21 -> ОТ-10 | V95: ='ОТ'!B21 -> Грунтовка под финишную отделку | W95: ='ОТ'!C21 -> 1 слой
D96: ='ОС'!B50 -> Затирка поверхности после демонтажа опалубки | E96: ='ОС'!C50&" мм" -> 2-4 мм
D97: ='ОС'!B51 -> Грунтовка глубокого проникновения | E97: ='ОС'!C51 -> 1 слой
D98: ='ОС'!B52 -> Шпатлевка поверхности на цементной основе | E98: ='ОС'!C52&" мм" -> 2 мм
B99: Торцы лестничных маршей | C99: ='ОС'!A138 -> ОС-51 | D99: ='ОС'!B138 -> Грунтовка Бетонконтакт | E99: ='ОС'!C138 -> 1 слой | V99: ='ОТ'!B22 -> Улучшенная окраска краской водно-дисперсионной негорючей за 2 раза, группа горючести НГ | W99: ='ОТ'!C22 -> 2 слоя
D100: ='ОС'!B139 -> Шпатлевка поверхности на цементной основе | E100: ='ОС'!C139&" мм" -> 2 мм
...

Sheet 3. ОТДЕЛКА АР ТИПОВЫХ ЭТАЖЕЙ
C1: ОТДЕЛКА ПОМЕЩЕНИЙ ТИПОВОГО ЭТАЖА. ВЕРСИЯ 3
A2: Место применения | C2: СТЕНЫ | AA2: ПОТОЛОК | AG2: ПОЛ
C3: Черновая отделка стен | X3: Чистовая отделка стен | AA3: Черновая / Чистовая отделка потолка | AG3: Марка покрытия | AJ3: Плинтус
C4: Наружная стеновая панель | F4: Монолитный ж/бетон | I4: Выравнивание монолитных конструкций в местах стыка со стеной из ячеистых бетонных блоков | L4: Ячеистый бетонный блок | O4: Утеплитель | R4: ПГП | U4: ГСП-А (ГСП-Н2) | X4: Марка покрытия | AA4: Монолитный ж/бетон | AD4: Плинтус
C5: МОП
A6: Отделка оконных откосов в лестничной клетке | C6: ='ОС'!A113 -> ОС-44 | D6: ='ОС'!B113 -> Грунтовка Бетонконтакт | E6: ='ОС'!C113 -> 1 слой | F6: ='ОС'!A134 -> ОС-50 | G6: ='ОС'!B134 -> Грунтовка Бетонконтакт | H6: ='ОС'!C134 -> 1 слой | L6: ='ОС'!A61 -> ОС-29 | M6: ='ОС'!B61 -> Профиль угловой ПВХ перфорированный с армирующей стеклотканевой сеткой 100х100мм, сплошное выравнивание смесями цементно-песчаными по сетке тканой стальной 10х10х0.8 мм | N6: ='ОС'!C61&" мм" -> 17-35 мм | X6: ='ОТ'!A21 -> ОТ-10 | Y6: ='ОТ'!B21 -> Грунтовка под финишную отделку | Z6: ='ОТ'!C21 -> 1 слой
D7: ='ОС'!B114 -> Профиль угловой ПВХ перфорированный с армирующей стеклотканевой сеткой 100х100мм, сплошное выравнивание смесями цементно-песчаными по сетке тканой стальной 10х10х0.8 мм | E7: ='ОС'!C114&" мм" -> 10-40 мм | G7: ='ОС'!B135 -> Профиль угловой ПВХ перфорированный с армирующей стеклотканевой сеткой 100х100мм, сплошное выравнивание смесями цементно-песчаными по сетке тканой стальной 10х10х0.8 мм | H7: ='ОС'!C135&" мм" -> 17-40 мм | Y7: ='ОТ'!B22 -> Улучшенная окраска краской водно-дисперсионной негорючей за 2 раза, группа горючести НГ | Z7: ='ОТ'!C22 -> 2 слоя
D8: ='ОС'!B115 -> Грунтовка глубокого проникновения | E8: ='ОС'!C115 -> 1 слой | G8: ='ОС'!B136 -> Грунтовка глубокого проникновения | H8: ='ОС'!C136 -> 1 слой | M8: ='ОС'!B62 -> Грунтовка глубокого проникновения | N8: ='ОС'!C62 -> 1 слой
D9: ='ОС'!B116 -> Шпатлевка поверхности на цементной основе | E9: ='ОС'!C116&" мм" -> 2 мм | G9: ='ОС'!B137 -> Шпатлевка поверхности на цементной основе | H9: ='ОС'!C137&" мм" -> 2 мм | M9: ='ОС'!B63 -> Шпатлевка поверхности на цементной основе | N9: ='ОС'!C63&" мм" -> 2 мм
A10: Отделка оконных откосов в лифтовом холле | C10: ='ОС'!A67 -> ОС-31 | D10: ='ОС'!B67 -> Грунтовка Бетонконтакт | E10: ='ОС'!C67 -> 1 слой | F10: ='ОС'!A130 -> ОС-49 | G10: ='ОС'!B130 -> Грунтовка Бетонконтакт | H10: ='ОС'!C130 -> 1 слой | L10: ='ОС'!A117 -> ОС-45 | M10: ='ОС'!B117 -> ГСП-Н2 | N10: ='ОС'!C117&" мм" -> 12,5 мм | X10: ='ОТ'!A21 -> ОТ-10 | Y10: ='ОТ'!B21 -> Грунтовка под финишную отделку | Z10: ='ОТ'!C21 -> 1 слой
D11: ='ОС'!B68 -> Профиль угловой ПВХ перфорированный с армирующей стеклотканевой сеткой 100х100мм, сплошное выравнивание смесями гипсовыми по сетке СВУ 120-2600 СП 31-111-2004 | E11: ='ОС'!C68&" мм" -> 10-40 мм | G11: ='ОС'!B131 -> Профиль угловой ПВХ перфорированный с армирующей стеклотканевой сеткой 100х100мм, сплошное выравнивание смесями гипсовыми по сетке СВУ 120-2600 СП 31-111-2004 | H11: ='ОС'!C131&" мм" -> 17-40 мм | M11: ='ОС'!B118 -> Грунтовка глубокого проникновения | N11: ='ОС'!C118 -> 1 слой
M12: ='ОС'!B119 -> Профиль угловой ПВХ перфорированный с армирующей стеклотканевой сеткой 100х100мм, сплошное выравнивание смесями гипсовыми по сетке СВУ 120-2600 СП 31-111-2004 | N12: ='ОС'!C119&" мм" -> 19 мм | Y12: ='ОТ'!B22 -> Улучшенная окраска краской водно-дисперсионной негорючей за 2 раза, группа горючести НГ | Z12: ='ОТ'!C22 -> 2 слоя
D13: ='ОС'!B69 -> Грунтовка глубокого проникновения | E13: ='ОС'!C69 -> 1 слой | G13: ='ОС'!B132 -> Грунтовка глубокого проникновения | H13: ='ОС'!C132 -> 1 слой | M13: ='ОС'!B120 -> Грунтовка глубокого проникновения | N13: ='ОС'!C120 -> 1 слой
D14: ='ОС'!B70 -> Шпатлевка поверхности на гипсовой основе | E14: ='ОС'!C70&" мм" -> 2 мм | G14: ='ОС'!B133 -> Шпатлевка поверхности на гипсовой основе | H14: ='ОС'!C133&" мм" -> 2 мм | M14: ='ОС'!B121 -> Шпатлевка поверхности на гипсовой основе | N14: ='ОС'!C121&" мм" -> 2 мм
A15: Отделка откосов двери из тамбура лифтового холла на переходной балкон | F15: ='ОС'!A153 -> ОС-56 | G15: ='ОС'!B153 -> Каркас металлический С623 (профиль ПН 28х27 и ПП 60х27) | H15: ='ОС'!C153&" мм" -> 27 мм | L15: ='ОС'!A153 -> ОС-56 | M15: ='ОС'!B153 -> Каркас металлический С623 (профиль ПН 28х27 и ПП 60х27) | N15: ='ОС'!C153&" мм" -> 27 мм | X15: ='ОТ'!A7 -> ОТ-3 | Y15: ='ОТ'!B7 -> Грунт-краска колеруемая, группа горючести НГ | Z15: ='ОТ'!C9 -> 1 слой | AJ15: =П!A361 -> ПЛН-02 | AK15: =П!C361 -> Плинтус из керамогранита h=100мм (нарезать из керамогранита отделки пола) | AL15: =П!D361&" мм" -> 8 мм
G16: ='ОС'!B154 -> ГСП-Н2 | H16: ='ОС'!C154&" мм" -> 12,5 мм | M16: ='ОС'!B154 -> ГСП-Н2 | N16: ='ОС'!C154&" мм" -> 12,5 мм
G17: ='ОС'!B155 -> Грунтовка глубокого проникновения | H17: ='ОС'!C155 -> 1 слой | M17: ='ОС'!B155 -> Грунтовка глубокого проникновения | N17: ='ОС'!C155 -> 1 слой | Y17: ='ОТ'!B8 -> Окраска краской структурной негорючей, нанесение краскопультом, группа горючести НГ | Z17: ='ОТ'!C10 -> 2 слоя
G18: ='ОС'!B156 -> Профиль углозащитный оцинкованный 25х25мм, слой штукатурно-клеевой Технониколь 210 или аналог, армированный сеткой фасадной стеклотканевой щелочестойкой М3600 | H18: ='ОС'!C156&" мм" -> 10 мм | M18: ='ОС'!B156 -> Профиль углозащитный оцинкованный 25х25мм, слой штукатурно-клеевой Технониколь 210 или аналог, армированный сеткой фасадной стеклотканевой щелочестойкой М3600 | N18: ='ОС'!C156&" мм" -> 10 мм
A19: Отделка откосов двери с переходного балкона на лестничную клетку | F19: ='ОС'!A146&" (вертикальный откос со стороны дверной ручки, горизонтальный откос)" -> ОС-55.1 (вертикальный откос со стороны дверной ручки, горизонтальный откос) | G19: ='ОС'!B146 -> Каркас металлический С623 (профиль ПН 28х27 и ПП 60х27) | H19: ='ОС'!C146&" мм" -> 27 мм | L19: ='ОС'!A146&" (вертикальный откос со стороны дверной ручки, горизонтальный откос)" -> ОС-55.1 (вертикальный откос со стороны дверной ручки, горизонтальный откос) | M19: ='ОС'!B146 -> Каркас металлический С623 (профиль ПН 28х27 и ПП 60х27) | N19: ='ОС'!C146&" мм" -> 27 мм | X19: ='ОТ'!A7 -> ОТ-3 | Y19: ='ОТ'!B7 -> Грунт-краска колеруемая, группа горючести НГ | Z19: ='ОТ'!C9 -> 1 слой | AJ19: =П!A368 -> ПЛН-10 | AK19: =П!C368 -> Покрытие негорючее защитно-декоративное моющееся, окраска низа стен h=100мм, полоса по поверхности пола, ступеней b=50мм, RAL 7040 (Серое окно) | AL19: -
G20: ='ОС'!B147 -> ГСП-Н2 | H20: ='ОС'!C147&" мм" -> 12,5 мм | M20: ='ОС'!B147 -> ГСП-Н2 | N20: ='ОС'!C147&" мм" -> 12,5 мм
G21: ='ОС'!B148 -> Грунтовка глубокого проникновения | H21: ='ОС'!C148 -> 1 слой | M21: ='ОС'!B148 -> Грунтовка глубокого проникновения | N21: ='ОС'!C148 -> 1 слой | Y21: ='ОТ'!B8 -> Окраска краской структурной негорючей, нанесение краскопультом, группа горючести НГ | Z21: ='ОТ'!C10 -> 2 слоя
G22: ='ОС'!B149 -> Профиль углозащитный оцинкованный 25х25мм, сплошное выравнивание смесями цементно-песчаными по сетке тканой стальной 10х10х0.8 мм | H22: ='ОС'!C149&" мм" -> 10 мм | M22: ='ОС'!B149 -> Профиль углозащитный оцинкованный 25х25мм, сплошное выравнивание смесями цементно-песчаными по сетке тканой стальной 10х10х0.8 мм | N22: ='ОС'!C149&" мм" -> 10 мм
F23: ='ОС'!A150&" (вертикальный откос со стороны дверных петель)" -> ОС-55.2 (вертикальный откос со стороны дверных петель) | G23: ='ОС'!B150 -> ГСП-Н2 | H23: ='ОС'!C150&" мм" -> 12,5 мм | L23: ='ОС'!A150&" (вертикальный откос со стороны дверных петель)" -> ОС-55.2 (вертикальный откос со стороны дверных петель) | M23: ='ОС'!B150 -> ГСП-Н2 | N23: ='ОС'!C150&" мм" -> 12,5 мм
G24: ='ОС'!B151 -> Грунтовка глубокого проникновения | H24: ='ОС'!C151 -> 1 слой | M24: ='ОС'!B151 -> Грунтовка глубокого проникновения | N24: ='ОС'!C151 -> 1 слой
G25: ='ОС'!B152 -> Профиль углозащитный оцинкованный 25х25мм, сплошное выравнивание смесями цементно-песчаными по сетке тканой стальной 10х10х0.8 мм | H25: ='ОС'!C152&" мм" -> 10 мм | M25: ='ОС'!B152 -> Профиль углозащитный оцинкованный 25х25мм, сплошное выравнивание смесями цементно-песчаными по сетке тканой стальной 10х10х0.8 мм | N25: ='ОС'!C152&" мм" -> 10 мм
A26: Лифтовый холл, межквартирный коридор | B26: До отметки 60 мм выше отметки низа подвесного потолка "Грильято" | C26: ='ОС'!A23 -> ОС-12 | D26: ='ОС'!B23 -> Грунтовка Бетонконтакт | E26: ='ОС'!C23 -> 1 слой | F26: ='ОС'!A40 -> ОС-21 | G26: ='ОС'!B40 -> Грунтовка Бетонконтакт | H26: ='ОС'!C40 -> 1 слой | I26: ='ОС'!A25 -> ОС-13 | J26: ='ОС'!B25 -> Грунтовка Бетонконтакт | K26: ='ОС'!C25 -> 1 слой | L26: ='ОС'!A38 -> ОС-20 | M26: ='ОС'!B38 -> Грунтовка глубокого проникновения | N26: ='ОС'!C38 -> 1 слой | R26: ='ОС'!A19 -> ОС-10 | S26: ='ОС'!B19 -> Грунтовка глубокого проникновения | T26: ='ОС'!C19 -> 1 слой | U26: ='ОС'!A19 -> ОС-10 | V26: ='ОС'!B19 -> Грунтовка глубокого проникновения | W26: ='ОС'!C19 -> 1 слой | X26: ='ОТ'!A7 -> ОТ-3 | Y26: ='ОТ'!B7 -> Грунт-краска колеруемая, группа горючести НГ | Z26: ='ОТ'!C7 -> 1 слой | AA26: ='ПТ'!A7 -> ПТ-2 | AB26: ='ПТ'!B7 -> Грунтовка Бетонконтакт | AC26: ='ПТ'!C7 -> 1 слой | AD26: нет | AE26: нет | AF26: нет | AG26: =П!A213 -> П-35 | AH26: =П!C213 -> Керамогранит с затиркой швов | AI26: =П!D213&" мм" -> 8 мм | AJ26: =П!A361 -> ПЛН-02 | AK26: =П!C361 -> Плинтус из керамогранита h=100мм (нарезать из керамогранита отделки пола) | AL26: =П!D361&" мм" -> 8 мм
AB27: ='ПТ'!B8 -> Затирка поверхности после демонтажа опалубки | AC27: ='ПТ'!C8&" мм" -> 2-4 мм | AH27: =П!C214 -> Клей плиточный водостойкий Церезит СМ 16 | AI27: =П!D214&" мм" -> 6 мм
D28: ='ОС'!B24 -> Сплошное выравнивание смесями гипсовыми | E28: ='ОС'!C24&" мм" -> 10 мм | G28: ='ОС'!B41 -> Улучшенная штукатурка смесями гипсовыми | H28: ='ОС'!C41&" мм" -> 17 мм | J28: ='ОС'!B26 -> Сплошное выравнивание смесями гипсовыми по сетке СВУ 120-2600 СП 31-111-2004 | K28: ='ОС'!C26&" мм" -> до 35 мм | M28: ='ОС'!B39 -> Улучшенная штукатурка смесями гипсовыми | N28: ='ОС'!C39&" мм" -> 17 мм | Y28: ='ОТ'!B8 -> Окраска краской структурной негорючей, нанесение краскопультом, группа горючести НГ | Z28: ='ОТ'!C8 -> 1 слой | AB28: ='ПТ'!B9 -> Грунтовка под финишную отделку | AC28: ='ПТ'!C9 -> 1 слой | AH28: =П!C215 -> Грунтовка глубокого проникновения Церезит CT 17 | AI28: =П!D215 -> 1 слой
B29: Выше отметки 60 мм от низа подвесного потолка "Грильято" | C29: ='ОС'!A3 -> ОС-1 | D29: ='ОС'!B3 -> Грунтовка Бетонконтакт | E29: ='ОС'!C3 -> 1 слой | F29: ='ОС'!A3 -> ОС-1 | G29: ='ОС'!B3 -> Грунтовка Бетонконтакт | H29: ='ОС'!C3 -> 1 слой | I29: ='ОС'!A3 -> ОС-1 | J29: ='ОС'!B3 -> Грунтовка Бетонконтакт | K29: ='ОС'!C3 -> 1 слой | L29: ='ОС'!A30 -> ОС-16 | M29: ='ОС'!B30 -> Грунтовка глубокого проникновения | N29: ='ОС'!C30 -> 1 слой | S29: ='ОС'!B20 -> Сплошное выравнивание смесями гипсовыми | T29: ='ОС'!C20&" мм" -> 10 мм | V29: ='ОС'!B20 -> Сплошное выравнивание смесями гипсовыми | W29: ='ОС'!C20&" мм" -> 10 мм | X29: ='ОТ'!A9 -> ОТ-4 | Y29: ='ОТ'!B9 -> Грунтовка под финишную отделку | Z29: ='ОТ'!C9 -> 1 слой | AB29: ='ПТ'!B10 -> Простая окраска краской водно-дисперсионной негорючей за 2 раза (цвет белый), группа горючести НГ | AC29: ='ПТ'!C10 -> 2 слоя | AH29: =П!C216 -> Стяжка полусухая цементно-песчаная М150, армированная фиброволокном (фибра полипропиленовая 12мм, расход 0.6кг/м3) | AI29: =П!D216&" мм" -> 86 мм
D30: ='ОС'!B4 -> Затирка поверхности после демонтажа опалубки | E30: ='ОС'!C4&" мм" -> 2-4 мм | G30: ='ОС'!B4 -> Затирка поверхности после демонтажа опалубки | H30: ='ОС'!C4&" мм" -> 2-4 мм | J30: ='ОС'!B4 -> Затирка поверхности после демонтажа опалубки | K30: ='ОС'!C4&" мм" -> 2-4 мм | M30: ='ОС'!B31 -> Простая штукатурка смесями гипсовыми | N30: ='ОС'!C31&" мм" -> 14 мм | Y30: ='ОТ'!B10 -> Простая окраска краской водно-дисперсионной негорючей за 2 раза, группа горючести НГ | Z30: ='ОТ'!C10 -> 2 слоя | AB30: ='ПТ'!B11 -> Потолок подвесной металлический типа "Грильято" 75х75х40 (цвет белый) на металлическом каркасе, группа горючести НГ | AC30: ='ПТ'!C12 -> 1 слой | AH30: =П!C217 -> Монолитный ж/бетон | AI30: =П!D217 -> по проекту
A31: Помещение ствола мусоропровода | F31: ='ОС'!A103 -> ОС-41 | G31: ='ОС'!B103 -> Грунтовка Бетонконтакт | H31: ='ОС'!C103 -> 1 слой | L31: ='ОС'!A91 -> ОС-38 | M31: ='ОС'!B91 -> Грунтовка глубокого проникновения | N31: ='ОС'!C91 -> 1 слой | X31: ='ОТ'!A15 -> ОТ-7 | Y31: ='ОТ'!B15 -> Грунтовка под финишную отделку | Z31: ='ОТ'!C15 -> 1 слой | AA31: ='ПТ'!A98 -> ПТ-20 | AB31: ='ПТ'!B98 -> Грунтовка Бетонконтакт | AC31: ='ПТ'!C98 -> 1 слой | AD31: нет | AE31: нет | AF31: нет | AG31: =П!A213 -> П-35 | AH31: =П!C213 -> Керамогранит с затиркой швов | AI31: =П!D213&" мм" -> 8 мм | AJ31: =П!A361 -> ПЛН-02 | AK31: =П!C361 -> Плинтус из керамогранита h=100мм (нарезать из керамогранита отделки пола) | AL31: =П!D361&" мм" -> 8 мм
AB32: ='ПТ'!B99 -> Затирка поверхности после демонтажа опалубки | AC32: ='ПТ'!C99&" мм" -> 2-4 мм | AH32: =П!C214 -> Клей плиточный водостойкий Церезит СМ 16 | AI32: =П!D214&" мм" -> 6 мм
G33: ='ОС'!B104 -> Улучшенная штукатурка смесями гипсовыми | H33: ='ОС'!C104&" мм" -> 17 мм | M33: ='ОС'!B92 -> Улучшенная штукатурка смесями гипсовыми | N33: ='ОС'!C92&" мм" -> 17 мм | AB33: ='ПТ'!B100 -> Грунтовка глубокого проникновения | AC33: ='ПТ'!C100 -> 1 слой | AH33: =П!C215 -> Грунтовка глубокого проникновения Церезит CT 17 | AI33: =П!D215 -> 1 слой
Y34: ='ОТ'!B16 -> Улучшенная окраска краской водно-дисперсионной влагостойкой за 2 раза | Z34: ='ОТ'!C16 -> 2 слоя | AB34: ='ПТ'!B101 -> Шпатлевка поверхности на гипсовой основе | AC34: ='ПТ'!C101&" мм" -> 2 мм | AH34: =П!C216 -> Стяжка полусухая цементно-песчаная М150, армированная фиброволокном (фибра полипропиленовая 12мм, расход 0.6кг/м3) | AI34: =П!D216&" мм" -> 86 мм
G35: ='ОС'!B105 -> Грунтовка глубокого проникновения | H35: ='ОС'!C105 -> 1 слой | M35: ='ОС'!B93 -> Грунтовка глубокого проникновения | N35: ='ОС'!C93 -> 1 слой | AB35: ='ПТ'!B102 -> Грунтовка под финишную отделку | AC35: ='ПТ'!C102 -> 1 слой
G36: ='ОС'!B106 -> Шпатлевка поверхности на гипсовой основе | H36: ='ОС'!C106&" мм" -> 2 мм | M36: ='ОС'!B94 -> Шпатлевка поверхности на гипсовой основе | N36: ='ОС'!C94&" мм" -> 2 мм | AB36: ='ПТ'!B103 -> Улучшенная окраска краской влагостойкой водно-дисперсионной за 2 раза | AC36: ='ПТ'!C103 -> 2 слоя | AH36: =П!C217 -> Монолитный ж/бетон | AI36: =П!D217 -> по проекту
A37: Лестничная клетка | B37: Площадка типового этажа | C37: ='ОС'!A17 -> ОС-9 | D37: ='ОС'!B17 -> Грунтовка Бетонконтакт | E37: ='ОС'!C17 -> 1 слой | F37: ='ОС'!A36 -> ОС-19 | G37: ='ОС'!B36 -> Грунтовка Бетонконтакт | H37: ='ОС'!C36 -> 1 слой | L37: ='ОС'!A34 -> ОС-18 | M37: ='ОС'!B34 -> Грунтовка глубокого проникновения | N37: ='ОС'!C34 -> 1 слой | O37: ='ОС'!A6 -> ОС-3 | P37: ='ОС'!B6 -> Слой штукатурно-клеевой Технониколь 210 или аналог, армированный сеткой фасадной стеклотканевой щелочестойкой М3600 | Q37: ='ОС'!C6&" мм" -> 10 мм | X37: ='ОТ'!A7 -> ОТ-3 | Y37: ='ОТ'!B7 -> Грунт-краска колеруемая, группа горючести НГ | Z37: ='ОТ'!C7 -> 1 слой | AA37: ='ПТ'!A17 -> ПТ-4 | AB37: ='ПТ'!B17 -> Грунтовка Бетонконтакт | AC37: ='ПТ'!C17 -> 1 слой | AD37: нет | AE37: нет | AF37: нет | AG37: ='П'!A12 -> П-3 | AH37: ='П'!C12 -> Пропитка упрочняющая и обеспыливающая | AI37: ='П'!D12 -> 1 слой | AJ37: =П!A368 -> ПЛН-10 | AK37: =П!C368 -> Покрытие негорючее защитно-декоративное моющееся, окраска низа стен h=100мм, полоса по поверхности пола, ступеней b=50мм, RAL 7040 (Серое окно) | AL37: -
AB38: ='ПТ'!B18 -> Затирка поверхности после демонтажа опалубки | AC38: ='ПТ'!C18&" мм" -> 2-4 мм | AH38: =П!C13 -> Наливной пол (цементная основа) Церезит CN 76 EXTRAHART | AI38: ='П'!D13&" мм" -> 20 мм
AB39: ='ПТ'!B19 -> Грунтовка глубокого проникновения | AC39: ='ПТ'!C19 -> 1 слой | AH39: =П!C14 -> Грунтовка глубокого проникновения Церезит CT 17 | AI39: ='П'!D14 -> 1 слой
AB40: ='ПТ'!B20 -> Шпатлевка поверхности на цементной основе | AC40: ='ПТ'!C20&" мм" -> 2 мм | AH40: =П!C15 -> Стяжка полусухая цементно-песчаная М150, армированная фиброволокном (фибра полипропиленовая 12мм, расход 0.6кг/м3) | AI40: ='П'!D15&" мм" -> 90 мм
AB41: ='ПТ'!B21 -> Грунтовка под финишную отделку | AC41: ='ПТ'!C21 -> 1 слой | AH41: =П!C16 -> Монолитный ж/бетон | AI41: ='П'!D16 -> по проекту
B42: Междуэтажная лестничная площадка | D42: ='ОС'!B18 -> Сплошное выравнивание смесями цементно-песчаными | E42: ='ОС'!C18&" мм" -> 10 мм | G42: ='ОС'!B37 -> Улучшенная штукатурка смесями цементно-песчаными | H42: ='ОС'!C37&" мм" -> 17 мм | M42: ='ОС'!B35 -> Улучшенная штукатурка смесями цементно-песчаными | N42: ='ОС'!C35&" мм" -> 17 мм | Y42: ='ОТ'!B8 -> Окраска краской структурной негорючей, нанесение краскопультом, группа горючести НГ | Z42: ='ОТ'!C8 -> 1 слой | AB42: ='ПТ'!B22 -> Улучшенная окраска краской водно-дисперсионной негорючей за 2 раза, группа горючести НГ | AC42: ='ПТ'!C22 -> 2 слоя | AG42: ='П'!A17 -> П-4 | AH42: =П!C17 -> Пропитка упрочняющая и обеспыливающая | AI42: =П!D17 -> 1 слой
AH43: =П!C18 -> Пол наливной (цементная основа) Церезит CN 76 EXTRAHART | AI43: ='П'!D18&" мм" -> 20 мм
AH44: =П!C19 -> Грунтовка Бетоноконтакт Церезит CT 19 | AI44: ='П'!D19 -> 1 слой
AH45: =П!C20 -> Монолитный ж/бетон | AI45: =П!D20 -> по проекту
B46: Лестничные марши | AA46: ='ПТ'!A58 -> ПТ-11 | AB46: ='ПТ'!B58 -> Грунтовка Бетонконтакт | AC46: ='ПТ'!C58 -> 1 слой | AD46: нет | AG46: ='П'!A26 -> П-6 | AH46: ='П'!C26 -> Пропитка упрочняющая и обеспыливающая | AI46: ='П'!D26 -> 1 слой
AB47: ='ПТ'!B59 -> Шпатлевка поверхности на цементной основе | AC47: ='ПТ'!C59&" мм" -> 2 мм
AB48: ='ПТ'!B60 -> Грунтовка под финишную отделку | AC48: ='ПТ'!C60 -> 1 слой | AH48: ='П'!C27 -> Монолитный ж/бетон | AI48: ='П'!D27 -> по проекту
AB49: ='ПТ'!B61 -> Улучшенная окраска краской водно-дисперсионной негорючей за 2 раза, группа горючести НГ | AC49: ='ПТ'!C61 -> 2 слоя
B50: Торцы этажных и междуэтажных лестничных площадок | F50: ='ОС'!A49 -> ОС-26 | G50: ='ОС'!B49 -> Грунтовка Бетонконтакт | H50: ='ОС'!C49 -> 1 слой | X50: ='ОТ'!A21 -> ОТ-10 | Y50: ='ОТ'!B21 -> Грунтовка под финишную отделку | Z50: ='ОТ'!C21 -> 1 слой
G51: ='ОС'!B50 -> Затирка поверхности после демонтажа опалубки | H51: ='ОС'!C50&" мм" -> 2-4 мм
G52: ='ОС'!B51 -> Грунтовка глубокого проникновения | H52: ='ОС'!C51 -> 1 слой
G53: ='ОС'!B52 -> Шпатлевка поверхности на цементной основе | H53: ='ОС'!C52&" мм" -> 2 мм
B54: Торцы лестничных маршей | F54: ='ОС'!A138 -> ОС-51 | G54: ='ОС'!B138 -> Грунтовка Бетонконтакт | H54: ='ОС'!C138 -> 1 слой | Y54: ='ОТ'!B22 -> Улучшенная окраска краской водно-дисперсионной негорючей за 2 раза, группа горючести НГ | Z54: ='ОТ'!C22 -> 2 слоя
G55: ='ОС'!B139 -> Шпатлевка поверхности на цементной основе | H55: ='ОС'!C139&" мм" -> 2 мм
A56: Тамбур | B56: До отметки 60 мм выше отметки низа подвесного потолка "Грильято" | O56: ='ОС'!A6 -> ОС-3 | P56: ='ОС'!B6 -> Слой штукатурно-клеевой Технониколь 210 или аналог, армированный сеткой фасадной стеклотканевой щелочестойкой М3600 | Q56: ='ОС'!C6&" мм" -> 10 мм | X56: ='ОТ'!A7 -> ОТ-3 | Y56: ='ОТ'!B7 -> Грунт-краска колеруемая, группа горючести НГ | Z56: ='ОТ'!C7 -> 1 слой | AA56: ='ПТ'!A129 -> ПТ-27 | AB56: ='ПТ'!B129 -> Смесь клеевая для монтажа утеплителя (Технониколь 110) | AC56: ='ПТ'!C129&" мм" -> 5 мм | AD56: нет | AE56: нет | AF56: нет | AG56: =П!A284 -> П-48 | AH56: =П!C284 -> Керамогранит с затиркой швов | AI56: =П!D284&" мм" -> 8 мм | AJ56: =П!A362 -> ПЛН-03 | AK56: =П!C362 -> Плинтус из керамогранита h=100мм (нарезать из керамогранита отделки пола) | AL56: =П!D362&" мм" -> 8 мм
AB57: ='ПТ'!B130 -> Утеплитель минераловатный (Технониколь - ТЕХНОФАС ДЕКОР) ρ=90-110 кг/м³, предел прочности на отрыв не менее 15 кПа, λ=0,044 Вт/м°С | AC57: ='ПТ'!C130&" мм" -> 150 мм | AH57: =П!C285 -> Клей плиточный водостойкий Церезит СМ 16 | AI57: =П!D285&" мм" -> 6 мм
Y58: ='ОТ'!B8 -> Окраска краской структурной негорючей, нанесение краскопультом, группа горючести НГ | Z58: ='ОТ'!C8 -> 1 слой | AH58: =П!C286 -> Грунтовка глубокого проникновения Церезит CT 17 | AI58: =П!D286 -> 1 слой
AB59: ='ПТ'!B131 -> Слой штукатурно-клеевой Технониколь 210 или аналог, армированный сеткой фасадной стеклотканевой щелочестойкой М3600 | AC59: ='ПТ'!C131&" мм" -> 10 мм | AH59: =П!C287 -> Стяжка полусухая цементно-песчаная М150, армированная фиброволокном (фибра полипропиленовая 12мм, расход 0.6кг/м3) | AI59: =П!D287&" мм" -> 46 мм
B60: Выше отметки 60 мм от низа подвесного потолка "Грильято" | X60: ='ОТ'!A9 -> ОТ-4 | Y60: ='ОТ'!B9 -> Грунтовка под финишную отделку | Z60: ='ОТ'!C9 -> 1 слой | AB60: ='ПТ'!B132 -> Грунтовка под финишную отделку | AC60: ='ПТ'!C132 -> 1 слой | AH60: =П!C288 -> Пленка полиэтиленовая 200 мкр | AI60: =П!D288 -> 1 слой
Y61: ='ОТ'!B10 -> Простая окраска краской водно-дисперсионной негорючей за 2 раза, группа горючести НГ | Z61: ='ОТ'!C10 -> 2 слоя | AB61: ='ПТ'!B133 -> Простая окраска краской водно-дисперсионной негорючей краской за 2 раза (цвет белый), группа горючести НГ | AC61: ='ПТ'!C133 -> 2 слоя | AH61: =П!C289 -> Утеплитель минераловатный (Технониколь ТЕХНОФЛОР СТАНДАРТ) q=100-120 кг/м3, предел прочности на сжатие не менее 30 кПа, λ=0,044 Вт/м°С | AI61: =П!D289&" мм" -> 40 мм
AB62: ='ПТ'!B134 -> Потолок подвесной металлический типа "Грильято" 75х75х40 (цвет белый) на металлическом каркасе, группа горючести НГ | AC62: ='ПТ'!C134&" мм" -> 40 мм | AH62: =П!C290 -> Монолитный ж/бетон | AI62: =П!D290 -> по проекту
A63: Переходной балкон | AA63: ='ПТ'!A107 -> ПТ-22 | AB63: ='ПТ'!B107 -> Грунтовка Бетонконтакт | AC63: ='ПТ'!C107 -> 1 слой | AD63: нет | AE63: нет | AF63: нет | AG63: =П!A208 -> П-34 | AH63: =П!C208 -> Керамогранит с затиркой швов Церезит CE 89, класс затирки RGR2T | AI63: =П!D208&" мм" -> 8 мм | AJ63: нет | AK63: нет | AL63: нет
AB64: ='ПТ'!B108 -> Затирка поверхности после демонтажа опалубки | AC64: ='ПТ'!C108&" мм" -> 2-4 мм | AH64: =П!C209 -> Клей плиточный водостойкий Церезит СМ 16 Церезит CM 17 | AI64: =П!D209&" мм" -> 6 мм
AB65: ='ПТ'!B109 -> Грунтовка фасадная универсальная | AC65: ='ПТ'!C109 -> 1 слой | AH65: =П!C210 -> Гидроизоляция полимерцементная эластичная Церезит CR 166 с заведением на стену на 200 мм с прокладкой по углам водонепроницаемой ленты для герметизации швов Церезит CL 152 | AI65: =П!D210 -> 2 слоя
AB66: ='ПТ'!B110 -> Простая окраска краской фасадной атмосферостойкой за 2 раза | AC66: ='ПТ'!C110 -> 2 слоя | AH66: =П!C211 -> Стяжка полусухая цементно-песчаная М150, армированная фиброволокном (фибра полипропиленовая 12мм, расход 0.6кг/м3) | AI66: =П!D211&" мм" -> 75-83 мм
AH67: =П!C212 -> Монолитный ж/бетон | AI67: =П!D212 -> по проекту
A68: Эксплуатируемые технические ниши | F68: ='ОС'!A3 -> ОС-1 | G68: ='ОС'!B3 -> Грунтовка Бетонконтакт | H68: ='ОС'!C3 -> 1 слой | L68: ='ОС'!A28 -> ОС-15 | M68: ='ОС'!B28 -> Грунтовка глубокого проникновения | N68: ='ОС'!C28 -> 1 слой | X68: ='ОТ'!A29 -> ОТ-14 | Y68: ='ОТ'!B29 -> Пропитка упрочняющая обеспыливающая | Z68: ='ОТ'!C29 -> 1 слой | AA68: ='ПТ'!A140 -> ПТ-30 | AB68: ='ПТ'!B140 -> Пропитка упрочняющая обеспыливающая | AC68: ='ПТ'!C140 -> 1 слой | AD68: нет | AE68: нет | AF68: нет | AG68: ='П'!A26 -> П-6 | AH68: ='П'!C26 -> Пропитка упрочняющая и обеспыливающая | AI68: ='П'!D26 -> 1 слой | AJ68: нет | AK68: нет | AL68: нет
G69: ='ОС'!B4 -> Затирка поверхности после демонтажа опалубки | H69: ='ОС'!C4&" мм" -> 2-4 мм | M69: ='ОС'!B29 -> Простая штукатурка смесями цементно-песчаными | N69: ='ОС'!C29&" мм" -> 14 мм | AH69: =П!C27 -> Монолитный ж/бетон | AI69: =П!D27 -> по проекту
C70: КВАРТИРЫ
A71: Отделка оконных откосов | C71: ='ОС'!A67 -> ОС-31 | D71: ='ОС'!B67 -> Грунтовка Бетонконтакт | E71: ='ОС'!C67 -> 1 слой | L71: ='ОС'!A117 -> ОС-45 | M71: ='ОС'!B117 -> ГСП-Н2 | N71: ='ОС'!C117&" мм" -> 12,5 мм | X71: ='ОТ'!A17 -> ОТ-8 | Y71: ='ОТ'!B17 -> Грунтовка под финишную отделку | Z71: ='ОТ'!C17 -> 1 слой
D72: ='ОС'!B68 -> Профиль угловой ПВХ перфорированный с армирующей стеклотканевой сеткой 100х100мм, сплошное выравнивание смесями гипсовыми по сетке СВУ 120-2600 СП 31-111-2004 | E72: ='ОС'!C68&" мм" -> 10-40 мм | M72: ='ОС'!B118 -> Грунтовка глубокого проникновения | N72: ='ОС'!C118 -> 1 слой
M73: ='ОС'!B119 -> Профиль угловой ПВХ перфорированный с армирующей стеклотканевой сеткой 100х100мм, сплошное выравнивание смесями гипсовыми по сетке СВУ 120-2600 СП 31-111-2004 | N73: ='ОС'!C119&" мм" -> 19 мм | Y73: ='ОТ'!B18 -> Улучшенная окраска краской водно-дисперсионной за 2 раза | Z73: ='ОТ'!C18 -> 2 слоя
D74: ='ОС'!B69 -> Грунтовка глубокого проникновения | E74: ='ОС'!C69 -> 1 слой | M74: ='ОС'!B120 -> Грунтовка глубокого проникновения | N74: ='ОС'!C120 -> 1 слой
D75: ='ОС'!B70 -> Шпатлевка поверхности на гипсовой основе | E75: ='ОС'!C70&" мм" -> 2 мм | M75: ='ОС'!B121 -> Шпатлевка поверхности на гипсовой основе | N75: ='ОС'!C121&" мм" -> 2 мм
A76: Отделка балконных откосов | L76: ='ОС'!A71 -> ОС-33 | M76: ='ОС'!B71 -> Грунтовка глубокого проникновения | N76: ='ОС'!C71 -> 1 слой | X76: ='ОТ'!A17 -> ОТ-8 | Y76: ='ОТ'!B17 -> Грунтовка под финишную отделку | Z76: ='ОТ'!C17 -> 1 слой | AG76: =П!A218 -> П-36 | AH76: =П!C218 -> Ламинат не ниже 32 класса | AI76: =П!D218&" мм" -> 8 мм | AJ76: =П!A366 -> ПЛН-08 | AK76: =П!C366 -> Плинтус напольный ПВХ с мягким краем, с одним кабель-каналом | AL76: =П!D366&" мм" -> 22 мм
AH77: =П!C219 -> Подложка под ламинат | AI77: =П!D219&" мм" -> 5 мм
AH78: =П!C220 -> Грунтовка глубокого проникновения Церезит CT 17 | AI78: =П!D220 -> 1 слой
AH79: =П!C221 -> Стяжка полусухая цементно-песчаная М150, армированная фиброволокном (фибра полипропиленовая 12мм, расход 0.6кг/м3) | AI79: =П!D221&" мм" -> 82 мм
AH80: =П!C222 -> Подложка звукоизоляционная из сшитого вспененного полиэтилена с индексом улучшения изоляции ударного шума не менее 22 дБ | AI80: =П!D222&" мм" -> 5 мм
AH81: =П!C223 -> Монолитный ж/бетон | AI81: =П!D223 -> по проекту
AG82: =П!A230 -> П-38 | AH82: =П!C230 -> Керамогранит с затиркой швов | AI82: =П!D230&" мм" -> 9 мм
M83: ='ОС'!B72 -> Профиль угловой ПВХ перфорированный с армирующей стеклотканевой сеткой 100х100мм, сплошное выравнивание смесями гипсовыми по сетке СВУ 120-2600 СП 31-111-2004 | N83: ='ОС'!C72&" мм" -> 17-35 мм | AH83: =П!C231 -> Клей плиточный водостойкий Церезит СМ 16 | AI83: =П!D231&" мм" -> 6 мм
Y84: ='ОТ'!B18 -> Улучшенная окраска краской водно-дисперсионной за 2 раза | Z84: ='ОТ'!C18 -> 2 слоя | AH84: =П!C232 -> Грунтовка глубокого проникновения Церезит CT 17 | AI84: =П!D232 -> 1 слой
AH85: =П!C233 -> Стяжка полусухая цементно-песчаная М150, армированная фиброволокном (фибра полипропиленовая 12мм, расход 0.6кг/м3) | AI85: =П!D233&" мм" -> 80-94 мм
AH86: =П!C234 -> Подложка звукоизоляционная из сшитого вспененного полиэтилена с индексом улучшения изоляции ударного шума не менее 22 дБ | AI86: =П!D234&" мм" -> 5 мм
AH87: =П!C235 -> Монолитный ж/бетон | AI87: =П!D235 -> по проекту
AG88: =П!A236 -> П-39 | AH88: =П!C236 -> Керамогранит с затиркой швов | AI88: =П!D236&" мм" -> 8 мм
AH89: =П!C237 -> Клей плиточный водостойкий Церезит СМ 16 | AI89: =П!D237&" мм" -> 6 мм
M90: ='ОС'!B73 -> Грунтовка глубокого проникновения | N90: ='ОС'!C73 -> 1 слой | AH90: =П!C238 -> Гидроизоляция однокомпонентная полимерная эластичная Церезит CL 51 с заведением на стены на 200 мм с прокладкой по углам водонепроницаемой ленты для герметизации швов Церезит CL 152 | AI90: =П!D238 -> 2 слоя
AH91: =П!C239 -> Грунтовка глубокого проникновения Церезит CT 17 | AI91: =П!D239 -> 1 слой
AH92: =П!C240 -> Стяжка полусухая цементно-песчаная М150, армированная фиброволокном (фибра полипропиленовая 12мм, расход 0.6кг/м3) | AI92: =П!D240&" мм" -> 80 мм
AH93: =П!C241 -> Подложка звукоизоляционная из сшитого вспененного полиэтилена с индексом улучшения изоляции ударного шума не менее 22 дБ | AI93: =П!D241&" мм" -> 5 мм
AH94: =П!C242 -> Монолитный ж/бетон | AI94: =П!D242 -> по проекту
AG95: =П!A243 -> П-40 | AH95: =П!C243 -> Керамогранит с затиркой швов | AI95: =П!D243&" мм" -> 8 мм
AH96: =П!C244 -> Клей плиточный водостойкий Церезит СМ 16 | AI96: =П!D244&" мм" -> 6 мм
M97: ='ОС'!B74 -> Шпатлевка поверхности на гипсовой основе | N97: ='ОС'!C74&" мм" -> 2 мм | AH97: =П!C245 -> Гидроизоляция однокомпонентная полимерная эластичная Церезит CL 51 с заведением на стены на 200 мм с прокладкой по углам водонепроницаемой ленты для герметизации швов Церезит CL 152 | AI97: =П!D245 -> 2 слоя
AH98: =П!C246 -> Грунтовка глубокого проникновения Церезит CT 17 | AI98: =П!D246 -> 1 слой
AH99: =П!C247 -> Стяжка полусухая цементно-песчаная М150, армированная фиброволокном (фибра полипропиленовая 12мм, расход 0.6кг/м3) | AI99: =П!D247&" мм" -> 80-94 мм
AH100: =П!C248 -> Подложка звукоизоляционная из сшитого вспененного полиэтилена с индексом улучшения изоляции ударного шума не менее 22 дБ | AI100: =П!D248&" мм" -> 5 мм
...

Sheet 4. ОТДЕЛКА АР ТЕХ. ПР-ВА И МАШ.
C1: ОТДЕЛКА ПОМЕЩЕНИЙ ТЕХ. ПР-ВА, ЧЕРДАКА И МАШИННОГО ПОМ. ЛИФТОВ. ВЕРСИЯ 3
A2: Место применения | C2: СТЕНЫ | R2: ПОТОЛОК | V2: ПОЛ
C3: Черновая отделка стен | O3: Чистовая отделка стен | R3: Черновая / Чистовая отделка потолка | V3: Марка покрытия | Y3: Плинтус
C4: Монолитный ж/бетон / Наружная стеновая панель | F4: Кирпич | I4: Ячеистый бетонный блок | L4: Утеплитель | O4: Наименование материала | R4: Монолитный ж/бетон | U4: Плинтус
C5: ТЕХНИЧЕСКОЕ ПРОСТРАНСТВО И МАШИННОЕ ПОМЕЩЕНИЕ ЛИФТА
A6: Техническое пространство для прокладки инженерных коммуникаций, чердак | C6: ='ОС'!A3 -> ОС-1 | D6: ='ОС'!B3 -> Грунтовка Бетонконтакт | E6: ='ОС'!C3 -> 1 слой | F6: ='ОС'!A13 -> ОС-7 | G6: ='ОС'!B13 -> Грунтовка глубокого проникновения | H6: ='ОС'!C13 -> 1 слой | I6: ='ОС'!A28 -> ОС-15 | J6: ='ОС'!B28 -> Грунтовка глубокого проникновения | K6: ='ОС'!C28 -> 1 слой | O6: ='ОТ'!A29 -> ОТ-14 | P6: ='ОТ'!B29 -> Пропитка упрочняющая обеспыливающая | Q6: ='ОТ'!C29 -> 1 слой | R6: ='ПТ'!A126 -> ПТ-26 | S6: ='ПТ'!B126 -> Грунтовка Бетонконтакт | T6: ='ПТ'!C126 -> 1 слой | U6: нет | V6: ='П'!A21 -> П-5 | W6: ='П'!C21 -> Пропитка упрочняющая и обеспыливающая | X6: ='П'!D21 -> 1 слой | Y6: нет | Z6: нет
S7: ='ПТ'!B127 -> Затирка поверхности после демонтажа опалубки | T7: ='ПТ'!C127&" мм" -> 2-4 мм | W7: =П!C22 -> Стяжка полусухая цементно-песчаная М150, армированная фиброволокном (фибра полипропиленовая 12мм, расход 0.6кг/м3) | X7: ='П'!D22&" мм" -> 40 мм
W8: =П!C23 -> Пленка полиэтиленовая 200 мкр | X8: ='П'!D23 -> 1 слой
W9: =П!C24 -> Утеплитель минераловатный (Технониколь ТЕХНОФЛОР СТАНДАРТ) q=100-120 кг/м3, предел прочности на сжатие не менее 30 кПа, λ=0,044 Вт/м°С | X9: ='П'!D24&" мм" -> 50 мм
W10: =П!C25 -> Монолитный ж/бетон | X10: ='П'!D25 -> по проекту
B11: В зоне установки металлического поддона под вентиляционную шахту | D11: ='ОС'!B4 -> Затирка поверхности после демонтажа опалубки | E11: ='ОС'!C4&" мм" -> 2-4 мм | G11: ='ОС'!B14 -> Простая штукатурка смесями цементно-песчаными по сетке тканой стальной 10х10х0.8 мм | H11: ='ОС'!C14&" мм" -> 14 мм | J11: ='ОС'!B29 -> Простая штукатурка смесями цементно-песчаными | K11: ='ОС'!C29&" мм" -> 14 мм | S11: ='ПТ'!B128 -> Пропитка упрочняющая обеспыливающая | T11: ='ПТ'!C128 -> 1 слой | V11: =П!A278 -> П-47 | W11: =П!C278 -> Гидроизоляция 2й слой (Технониколь Техноэласт ЭКП), масса 1 м2 ≥5,25 кг, теплостойкость ≥100°С с заведением на бортик кирпича | X11: =П!D278 -> 1 слой
W12: =П!C279 -> Гидроизоляция 1й слой (Технониколь Техноэласт ФИКС П ЭМП), масса 1 м2 ≥4,0 кг, теплостойкость ≥100°С с заведением на бортик кирпича | X12: =П!D279 -> 1 слой
W13: =П!C280 -> Стяжка полусухая цементно-песчаная М150, армированная фиброволокном (фибра полипропиленовая 12мм, расход 0.6кг/м3) | X13: =П!D280&" мм" -> 43 мм
W14: =П!C281 -> Пленка полиэтиленовая 200 мкр | X14: =П!D281 -> 1 слой
W15: =П!C282 -> Утеплитель минераловатный (Технониколь ТЕХНОФЛОР СТАНДАРТ) q=100-120 кг/м3, предел прочности на сжатие не менее 30 кПа, λ=0,044 Вт/м°С | X15: =П!D282&" мм" -> 50 мм
W16: =П!C283 -> Монолитный ж/бетон | X16: =П!D283 -> по проекту
A17: Эксплуатируемые технические ниши | C17: ='ОС'!A3 -> ОС-1 | D17: ='ОС'!B3 -> Грунтовка Бетонконтакт | E17: ='ОС'!C3 -> 1 слой | F17: ='ОС'!A13 -> ОС-7 | G17: ='ОС'!B13 -> Грунтовка глубокого проникновения | H17: ='ОС'!C13 -> 1 слой | I17: ='ОС'!A28 -> ОС-15 | J17: ='ОС'!B28 -> Грунтовка глубокого проникновения | K17: ='ОС'!C28 -> 1 слой | O17: ='ОТ'!A29 -> ОТ-14 | P17: ='ОТ'!B29 -> Пропитка упрочняющая обеспыливающая | Q17: ='ОТ'!C29 -> 1 слой | R17: ='ПТ'!A140 -> ПТ-30 | S17: ='ПТ'!B140 -> Пропитка упрочняющая обеспыливающая | T17: ='ПТ'!C140 -> 1 слой | U17: нет | V17: ='П'!A21 -> П-5 | W17: ='П'!C21 -> Пропитка упрочняющая и обеспыливающая | X17: ='П'!D21 -> 1 слой | Y17: нет | Z17: нет
W18: =П!C22 -> Стяжка полусухая цементно-песчаная М150, армированная фиброволокном (фибра полипропиленовая 12мм, расход 0.6кг/м3) | X18: ='П'!D22&" мм" -> 40 мм
D19: ='ОС'!B4 -> Затирка поверхности после демонтажа опалубки | E19: ='ОС'!C4&" мм" -> 2-4 мм | G19: ='ОС'!B14 -> Простая штукатурка смесями цементно-песчаными по сетке тканой стальной 10х10х0.8 мм | H19: ='ОС'!C14&" мм" -> 14 мм | J19: ='ОС'!B29 -> Простая штукатурка смесями цементно-песчаными | K19: ='ОС'!C29&" мм" -> 14 мм | W19: =П!C23 -> Пленка полиэтиленовая 200 мкр | X19: ='П'!D23 -> 1 слой
W20: =П!C24 -> Утеплитель минераловатный (Технониколь ТЕХНОФЛОР СТАНДАРТ) q=100-120 кг/м3, предел прочности на сжатие не менее 30 кПа, λ=0,044 Вт/м°С | X20: ='П'!D24&" мм" -> 50 мм
W21: =П!C25 -> Монолитный ж/бетон | X21: ='П'!D25 -> по проекту
A22: Машинное помещение лифтов, помещение СС (на кровле) | C22: ='ОС'!A3 -> ОС-1 | D22: ='ОС'!B3 -> Грунтовка Бетонконтакт | E22: ='ОС'!C3 -> 1 слой | F22: ='ОС'!A13 -> ОС-7 | G22: ='ОС'!B13 -> Грунтовка глубокого проникновения | H22: ='ОС'!C13 -> 1 слой | I22: ='ОС'!A28 -> ОС-15 | J22: ='ОС'!B28 -> Грунтовка глубокого проникновения | K22: ='ОС'!C28 -> 1 слой | O22: ='ОТ'!A11 -> ОТ-5 | P22: ='ОТ'!B11 -> Грунтовка под финишную отделку | Q22: ='ОТ'!C11 -> 1 слой | R22: ='ПТ'!A23 -> ПТ-5 | S22: ='ПТ'!B23 -> Грунтовка Бетонконтакт | T22: ='ПТ'!C23 -> 1 слой | U22: нет | V22: =П!A275 -> П-46 | W22: =П!C275 -> Пропитка упрочняющая и обеспыливающая | X22: =П!D275 -> 1 слой | Y22: нет | Z22: нет
S23: ='ПТ'!B24 -> Затирка поверхности после демонтажа опалубки | T23: ='ПТ'!C24&" мм" -> 2-4 мм | W23: =П!C276 -> Стяжка полусухая цементно-песчаная М150, армированная фиброволокном (фибра полипропиленовая 12мм, расход 0.6кг/м3) | X23: =П!D276&" мм" -> 50 мм
D24: ='ОС'!B4 -> Затирка поверхности после демонтажа опалубки | E24: ='ОС'!C4&" мм" -> 2-4 мм | G24: ='ОС'!B14 -> Простая штукатурка смесями цементно-песчаными по сетке тканой стальной 10х10х0.8 мм | H24: ='ОС'!C14&" мм" -> 14 мм | J24: ='ОС'!B29 -> Простая штукатурка смесями цементно-песчаными | K24: ='ОС'!C29&" мм" -> 14 мм | P24: ='ОТ'!B12 -> Простая окраска краской водно-дисперсионной за 2 раза | Q24: ='ОТ'!C12 -> 2 слоя | S24: ='ПТ'!B25 -> Грунтовка под финишную отделку | T24: ='ПТ'!C25 -> 1 слой
S25: ='ПТ'!B26 -> Простая окраска краской водно-дисперсионной за 2 раза | T25: ='ПТ'!C26 -> 2 слоя | W25: =П!C277 -> Монолитный ж/бетон | X25: =П!D277 -> по проекту
A26: Лестничная клетка (жилая часть) | B26: Междуэтажная лестничная площадка, площадка лестницы перед выходом на кровлю | C26: ='ОС'!A36 -> ОС-19 | D26: ='ОС'!B36 -> Грунтовка Бетонконтакт | E26: ='ОС'!C36 -> 1 слой | F26: ='ОС'!A15 -> ОС-8 | G26: ='ОС'!B15 -> Грунтовка глубокого проникновения | H26: ='ОС'!C15 -> 1 слой | I26: ='ОС'!A34 -> ОС-18 | J26: ='ОС'!B34 -> Грунтовка глубокого проникновения | K26: ='ОС'!C34 -> 1 слой | L26: ='ОС'!A6 -> ОС-3 | M26: ='ОС'!B6 -> Слой штукатурно-клеевой Технониколь 210 или аналог, армированный сеткой фасадной стеклотканевой щелочестойкой М3600 | N26: ='ОС'!C6&" мм" -> 10 мм | O26: ='ОТ'!A7 -> ОТ-3 | P26: ='ОТ'!B7 -> Грунт-краска колеруемая, группа горючести НГ | Q26: ='ОТ'!C7 -> 1 слой | R26: ='ПТ'!A17 -> ПТ-4 | S26: ='ПТ'!B17 -> Грунтовка Бетонконтакт | T26: ='ПТ'!C17 -> 1 слой | U26: нет | V26: ='П'!A17 -> П-4 | W26: ='П'!C17 -> Пропитка упрочняющая и обеспыливающая | X26: ='П'!D17 -> 1 слой | Y26: =П!A368 -> ПЛН-10 | Z26: =П!C368 -> Покрытие негорючее защитно-декоративное моющееся, окраска низа стен h=100мм, полоса по поверхности пола, ступеней b=50мм, RAL 7040 (Серое окно)
S27: ='ПТ'!B18 -> Затирка поверхности после демонтажа опалубки | T27: ='ПТ'!C18&" мм" -> 2-4 мм | W27: =П!C18 -> Пол наливной (цементная основа) Церезит CN 76 EXTRAHART | X27: ='П'!D18&" мм" -> 20 мм
S28: ='ПТ'!B19 -> Грунтовка глубокого проникновения | T28: ='ПТ'!C19 -> 1 слой
S29: ='ПТ'!B20 -> Шпатлевка поверхности на цементной основе | T29: ='ПТ'!C20&" мм" -> 2 мм | W29: ='П'!C19 -> Грунтовка Бетоноконтакт Церезит CT 19 | X29: ='П'!D19 -> 1 слой
S30: ='ПТ'!B21 -> Грунтовка под финишную отделку | T30: ='ПТ'!C21 -> 1 слой
S31: ='ПТ'!B22 -> Улучшенная окраска краской водно-дисперсионной негорючей за 2 раза, группа горючести НГ | T31: ='ПТ'!C22 -> 2 слоя | W31: ='П'!C20 -> Монолитный ж/бетон | X31: ='П'!D20 -> по проекту
B32: Лестничные марши | D32: ='ОС'!B37 -> Улучшенная штукатурка смесями цементно-песчаными | E32: ='ОС'!C37&" мм" -> 17 мм | G32: ='ОС'!B16 -> Улучшенная штукатурка смесями цементно-песчаными по сетке тканой стальной 10х10х0.8 мм | H32: ='ОС'!C16&" мм" -> 17 мм | J32: ='ОС'!B35 -> Улучшенная штукатурка смесями цементно-песчаными | K32: ='ОС'!C35&" мм" -> 17 мм | P32: ='ОТ'!B8 -> Окраска краской структурной негорючей, нанесение краскопультом, группа горючести НГ | Q32: ='ОТ'!C8 -> 1 слой | R32: ='ПТ'!A58 -> ПТ-11 | S32: ='ПТ'!B58 -> Грунтовка Бетонконтакт | T32: ='ПТ'!C58 -> 1 слой | U32: нет | V32: ='П'!A26 -> П-6 | W32: ='П'!C26 -> Пропитка упрочняющая и обеспыливающая | X32: ='П'!D26 -> 1 слой
S33: ='ПТ'!B59 -> Шпатлевка поверхности на цементной основе | T33: ='ПТ'!C59&" мм" -> 2 мм
S34: ='ПТ'!B60 -> Грунтовка под финишную отделку | T34: ='ПТ'!C60 -> 1 слой | W34: ='П'!C27 -> Монолитный ж/бетон | X34: ='П'!D27 -> по проекту
S35: ='ПТ'!B61 -> Улучшенная окраска краской водно-дисперсионной негорючей за 2 раза, группа горючести НГ | T35: ='ПТ'!C61 -> 2 слоя
B36: Торцы междуэтажных лестничных площадок, площадок лестницы перед выходом на кровлю | C36: ='ОС'!A49 -> ОС-26 | D36: ='ОС'!B49 -> Грунтовка Бетонконтакт | E36: ='ОС'!C49 -> 1 слой | O36: ='ОТ'!A21 -> ОТ-10 | P36: ='ОТ'!B21 -> Грунтовка под финишную отделку | Q36: ='ОТ'!C21 -> 1 слой
D37: ='ОС'!B50 -> Затирка поверхности после демонтажа опалубки | E37: ='ОС'!C50&" мм" -> 2-4 мм
D38: ='ОС'!B51 -> Грунтовка глубокого проникновения | E38: ='ОС'!C51 -> 1 слой
D39: ='ОС'!B52 -> Шпатлевка поверхности на цементной основе | E39: ='ОС'!C52&" мм" -> 2 мм
B40: Торцы лестничных маршей | C40: ='ОС'!A138 -> ОС-51 | D40: ='ОС'!B138 -> Грунтовка Бетонконтакт | E40: ='ОС'!C138 -> 1 слой | P40: ='ОТ'!B22 -> Улучшенная окраска краской водно-дисперсионной негорючей за 2 раза, группа горючести НГ | Q40: ='ОТ'!C22 -> 2 слоя
D41: ='ОС'!B139 -> Шпатлевка поверхности на цементной основе | E41: ='ОС'!C139&" мм" -> 2 мм
A42: Отделка дверных откосов технического пространства для прокладки инженерных коммуникаций, чердака | C42: ='ОС'!A3 -> ОС-1 | D42: ='ОС'!B3 -> Грунтовка Бетонконтакт | E42: ='ОС'!C3 -> 1 слой | F42: ='ОС'!A9 -> ОС-5 | G42: ='ОС'!B9 -> Грунтовка глубокого проникновения | H42: ='ОС'!C9 -> 1 слой | I42: ='ОС'!A9 -> ОС-5 | J42: ='ОС'!B9 -> Грунтовка глубокого проникновения | K42: ='ОС'!C13 -> 1 слой | O42: ='ОТ'!A29 -> ОТ-14 | P42: ='ОТ'!B29 -> Пропитка упрочняющая обеспыливающая | Q42: ='ОТ'!C29 -> 1 слой
D43: ='ОС'!B4 -> Затирка поверхности после демонтажа опалубки | E43: ='ОС'!C4&" мм" -> 2-4 мм | G43: ='ОС'!B10 -> Профиль углозащитный оцинкованный 25х25мм, простая штукатурка смесями цементно-песчаными по сетке тканой стальной 10х10х0.8 мм | H43: ='ОС'!C10&" мм" -> 14 мм | J43: ='ОС'!B10 -> Профиль углозащитный оцинкованный 25х25мм, простая штукатурка смесями цементно-песчаными по сетке тканой стальной 10х10х0.8 мм | K43: ='ОС'!C10&" мм" -> 14 мм
A44: Отделка дверных откосов машинного помещения лифтов, помещения СС (на кровле) | C44: ='ОС'!A7 -> ОС-4 | D44: ='ОС'!B7 -> Грунтовка Бетонконтакт | E44: ='ОС'!C7 -> 1 слой | F44: ='ОС'!A9 -> ОС-5 | G44: ='ОС'!B9 -> Грунтовка глубокого проникновения | H44: ='ОС'!C9 -> 1 слой | I44: ='ОС'!A9 -> ОС-5 | J44: ='ОС'!B9 -> Грунтовка глубокого проникновения | K44: ='ОС'!C13 -> 1 слой | O44: ='ОТ'!A11 -> ОТ-5 | P44: ='ОТ'!B11 -> Грунтовка под финишную отделку | Q44: ='ОТ'!C11 -> 1 слой
D45: ='ОС'!B8 -> Профиль углозащитный оцинкованный 25х25мм, сплошное выравнивание смесями цементно-песчаными по сетке тканой стальной 10х10х0.8 мм | E45: ='ОС'!C8&" мм" -> 10 мм | G45: ='ОС'!B10 -> Профиль углозащитный оцинкованный 25х25мм, простая штукатурка смесями цементно-песчаными по сетке тканой стальной 10х10х0.8 мм | H45: ='ОС'!C10&" мм" -> 14 мм | J45: ='ОС'!B10 -> Профиль углозащитный оцинкованный 25х25мм, простая штукатурка смесями цементно-песчаными по сетке тканой стальной 10х10х0.8 мм | K45: ='ОС'!C10&" мм" -> 14 мм | P45: ='ОТ'!B12 -> Простая окраска краской водно-дисперсионной за 2 раза | Q45: ='ОТ'!C12 -> 2 слоя
A46: Отделка оконных откосов в лестничной клетке | C46: ='ОС'!A134 -> ОС-50 | D46: ='ОС'!B134 -> Грунтовка Бетонконтакт | E46: ='ОС'!C134 -> 1 слой | O46: ='ОТ'!A21 -> ОТ-10 | P46: ='ОТ'!B21 -> Грунтовка под финишную отделку | Q46: ='ОТ'!C21 -> 1 слой
D47: ='ОС'!B135 -> Профиль угловой ПВХ перфорированный с армирующей стеклотканевой сеткой 100х100мм, сплошное выравнивание смесями цементно-песчаными по сетке тканой стальной 10х10х0.8 мм | E47: ='ОС'!C135&" мм" -> 17-40 мм
D48: ='ОС'!B136 -> Грунтовка глубокого проникновения | E48: ='ОС'!C136 -> 1 слой | P48: ='ОТ'!B22 -> Улучшенная окраска краской водно-дисперсионной негорючей за 2 раза, группа горючести НГ | Q48: ='ОТ'!C22 -> 2 слоя
D49: ='ОС'!B137 -> Шпатлевка поверхности на цементной основе | E49: ='ОС'!C137&" мм" -> 2 мм

Sheet ОС
A1: СОСТАВ КОНСТРУКЦИЙ. ЧЕРНОВАЯ ОТДЕЛКА СТЕН | D1: Семейство FM | E1: Материал FM | F1: Примечание для BIM
A2: Марка | B2: Состав | C2: Толщина, мм
A3: ОС-1 | B3: Грунтовка Бетонконтакт | C3: 1 слой | E3: МТ.909.2411
B4: Затирка поверхности после демонтажа опалубки | C4: 2-4 | E4: МТ.907.7215 | F4: Не моделить толщину
A5: ОС-2 | B5: Слой штукатурно-клеевой Технониколь 210 или аналог, армированный сеткой фасадной стеклотканевой щелочестойкой М3600 | C5: 5 | E5: МТ.907.7212
A6: ОС-3 | B6: Слой штукатурно-клеевой Технониколь 210 или аналог, армированный сеткой фасадной стеклотканевой щелочестойкой М3600 | C6: 10 | E6: МТ.907.7212
A7: ОС-4 | B7: Грунтовка Бетонконтакт | C7: 1 слой | D7: - | E7: МТ.909.2411 | F7: Без семейства: отделка откосов
B8: Профиль углозащитный оцинкованный 25х25мм, сплошное выравнивание смесями цементно-песчаными по сетке тканой стальной 10х10х0.8 мм | C8: 10 | E8: МТ.907.7220
A9: ОС-5 | B9: Грунтовка глубокого проникновения | C9: 1 слой | D9: - | E9: МТ.909.2406 | F9: Без семейства: отделка откосов
B10: Профиль углозащитный оцинкованный 25х25мм, простая штукатурка смесями цементно-песчаными по сетке тканой стальной 10х10х0.8 мм | C10: 14 | E10: МТ.907.7220
A11: ОС-6 | B11: Грунтовка глубокого проникновения | C11: 1 слой | D11: - | E11: МТ.909.2406 | F11: Без семейства: отделка откосов
B12: Профиль углозащитный оцинкованный 25х25мм, улучшенная штукатурка смесями цементно-песчаными по сетке тканой стальной 10х10х0.8 мм | C12: 17 | E12: МТ.907.7220
A13: ОС-7 | B13: Грунтовка глубокого проникновения | C13: 1 слой | E13: МТ.909.2406
B14: Простая штукатурка смесями цементно-песчаными по сетке тканой стальной 10х10х0.8 мм | C14: 14 | E14: МТ.907.7220
A15: ОС-8 | B15: Грунтовка глубокого проникновения | C15: 1 слой | E15: МТ.909.2406
B16: Улучшенная штукатурка смесями цементно-песчаными по сетке тканой стальной 10х10х0.8 мм | C16: 17 | E16: МТ.907.7220
A17: ОС-9 | B17: Грунтовка Бетонконтакт | C17: 1 слой | E17: МТ.909.2411
B18: Сплошное выравнивание смесями цементно-песчаными | C18: 10 | E18: МТ.907.7220
A19: ОС-10 | B19: Грунтовка глубокого проникновения | C19: 1 слой | E19: МТ.909.2406
B20: Сплошное выравнивание смесями гипсовыми | C20: 10 | E20: МТ.907.7233
A21: ОС-11 | B21: Грунтовка Бетонконтакт | C21: 1 слой | D21: - | E21: МТ.909.2411 | F21: Без семейства: отделка откосов
B22: Профиль угловой ПВХ перфорированный с армирующей стеклотканевой сеткой 100х100мм, улучшенная штукатурка смесями цементно-песчаными по сетке тканой стальной 10х10х0.8 мм | C22: 17 | E22: МТ.907.7220
A23: ОС-12 | B23: Грунтовка Бетонконтакт | C23: 1 слой | E23: МТ.909.2411
B24: Сплошное выравнивание смесями гипсовыми | C24: 10 | E24: МТ.907.7233
A25: ОС-13 | B25: Грунтовка Бетонконтакт | C25: 1 слой | E25: МТ.909.2411
B26: Сплошное выравнивание смесями гипсовыми по сетке СВУ 120-2600 СП 31-111-2004 | C26: до 35 | E26: МТ.907.7233
A27: ОС-14 | B27: Гидроизоляция цементная Церезит CR 65 WATERPROOF | C27: 2 слоя | E27: МТ.900.2155 | F27: Толщина 2-х слоев 5 мм
A28: ОС-15 | B28: Грунтовка глубокого проникновения | C28: 1 слой | E28: МТ.909.2406
B29: Простая штукатурка смесями цементно-песчаными | C29: 14 | E29: МТ.907.7220
A30: ОС-16 | B30: Грунтовка глубокого проникновения | C30: 1 слой | E30: МТ.909.2406
B31: Простая штукатурка смесями гипсовыми | C31: 14 | E31: МТ.907.7233
A32: ОС-17 | B32: Грунтовка глубокого проникновения | C32: 1 слой | E32: МТ.909.2406
B33: Простая штукатурка смесями гипсовыми по сетке СВУ 120-2600 СП 31-111-2004 | C33: 14 | E33: МТ.907.7233
A34: ОС-18 | B34: Грунтовка глубокого проникновения | C34: 1 слой | E34: МТ.909.2406
B35: Улучшенная штукатурка смесями цементно-песчаными | C35: 17 | E35: МТ.907.7220
A36: ОС-19 | B36: Грунтовка Бетонконтакт | C36: 1 слой | E36: МТ.909.2411
B37: Улучшенная штукатурка смесями цементно-песчаными | C37: 17 | E37: МТ.907.7220
A38: ОС-20 | B38: Грунтовка глубокого проникновения | C38: 1 слой | E38: МТ.909.2406
B39: Улучшенная штукатурка смесями гипсовыми | C39: 17 | E39: МТ.907.7233
A40: ОС-21 | B40: Грунтовка Бетонконтакт | C40: 1 слой | E40: МТ.909.2411
B41: Улучшенная штукатурка смесями гипсовыми | C41: 17 | E41: МТ.907.7233
A42: ОС-22 | B42: Грунтовка глубокого проникновения | C42: 1 слой | E42: МТ.909.2406
B43: Шпатлевка поверхности на цементной основе (с проклейкой стыков лентой армирующей) | C43: 2 | E43: МТ.907.7217
A44: ОС-23 | B44: Грунтовка глубокого проникновения | C44: 1 слой | E44: МТ.909.2406
B45: Шпатлевка поверхности на гипсовой основе (с проклейкой стыков лентой армирующей) | C45: 2 | E45: МТ.907.7218
A46: ОС-24 | B46: Шпатлевка стыков ГСП с проклейкой лентой армирующей | C46: - | D46: - | E46: МТ.907.7218 | F46: Без семейства
A47: ОС-25 | B47: Грунтовка Бетонконтакт | C47: 1 слой | E47: МТ.909.2411
B48: Сплошное выравнивание смесями цементно-песчаными по сетке тканой стальной 10х10х0.8 мм | C48: до 35 | E48: МТ.907.7220
A49: ОС-26 | B49: Грунтовка Бетонконтакт | C49: 1 слой | E49: МТ.909.2411
B50: Затирка поверхности после демонтажа опалубки | C50: 2-4 | E50: МТ.907.7215 | F50: Не моделить толщину
B51: Грунтовка глубокого проникновения | C51: 1 слой | E51: МТ.909.2406
B52: Шпатлевка поверхности на цементной основе | C52: 2 | E52: МТ.907.7217
A53: ОС-27 | B53: Грунтовка глубокого проникновения | C53: 1 слой | E53: МТ.909.2406
B54: Улучшенная штукатурка смесями цементно-песчаными | C54: 17 | E54: МТ.907.7220
B55: Грунтовка глубокого проникновения | C55: 1 слой | E55: МТ.909.2406
B56: Шпатлевка поверхности на цементной основе | C56: 2 | E56: МТ.907.7217
A57: ОС-28 | B57: Грунтовка глубокого проникновения | C57: 1 слой | E57: МТ.909.2406
B58: Улучшенная штукатурка смесями цементно-песчаными по сетке тканой стальной 10х10х0.8 мм | C58: 17 | E58: МТ.907.7220
B59: Грунтовка глубокого проникновения | C59: 1 слой | E59: МТ.909.2406
B60: Шпатлевка поверхности на цементной основе | C60: 2 | E60: МТ.907.7217
A61: ОС-29 | B61: Профиль угловой ПВХ перфорированный с армирующей стеклотканевой сеткой 100х100мм, сплошное выравнивание смесями цементно-песчаными по сетке тканой стальной 10х10х0.8 мм | C61: 17-35 | D61: - | E61: МТ.907.7220 | F61: Без семейства: отделка откосов
B62: Грунтовка глубокого проникновения | C62: 1 слой | E62: МТ.909.2406
B63: Шпатлевка поверхности на цементной основе | C63: 2 | E63: МТ.907.7217
A64: ОС-30 | B64: Слой штукатурно-клеевой Технониколь 210 или аналог, армированный сеткой фасадной стеклотканевой щелочестойкой М3600 | C64: 10 | E64: МТ.907.7212
B65: Грунтовка глубокого проникновения | C65: 1 слой | E65: МТ.909.2406
B66: Шпатлевка поверхности на цементной основе | C66: 2 | E66: МТ.907.7217
A67: ОС-31 | B67: Грунтовка Бетонконтакт | C67: 1 слой | D67: - | E67: МТ.909.2411 | F67: Без семейства: отделка откосов
B68: Профиль угловой ПВХ перфорированный с армирующей стеклотканевой сеткой 100х100мм, сплошное выравнивание смесями гипсовыми по сетке СВУ 120-2600 СП 31-111-2004 | C68: 10-40 | E68: МТ.907.7233
B69: Грунтовка глубокого проникновения | C69: 1 слой | E69: МТ.909.2406
B70: Шпатлевка поверхности на гипсовой основе | C70: 2 | E70: МТ.907.7218
A71: ОС-33 | B71: Грунтовка глубокого проникновения | C71: 1 слой | D71: - | E71: МТ.909.2406 | F71: Без семейства: отделка откосов
B72: Профиль угловой ПВХ перфорированный с армирующей стеклотканевой сеткой 100х100мм, сплошное выравнивание смесями гипсовыми по сетке СВУ 120-2600 СП 31-111-2004 | C72: 17-35 | E72: МТ.907.7233
B73: Грунтовка глубокого проникновения | C73: 1 слой | E73: МТ.909.2406
B74: Шпатлевка поверхности на гипсовой основе | C74: 2 | E74: МТ.907.7218
A75: ОС-34 | B75: Каркас металлический С625 (профиль ПН 50х40 и ПС 50х50) | C75: 50 | D75: - | F75: Без семейства: отделка откосов
B76: ГСП-Н2 | C76: 12.5 | E76: МТ.914.2004
B77: Грунтовка глубокого проникновения | C77: 1 слой | E77: МТ.909.2406
B78: Профиль угловой оцинкованный перфорированный 31х31х0,4 мм, шпатлевка поверхности на гипсовой основе | C78: 2 | E78: МТ.907.7218
A79: ОС-35 | B79: Грунтовка Бетонконтакт | C79: 1 слой | E79: МТ.909.2411
B80: Затирка поверхности после демонтажа опалубки | C80: 2-4 | E80: МТ.907.7215 | F80: Не моделить толщину
B81: Грунтовка глубокого проникновения | C81: 1 слой | E81: МТ.909.2406
B82: Шпатлевка поверхности на гипсовой основе | C82: 2 | E82: МТ.907.7218
A83: ОС-36 | B83: Грунтовка Бетонконтакт | C83: 1 слой | E83: МТ.909.2411
B84: Сплошное выравнивание смесями гипсовыми | C84: 10 | E84: МТ.907.7233
B85: Грунтовка глубокого проникновения | C85: 1 слой | E85: МТ.909.2406
B86: Шпатлевка поверхности на гипсовой основе | C86: 2 | E86: МТ.907.7218
A87: ОС-37 | B87: Грунтовка глубокого проникновения | C87: 1 слой | E87: МТ.909.2406
B88: Сплошное выравнивание смесями гипсовыми | C88: 10 | E88: МТ.907.7233
B89: Грунтовка глубокого проникновения | C89: 1 слой | E89: МТ.909.2406
B90: Шпатлевка поверхности на гипсовой основе | C90: 2 | E90: МТ.907.7218
A91: ОС-38 | B91: Грунтовка глубокого проникновения | C91: 1 слой | E91: МТ.909.2406
B92: Улучшенная штукатурка смесями гипсовыми | C92: 17 | E92: МТ.907.7233
B93: Грунтовка глубокого проникновения | C93: 1 слой | E93: МТ.909.2406
B94: Шпатлевка поверхности на гипсовой основе | C94: 2 | E94: МТ.907.7218
A95: ОС-39 | B95: Грунтовка Бетонконтакт | C95: 1 слой | E95: МТ.909.2411
B96: Сплошное выравнивание смесями цементно-песчаными по сетке тканой стальной 10х10х0.8 мм | C96: до 35 | E96: МТ.907.7220
B97: Грунтовка глубокого проникновения | C97: 1 слой | E97: МТ.909.2406
B98: Шпатлевка поверхности на цементной основе | C98: 2 | E98: МТ.907.7217
A99: ОС-40 | B99: Грунтовка глубокого проникновения | C99: 1 слой | E99: МТ.909.2406
B100: Улучшенная штукатурка смесями гипсовыми по сетке СВУ 120-2600 СП 31-111-2004 | C100: 17 | E100: МТ.907.7233
...

Sheet ОТ
A1: СОСТАВ КОНСТРУКЦИЙ. ЧИСТОВАЯ ОТДЕЛКА СТЕН | D1: Марка АИ | E1: Семейство АР FM | F1: Материал FM | G1: Примечание для BIM
A2: Марка | B2: Состав | C2: Толщина, мм
A3: ОТ-1 | B3: =HYPERLINK("https://dm.henkel-dam.com/is/content/henkel/ru-ceresit-tds-in10-gruntinterier","Грунтовка под финишную отделку") -> Грунтовка под финишную отделку | C3: 1 слой | F3: МТ.909.2408
B4: Простая окраска краской влагостойкой за 2 раза, группа горючести Г1 | C4: 2 слоя | D4: КРС-15 | F4: МТ.910.3915
A5: ОТ-2 | B5: =HYPERLINK("https://dm.henkel-dam.com/is/content/henkel/ru-ceresit-tds-in10-gruntinterier","Грунтовка под финишную отделку") -> Грунтовка под финишную отделку | C5: 1 слой | F5: МТ.909.2408
B6: Простая окраска краской влагостойкой за 2 раза, группа горючести Г1 (акцентная) | C6: 2 слоя | D6: КРС-02 | F6: МТ.910.3703
A7: ОТ-3 | B7: Грунт-краска колеруемая, группа горючести НГ | C7: 1 слой | F7: МТ.909.2406
B8: Окраска краской структурной негорючей, нанесение краскопультом, группа горючести НГ | C8: 1 слой | D8: КРС-01 | F8: МТ.910.3702
A9: ОТ-4 | B9: =HYPERLINK("https://dm.henkel-dam.com/is/content/henkel/ru-ceresit-tds-in10-gruntinterier","Грунтовка под финишную отделку") -> Грунтовка под финишную отделку | C9: 1 слой | F9: МТ.909.2405
B10: Простая окраска краской водно-дисперсионной негорючей за 2 раза, группа горючести НГ | C10: 2 слоя | D10: КРС-11 | F10: МТ.910.3911
A11: ОТ-5 | B11: =HYPERLINK("https://dm.henkel-dam.com/is/content/henkel/ru-ceresit-tds-in10-gruntinterier","Грунтовка под финишную отделку") -> Грунтовка под финишную отделку | C11: 1 слой | F11: МТ.909.2405
B12: Простая окраска краской водно-дисперсионной за 2 раза | C12: 2 слоя | D12: КРС-12 | F12: МТ.910.3911
A13: ОТ-6 | B13: =HYPERLINK("https://dm.henkel-dam.com/is/content/henkel/ru-ceresit-tds-in10-gruntinterier","Грунтовка под финишную отделку") -> Грунтовка под финишную отделку | C13: 1 слой | F13: МТ.909.2405
B14: Простая окраска краской водно-дисперсионной влагостойкой за 2 раза | C14: 2 слоя | D14: КРС-13 | F14: МТ.910.3913
A15: ОТ-7 | B15: Грунтовка под финишную отделку | C15: 1 слой | F15: МТ.909.2405
B16: Улучшенная окраска краской водно-дисперсионной влагостойкой за 2 раза | C16: 2 слоя | D16: КРС-13 | F16: МТ.910.3913
A17: ОТ-8 | B17: Грунтовка под финишную отделку | C17: 1 слой | F17: МТ.909.2405
B18: Улучшенная окраска краской водно-дисперсионной за 2 раза | C18: 2 слоя | D18: КРС-12 | F18: МТ.910.3911
A19: ОТ-9 | B19: Грунтовка под финишную отделку | C19: 1 слой | F19: МТ.909.2405
B20: Улучшенная окраска краской водно-дисперсионной за 2 раза, группа горючести Г1 | C20: 2 слоя | D20: КРС-08 | F20: МТ.910.3707
A21: ОТ-10 | B21: Грунтовка под финишную отделку | C21: 1 слой | F21: МТ.909.2405
B22: Улучшенная окраска краской водно-дисперсионной негорючей за 2 раза, группа горючести НГ | C22: 2 слоя | D22: КРС-11 | F22: МТ.910.3911
A23: ОТ-11 | B23: Грунтовка под финишную отделку | C23: 1 слой | F23: МТ.909.2405
B24: Улучшенная окраска краской водно-дисперсионной за 2 раза, группа горючести Г1 | C24: 2 слоя | D24: КРС-12 | F24: МТ.910.3911
A25: ОТ-12 | B25: Грунтовка под финишную отделку | C25: 1 слой | F25: МТ.909.2405
B26: Окраска краской магнитно-грифельной в 4 слоя, группа горючести Г1 | C26: 4 слоя | D26: КРС-07 | F26: МТ.910.3706
A27: ОТ-13 | B27: =HYPERLINK("https://dm.henkel-dam.com/is/content/henkel/ru-ceresit-tds-in10-gruntinterier","Грунтовка под финишную отделку") -> Грунтовка под финишную отделку | C27: 1 слой | F27: МТ.909.2405
B28: Обои на флизелиновой основе, окраска краской водно-дисперсионной | C28: 1 слой | D28: ОБ-1+КРС-12 | F28: МТ.918.4701 + МТ.910.3911
A29: ОТ-14 | B29: =HYPERLINK("http://www.teohim.ru/beton/mtr/fljuat/","Пропитка упрочняющая обеспыливающая") -> Пропитка упрочняющая обеспыливающая | C29: 1 слой | D29: ОП-01 | F29: МТ.910.3909
A30: ОТ-15 | B30: Грунтовка глубокого проникновения | C30: 1 слой | F30: МТ.909.2406
B31: Керамическая плитка на растворе цементно-песчаном с затиркой швов | C31: 12* | D31: КПС-03 | F31: МТ.908.3023
A32: ОТ-16 | B32: =HYPERLINK("http://www.ceresit.ru/content/dam/uac/ceresit/russia/movedAssets/master/certificates/TO2019/CT19Betonkontakt.pdf","Грунтовка Бетонконтакт") -> Грунтовка Бетонконтакт | C32: 1 слой | F32: МТ.909.2411
B33: Керамическая плитка на растворе цементно-песчаном с затиркой швов | C33: 12* | D33: КПС-03 | F33: МТ.908.3023
A34: ОТ-19 | B34: Грунтовка глубокого проникновения | C34: 1 слой | F34: МТ.909.2406
B35: Керамическая плитка на растворе цементно-песчаном с затиркой швов | C35: 13* | D35: КПС-02 | F35: МТ.908.3023
A36: ОТ-20 | B36: =HYPERLINK("http://www.ceresit.ru/content/dam/uac/ceresit/russia/movedAssets/master/certificates/TO2019/CT19Betonkontakt.pdf","Грунтовка Бетонконтакт") -> Грунтовка Бетонконтакт | C36: 1 слой | F36: МТ.909.2411
B37: Керамическая плитка на растворе цементно-песчаном с затиркой швов | C37: 13* | D37: КПС-02 | F37: МТ.908.3023
A38: ОТ-21 | B38: Грунтовка глубокого проникновения | C38: 1 слой | F38: МТ.909.2406
B39: Керамическая плитка на растворе цементно-песчаном с затиркой швов | C39: 15* | D39: КПС-01 | F39: МТ.908.3022
A40: ОТ-22 | B40: =HYPERLINK("http://www.ceresit.ru/content/dam/uac/ceresit/russia/movedAssets/master/certificates/TO2019/CT19Betonkontakt.pdf","Грунтовка Бетонконтакт") -> Грунтовка Бетонконтакт | C40: 1 слой | F40: МТ.909.2411
B41: Керамическая плитка на растворе цементно-песчаном с затиркой швов | C41: 15* | D41: КПС-01 | F41: МТ.908.3022
A42: ОТ-23 | B42: Грунтовка глубокого проникновения | C42: 1 слой | F42: МТ.909.2406
B43: Керамическая плитка на растворе цементно-песчаном с затиркой швов | C43: 15* | D43: КПС-04 | F43: МТ.908.3025
A44: ОТ-24 | B44: Грунтовка глубокого проникновения | C44: 1 слой | F44: МТ.909.2406
B45: Гидроизоляция однокомпонентная полимерная эластичная на всю высоту с прокладкой по углам ленты водонепроницаемой для герметизации швов | C45: 2 слоя | F45: МТ.900.2149 | G45: Толщина 2-х слоев 1 мм
B46: Керамическая плитка на растворе цементно-песчаном с затиркой швов | C46: 12* | D46: КПС-03 | F46: МТ.908.3023
A47: ОТ-25 | B47: Грунтовка глубокого проникновения | C47: 1 слой | F47: МТ.909.2406
B48: Керамогранит на растворе цементно-песчаном с затиркой швов, группа горючести НГ | C48: 15* | D48: КГС-01 / КГС-02 / КГС-03 | F48: МТ.908.3217
A49: ОТ-26 | B49: =HYPERLINK("http://www.ceresit.ru/content/dam/uac/ceresit/russia/movedAssets/master/certificates/TO2019/CT19Betonkontakt.pdf","Грунтовка Бетонконтакт") -> Грунтовка Бетонконтакт | C49: 1 слой | F49: МТ.909.2411
B50: Керамогранит на растворе цементно-песчаном с затиркой швов, группа горючести НГ | C50: 15* | D50: КГС-01 / КГС-02 / КГС-03 | F50: МТ.908.3217
A51: ОТ-27 | B51: =HYPERLINK("https://dm.henkel-dam.com/is/content/henkel/ru-ceresit-tds-in10-gruntinterier","Грунтовка под финишную отделку") -> Грунтовка под финишную отделку | C51: 1 слой | F51: МТ.909.2405
B52: Простая окраска краской влагостойкой негорючей за 2 раза, группа горючести НГ | C52: 2 слоя | D52: КРС-10 | F52: МТ.910.3910
A53: ОТ-29 | B53: Грунтовка фасадная универсальная | C53: 1 слой | F53: МТ.909.2404
B54: Штукатурка декоративная минеральная с окраской краской фасадной атмосферостойкой за 2 раза | C54: 5 | D54: ЩД-01+КРС-14 | F54: МТ.910.7201 + МТ.910.3914 | G54: Толщина слоя краски 0 мм
A56: * - допускается отклонение толщины финишного слоя отделки ±2 мм в связи с изменением толщины керамогранита/керамической плитки.

Sheet ПТ
A1: СОСТАВ КОНСТРУКЦИЙ. ЧЕРНОВАЯ/ЧИСТОВАЯ ОТДЕЛКА ПОТОЛКА | D1: Примечание | E1: Марка АИ | F1: Семейство FM | G1: Материал FM | H1: Примечание для BIM
A2: Марка | B2: Состав | C2: Толщина, мм
A3: ПТ-1 | B3: =HYPERLINK("http://www.ceresit.ru/content/dam/uac/ceresit/russia/movedAssets/master/certificates/TO2019/CT19Betonkontakt.pdf","Грунтовка Бетонконтакт") -> Грунтовка Бетонконтакт | C3: 1 слой | G3: МТ.909.2411
B4: Затирка поверхности после демонтажа опалубки | C4: 2-4 | G4: МТ.907.7215 | H4: Не моделить толщину
B5: =HYPERLINK("https://dm.henkel-dam.com/is/content/henkel/ru-ceresit-tds-in10-gruntinterier","Грунтовка под финишную отделку") -> Грунтовка под финишную отделку | C5: 1 слой | G5: МТ.909.2408
B6: Простая окраска краской влагостойкой за 2 раза, группа горючести Г1 | C6: 2 слоя | E6: КРС-15 | G6: МТ.910.3915
A7: ПТ-2 | B7: =HYPERLINK("http://www.ceresit.ru/content/dam/uac/ceresit/russia/movedAssets/master/certificates/TO2019/CT19Betonkontakt.pdf","Грунтовка Бетонконтакт") -> Грунтовка Бетонконтакт | C7: 1 слой | G7: МТ.909.2411
B8: Затирка поверхности после демонтажа опалубки | C8: 2-4 | G8: МТ.907.7215 | H8: Не моделить толщину
B9: =HYPERLINK("https://dm.henkel-dam.com/is/content/henkel/ru-ceresit-tds-in10-gruntinterier","Грунтовка под финишную отделку") -> Грунтовка под финишную отделку | C9: 1 слой | G9: МТ.909.2405
B10: Простая окраска краской водно-дисперсионной негорючей за 2 раза (цвет белый), группа горючести НГ | C10: 2 слоя | E10: КРС-11 | G10: МТ.910.3911
B11: Потолок подвесной металлический типа "Грильято" 75х75х40 (цвет белый) на металлическом каркасе, группа горючести НГ | C11: 40 | E11: ПП-02 | G11: МТ.916.6102
A12: ПТ-3 | B12: =HYPERLINK("http://www.ceresit.ru/content/dam/uac/ceresit/russia/movedAssets/master/certificates/TO2019/CT19Betonkontakt.pdf","Грунтовка Бетонконтакт") -> Грунтовка Бетонконтакт | C12: 1 слой | G12: МТ.909.2411
B13: Затирка поверхности после демонтажа опалубки | C13: 2-4 | G13: МТ.907.7215 | H13: Не моделить толщину
B14: =HYPERLINK("https://dm.henkel-dam.com/is/content/henkel/ru-ceresit-tds-in10-gruntinterier","Грунтовка под финишную отделку") -> Грунтовка под финишную отделку | C14: 1 слой | G14: МТ.909.2405
B15: Простая окраска краской влагостойкой негорючей за 2 раза (цвет черный), группа горючести НГ | C15: 2 слоя | E15: КРС-10 | G15: МТ.910.3910
B16: Потолок подвесной металлический типа "Грильято" 75х75х40 (цвет черный) на металлическом каркасе, группа горючести НГ | C16: 40 | E16: ПП-01 | G16: МТ.916.6101
A17: ПТ-4 | B17: =HYPERLINK("http://www.ceresit.ru/content/dam/uac/ceresit/russia/movedAssets/master/certificates/TO2019/CT19Betonkontakt.pdf","Грунтовка Бетонконтакт") -> Грунтовка Бетонконтакт | C17: 1 слой | G17: МТ.909.2411
B18: Затирка поверхности после демонтажа опалубки | C18: 2-4 | G18: МТ.907.7215 | H18: Не моделить толщину
B19: Грунтовка глубокого проникновения | C19: 1 слой | G19: МТ.909.2406
B20: Шпатлевка поверхности на цементной основе | C20: 2 | G20: МТ.907.7217
B21: =HYPERLINK("https://dm.henkel-dam.com/is/content/henkel/ru-ceresit-tds-in10-gruntinterier","Грунтовка под финишную отделку") -> Грунтовка под финишную отделку | C21: 1 слой | G21: МТ.909.2405
B22: Улучшенная окраска краской водно-дисперсионной негорючей за 2 раза, группа горючести НГ | C22: 2 слоя | E22: КРС-11 | G22: МТ.910.3911
A23: ПТ-5 | B23: =HYPERLINK("http://www.ceresit.ru/content/dam/uac/ceresit/russia/movedAssets/master/certificates/TO2019/CT19Betonkontakt.pdf","Грунтовка Бетонконтакт") -> Грунтовка Бетонконтакт | C23: 1 слой | G23: МТ.909.2411
B24: Затирка поверхности после демонтажа опалубки | C24: 2-4 | G24: МТ.907.7215 | H24: Не моделить толщину
B25: =HYPERLINK("https://dm.henkel-dam.com/is/content/henkel/ru-ceresit-tds-in10-gruntinterier","Грунтовка под финишную отделку") -> Грунтовка под финишную отделку | C25: 1 слой | G25: МТ.909.2405
B26: Простая окраска краской водно-дисперсионной за 2 раза | C26: 2 слоя | E26: КРС-11 | G26: МТ.910.3911
A27: ПТ-6 | B27: Потолок подвесной звукоизоляционный на каркасе металлическом П 113 (профиль ПН 28х27 и ПП 60х27), смонтированном на креплениях Виброфлекс К-15, с заполнением плитами из стеклянного штапельного волокна (Шуманет-БМ) ρ=47 кг/м³ - 50мм, в 2 слоя | C27: 100 | G27: МТ.900.2636 | H27: Не моделить каркас
B28: Триплекс звукоизоляционный Саундлайн-dB | C28: 16.5 | G28: МТ.914.2002
B29: Лист гипсокартонный звукоизоляционный AKU-line ГКЛА | C29: 12.5 | G29: МТ.914.2006
B30: Грунтовка глубокого проникновения | C30: 1 слой | G30: МТ.909.2406
B31: Шпатлевка стыков ГСП с проклейкой лентой армирующей | C31: - | G31: МТ.907.7217 | H31: Не моделить толщину
B32: =HYPERLINK("https://dm.henkel-dam.com/is/content/henkel/ru-ceresit-tds-in10-gruntinterier","Грунтовка под финишную отделку") -> Грунтовка под финишную отделку | C32: 1 слой | G32: МТ.909.2405
B33: Простая окраска краской водно-дисперсионной за 2 раза | C33: 2 слоя | E33: КРС-11 | G33: МТ.910.3911
A34: ПТ-7 | B34: Смесь клеевая для монтажа утеплителя (Технониколь 110) | C34: 5 | G34: МТ.907.3503
B35: Утеплитель минераловатный (Технониколь - ТЕХНОФАС ДЕКОР) ρ=90-110 кг/м³, предел прочности на отрыв не менее 15 кПа, λ=0,044 Вт/м°С | C35: по проекту | G35: МТ.903.0128 | H35: Принять толщину 150 мм
B36: Слой штукатурно-клеевой Технониколь 210 или аналог, армированный сеткой фасадной стеклотканевой щелочестойкой М3600 | C36: 10 | G36: МТ.907.7212
B37: =HYPERLINK("https://dm.henkel-dam.com/is/content/henkel/ru-ceresit-tds-in10-gruntinterier","Грунтовка под финишную отделку") -> Грунтовка под финишную отделку | C37: 1 слой | G37: МТ.909.2405
B38: Простая окраска краской влагостойкой негорючей за 2 раза (цвет черный), группа горючести НГ | C38: 2 слоя | E38: КРС-10 | G38: МТ.910.3910
B39: Потолок подвесной металлический типа "Грильято" 75х75х40 (цвет черный) на металлическом каркасе, группа горючести НГ | C39: 40 | E39: ПП-01 | G39: МТ.916.6101
A40: ПТ-8 | B40: Смесь клеевая для монтажа утеплителя (Технониколь 110) | C40: 5 | G40: МТ.907.3503
B41: Утеплитель минераловатный (Технониколь - ТЕХНОФАС ДЕКОР) ρ=90-110 кг/м³, предел прочности на отрыв не менее 15 кПа, λ=0,044 Вт/м°С | C41: 150 | G41: МТ.903.0128
B42: Слой штукатурно-клеевой Технониколь 210 или аналог, армированный сеткой фасадной стеклотканевой щелочестойкой М3600 | C42: 10 | G42: МТ.907.7212
B43: =HYPERLINK("https://dm.henkel-dam.com/is/content/henkel/ru-ceresit-tds-in10-gruntinterier","Грунтовка под финишную отделку") -> Грунтовка под финишную отделку | C43: 1 слой | G43: МТ.909.2405
B44: Простая окраска краской влагостойкой водно-дисперсионной за 2 раза, группа горючести НГ | C44: 2 слоя | E44: КРС-11 | G44: МТ.910.3911
A45: ПТ-9 | B45: Каркас металлический П 113 (профиль ПН 28х27 и ПП 60х27) | C45: 27 | G45: МТ.902.4401
B46: ГСП-Н2 | C46: 12.5 | G46: МТ.914.2004
B47: Грунтовка глубокого проникновения | C47: 1 слой | G47: МТ.909.2406
B48: Шпатлевка поверхности на цементной основе (с проклейкой стыков лентой армирующей) | C48: 2 | G48: МТ.907.7217
B49: =HYPERLINK("https://dm.henkel-dam.com/is/content/henkel/ru-ceresit-tds-in10-gruntinterier","Грунтовка под финишную отделку") -> Грунтовка под финишную отделку | C49: 1 слой | G49: МТ.909.2405
B50: Улучшенная окраска краской влагостойкой водно-дисперсионной за 2 раза | C50: 2 слоя | E50: КРС-13 | G50: МТ.910.3913
A51: ПТ-10 | B51: Смесь клеевая для монтажа утеплителя (Технониколь 110) | C51: 5 | G51: МТ.907.3503
B52: Утеплитель минераловатный (Технониколь - ТЕХНОФАС ДЕКОР) ρ=90-110 кг/м³, предел прочности на отрыв не менее 15 кПа, λ=0,044 Вт/м°С | C52: 150 | G52: МТ.903.0128
B53: Слой штукатурно-клеевой Технониколь 210 или аналог, армированный сеткой фасадной стеклотканевой щелочестойкой М3600 | C53: 10 | G53: МТ.907.7212
B54: Грунтовка глубокого проникновения | C54: 1 слой | G54: МТ.909.2406
B55: Шпатлевка поверхности на цементной основе | C55: 2 | G55: МТ.907.7217
B56: =HYPERLINK("https://dm.henkel-dam.com/is/content/henkel/ru-ceresit-tds-in10-gruntinterier","Грунтовка под финишную отделку") -> Грунтовка под финишную отделку | C56: 1 слой | G56: МТ.909.2405
B57: Улучшенная окраска краской водно-дисперсионной негорючей за 2 раза, группа горючести НГ | C57: 2 слоя | E57: КРС-11 | G57: МТ.910.3911
A58: ПТ-11 | B58: =HYPERLINK("http://www.ceresit.ru/content/dam/uac/ceresit/russia/movedAssets/master/certificates/TO2019/CT19Betonkontakt.pdf","Грунтовка Бетонконтакт") -> Грунтовка Бетонконтакт | C58: 1 слой | G58: МТ.909.2411
B59: Шпатлевка поверхности на цементной основе | C59: 2 | G59: МТ.907.7217
B60: =HYPERLINK("https://dm.henkel-dam.com/is/content/henkel/ru-ceresit-tds-in10-gruntinterier","Грунтовка под финишную отделку") -> Грунтовка под финишную отделку | C60: 1 слой | G60: МТ.909.2405
B61: Улучшенная окраска краской водно-дисперсионной негорючей за 2 раза, группа горючести НГ | C61: 2 слоя | E61: КРС-11 | G61: МТ.910.3911
A62: ПТ-12 | B62: =HYPERLINK("http://www.ceresit.ru/content/dam/uac/ceresit/russia/movedAssets/master/certificates/TO2019/CT19Betonkontakt.pdf","Грунтовка Бетонконтакт") -> Грунтовка Бетонконтакт | C62: 1 слой | G62: МТ.909.2411
B63: Затирка поверхности после демонтажа опалубки | C63: 2-4 | G63: МТ.907.7215 | H63: Не моделить толщину
B64: =HYPERLINK("https://dm.henkel-dam.com/is/content/henkel/ru-ceresit-tds-in10-gruntinterier","Грунтовка под финишную отделку") -> Грунтовка под финишную отделку | C64: 1 слой | G64: МТ.909.2405
B65: Простая окраска краской влагостойкой водно-дисперсионной за 2 раза | C65: 2 слоя | E65: КРС-13 | G65: МТ.910.3913
A66: ПТ-13 | B66: Смесь клеевая для монтажа утеплителя (Технониколь 110) | C66: 5 | G66: МТ.907.3503
B67: Утеплитель минераловатный (Технониколь - ТЕХНОФАС ДЕКОР) ρ=90-110 кг/м³, предел прочности на отрыв не менее 15 кПа, λ=0,044 Вт/м°С | C67: по проекту | G67: МТ.903.0128 | H67: Принять толщину 150 мм
B68: Слой штукатурно-клеевой Технониколь 210 или аналог, армированный сеткой фасадной стеклотканевой щелочестойкой М3600 | C68: 10 | G68: МТ.907.7212
B69: =HYPERLINK("https://dm.henkel-dam.com/is/content/henkel/ru-ceresit-tds-in10-gruntinterier","Грунтовка под финишную отделку") -> Грунтовка под финишную отделку | C69: 1 слой | G69: МТ.909.2405
B70: Простая окраска краской влагостойкой водно-дисперсионной за 2 раза | C70: 2 слоя | E70: КРС-13 | G70: МТ.910.3913
A71: ПТ-14 | B71: Смесь клеевая для монтажа утеплителя (Технониколь 110) | C71: 5 | G71: МТ.907.3503
B72: Утеплитель минераловатный (Технониколь - ТЕХНОФАС ДЕКОР) ρ=90-110 кг/м³, предел прочности на отрыв не менее 15 кПа, λ=0,044 Вт/м°С | C72: по проекту | G72: МТ.903.0128 | H72: Принять толщину 150 мм
B73: Слой штукатурно-клеевой Технониколь 210 или аналог, армированный сеткой фасадной стеклотканевой щелочестойкой М3600 | C73: 10 | G73: МТ.907.7212
B74: =HYPERLINK("http://www.teohim.ru/beton/mtr/fljuat/","Пропитка упрочняющая обеспыливающая") -> Пропитка упрочняющая обеспыливающая | C74: 1 слой | E74: ОП-01 | G74: МТ.910.3909
A75: ПТ-15 | B75: Смесь клеевая для монтажа утеплителя (Технониколь 110) | C75: 5 | G75: МТ.907.3503
B76: Утеплитель минераловатный (Технониколь - ТЕХНОФАС ДЕКОР) ρ=90-110 кг/м³, предел прочности на отрыв не менее 15 кПа, λ=0,044 Вт/м°С | C76: по проекту | G76: МТ.903.0128 | H76: Принять толщину 150 мм
B77: Слой штукатурно-клеевой Технониколь 210 или аналог, армированный сеткой фасадной стеклотканевой щелочестойкой М3600 | C77: 10 | G77: МТ.907.7212
B78: =HYPERLINK("http://www.teohim.ru/beton/mtr/fljuat/","Пропитка упрочняющая обеспыливающая") -> Пропитка упрочняющая обеспыливающая | C78: 1 слой | E78: ОП-01 | G78: МТ.910.3909
B79: Потолок подвесной металлический типа "Грильято" 75х75х40 (цвет черный) на металлическом каркасе, группа горючести НГ | C79: 40 | E79: ПП-01 | G79: МТ.916.6101
A80: ПТ-16 | B80: =HYPERLINK("http://www.ceresit.ru/content/dam/uac/ceresit/russia/movedAssets/master/certificates/TO2019/CT19Betonkontakt.pdf","Грунтовка Бетонконтакт") -> Грунтовка Бетонконтакт | C80: 1 слой | G80: МТ.909.2411
B81: Затирка поверхности после демонтажа опалубки | C81: 2-4 | G81: МТ.907.7215
B82: =HYPERLINK("http://www.teohim.ru/beton/mtr/fljuat/","Пропитка упрочняющая обеспыливающая") -> Пропитка упрочняющая обеспыливающая | C82: 1 слой | E82: ОП-01 | G82: МТ.910.3909
B83: Потолок подвесной металлический типа "Грильято" 75х75х40 (цвет белый) на металлическом каркасе, группа горючести НГ | C83: 40 | E83: ПП-02 | G83: МТ.916.6102
A84: ПТ-17 | B84: =HYPERLINK("http://www.ceresit.ru/content/dam/uac/ceresit/russia/movedAssets/master/certificates/TO2019/CT19Betonkontakt.pdf","Грунтовка Бетонконтакт") -> Грунтовка Бетонконтакт | C84: 1 слой | G84: МТ.909.2411
B85: Сплошное выравнивание смесями гипсовыми | C85: 10 | G85: МТ.907.7233
B86: Грунтовка глубокого проникновения | C86: 1 слой | G86: МТ.909.2406
B87: Шпатлевка поверхности на гипсовой основе | C87: 2 | G87: МТ.907.7218
B88: =HYPERLINK("https://dm.henkel-dam.com/is/content/henkel/ru-ceresit-tds-in10-gruntinterier","Грунтовка под финишную отделку") -> Грунтовка под финишную отделку | C88: 1 слой | G88: МТ.909.2405
B89: Улучшенная окраска краской водно-дисперсионной за 2 раза | C89: 2 слоя | E89: КРС-12 | G89: МТ.910.3911
A90: ПТ-18 | B90: Каркас металлический П 113 (профиль ПН 28х27 и ПП 60х27) | C90: 27 | G90: МТ.902.4401
B91: ГСП-А | C91: 12.5 | G91: МТ.914.2003
B92: Грунтовка глубокого проникновения | C92: 1 слой | G92: МТ.909.2406
B93: Шпатлевка поверхности на гипсовой основе (с проклейкой стыков лентой армирующей ) | C93: 2 | G93: МТ.907.7218
B94: =HYPERLINK("https://dm.henkel-dam.com/is/content/henkel/ru-ceresit-tds-in10-gruntinterier","Грунтовка под финишную отделку") -> Грунтовка под финишную отделку | C94: 1 слой | G94: МТ.909.2405
B95: Улучшенная окраска краской водно-дисперсионной за 2 раза, группа горючести Г1 | C95: 2 слоя | E95: КРС-12 | G95: МТ.910.3911
A96: ПТ-19 | B96: =HYPERLINK("http://www.teohim.ru/beton/mtr/fljuat/","Пропитка упрочняющая обеспыливающая") -> Пропитка упрочняющая обеспыливающая | C96: 1 слой | E96: ОП-01 | G96: МТ.910.3909
B97: Потолок подвесной реечный кубообразный | C97: по проекту | E97: ПП-03 | G97: МТ.916.6103
A98: ПТ-20 | B98: =HYPERLINK("http://www.ceresit.ru/content/dam/uac/ceresit/russia/movedAssets/master/certificates/TO2019/CT19Betonkontakt.pdf","Грунтовка Бетонконтакт") -> Грунтовка Бетонконтакт | C98: 1 слой | G98: МТ.909.2411
B99: Затирка поверхности после демонтажа опалубки | C99: 2-4 | G99: МТ.907.7215 | H99: Не моделить толщину
B100: Грунтовка глубокого проникновения | C100: 1 слой | G100: МТ.909.2406
...

Sheet П
A1: СОСТАВ КОНСТРУКЦИЙ. ПОЛЫ | F1: Марка АИ
A2: Марка | B2: Место применения | C2: Состав | D2: Толщина, мм | E2: Общая толщина, мм
A3: П-1 | B3: Подземный этаж: Этажная площадка лестницы Первый этаж: Этажная площадка лестницы из подземного этажа, этажная площадка лестниц жилой части, этажная площадка лестницы в техпространство над рампой | C3: Керамогранит с затиркой швов | D3: 8 | E3: 110 | F3: КГП-02
C4: Клей плиточный водостойкий Церезит СМ 16 | D4: 6
C5: Грунтовка глубокого проникновения Церезит CT 17 | D5: 1 слой
C6: Стяжка полусухая цементно-песчаная М150, армированная фиброволокном (фибра полипропиленовая 12мм, расход 0.6кг/м3) | D6: 96
C7: Монолитный ж/бетон | D7: по проекту
A8: П-2 | B8: Подземный этаж: Междуэтажные лестничные площадки и монолитные лестничные марши спусков в подземный этаж Первый этаж: Междуэтажные лестничные площадки и монолитные лестничные марши лестницы в техпространство над рапой | C8: Керамогранит с затиркой швов | D8: 8 | E8: 20 | F8: КГП-02
C9: Клей плиточный водостойкий Церезит СМ 16 | D9: 6
C10: Смесь ремонтная Церезит CD 24 | D10: 6
C11: Монолитный ж/бетон | D11: по проекту
A12: П-3 | B12: Типовой этаж: Этажные лестничные площадки | C12: Пропитка упрочняющая и обеспыливающая | D12: 1 слой | E12: 110 | F12: ОП-01
C13: Наливной пол (цементная основа) Церезит CN 76 EXTRAHART | D13: 20 | F13: НЛП-01
C14: Грунтовка глубокого проникновения Церезит CT 17 | D14: 1 слой
C15: Стяжка полусухая цементно-песчаная М150, армированная фиброволокном (фибра полипропиленовая 12мм, расход 0.6кг/м3) | D15: 90
C16: Монолитный ж/бетон | D16: по проекту
A17: П-4 | B17: Первый и Типовой этаж: Междуэтажные лестничные площадки | C17: Пропитка упрочняющая и обеспыливающая | D17: 1 слой | E17: 20 | F17: ОП-01
C18: Пол наливной (цементная основа) Церезит CN 76 EXTRAHART | D18: 20 | F18: НЛП-01
C19: Грунтовка Бетоноконтакт Церезит CT 19 | D19: 1 слой
C20: Монолитный ж/бетон | D20: по проекту
A21: П-5 | B21: Подземный этаж: Воздухозаборные шахты Первый этаж, Чердак: Техническое пространство для прокладки инженерных коммуникаций, эксплуатируемые технические ниши, техпространство над рампой, воздухозаборные шахты | C21: Пропитка упрочняющая и обеспыливающая | D21: 1 слой | E21: 90 | F21: ОП-01
C22: Стяжка полусухая цементно-песчаная М150, армированная фиброволокном (фибра полипропиленовая 12мм, расход 0.6кг/м3) | D22: 40
C23: Пленка полиэтиленовая 200 мкр | D23: 1 слой
C24: Утеплитель минераловатный (Технониколь ТЕХНОФЛОР СТАНДАРТ) q=100-120 кг/м3, предел прочности на сжатие не менее 30 кПа, λ=0,044 Вт/м°С | D24: 50
C25: Монолитный ж/бетон | D25: по проекту
A26: П-6 | B26: Подземный этаж: Техническое помещение для прокладки инженерных коммуникаций (для объектов без подземной автостоянки), приямки лифтовых шахт, эксплуатируемые технические ниши Первый этаж, Типовой этаж: Покрытие сборных лестничных маршей, эксплуатируемые технические ниши | C26: Пропитка упрочняющая и обеспыливающая | D26: 1 слой | E26: - | F26: ОП-01
C27: Монолитный ж/бетон | D27: по проекту
A28: П-7.1 | B28: Подземный этаж: Помещение автостоянки, зона размещения теплового узла в пространстве подземной автостоянки расположенного под секциями жилой части здания. | C28: Система покрытия ТН-ПОЛ ТАЙКОР Кварц: - Эмаль TAIKOR Top 425 - 2 слоя (Колеруется в RAL-7030) - Засыпка кварцевым песком. Фракции: 0,5 мм; 0,1-0,63 мм - Грунт TAIKOR Primer 150 - 2 слоя | D28: 1 слой | E28: 100-150 | F28: СП-01
C29: Стяжка бетонная В15, F100, W4, армированная сеткой 5Вр1 с ячейкой 100х100 по уклону с прорезкой усадочных швов | D29: 98-148
C30: Система покрытия ТН-ПОЛ ТАЙКОР Барьер: - Покрытие TAIKOR Elastic 300 с заведением на стены на 200 мм - 2 слоя - Грунт TAIKOR Primer 210 с заведением на стены на 200 мм - 1 слой - Подливка выбоин до 30 мм составом Sika grout 316, 5% от площади пола | D30: 1 слой
C31: Монолитный ж/бетон | D31: по проекту
A32: П-7.2 | B32: Подземный этаж: Помещение автостоянки, зона размещения теплового узла в пространстве подземной автостоянки расположенного под секциями жилой части здания. | C32: Система покрытия ТН-ПОЛ ТАЙКОР Кварц: - Эмаль TAIKOR Top 425 - 2 слоя (Колеруется в RAL-7030) - Засыпка кварцевым песком. Фракции: 0,5 мм; 0,1-0,63 мм - Грунт TAIKOR Primer 150 - 2 слоя | D32: 1 слой | E32: 150 | F32: СП-01
C33: Стяжка бетонная В15, F100, W4, армированная сеткой 5Вр1 с ячейкой 100х100 с прорезкой усадочных швов | D33: 148
C34: Система покрытия ТН-ПОЛ ТАЙКОР Барьер: - Покрытие TAIKOR Elastic 300 с заведением на стены на 200 мм - 2 слоя - Грунт TAIKOR Primer 210 с заведением на стены на 200 мм - 1 слой - Подливка выбоин до 30 мм составом Sika grout 316, 5% от площади пола | D34: 1 слой
C35: Монолитный ж/бетон | D35: по проекту
A36: П-8.1 | B36: Подземный этаж: Рампа (проезжая и пешеходная часть) | C36: Система покрытия ТН-ПОЛ ТАЙКОР Кварц усиленная: - Эмаль TAIKOR Top 425 - 2 слоя (Колеруется в RAL -7030) - Засыпка кварцевым песком. Фракции: 0,5 мм; 0,1-0,63 мм - Грунт TAIKOR Primer 150 - 1 слой - Засыпка кварцевым песком. Фракции: 0,5 мм; 0,1-0,63 мм - Грунт TAIKOR Primer 150 - 2 слоя | D36: 1 слой | E36: 100-150 | F36: СП-01
C37: Стяжка бетонная В15, F100, W4, армированная сеткой 5Вр1 с ячейкой 100х100 по уклону с прорезкой усадочных швов | D37: 97-147
C38: Система покрытия ТН-ПОЛ ТАЙКОР Барьер: - Покрытие TAIKOR Elastic 300 с заведением на стены на 200 мм - 2 слоя - Грунт TAIKOR Primer 210 с заведением на стены на 200 мм - 1 слой - Подливка выбоин до 30 мм составом Sika grout 316, 5% от площади пола | D38: 1 слой
C39: Монолитный ж/бетон | D39: по проекту
A40: П-8.2 | B40: Подземный этаж: Рампа (проезжая и пешеходная часть) | C40: Система покрытия ТН-ПОЛ ТАЙКОР Кварц усиленная: - Эмаль TAIKOR Top 425 - 2 слоя (Колеруется в RAL -7030) - Засыпка кварцевым песком. Фракции: 0,5 мм; 0,1-0,63 мм - Грунт TAIKOR Primer 150 - 1 слой - Засыпка кварцевым песком. Фракции: 0,5 мм; 0,1-0,63 мм - Грунт TAIKOR Primer 150 - 2 слоя | D40: 1 слой | E40: 100 | F40: СП-01
C41: Стяжка бетонная В15, F100, W4, армированная сеткой 5Вр1 с ячейкой 100х100 с прорезкой усадочных швов | D41: 97
C42: Система покрытия ТН-ПОЛ ТАЙКОР Барьер: - Покрытие TAIKOR Elastic 300 с заведением на стены на 200 мм - 2 слоя - Грунт TAIKOR Primer 210 с заведением на стены на 200 мм - 1 слой - Подливка выбоин до 30 мм составом Sika grout 316, 5% от площади пола | D42: 1 слой
C43: Монолитный ж/бетон | D43: по проекту
A44: П-8.3 | B44: Подземный этаж: Рампа (проезжая и пешеходная часть) | C44: Система покрытия ТН-ПОЛ ТАЙКОР Кварц усиленная: - Эмаль TAIKOR Top 425 - 2 слоя (Колеруется в RAL -7030) - Засыпка кварцевым песком. Фракции: 0,5 мм; 0,1-0,63 мм - Грунт TAIKOR Primer 150 - 1 слой - Засыпка кварцевым песком. Фракции: 0,5 мм; 0,1-0,63 мм - Грунт TAIKOR Primer 150 - 2 слоя | D44: 1 слой | E44: 150 | F44: СП-01
C45: Стяжка бетонная В15, F100 W-4, армированная 5Вр1 с ячейкой 100х100, по уклону | D45: 147
C46: Система покрытия ТН-ПОЛ ТАЙКОР Барьер: - Покрытие TAIKOR Elastic 300 с заведением на стены на 200 мм - 2 слоя - Грунт TAIKOR Primer 210 с заведением на стены на 200 мм - 1 слой - Подливка выбоин до 30 мм составом Sika grout 316, 5% от площади пола | D46: 1 слой
C47: Монолитный ж/бетон | D47: по проекту
A48: П-9.1 | B48: Подземный этаж: Рампа (пешеходная часть) | C48: Система покрытия ТН-ПОЛ ТАЙКОР Кварц: - Эмаль TAIKOR Top 425 - 2 слоя (Колеруется в RAL -7030) - Засыпка кварцевым песком. Фракции: 0,5 мм; 0,1-0,63 мм - Грунт TAIKOR Primer 150 - 2 слоя | D48: 1 слой | E48: 200-250 | F48: СП-01
C49: Стяжка бетонная В15, F100, W4, армированная сеткой 5Вр1 с ячейкой 100х100 с прорезкой усадочных швов | D49: 98
C50: Гравий керамзитовый фр. 10-20 мм, П25, М250, пропит. цем. молочком | D50: 100-150
C51: Система покрытия ТН-ПОЛ ТАЙКОР Барьер: - Покрытие TAIKOR Elastic 300 с заведением на стены на 200 мм - 2 слоя - Грунт TAIKOR Primer 210 с заведением на стены на 200 мм - 1 слой - Подливка выбоин до 30 мм составом Sika grout 316, 5% от площади пола | D51: 1 слой
C52: Монолитный ж/бетон | D52: по проекту
A53: П-9.2 | B53: Подземный этаж: Рампа (пешеходная часть) | C53: Система покрытия ТН-ПОЛ ТАЙКОР Кварц: - Эмаль TAIKOR Top 425 - 2 слоя (Колеруется в RAL -7030) - Засыпка кварцевым песком. Фракции: 0,5 мм; 0,1-0,63 мм - Грунт TAIKOR Primer 150 - 2 слоя | D53: 1 слой | E53: 200 | F53: СП-01
C54: Стяжка бетонная В15, F100, W4, армированная сеткой 5Вр1 с ячейкой 100х100 с прорезкой усадочных швов | D54: 98
C55: Гравий керамзитовый фр. 10-20 мм, П25, М250, пропит. цем. молочком | D55: 100
C56: Система покрытия ТН-ПОЛ ТАЙКОР Барьер: - Покрытие TAIKOR Elastic 300 с заведением на стены на 200 мм - 2 слоя - Грунт TAIKOR Primer 210 с заведением на стены на 200 мм - 1 слой - Подливка выбоин до 30 мм составом Sika grout 316, 5% от площади пола | D56: 1 слой
C57: Монолитный ж/бетон | D57: по проекту
A58: П-9.3 | B58: Подземный этаж: Рампа (пешеходная часть) | C58: Система покрытия ТН-ПОЛ ТАЙКОР Кварц: - Эмаль TAIKOR Top 425 - 2 слоя (Колеруется в RAL -7030) - Засыпка кварцевым песком. Фракции: 0,5 мм; 0,1-0,63 мм - Грунт TAIKOR Primer 150 - 2 слоя | D58: 1 слой | E58: 250 | F58: СП-01
C59: Стяжка бетонная В15, F100, W4, армированная сеткой 5Вр1 с ячейкой 100х100 с прорезкой усадочных швов | D59: 98
C60: Гравий керамзитовый фр. 10-20 мм, П25, М250, пропит. цем. молочком | D60: 150
C61: Система покрытия ТН-ПОЛ ТАЙКОР Барьер: - Покрытие TAIKOR Elastic 300 с заведением на стены на 200 мм - 2 слоя - Грунт TAIKOR Primer 210 с заведением на стены на 200 мм - 1 слой - Подливка выбоин до 30 мм составом Sika grout 316, 5% от площади пола | D61: 1 слой
C62: Монолитный ж/бетон | D62: по проекту
A63: П-10 | B63: Подземный этаж: Рампа (в зоне въезда/выезда) | C63: Система покрытия ТН-ПОЛ ТАЙКОР Кварц усиленная: - Эмаль TAIKOR Top 425 - 2 слоя (Колеруется в RAL -7030) - Засыпка кварцевым песком. Фракции: 0,5 мм; 0,1-0,63 мм - Грунт TAIKOR Primer 150 - 1 слой - Засыпка кварцевым песком. Фракции: 0,5 мм; 0,1-0,63 мм - Грунт TAIKOR Primer 150 - 2 слоя | D63: 1 слой | E63: 150 | F63: СП-01
C64: Стяжка бетонная В15, F100, W4, армированная сеткой 5Вр1 с ячейкой 100х100 с прорезкой усадочных швов | D64: 98
C65: Пенополистирол экструдированный (Технониколь CARBON SOLID 500), прочность на сжатие 10% линейной деформации не менее 0,5 мПа, λ=0,036 Вт/м°С | D65: 50
C66: Система покрытия ТН-ПОЛ ТАЙКОР Барьер: - Покрытие TAIKOR Elastic 300 с заведением на стены на 200 мм - 2 слоя - Грунт TAIKOR Primer 210 с заведением на стены на 200 мм - 1 слой - Подливка выбоин до 30 мм составом Sika grout 316, 5% от площади пола | D66: 1 слой
C67: Монолитный ж/бетон | D67: по проекту
A68: П-11 | B68: Подземный этаж: Помещение ИТП и ВНС, водомерный узел, венткамера ПД, венткамера автостоянки, насосная АПТ, помещение узла учета тепла, помещение теплового узла, помещение уборочной техники | C68: Керамогранит с затиркой швов, износостойкость неглазурованных плиток не более 0,5 г/см2, класс износостойкости PEI 5, предел прочности при изгибе не менее 35 МПа по ГОСТ 13996-2019 Таблица 24, морозостойкая, класс противоскольжения R9 | D68: 8 | E68: 60-150 | F68: КГП-04
C69: Клей плиточный водостойкий Церезит СМ 16 | D69: 6
C70: Гидроизоляция цементная Церезит CR 65 WATERPROOF с заведением на стены на 200 мм с прокладкой по углам водонепроницаемой ленты для герметизации швов Церезит CL 152 | D70: 2
C71: Стяжка полусухая цементно-песчаная М150, армированная фиброволокном (фибра полипропиленовая 12мм, расход 0.6кг/м3) | D71: 43-133
C72: Монолитный ж/бетон | D72: по проекту
A73: П-12 | B73: Подземный этаж: Тамбур-шлюз (технических помещений). | C73: Керамогранит с затиркой швов и обработкой швов упрочняющей и обеспыливающей пропиткой | D73: 8 | E73: 150 | F73: КГП-04
C74: Клей плиточный водостойкий Церезит СМ 16 | D74: 6
C75: Грунтовка глубокого проникновения Церезит CT 17 | D75: 1 слой
C76: Стяжка полусухая цементно-песчаная М150, армированная фиброволокном (фибра полипропиленовая 12мм, расход 0.6кг/м3) | D76: 51
C77: Пленка пароизоляционная армированная | D77: 1 слой
C78: Гравий керамзитовый фр. 10-20 мм, П25, М250 | D78: 85
C79: Монолитный ж/бетон | D79: по проекту
A80: П-13 | B80: Подземный этаж: Лифтовый холл, тамбур-шлюз (при лифтовом холле). | C80: Керамогранит с затиркой швов | D80: 8 | E80: 150 | F80: КГП-02
C81: Клей плиточный водостойкий Церезит СМ 16 | D81: 6
C82: Грунтовка глубокого проникновения Церезит CT 17 | D82: 1 слой
C83: Стяжка полусухая цементно-песчаная М150, армированная фиброволокном (фибра полипропиленовая 12мм, расход 0.6кг/м3) | D83: 51
C84: Пленка пароизоляционная армированная | D84: 1 слой
C85: Гравий керамзитовый фр. 10-20 мм, П25, М250 | D85: 85
C86: Монолитный ж/бетон | D86: по проекту
A87: П-14 | B87: Подземный этаж: Фундамент под оборудование (плавающий). | C87: Керамогранит с затиркой швов, износостойкость неглазурованных плиток не более 0,5 г/см2, класс износостойкости PEI 5, предел прочности при изгибе не менее 35 МПа по ГОСТ 13996-2019 Таблица 24, морозостойкая, класс противоскольжения R9 | D87: 8 | E87: по проекту | F87: КГП-04
C88: Клей плиточный водостойкий Церезит СМ 16 | D88: 6
C89: Грунтовка Бетоноконтакт Церезит CT 19 | D89: 1 слой
C90: Плита бетонная В15 W4 армированная в 2 слоя сеткой Ø5 В500С с ячейкой 100*100 | D90: по проекту
C91: Прокладка Виброрез-Н | D91: 30
C92: Монолитный ж/бетон | D92: по проекту
A93: П-15 | B93: Подземный этаж: Фундамент под оборудование. | C93: Керамогранит с затиркой швов, износостойкость неглазурованных плиток не более 0,5 г/см2, класс износостойкости PEI 5, предел прочности при изгибе не менее 35 МПа по ГОСТ 13996-2019 Таблица 24, морозостойкая, класс противоскольжения R9 | D93: 8 | E93: по проекту | F93: КГП-04
C94: Клей плиточный водостойкий Церезит СМ 16 | D94: 6
C95: Грунтовка Бетоноконтакт Церезит CT 19 | D95: 1 слой
C96: Плита бетонная В15 W4 армированная в 2 слоя сеткой Ø5 В500С с ячейкой 100*100 | D96: по проекту
C97: Монолитный ж/бетон | D97: по проекту
A98: П-16 | B98: Подземный этаж: Приямки ВК. | C98: Гидроизоляция цементная Церезит CR 65 WATERPROOF с прокладкой по углам водонепроницаемой ленты для герметизации швов Церезит CL 152 | D98: 2 слоя | E98: -
C99: Монолитный ж/бетон | D99: по проекту
A100: П-17 | B100: Первый этаж: Участок пола с грязезащитным покрытием в 1-ом тамбуре МОП, тамбурах БКТ (ЦИН), тамбур ОДС. | C100: Решетка грязезащитное (резина+щетка+скребок) (вес 18,1 кг/м2) | D100: 20 | E100: 100 | F100: РГ-01
...

Sheet ОС _проверка
A1: СОСТАВ КОНСТРУКЦИЙ. ЧЕРНОВАЯ ОТДЕЛКА СТЕН
A2: Марка | B2: Состав | C2: Толщина, мм | D2: Назначение
B3: Затирка
A4: ОС-1 | B4: Грунтовка Бетонконтакт | C4: 1 слой | D4: Монолит
B5: Затирка поверхности после демонтажа опалубки | C5: 2-4
A6: ОС-26 | B6: Грунтовка Бетонконтакт | C6: 1 слой | D6: Монолит
B7: Затирка поверхности после демонтажа опалубки | C7: 2-4
B8: =HYPERLINK("http://www.ceresit.ru/content/dam/uac/ceresit/russia/movedAssets/master/certificates/TO2019/CT17-17Morozostoykaya.pdf","Грунтовка глубокого проникновения") -> Грунтовка глубокого проникновения | C8: 1 слой
B9: Шпатлевка поверхности на цементной основе | C9: 2
A10: ОС-35 | B10: Грунтовка Бетонконтакт | C10: 1 слой | D10: Монолит
B11: Затирка поверхности после демонтажа опалубки | C11: 2-4
B12: =HYPERLINK("http://www.ceresit.ru/content/dam/uac/ceresit/russia/movedAssets/master/certificates/TO2019/CT17-17Morozostoykaya.pdf","Грунтовка глубокого проникновения") -> Грунтовка глубокого проникновения | C12: 1 слой
B13: Шпатлевка поверхности на гипсовой основе | C13: 2
B14: Утеплитель
A15: ОС-2 | B15: Слой штукатурно-клеевой Технониколь 210 или аналог, армированный сеткой фасадной стеклотканевой щелочестойкой М3600 | C15: 5 | D15: Лоджия
A16: ОС-3 | B16: Слой штукатурно-клеевой Технониколь 210 или аналог, армированный сеткой фасадной стеклотканевой щелочестойкой М3600 | C16: 10 | D16: МОП Тамбур БКТ
A17: ОС-30 | B17: Слой штукатурно-клеевой Технониколь 210 или аналог, армированный сеткой фасадной стеклотканевой щелочестойкой М3600 | C17: 10 | D17: Тамбур
B18: =HYPERLINK("http://www.ceresit.ru/content/dam/uac/ceresit/russia/movedAssets/master/certificates/TO2019/CT17-17Morozostoykaya.pdf","Грунтовка глубокого проникновения") -> Грунтовка глубокого проникновения | C18: 1 слой
B19: Шпатлевка поверхности на цементной основе | C19: 2
A20: ОС-43 | B20: Грунтовка Бетонконтакт | C20: 1 слой | D20: Лоджия
B21: Слой штукатурно-клеевой Технониколь 210 или аналог, армированный сеткой фасадной стеклотканевой щелочестойкой М3600 | C21: 5
B22: Откосы цемент
A23: ОС-4 | B23: Грунтовка Бетонконтакт | C23: 1 слой | D23: Подземный тех 1 этаж Мусорка Монолит двери
B24: Профиль угловой ПВХ перфорированный с армирующей стеклотканевой сеткой 100х100мм, сплошное выравнивание смесями цементно-песчаными по сетке тканой стальной 10х10х0.8 мм | C24: 10
A25: ОС-5 | B25: =HYPERLINK("http://www.ceresit.ru/content/dam/uac/ceresit/russia/movedAssets/master/certificates/TO2019/CT17-17Morozostoykaya.pdf","Грунтовка глубокого проникновения") -> Грунтовка глубокого проникновения | C25: 1 слой | D25: Подземный Кирпич тех Двери
B26: Профиль угловой ПВХ перфорированный с армирующей стеклотканевой сеткой 100х100мм, простая штукатурка смесями цементно-песчаными по сетке тканой стальной 10х10х0.8 мм | C26: 14
A27: ОС-6 | B27: =HYPERLINK("http://www.ceresit.ru/content/dam/uac/ceresit/russia/movedAssets/master/certificates/TO2019/CT17-17Morozostoykaya.pdf","Грунтовка глубокого проникновения") -> Грунтовка глубокого проникновения | C27: 1 слой | D27: Подземный Кирпич МОП Двери
B28: Профиль угловой ПВХ перфорированный с армирующей стеклотканевой сеткой 100х100мм, улучшенная штукатурка смесями цементно-песчаными по сетке тканой стальной 10х10х0.8 мм | C28: 17
A29: ОС-11 | B29: Грунтовка Бетонконтакт | C29: 1 слой | D29: Подземный Монолит МОП Двери
B30: Профиль угловой ПВХ перфорированный с армирующей стеклотканевой сеткой 100х100мм, улучшенная штукатурка смесями цементно-песчаными по сетке тканой стальной 10х10х0.8 мм | C30: 17
A31: ОС-29 | B31: Профиль угловой ПВХ перфорированный с армирующей стеклотканевой сеткой 100х100мм, улучшенная штукатурка смесями цементно-песчаными по сетке тканой стальной 10х10х0.8 мм | C31: 17-35 | D31: Тип.этаж НФС Лестница
B32: =HYPERLINK("http://www.ceresit.ru/content/dam/uac/ceresit/russia/movedAssets/master/certificates/TO2019/CT17-17Morozostoykaya.pdf","Грунтовка глубокого проникновения") -> Грунтовка глубокого проникновения | C32: 1 слой
B33: Шпатлевка поверхности на цементной основе | C33: 2
A34: ОС-44 | B34: Грунтовка Бетонконтакт | C34: 1 слой | D34: Тип.этаж Панель Лестница
B35: Профиль угловой ПВХ перфорированный с армирующей стеклотканевой сеткой 100х100мм, сплошное выравнивание смесями цементно-песчаными по сетке тканой стальной 10х10х0.8 мм | C35: 10-40
B36: =HYPERLINK("http://www.ceresit.ru/content/dam/uac/ceresit/russia/movedAssets/master/certificates/TO2019/CT17-17Morozostoykaya.pdf","Грунтовка глубокого проникновения") -> Грунтовка глубокого проникновения | C36: 1 слой
B37: Шпатлевка поверхности на цементной основе | C37: 2
A38: ОС-50 | B38: Грунтовка Бетонконтакт | C38: 1 слой | D38: Тип.этаж Монолит Лестница
B39: Профиль угловой ПВХ перфорированный с армирующей стеклотканевой сеткой 100х100мм, улучшенная штукатурка смесями цементно-песчаными по сетке тканой стальной 10х10х0.8 мм | C39: 17-40
B40: =HYPERLINK("http://www.ceresit.ru/content/dam/uac/ceresit/russia/movedAssets/master/certificates/TO2019/CT17-17Morozostoykaya.pdf","Грунтовка глубокого проникновения") -> Грунтовка глубокого проникновения | C40: 1 слой
B41: Шпатлевка поверхности на цементной основе | C41: 2
B42: Откосы гипс
A43: ОС-31 | B43: Грунтовка Бетонконтакт | C43: 1 слой | D43: Тип.этаж Панель
B44: Профиль угловой ПВХ перфорированный с армирующей стеклотканевой сеткой 100х100мм, сплошное выравнивание смесями гипсовыми по сетке СВУ 120-2600 СП 31-111-2004 | C44: 10-40
B45: =HYPERLINK("http://www.ceresit.ru/content/dam/uac/ceresit/russia/movedAssets/master/certificates/TO2019/CT17-17Morozostoykaya.pdf","Грунтовка глубокого проникновения") -> Грунтовка глубокого проникновения | C45: 1 слой
B46: Шпатлевка поверхности на гипсовой основе | C46: 2
A47: ОС-32 | B47: Грунтовка Бетонконтакт | C47: 1 слой | D47: 1 этаж Монолит
B48: Профиль угловой ПВХ перфорированный с армирующей стеклотканевой сеткой 100х100мм, улучшенная штукатурка смесями гипсовыми по сетке СВУ 120-2600 СП 31-111-2004 | C48: 17-60
B49: =HYPERLINK("http://www.ceresit.ru/content/dam/uac/ceresit/russia/movedAssets/master/certificates/TO2019/CT17-17Morozostoykaya.pdf","Грунтовка глубокого проникновения") -> Грунтовка глубокого проникновения | C49: 1 слой
B50: Шпатлевка поверхности на гипсовой основе | C50: 2
A51: ОС-33 | B51: =HYPERLINK("http://www.ceresit.ru/content/dam/uac/ceresit/russia/movedAssets/master/certificates/TO2019/CT17-17Morozostoykaya.pdf","Грунтовка глубокого проникновения") -> Грунтовка глубокого проникновения | C51: 1 слой | D51: Тип.этаж Лоджии
B52: Профиль угловой ПВХ перфорированный с армирующей стеклотканевой сеткой 100х100мм, улучшенная штукатурка смесями гипсовыми по сетке СВУ 120-2600 СП 31-111-2004 | C52: 17-35
B53: =HYPERLINK("http://www.ceresit.ru/content/dam/uac/ceresit/russia/movedAssets/master/certificates/TO2019/CT17-17Morozostoykaya.pdf","Грунтовка глубокого проникновения") -> Грунтовка глубокого проникновения | C53: 1 слой
B54: Шпатлевка поверхности на гипсовой основе | C54: 2
A55: ОС-34 | B55: ГСП-Н2 | C55: 12.5 | D55: 1 этаж Блок
B56: =HYPERLINK("http://www.ceresit.ru/content/dam/uac/ceresit/russia/movedAssets/master/certificates/TO2019/CT17-17Morozostoykaya.pdf","Грунтовка глубокого проникновения") -> Грунтовка глубокого проникновения | C56: 1 слой
B57: Профиль угловой ПВХ перфорированный с армирующей стеклотканевой сеткой 100х100мм, улучшенная штукатурка смесями гипсовыми по сетке СВУ 120-2600 СП 31-111-2004 | C57: 17-50
B58: =HYPERLINK("http://www.ceresit.ru/content/dam/uac/ceresit/russia/movedAssets/master/certificates/TO2019/CT17-17Morozostoykaya.pdf","Грунтовка глубокого проникновения") -> Грунтовка глубокого проникновения | C58: 1 слой
B59: Шпатлевка поверхности на гипсовой основе | C59: 2
A60: ОС-45 | B60: ГСП-Н2 | C60: 12.5 | D60: Тип.этаж НФС Квартиры/МОП
B61: =HYPERLINK("http://www.ceresit.ru/content/dam/uac/ceresit/russia/movedAssets/master/certificates/TO2019/CT17-17Morozostoykaya.pdf","Грунтовка глубокого проникновения") -> Грунтовка глубокого проникновения | C61: 1 слой
B62: Профиль угловой ПВХ перфорированный с армирующей стеклотканевой сеткой 100х100мм, улучшенная штукатурка смесями гипсовыми по сетке СВУ 120-2600 СП 31-111-2004 | C62: 17
B63: =HYPERLINK("http://www.ceresit.ru/content/dam/uac/ceresit/russia/movedAssets/master/certificates/TO2019/CT17-17Morozostoykaya.pdf","Грунтовка глубокого проникновения") -> Грунтовка глубокого проникновения | C63: 1 слой
B64: Шпатлевка поверхности на гипсовой основе | C64: 2
A65: ОС-49 | B65: Грунтовка Бетонконтакт | C65: 1 слой | D65: Тип.этаж Монолит
B66: Профиль угловой ПВХ перфорированный с армирующей стеклотканевой сеткой 100х100мм, улучшенная штукатурка смесями гипсовыми по сетке СВУ 120-2600 СП 31-111-2004 | C66: 17-40
B67: =HYPERLINK("http://www.ceresit.ru/content/dam/uac/ceresit/russia/movedAssets/master/certificates/TO2019/CT17-17Morozostoykaya.pdf","Грунтовка глубокого проникновения") -> Грунтовка глубокого проникновения | C67: 1 слой
B68: Шпатлевка поверхности на гипсовой основе | C68: 2
B69: Простая цемент
A70: ОС-7 | B70: =HYPERLINK("http://www.ceresit.ru/content/dam/uac/ceresit/russia/movedAssets/master/certificates/TO2019/CT17-17Morozostoykaya.pdf","Грунтовка глубокого проникновения") -> Грунтовка глубокого проникновения | C70: 1 слой | D70: Кирпич
B71: Простая штукатурка смесями цементно-песчаными по сетке тканой стальной 10х10х0.8 мм | C71: 14
A72: ОС-15 | B72: =HYPERLINK("http://www.ceresit.ru/content/dam/uac/ceresit/russia/movedAssets/master/certificates/TO2019/CT17-17Morozostoykaya.pdf","Грунтовка глубокого проникновения") -> Грунтовка глубокого проникновения | C72: 1 слой | D72: Блок
B73: Простая штукатурка смесями цементно-песчаными | C73: 14
A74: ОС-52 | B74: =HYPERLINK("http://www.ceresit.ru/content/dam/uac/ceresit/russia/movedAssets/master/certificates/TO2019/CT17-17Morozostoykaya.pdf","Грунтовка глубокого проникновения") -> Грунтовка глубокого проникновения | C74: 1 слой | D74: Блок Мокрые ЦИН
B75: Простая штукатурка смесями цементно-песчаными | C75: 14
B76: =HYPERLINK("http://www.ceresit.ru/content/dam/uac/ceresit/russia/movedAssets/master/certificates/TO2019/CT17-17Morozostoykaya.pdf","Грунтовка глубокого проникновения") -> Грунтовка глубокого проникновения | C76: 1 слой
B77: Шпатлевка поверхности на цементной основе | C77: 2
B78: Улучшенная цемент
A79: ОС-8 | B79: =HYPERLINK("http://www.ceresit.ru/content/dam/uac/ceresit/russia/movedAssets/master/certificates/TO2019/CT17-17Morozostoykaya.pdf","Грунтовка глубокого проникновения") -> Грунтовка глубокого проникновения | C79: 1 слой | D79: Кирпич
B80: Улучшенная штукатурка смесями цементно-песчаными по сетке тканой стальной 10х10х0.8 мм | C80: 17
A81: ОС-28 | B81: =HYPERLINK("http://www.ceresit.ru/content/dam/uac/ceresit/russia/movedAssets/master/certificates/TO2019/CT17-17Morozostoykaya.pdf","Грунтовка глубокого проникновения") -> Грунтовка глубокого проникновения | C81: 1 слой | D81: Кирпич
B82: Улучшенная штукатурка смесями цементно-песчаными по сетке тканой стальной 10х10х0.8 мм | C82: 17
B83: =HYPERLINK("http://www.ceresit.ru/content/dam/uac/ceresit/russia/movedAssets/master/certificates/TO2019/CT17-17Morozostoykaya.pdf","Грунтовка глубокого проникновения") -> Грунтовка глубокого проникновения | C83: 1 слой
B84: Шпатлевка поверхности на цементной основе | C84: 2
A85: ОС-9 | B85: Грунтовка Бетонконтакт | C85: 1 слой | D85: Панель
B86: Сплошное выравнивание смесями цементно-песчаными | C86: 10
A87: ОС-18 | B87: =HYPERLINK("http://www.ceresit.ru/content/dam/uac/ceresit/russia/movedAssets/master/certificates/TO2019/CT17-17Morozostoykaya.pdf","Грунтовка глубокого проникновения") -> Грунтовка глубокого проникновения | C87: 1 слой | D87: Блок
B88: Улучшенная штукатурка смесями цементно-песчаными | C88: 17
A89: ОС-27 | B89: =HYPERLINK("http://www.ceresit.ru/content/dam/uac/ceresit/russia/movedAssets/master/certificates/TO2019/CT17-17Morozostoykaya.pdf","Грунтовка глубокого проникновения") -> Грунтовка глубокого проникновения | C89: 1 слой | D89: Блок
B90: Улучшенная штукатурка смесями цементно-песчаными | C90: 17
B91: =HYPERLINK("http://www.ceresit.ru/content/dam/uac/ceresit/russia/movedAssets/master/certificates/TO2019/CT17-17Morozostoykaya.pdf","Грунтовка глубокого проникновения") -> Грунтовка глубокого проникновения | C91: 1 слой
B92: Шпатлевка поверхности на цементной основе | C92: 2
A93: ОС-19 | B93: Грунтовка Бетонконтакт | C93: 1 слой | D93: Монолит
B94: Улучшенная штукатурка смесями цементно-песчаными | C94: 17
B95: Простая гипс
A96: ОС-16 | B96: =HYPERLINK("http://www.ceresit.ru/content/dam/uac/ceresit/russia/movedAssets/master/certificates/TO2019/CT17-17Morozostoykaya.pdf","Грунтовка глубокого проникновения") -> Грунтовка глубокого проникновения | C96: 1 слой | D96: Блок
B97: Простая штукатурка смесями гипсовыми | C97: 14
A98: ОС-17 | B98: =HYPERLINK("http://www.ceresit.ru/content/dam/uac/ceresit/russia/movedAssets/master/certificates/TO2019/CT17-17Morozostoykaya.pdf","Грунтовка глубокого проникновения") -> Грунтовка глубокого проникновения | C98: 1 слой | D98: Кирпич
B99: Простая штукатурка смесями гипсовыми по сетке СВУ 120-2600 СП 31-111-2004 | C99: 14
B100: Улучшенная гипс
...

Sheet ОТ_проверка
A1: СОСТАВ КОНСТРУКЦИЙ. ЧИСТОВАЯ ОТДЕЛКА СТЕН
A2: Марка | B2: Состав | C2: Толщина, мм | D2: Марка АИ, артикул | E2: Место
B3: Простая окраска
A4: ОТ-5 | B4: =HYPERLINK("https://dm.henkel-dam.com/is/content/henkel/ru-ceresit-tds-in10-gruntinterier","Грунтовка под финишную отделку") -> Грунтовка под финишную отделку | C4: 1 слой | D4: КРС-12 Стройтекс 700010326 | E4: Откосы технических подвала и чердака, техническе подвала, машинное помещение, СС на кровле, щитовая и СС 1 эт
B5: Простая окраска краской водно-дисперсионной за 2 раза | C5: 2 слоя
B6: Простая окраска влагостойкая
A7: ОТ-6 | B7: =HYPERLINK("https://dm.henkel-dam.com/is/content/henkel/ru-ceresit-tds-in10-gruntinterier","Грунтовка под финишную отделку") -> Грунтовка под финишную отделку | C7: 1 слой | D7: КРС-13 Практик для стен и потолков | E7: Мусорная камера+тамбур
B8: Простая окраска краской водно-дисперсионной влагостойкой за 2 раза | C8: 2 слоя
B9: Простая окраска НГ
A10: ОТ-4 | B10: =HYPERLINK("https://dm.henkel-dam.com/is/content/henkel/ru-ceresit-tds-in10-gruntinterier","Грунтовка под финишную отделку") -> Грунтовка под финишную отделку | C10: 1 слой | D10: КРС-11 Стройтекс 700010320 | E10: Запотолочное МОП, торцы ЛК тех.про-ва
B11: Простая окраска краской водно-дисперсионной негорючей за 2 раза, группа горючести НГ | C11: 2 слоя
A12: ОТ-30 | B12: =HYPERLINK("https://dm.henkel-dam.com/is/content/henkel/ru-ceresit-tds-in10-gruntinterier","Грунтовка под финишную отделку") -> Грунтовка под финишную отделку | C12: 1 слой | D12: КРС-10 NG Light | E12: Запотолочное МОП 1 эт
B13: Простая окраска краской негорючей за 2 раза, группа горючести НГ | C13: 2 слоя
B14: Простая окраска влагостойкая Г1
A15: ОТ-1 | B15: Грунтовка силикатная | C15: 1 слой | D15: КРС-15 БИЗОН-НГ RAL7038 | E15: Паркинг
B16: Простая окраска краской влагостойкой негорючей за 2 раза, группа горючести Г1 | C16: 2 слоя
A17: ОТ-2 | B17: Грунтовка силикатная | C17: 1 слой | D17: КРС-02 Палитра Руси RAL1003 | E17: Паркинг акцент
B18: Простая окраска краской влагостойкой негорючей за 2 раза, группа горючести Г1 (акцентная) | C18: 2 слоя
B19: Улучшенная окраска
A20: ОТ-8 | B20: Грунтовка под финишную отделку | C20: 1 слой | D20: КРС-12 Стройтекс 700010326 | E20: Откосы квартира, Откосы консьерж
B21: Улучшенная окраска краской водно-дисперсионной за 2 раза | C21: 2 слоя
A22: ОТ-9 | B22: Грунтовка под финишную отделку | C22: 1 слой | D22: КРС-08 Радуга 29 ВД | E22: ОДС
B23: Улучшенная окраска краской водно-дисперсионной за 2 раза, группа горючести Г1 | C23: 2 слоя
B24: Улучшенная окраска влагостойкая
A25: ОТ-7 | B25: Грунтовка под финишную отделку | C25: 1 слой | D25: КРС-13 Практик для стен и потолков | E25: С/у охраны, мокрые ОДС, мокрые ЦИН, мусоропровод
B26: Улучшенная окраска краской водно-дисперсионной влагостойкой за 2 раза | C26: 2 слоя
A27: ОТ-11 | B27: Грунтовка под финишную отделку | C27: 1 слой | D27: КРС-12 Стройтекс 700010326 | E27: Откосы ЦИН, ОДС
B28: Улучшенная окраска краской водно-дисперсионной за 2 раза, группа горючести Г1 | C28: 2 слоя
B29: Улучшенная окраска НГ
A30: ОТ-30 | B30: =HYPERLINK("https://dm.henkel-dam.com/is/content/henkel/ru-ceresit-tds-in10-gruntinterier","Грунтовка под финишную отделку") -> Грунтовка под финишную отделку | C30: 1 слой
B31: Улучшенная окраска краской водно-дисперсионной негорючей за 2 раза, группа горючести НГ | C31: 2 слоя
B32: Улучшенная окраска влагостойкая НГ
A33: ОТ-10 | B33: Грунтовка под финишную отделку | C33: 1 слой | D33: КРС-11 Стройтекс 700010320 | E33: Торцы ЛК, Откосы МОП
B34: Улучшенная окраска краской водно-дисперсионной негорючей за 2 раза, группа горючести НГ | C34: 2 слоя
A35: ОТ-11 | B35: Грунтовка под финишную отделку | C35: 1 слой
B36: Улучшенная окраска краской влагостойкой негорючей за 2 раза, группа горючести НГ | C36: 2 слоя
B37: Структурная окраска НГ
A38: ОТ-3 | B38: =HYPERLINK("http://www.ceresit.ru/content/dam/uac/ceresit/russia/movedAssets/master/certificates/TO2019/CT17-17Morozostoykaya.pdf","Грунтовка глубокого проникновения") -> Грунтовка глубокого проникновения | C38: 1 слой | D38: КРС-01
B39: Окраска краской структурной негорючей, нанесение краскопультом, группа горючести НГ | C39: 1 слой
B40: Плитка Бетонконтакт
A41: ОТ-16 | B41: =HYPERLINK("http://www.ceresit.ru/content/dam/uac/ceresit/russia/movedAssets/master/certificates/TO2019/CT19Betonkontakt.pdf","Грунтовка Бетонконтакт") -> Грунтовка Бетонконтакт | C41: 1 слой | D41: КПС-03 Kerama Marazzi Белое солнце 800 | E41: ИТП, с/у, пуи консьержа, тамбур мусорокамеры, с/у охраны, мокрые ОДС, с/у квартиры
B42: Керамическая плитка на растворе цементно-песчаном с затиркой швов | C42: =6.9+5.1 -> 12
A43: ОТ-20 | B43: =HYPERLINK("http://www.ceresit.ru/content/dam/uac/ceresit/russia/movedAssets/master/certificates/TO2019/CT19Betonkontakt.pdf","Грунтовка Бетонконтакт") -> Грунтовка Бетонконтакт | C43: 1 слой | D43: КПС-02 Kerama Marazzi Конфетти 1230T | E43: фартук ЦИН
B44: Керамическая плитка на растворе цементно-песчаном с затиркой швов | C44: =9+5 -> 14
A45: ОТ-22 | B45: =HYPERLINK("http://www.ceresit.ru/content/dam/uac/ceresit/russia/movedAssets/master/certificates/TO2019/CT19Betonkontakt.pdf","Грунтовка Бетонконтакт") -> Грунтовка Бетонконтакт | C45: 1 слой | D45: КПС-01 Kerama Marazzi Баттерфляй 2828 | E45: мокрые ЦИН
B46: Керамическая плитка на растворе цементно-песчаном с затиркой швов | C46: =9+5 -> 14
B47: Плитка грунт
A48: ОТ-15 | B48: =HYPERLINK("http://www.ceresit.ru/content/dam/uac/ceresit/russia/movedAssets/master/certificates/TO2019/CT17-17Morozostoykaya.pdf","Грунтовка глубокого проникновения") -> Грунтовка глубокого проникновения | C48: 1 слой | D48: КПС-03 Kerama Marazzi Белое солнце 800 | E48: ИТП, с/у, пуи консьержа, мусорокамера, с/у охраны, мокрые ОДС, с/у квартиры
B49: Керамическая плитка на растворе цементно-песчаном с затиркой швов | C49: =6.9+5.1 -> 12
A50: ОТ-17 | B50: =HYPERLINK("https://dm.henkel-dam.com/is/content/henkel/ru-ceresit-tds-in10-gruntinterier","Грунтовка под финишную отделку") -> Грунтовка под финишную отделку | C50: 1 слой
B51: Керамическая плитка на растворе цементно-песчаном с затиркой швов | C51: =6.9+5.1 -> 12
A52: ОТ-19 | B52: =HYPERLINK("http://www.ceresit.ru/content/dam/uac/ceresit/russia/movedAssets/master/certificates/TO2019/CT17-17Morozostoykaya.pdf","Грунтовка глубокого проникновения") -> Грунтовка глубокого проникновения | C52: 1 слой | D52: КПС-02 Kerama Marazzi Конфетти 1230T | E52: фартук ЦИН
B53: Керамическая плитка на растворе цементно-песчаном с затиркой швов | C53: =9+5 -> 14
A54: ОТ-21 | B54: =HYPERLINK("http://www.ceresit.ru/content/dam/uac/ceresit/russia/movedAssets/master/certificates/TO2019/CT17-17Morozostoykaya.pdf","Грунтовка глубокого проникновения") -> Грунтовка глубокого проникновения | C54: 1 слой | D54: КПС-01 Kerama Marazzi Баттерфляй 2828 | E54: мокрые ЦИН
B55: Керамическая плитка на растворе цементно-песчаном с затиркой швов | C55: =9+5 -> 14
A56: ОТ-23 | B56: =HYPERLINK("http://www.ceresit.ru/content/dam/uac/ceresit/russia/movedAssets/master/certificates/TO2019/CT17-17Morozostoykaya.pdf","Грунтовка глубокого проникновения") -> Грунтовка глубокого проникновения | C56: 1 слой | D56: КПС-04 Unitile Аврора бел верх 01 | E56: фартук квартиры
B57: Керамическая плитка на растворе цементно-песчаном с затиркой швов | C57: =6.9+5.1 -> 12
A58: ОТ-24 | B58: =HYPERLINK("http://www.ceresit.ru/content/dam/uac/ceresit/russia/movedAssets/master/certificates/TO2019/CT17-17Morozostoykaya.pdf","Грунтовка глубокого проникновения") -> Грунтовка глубокого проникновения | C58: 1 слой | D58: КПС-03 Kerama Marazzi Белое солнце 800 | E58: с/у квартиры
B59: Гидроизоляция однокомпонентная полимерная эластичная на всю высоту с прокладкой по углам ленты водонепроницаемой для герметизации швов | C59: 2 слоя
B60: Керамическая плитка на растворе цементно-песчаном с затиркой швов | C60: =6.9+5.1 -> 12
B61: Керамогранит Бетонконтакт
A62: ОТ-18 | B62: =HYPERLINK("http://www.ceresit.ru/content/dam/uac/ceresit/russia/movedAssets/master/certificates/TO2019/CT19Betonkontakt.pdf","Грунтовка Бетонконтакт") -> Грунтовка Бетонконтакт | C62: 1 слой | D62: КГС-02 | E62: Вестибюль, колясочная
B63: Керамогранит на растворе цементно-песчаном с затиркой швов, группа горючести НГ (дополнительный) | C63: =11+5 -> 16
A64: ОТ-26 | B64: =HYPERLINK("http://www.ceresit.ru/content/dam/uac/ceresit/russia/movedAssets/master/certificates/TO2019/CT19Betonkontakt.pdf","Грунтовка Бетонконтакт") -> Грунтовка Бетонконтакт | C64: 1 слой | D64: КГС-01 | E64: Тамбуры МОП, вестибюль, колясочная
B65: Керамогранит на растворе цементно-песчаном с затиркой швов, группа горючести НГ | C65: =11+5 -> 16
A66: ОТ-28 | B66: =HYPERLINK("http://www.ceresit.ru/content/dam/uac/ceresit/russia/movedAssets/master/certificates/TO2019/CT19Betonkontakt.pdf","Грунтовка Бетонконтакт") -> Грунтовка Бетонконтакт | C66: 1 слой | D66: КГС-03/КГС-04/КГС-05 | E66: Тамбуры МОП, вестибюль, колясочная
B67: Керамогранит на растворе цементно-песчаном с затиркой швов, группа горючести НГ (акцентный) | C67: =11+5 -> 16
B68: Керамогранит грунт
A69: ОТ-17 | B69: =HYPERLINK("http://www.ceresit.ru/content/dam/uac/ceresit/russia/movedAssets/master/certificates/TO2019/CT17-17Morozostoykaya.pdf","Грунтовка глубокого проникновения") -> Грунтовка глубокого проникновения | C69: 1 слой | D69: КГС-02 | E69: Вестибюль, колясочная
B70: Керамогранит на растворе цементно-песчаном с затиркой швов, группа горючести НГ (дополнительный) | C70: =11+5 -> 16
A71: ОТ-25 | B71: =HYPERLINK("http://www.ceresit.ru/content/dam/uac/ceresit/russia/movedAssets/master/certificates/TO2019/CT17-17Morozostoykaya.pdf","Грунтовка глубокого проникновения") -> Грунтовка глубокого проникновения | C71: 1 слой | D71: КГС-01 | E71: Тамбуры МОП, вестибюль, колясочная
B72: Керамогранит на растворе цементно-песчаном с затиркой швов, группа горючести НГ | C72: =11+5 -> 16
A73: ОТ-27 | B73: =HYPERLINK("http://www.ceresit.ru/content/dam/uac/ceresit/russia/movedAssets/master/certificates/TO2019/CT17-17Morozostoykaya.pdf","Грунтовка глубокого проникновения") -> Грунтовка глубокого проникновения | C73: 1 слой | D73: КГС-03/КГС-04/КГС-05 | E73: Тамбуры МОП, вестибюль, колясочная
B74: Керамогранит на растворе цементно-песчаном с затиркой швов, группа горючести НГ (акцентный) | C74: =11+5 -> 16
A76: ОТ-12 | B76: Грунтовка под финишную отделку | C76: 1 слой | D76: КРС-07 | E76: ЦИН
B77: Окраска краской магнитно-грифельной в 2 слоя, группа горючести Г1 | C77: 4 слоя
A78: ОТ-13 | B78: =HYPERLINK("https://dm.henkel-dam.com/is/content/henkel/ru-ceresit-tds-in10-gruntinterier","Грунтовка под финишную отделку") -> Грунтовка под финишную отделку | C78: 1 слой | D78: КРС-12 Стройтекс 700010326 | E78: квартиры
B79: Обои на флизелиновой основе, окраска краской влагостойкой водно-дисперсионной | C79: 1 слой
A80: ОТ-14 | B80: =HYPERLINK("http://www.teohim.ru/beton/mtr/fljuat/","Пропитка упрочняющая обеспыливающая") -> Пропитка упрочняющая обеспыливающая | C80: 1 слой | D80: ОП-1 Элакор
A82: ОТ-18 | B82: Керамическая плитка на растворе цементно-песчаном с затиркой швов | C82: =6.9+5.1 -> 12
A83: ОТ-29 | B83: Грунтовка фасадная универсальная | C83: 1 слой | D83: ШД-01, КРС-14 | E83: лоджии
B84: Штукатурка декоративная минеральная с окраской краской фасадной атмосферостойкой за 2 раза | C84: 5

Sheet ПТ_проверка
A1: СОСТАВ КОНСТРУКЦИЙ. ЧЕРНОВАЯ/ЧИСТОВАЯ ОТДЕЛКА ПОТОЛКА
A2: Марка | B2: Состав | C2: Толщина, мм | D2: Примечание | E2: Марка АИ, артикул | F2: Помещение
B3: Окраска по монолиту
A4: ПТ-1 | B4: =HYPERLINK("http://www.ceresit.ru/content/dam/uac/ceresit/russia/movedAssets/master/certificates/TO2019/CT19Betonkontakt.pdf","Грунтовка Бетонконтакт") -> Грунтовка Бетонконтакт | C4: 1 слой | F4: Автостоянка, рампа
B5: Затирка поверхности после демонтажа опалубки | C5: 2-4
B6: Грунтовка силикатная | C6: 1 слой
B7: Простая окраска краской негорючей за 2 раза, группа горючести Г1 | C7: 2 слоя | E7: КРС-15 БИЗОН-НГ RAL7038
A8: ПТ-4 | B8: =HYPERLINK("http://www.ceresit.ru/content/dam/uac/ceresit/russia/movedAssets/master/certificates/TO2019/CT19Betonkontakt.pdf","Грунтовка Бетонконтакт") -> Грунтовка Бетонконтакт | C8: 1 слой | F8: Низ площадок ЛК, монолит. маршей, потолок ЛК подземного
B9: Затирка поверхности после демонтажа опалубки | C9: 2-4
B10: =HYPERLINK("http://www.ceresit.ru/content/dam/uac/ceresit/russia/movedAssets/master/certificates/TO2019/CT17-17Morozostoykaya.pdf","Грунтовка глубокого проникновения") -> Грунтовка глубокого проникновения | C10: 1 слой
B11: Шпатлевка поверхности на цементной основе | C11: 2
B12: =HYPERLINK("https://dm.henkel-dam.com/is/content/henkel/ru-ceresit-tds-in10-gruntinterier","Грунтовка под финишную отделку") -> Грунтовка под финишную отделку | C12: 1 слой
B13: Улучшенная окраска краской водно-дисперсионной негорючей за 2 раза, группа горючести НГ | C13: 2 слоя | E13: КРС-11 Стройтекс 700010320
A14: ПТ-5 | B14: =HYPERLINK("http://www.ceresit.ru/content/dam/uac/ceresit/russia/movedAssets/master/certificates/TO2019/CT19Betonkontakt.pdf","Грунтовка Бетонконтакт") -> Грунтовка Бетонконтакт | C14: 1 слой | F14: Тех.помещения
B15: Затирка поверхности после демонтажа опалубки | C15: 2-4
B16: =HYPERLINK("https://dm.henkel-dam.com/is/content/henkel/ru-ceresit-tds-in10-gruntinterier","Грунтовка под финишную отделку") -> Грунтовка под финишную отделку | C16: 1 слой
B17: Простая окраска краской водно-дисперсионной за 2 раза | C17: 2 слоя | E17: КРС-11 Стройтекс 700010320
A18: ПТ-11 | B18: =HYPERLINK("http://www.ceresit.ru/content/dam/uac/ceresit/russia/movedAssets/master/certificates/TO2019/CT19Betonkontakt.pdf","Грунтовка Бетонконтакт") -> Грунтовка Бетонконтакт | C18: 1 слой | F18: Низ сборных маршей ЛК
B19: Шпатлевка поверхности на цементной основе | C19: 2
B20: =HYPERLINK("https://dm.henkel-dam.com/is/content/henkel/ru-ceresit-tds-in10-gruntinterier","Грунтовка под финишную отделку") -> Грунтовка под финишную отделку | C20: 1 слой
B21: Улучшенная окраска краской водно-дисперсионной негорючей за 2 раза, группа горючести НГ | C21: 2 слоя | E21: КРС-11 Стройтекс 700010320
A22: ПТ-12 | B22: =HYPERLINK("http://www.ceresit.ru/content/dam/uac/ceresit/russia/movedAssets/master/certificates/TO2019/CT19Betonkontakt.pdf","Грунтовка Бетонконтакт") -> Грунтовка Бетонконтакт | C22: 1 слой | F22: Мусорокамера
B23: Затирка поверхности после демонтажа опалубки | C23: 2-4
B24: =HYPERLINK("https://dm.henkel-dam.com/is/content/henkel/ru-ceresit-tds-in10-gruntinterier","Грунтовка под финишную отделку") -> Грунтовка под финишную отделку | C24: 1 слой
B25: Простая окраска краской влагостойкой водно-дисперсионной за 2 раза | C25: 2 слоя | E25: КРС-13 Практик для стен и потолков
A26: ПТ-17 | B26: =HYPERLINK("http://www.ceresit.ru/content/dam/uac/ceresit/russia/movedAssets/master/certificates/TO2019/CT19Betonkontakt.pdf","Грунтовка Бетонконтакт") -> Грунтовка Бетонконтакт | C26: 1 слой | F26: Серверная
B27: Сплошное выравнивание смесями гипсовыми | C27: 10
B28: =HYPERLINK("http://www.ceresit.ru/content/dam/uac/ceresit/russia/movedAssets/master/certificates/TO2019/CT17-17Morozostoykaya.pdf","Грунтовка глубокого проникновения") -> Грунтовка глубокого проникновения | C28: 1 слой
B29: Шпатлевка на гипсовой основе | C29: 2
B30: =HYPERLINK("https://dm.henkel-dam.com/is/content/henkel/ru-ceresit-tds-in10-gruntinterier","Грунтовка под финишную отделку") -> Грунтовка под финишную отделку | C30: 1 слой
B31: Улучшенная окраска краской водно-дисперсионной за 2 раза | C31: 2 слоя | E31: КРС-12 Стройтекс 700010326
A32: ПТ-20 | B32: =HYPERLINK("http://www.ceresit.ru/content/dam/uac/ceresit/russia/movedAssets/master/certificates/TO2019/CT19Betonkontakt.pdf","Грунтовка Бетонконтакт") -> Грунтовка Бетонконтакт | C32: 1 слой | F32: Мусоропровод
B33: Затирка поверхности после демонтажа опалубки | C33: 2-4
B34: =HYPERLINK("http://www.ceresit.ru/content/dam/uac/ceresit/russia/movedAssets/master/certificates/TO2019/CT17-17Morozostoykaya.pdf","Грунтовка глубокого проникновения") -> Грунтовка глубокого проникновения | C34: 1 слой
B35: Шпатлевка поверхности на гипсовой основе | C35: 2
B36: =HYPERLINK("https://dm.henkel-dam.com/is/content/henkel/ru-ceresit-tds-in10-gruntinterier","Грунтовка под финишную отделку") -> Грунтовка под финишную отделку | C36: 1 слой
B37: Улучшенная окраска краской влагостойкой водно-дисперсионной за 2 раза | C37: 2 слоя | E37: КРС-13 Практик для стен и потолков
