Workbook

Sheet Усилия в анкерах
E2: 1) Примечания к расчету:
E3: 1.1) Башня крана опирается на четыре анкера, геометрически являющихся вершинами квадрата.
E4: 1.2) Ячейки, имеющие заливку желтого цвета, должны быть заполнены - это исходные данные, значения N и M должны быть введены по модулю (положительные значения).
E5: 1.3) Нумерация анкеров и направление осей системы координат на рисунке 1 соответствует таблице 1 и таблице 2.
E6: 1.4) * - отрицательный знак усилия в таблице 1 и таблице 2 указывает на то, что усилие необходимо прикладывать сверху-вниз к фундаментной плите, положительный знак усилия указывает на то, что усилие необходимо прикладывать снизу-вверх.
E7: 1.5) В исходные данные необходимо заносить значения нагрузок от крана из технического задания или паспорта на кран. Расчетные значения нагрузок в приложении определяются автоматически как произведение внесенных величин на коэффициент надежности по нагрузке γf. Результаты расчета представлены для двух вариантов: в таблице 1 для усилий N и M используется γf > 1; в таблице 2 для усилия N используется γf < 1 (см. п. 7.3 СП 20.13330.2016), а для усилия M используется γf > 1. Для последующего расчета в Лира-САПР нужно принимать наихудший вариант.
E8: 2) Исходные данные (см. рисунок 1):
E9: N = | F9: 1970 | G9: =CONCATENATE("кН (",ROUNDUP('Исходные данные усилий'!C8/9.80665,2)," т)") -> кН (210,93 т) | H9: - вертикальное усилие от башни крана (см. техническое задание или паспорт на кран), см. примечание п. 1.5
E10: M = | F10: 4810 | G10: =CONCATENATE("кН·м (",ROUNDUP('Исходные данные усилий'!C9/9.80665,2)," т·м)") -> кН·м (515,01 т·м) | H10: - момент от башни крана (см. техническое задание или паспорт на кран), см. примечание п. 1.5
E11: γf (γf > 1) = | F11: 1.05 | H11: - коэффициент надежности по нагрузке (см. п. 4.2 и п. 7.2 СП 20.13330.2016); используется γf > 1 в таблице 1 для усилий N и M и в таблице 2 для усилия M, см. примечание п. 1.5
E12: γf (γf < 1) = | F12: 0.9 | H12: - коэффициент надежности по нагрузке (см. п. 4.2 и п. 7.3 СП 20.13330.2016); используется γf < 1 в таблице 2 для усилия N, см. примечание п. 1.5
E13: b = | F13: 1.5 | G13: м | H13: - расстояние между стойками башни крана (анкерами фундамента)
B15: 3) Таблица 1 - результаты расчета варианта 1:
B16: Номер загружения | C16: Направление момента | D16: Усилия передаваемые на анкеры фундамента *, т
D17: Nan1 | E17: Nan2 | F17: Nan3 | G17: Nan4
B18: Загружение 1 | C18: ↑ С | D18: =(-'Исходные данные усилий'!C9/(2*F13)-'Исходные данные усилий'!C8/4)/9.80665 -> -224.4013 | E18: =D18 -> -224.4013 | F18: =('Исходные данные усилий'!C9/(2*F13)-'Исходные данные усилий'!C8/4)/9.80665 -> 118.93715 | G18: =F18 -> 118.93715
B19: Загружение 2 | C19: ↗ СВ | D19: =(-'Исходные данные усилий'!C8/4)/9.80665 -> -52.732075 | E19: =(-'Исходные данные усилий'!C9/(SQRT(2)*F13)-'Исходные данные усилий'!C8/4)/9.80665 -> -295.50902 | F19: =D19 -> -52.732075 | G19: =('Исходные данные усилий'!C9/(SQRT(2)*F13)-'Исходные данные усилий'!C8/4)/9.80665 -> 190.04487
B20: Загружение 3 | C20: → В | D20: =('Исходные данные усилий'!C9/(2*F13)-'Исходные данные усилий'!C8/4)/9.80665 -> 118.93715 | E20: =(-'Исходные данные усилий'!C9/(2*F13)-'Исходные данные усилий'!C8/4)/9.80665 -> -224.4013 | F20: =E20 -> -224.4013 | G20: =D20 -> 118.93715
B21: Загружение 4 | C21: ↘ ЮВ | D21: =('Исходные данные усилий'!C9/(SQRT(2)*F13)-'Исходные данные усилий'!C8/4)/9.80665 -> 190.04487 | E21: =(-'Исходные данные усилий'!C8/4)/9.80665 -> -52.732075 | F21: =(-'Исходные данные усилий'!C9/(SQRT(2)*F13)-'Исходные данные усилий'!C8/4)/9.80665 -> -295.50902 | G21: =E21 -> -52.732075
B22: Загружение 5 | C22: ↓ Ю | D22: =('Исходные данные усилий'!C9/(2*F13)-'Исходные данные усилий'!C8/4)/9.80665 -> 118.93715 | E22: =D22 -> 118.93715 | F22: =(-'Исходные данные усилий'!C9/(2*F13)-'Исходные данные усилий'!C8/4)/9.80665 -> -224.4013 | G22: =F22 -> -224.4013
B23: Загружение 6 | C23: ↙ ЮЗ | D23: =(-'Исходные данные усилий'!C8/4)/9.80665 -> -52.732075 | E23: =('Исходные данные усилий'!C9/(SQRT(2)*F13)-'Исходные данные усилий'!C8/4)/9.80665 -> 190.04487 | F23: =D23 -> -52.732075 | G23: =(-'Исходные данные усилий'!C9/(SQRT(2)*F13)-'Исходные данные усилий'!C8/4)/9.80665 -> -295.50902
B24: Загружение 7 | C24: ← З | D24: =(-'Исходные данные усилий'!C9/(2*F13)-'Исходные данные усилий'!C8/4)/9.80665 -> -224.4013 | E24: =('Исходные данные усилий'!C9/(2*F13)-'Исходные данные усилий'!C8/4)/9.80665 -> 118.93715 | F24: =E24 -> 118.93715 | G24: =D24 -> -224.4013
B25: Загружение 8 | C25: ↖ СЗ | D25: =(-'Исходные данные усилий'!C9/(SQRT(2)*F13)-'Исходные данные усилий'!C8/4)/9.80665 -> -295.50902 | E25: =(-'Исходные данные усилий'!C8/4)/9.80665 -> -52.732075 | F25: =('Исходные данные усилий'!C9/(SQRT(2)*F13)-'Исходные данные усилий'!C8/4)/9.80665 -> 190.04487 | G25: =E25 -> -52.732075
B27: 4) Таблица 2 - результаты расчета варианта 2:
B28: Номер загружения | C28: Направление момента | D28: Усилия передаваемые на анкеры фундамента *, т
D29: Nan1 | E29: Nan2 | F29: Nan3 | G29: Nan4
B30: Загружение 1 | C30: ↑ С | D30: =(-'Исходные данные усилий'!C12/(2*F13)-'Исходные данные усилий'!C11/4)/9.80665 -> -216.86815 | E30: =D30 -> -216.86815 | F30: =('Исходные данные усилий'!C12/(2*F13)-'Исходные данные усилий'!C11/4)/9.80665 -> 126.4703 | G30: =F30 -> 126.4703
B31: Загружение 2 | C31: ↗ СВ | D31: =(-'Исходные данные усилий'!C11/4)/9.80665 -> -45.198921 | E31: =(-'Исходные данные усилий'!C12/(SQRT(2)*F13)-'Исходные данные усилий'!C11/4)/9.80665 -> -287.97587 | F31: =D31 -> -45.198921 | G31: =('Исходные данные усилий'!C12/(SQRT(2)*F13)-'Исходные данные усилий'!C11/4)/9.80665 -> 197.57802
B32: Загружение 3 | C32: → В | D32: =('Исходные данные усилий'!C12/(2*F13)-'Исходные данные усилий'!C11/4)/9.80665 -> 126.4703 | E32: =(-'Исходные данные усилий'!C12/(2*F13)-'Исходные данные усилий'!C11/4)/9.80665 -> -216.86815 | F32: =E32 -> -216.86815 | G32: =D32 -> 126.4703
B33: Загружение 4 | C33: ↘ ЮВ | D33: =('Исходные данные усилий'!C12/(SQRT(2)*F13)-'Исходные данные усилий'!C11/4)/9.80665 -> 197.57802 | E33: =(-'Исходные данные усилий'!C11/4)/9.80665 -> -45.198921 | F33: =(-'Исходные данные усилий'!C12/(SQRT(2)*F13)-'Исходные данные усилий'!C11/4)/9.80665 -> -287.97587 | G33: =E33 -> -45.198921
B34: Загружение 5 | C34: ↓ Ю | D34: =('Исходные данные усилий'!C12/(2*F13)-'Исходные данные усилий'!C11/4)/9.80665 -> 126.4703 | E34: =D34 -> 126.4703 | F34: =(-'Исходные данные усилий'!C12/(2*F13)-'Исходные данные усилий'!C11/4)/9.80665 -> -216.86815 | G34: =F34 -> -216.86815
B35: Загружение 6 | C35: ↙ ЮЗ | D35: =(-'Исходные данные усилий'!C11/4)/9.80665 -> -45.198921 | E35: =('Исходные данные усилий'!C12/(SQRT(2)*F13)-'Исходные данные усилий'!C11/4)/9.80665 -> 197.57802 | F35: =D35 -> -45.198921 | G35: =(-'Исходные данные усилий'!C12/(SQRT(2)*F13)-'Исходные данные усилий'!C11/4)/9.80665 -> -287.97587
B36: Загружение 7 | C36: ← З | D36: =(-'Исходные данные усилий'!C12/(2*F13)-'Исходные данные усилий'!C11/4)/9.80665 -> -216.86815 | E36: =('Исходные данные усилий'!C12/(2*F13)-'Исходные данные усилий'!C11/4)/9.80665 -> 126.4703 | F36: =E36 -> 126.4703 | G36: =D36 -> -216.86815
B37: Загружение 8 | C37: ↖ СЗ | D37: =(-'Исходные данные усилий'!C12/(SQRT(2)*F13)-'Исходные данные усилий'!C11/4)/9.80665 -> -287.97587 | E37: =(-'Исходные данные усилий'!C11/4)/9.80665 -> -45.198921 | F37: =('Исходные данные усилий'!C12/(SQRT(2)*F13)-'Исходные данные усилий'!C11/4)/9.80665 -> 197.57802 | G37: =E37 -> -45.198921

Sheet Исходные данные усилий
B2: I - первая группа предельных состояний
B3: II - вторая группа предельных состояний
B5: N = | C5: ='Усилия в анкерах'!F9 -> 1970 | D5: кН | E5: - вертикальное усилие от башни крана (см. техническое задание или паспорт на кран)
B6: M = | C6: ='Усилия в анкерах'!F10 -> 4810 | D6: кН·м | E6: - момент от башни крана (см. техническое задание или паспорт на кран)
B8: NI = | C8: =C5*C14 -> 2068.5 | D8: кН | E8: - для расчета по варианту 1
B9: MI = | C9: =C6*C14 -> 5050.5 | D9: кН·м
B11: NI = | C11: =C5*C15 -> 1773 | D11: кН | E11: - для расчета по варианту 2
B12: MI = | C12: =C6*C14 -> 5050.5 | D12: кН·м
B14: γf (для 1-й ГПС, γf > 1) = | C14: ='Усилия в анкерах'!F11 -> 1.05
B15: γf (для 1-й ГПС, γf < 1) = | C15: ='Усилия в анкерах'!F12 -> 0.9
