Workbook
Name F: #REF!
Name ID_ARM: #REF!
Name KZ_ARM: #REF!
Name KZ_B: #REF!
Name KZ_GIDR: #REF!
Name KZ_M: #REF!
Name KZ_OPAL: #REF!
Name W: #REF!

Sheet Ведомость
E1: Таблица 3 - ВОР v14
D2: 0 | E2: 1 | F2: =E2+1 -> 2 | G2: =F2+1 -> 3 | H2: =G2+1 -> 4 | I2: =H2+1 -> 5 | J2: =I2+1 -> 6 | K2: =J2+1 -> 7 | L2: =K2+1 -> 8 | M2: =L2+1 -> 9 | ... AK2: =AJ2+1 -> 33 | AL2: ё
E3: ГРУППОВАЯ ВЕДОМОСТЬ РАСХОДА СТАЛИ И МАТЕРИАЛОВ (СТАДИЯ П) по объекту: ХХХХХХ
E4: №п/п | F4: Наименование конструкции | G4: Ед.изм. | H4: Бетон, куб.м | N4: Марка бетона W | O4: Марка бетона F | P4: Опалубка, кв.м | Q4: Прочие объемы | R4: Проволока Вр-1, кг | T4: Арматура А240, кг | Y4: Арматура А500С, кг | AK4: ВСЕГО | AL4: ЗД, кг
H5: В7,5 | I5: В10 | J5: В25 | K5: В30 | L5: В35 | M5: Итого | R5: Ø5 мм | S5: ИТОГО | T5: Ø6 мм | U5: Ø8 мм | V5: Ø10 мм | W5: Ø12 мм | X5: ИТОГО | Y5: Ø8 мм | Z5: Ø10 мм | AA5: Ø12 мм | AB5: Ø14 мм | AC5: Ø16 мм | AD5: Ø18 мм | AE5: Ø20 мм | AF5: Ø22 мм | AG5: Ø25 мм | AH5: Ø28 мм | AI5: Ø32 мм | AJ5: ИТОГО
A6: Таблицы (удалить столбец после заполнения ведомости): | B6: Рисунки (удалить после заполнения ведомости): | C6: Примечания (удалить после заполнения ведомости): | E6: 1. ФУНДАМЕНТЫ (ПОДЗЕМНЫЕ КОНСТРУКЦИИ)
E7: 1.1 Жилой дом | M7: =IF((IF(H7="",0,H7)+IF(I7="",0,I7)+IF(J7="",0,J7)+IF(K7="",0,K7)+IF(L7="",0,L7))=0,"",(IF(H7="",0,H7)+IF(I7="",0,I7)+IF(J7="",0,J7)+IF(K7="",0,K7)+IF(L7="",0,L7))) | X7: =IF((IF(T7="",0,T7)+IF(U7="",0,U7)+IF(V7="",0,V7)+IF(W7="",0,W7))=0,"",(IF(T7="",0,T7)+IF(U7="",0,U7)+IF(V7="",0,V7)+IF(W7="",0,W7))) | AJ7: =IF((IF(Y7="",0,Y7)+IF(Z7="",0,Z7)+IF(AA7="",0,AA7)+IF(AB7="",0,AB7)+IF(AC7="",0,AC7)+IF(AD7="",0,AD7)+IF(AE7="",0,AE7)+IF(AF7="",0,AF7)+IF(AG7="",0,AG7)+IF(AH7="",0,AH7)+IF(AI7="",0,AI7))=0,"",(IF(Y7="",0,Y7)+IF(Z7="",0,Z7)+IF(AA7="",0,AA7)+IF(AB7="",0,AB7)+IF(AC7="",0,AC7)+IF(AD7="",0,AD7)+IF(AE7="",0,AE7)+IF(AF7="",0,AF7)+IF(AG7="",0,AG7)+IF(AH7="",0,AH7)+IF(AI7="",0,AI7))) | AK7: =IF((IF(AJ7="",0,AJ7)+IF(X7="",0,X7))=0,"",(IF(AJ7="",0,AJ7)+IF(X7="",0,X7)))
A8: Таблицы приведены на других листах данной книги | C8: к данной строке относится расход на фундамент жилого дома (деление на "жилой дом" и "подземную автостоянку" производить по дефшву); для фундаментных плит класс бетона рекомендуется принимать В30, W6, F150 (столбцы 6-8, 10, 11) - уточнить при адресном проектировании | E8: 1 | F8: Фундаменты | G8: куб.м | H8: =IF(SUM(H9:H15)=0,"",SUM(H9:H15)) | I8: =IF(SUM(I9:I15)=0,"",SUM(I9:I15)) | J8: =IF(SUM(J9:J15)=0,"",SUM(J9:J15)) | K8: =IF(SUM(K9:K15)=0,"",SUM(K9:K15)) -> 1170 | L8: =IF(SUM(L9:L15)=0,"",SUM(L9:L15)) | M8: =IF((IF(H8="",0,H8)+IF(I8="",0,I8)+IF(J8="",0,J8)+IF(K8="",0,K8)+IF(L8="",0,L8))=0,"",(IF(H8="",0,H8)+IF(I8="",0,I8)+IF(J8="",0,J8)+IF(K8="",0,K8)+IF(L8="",0,L8))) -> 1170 | N8: W6 | O8: F150 | P8: =IF(SUM(P9:P15)=0,"",SUM(P9:P15)) -> 229.42179 | R8: =IF(SUM(R9:R15)=0,"",SUM(R9:R15)) | S8: =IF((IF(R8="",0,R8))=0,"",(IF(R8="",0,R8))) | T8: =IF(SUM(T9:T15)=0,"",SUM(T9:T15)) | U8: =IF(SUM(U9:U15)=0,"",SUM(U9:U15)) | V8: =IF(SUM(V9:V15)=0,"",SUM(V9:V15)) | W8: =IF(SUM(W9:W15)=0,"",SUM(W9:W15)) | X8: =IF((IF(T8="",0,T8)+IF(U8="",0,U8)+IF(V8="",0,V8)+IF(W8="",0,W8))=0,"",(IF(T8="",0,T8)+IF(U8="",0,U8)+IF(V8="",0,V8)+IF(W8="",0,W8))) | Y8: =IF(SUM(Y9:Y15)=0,"",SUM(Y9:Y15)) | Z8: =IF(SUM(Z9:Z15)=0,"",SUM(Z9:Z15)) | AA8: =IF(SUM(AA9:AA15)=0,"",SUM(AA9:AA15)) -> 10800 | AB8: =IF(SUM(AB9:AB15)=0,"",SUM(AB9:AB15)) | AC8: =IF(SUM(AC9:AC15)=0,"",SUM(AC9:AC15)) -> 47250 | AD8: =IF(SUM(AD9:AD15)=0,"",SUM(AD9:AD15)) -> 15450 | AE8: =IF(SUM(AE9:AE15)=0,"",SUM(AE9:AE15)) -> 13800 | AF8: =IF(SUM(AF9:AF15)=0,"",SUM(AF9:AF15)) -> 18600 | ... AI8: =IF(SUM(AI9:AI15)=0,"",SUM(AI9:AI15)) -> 28350 | AJ8: =IF((IF(Y8="",0,Y8)+IF(Z8="",0,Z8)+IF(AA8="",0,AA8)+IF(AB8="",0,AB8)+IF(AC8="",0,AC8)+IF(AD8="",0,AD8)+IF(AE8="",0,AE8)+IF(AF8="",0,AF8)+IF(AG8="",0,AG8)+IF(AH8="",0,AH8)+IF(AI8="",0,AI8))=0,"",(IF(Y8="",0,Y8)+IF(Z8="",0,Z8)+IF(AA8="",0,AA8)+IF(AB8="",0,AB8)+IF(AC8="",0,AC8)+IF(AD8="",0,AD8)+IF(AE8="",0,AE8)+IF(AF8="",0,AF8)+IF(AG8="",0,AG8)+IF(AH8="",0,AH8)+IF(AI8="",0,AI8))) -> 198600 | AK8: =IF((IF(AJ8="",0,AJ8)+IF(X8="",0,X8)+IF(S8="",0,S8))=0,"",(IF(AJ8="",0,AJ8)+IF(X8="",0,X8)+IF(S8="",0,S8))) -> 198600 | AL8: =IF(SUM(AL9:AL15)=0,"",SUM(AL9:AL15)) -> 185
C9: при отсутствии ФП с данной толщиной строку удалить | D9: 1 | E9: =CONCATENATE($E$8,".",(ROW(G9)-ROW($G$8))) -> 1.1 | F9: Плита фундаментная 500 мм | G9: куб.м | M9: =IF((IF(H9="",0,H9)+IF(I9="",0,I9)+IF(J9="",0,J9)+IF(K9="",0,K9)+IF(L9="",0,L9))=0,"",(IF(H9="",0,H9)+IF(I9="",0,I9)+IF(J9="",0,J9)+IF(K9="",0,K9)+IF(L9="",0,L9))) | N9: W6 | O9: F150 | P9: =IF(M9="","",IF(M9=0,"",IF(MID(F9,1,4)="Стен",M9/(VALUE(MID(F9,SEARCH(" ",F9,1)+1,SEARCH("мм",F9,1)-SEARCH(" ",F9,1)-2))/1000),IF(MID(F9,1,10)="Плита фунд",SQRT(M9/(VALUE(MID(F9,SEARCH(" ",F9,1)+14,SEARCH("мм",F9,1)-SEARCH(" ",F9,1)-15))/1000))*(4+1)*(VALUE(MID(F9,SEARCH(" ",F9,1)+14,SEARCH("мм",F9,1)-SEARCH(" ",F9,1)-15))/1000),IF(MID(F9,1,4)="Плит",M9/(VALUE(MID(F9,SEARCH(" ",F9,1)+1,SEARCH("мм",F9,1)-SEARCH(" ",F9,1)-2))/1000),IF(MID(F9,1,4)="Площ",M9/(VALUE(MID(F9,SEARCH(" ",F9,1)+12,SEARCH("мм",F9,1)-SEARCH(" ",F9,1)-13))/1000),IF(MID(F9,1,4)="Марш",M9/0.263,IF(MID(F9,1,4)="Коло",M9/((VALUE(LEFT(MID(F9,SEARCH(" ",F9,1)+1,SEARCH("мм",F9,1)-SEARCH(" ",F9,1)-2),SEARCH("х",MID(F9,SEARCH(" ",F9,1)+1,SEARCH("мм",F9,1)-SEARCH(" ",F9,1)-2),1)-1))*VALUE(RIGHT(MID(F9,SEARCH(" ",F9,1)+1,SEARCH("мм",F9,1)-SEARCH(" ",F9,1)-2),LEN(MID(F9,SEARCH(" ",F9,1)+1,SEARCH("мм",F9,1)-SEARCH(" ",F9,1)-2))-SEARCH("х",MID(F9,SEARCH(" ",F9,1)+1,SEARCH("мм",F9,1)-SEARCH(" ",F9,1)-2),1))))/1000000*3.2)*((VALUE(LEFT(MID(F9,SEARCH(" ",F9,1)+1,SEARCH("мм",F9,1)-SEARCH(" ",F9,1)-2),SEARCH("х",MID(F9,SEARCH(" ",F9,1)+1,SEARCH("мм",F9,1)-SEARCH(" ",F9,1)-2),1)-1))+VALUE(RIGHT(MID(F9,SEARCH(" ",F9,1)+1,SEARCH("мм",F9,1)-SEARCH(" ",F9,1)-2),LEN(MID(F9,SEARCH(" ",F9,1)+1,SEARCH("мм",F9,1)-SEARCH(" ",F9,1)-2))-SEARCH("х",MID(F9,SEARCH(" ",F9,1)+1,SEARCH("мм",F9,1)-SEARCH(" ",F9,1)-2),1))))/1000*2*3.2),IF(MID(F9,1,4)="Балк",M9/((VALUE(LEFT(MID(F9,SEARCH(" ",F9,1)+1,SEARCH("мм",F9,1)-SEARCH(" ",F9,1)-5),SEARCH("х",MID(F9,SEARCH(" ",F9,1)+1,SEARCH("мм",F9,1)-SEARCH(" ",F9,1)-5),1)-1))*VALUE(RIGHT(MID(F9,SEARCH(" ",F9,1)+1,SEARCH("мм",F9,1)-SEARCH(" ",F9,1)-5),LEN(MID(F9,SEARCH(" ",F9,1)+1,SEARCH("мм",F9,1)-SEARCH(" ",F9,1)-5))-SEARCH("х",MID(F9,SEARCH(" ",F9,1)+1,SEARCH("мм",F9,1)-SEARCH(" ",F9,1)-5),1))))/1000000*1)*((2*VALUE(LEFT(MID(F9,SEARCH(" ",F9,1)+1,SEARCH("мм",F9,1)-SEARCH(" ",F9,1)-5),SEARCH("х",MID(F9,SEARCH(" ",F9,1)+1,SEARCH("мм",F9,1)-SEARCH(" ",F9,1)-5),1)-1))+VALUE(RIGHT(MID(F9,SEARCH(" ",F9,1)+1,SEARCH("мм",F9,1)-SEARCH(" ",F9,1)-5),LEN(MID(F9,SEARCH(" ",F9,1)+1,SEARCH("мм",F9,1)-SEARCH(" ",F9,1)-5))-SEARCH("х",MID(F9,SEARCH(" ",F9,1)+1,SEARCH("мм",F9,1)-SEARCH(" ",F9,1)-5),1))))/1000*1),IF(MID(F9,1,4)="Капи",M9/(2.8*3.6*0.4)*((2.8+3.6)*2*0.4),"")))))))))) | R9: =IF(SUM($J9:$L9)*INDEX('Таблица 6 (типы арм.)'!$F$6:$U$49,MATCH($D9,'Таблица 6 (типы арм.)'!$D$6:$D$49,0),MATCH((IF(COLUMN(R$5)>COLUMN($X$5),CONCATENATE(R$5,"А500С"),IF(COLUMN(R$5)>COLUMN($S$5),CONCATENATE(R$5,"А240"),CONCATENATE(R$5,"Вр-1")))),'Таблица 6 (типы арм.)'!$F$54:$U$54,0))=0,"",ROUND(SUM($J9:$L9)*INDEX('Таблица 6 (типы арм.)'!$F$6:$U$49,MATCH($D9,'Таблица 6 (типы арм.)'!$D$6:$D$49,0),MATCH((IF(COLUMN(R$5)>COLUMN($X$5),CONCATENATE(R$5,"А500С"),IF(COLUMN(R$5)>COLUMN($S$5),CONCATENATE(R$5,"А240"),CONCATENATE(R$5,"Вр-1")))),'Таблица 6 (типы арм.)'!$F$54:$U$54,0)),0)) | S9: =IF((IF(R9="",0,R9))=0,"",(IF(R9="",0,R9))) | T9: =IF(SUM($J9:$L9)*INDEX('Таблица 6 (типы арм.)'!$F$6:$U$49,MATCH($D9,'Таблица 6 (типы арм.)'!$D$6:$D$49,0),MATCH((IF(COLUMN(T$5)>COLUMN($X$5),CONCATENATE(T$5,"А500С"),IF(COLUMN(T$5)>COLUMN($S$5),CONCATENATE(T$5,"А240"),CONCATENATE(T$5,"Вр-1")))),'Таблица 6 (типы арм.)'!$F$54:$U$54,0))=0,"",ROUND(SUM($J9:$L9)*INDEX('Таблица 6 (типы арм.)'!$F$6:$U$49,MATCH($D9,'Таблица 6 (типы арм.)'!$D$6:$D$49,0),MATCH((IF(COLUMN(T$5)>COLUMN($X$5),CONCATENATE(T$5,"А500С"),IF(COLUMN(T$5)>COLUMN($S$5),CONCATENATE(T$5,"А240"),CONCATENATE(T$5,"Вр-1")))),'Таблица 6 (типы арм.)'!$F$54:$U$54,0)),0)) | U9: =IF(SUM($J9:$L9)*INDEX('Таблица 6 (типы арм.)'!$F$6:$U$49,MATCH($D9,'Таблица 6 (типы арм.)'!$D$6:$D$49,0),MATCH((IF(COLUMN(U$5)>COLUMN($X$5),CONCATENATE(U$5,"А500С"),IF(COLUMN(U$5)>COLUMN($S$5),CONCATENATE(U$5,"А240"),CONCATENATE(U$5,"Вр-1")))),'Таблица 6 (типы арм.)'!$F$54:$U$54,0))=0,"",ROUND(SUM($J9:$L9)*INDEX('Таблица 6 (типы арм.)'!$F$6:$U$49,MATCH($D9,'Таблица 6 (типы арм.)'!$D$6:$D$49,0),MATCH((IF(COLUMN(U$5)>COLUMN($X$5),CONCATENATE(U$5,"А500С"),IF(COLUMN(U$5)>COLUMN($S$5),CONCATENATE(U$5,"А240"),CONCATENATE(U$5,"Вр-1")))),'Таблица 6 (типы арм.)'!$F$54:$U$54,0)),0)) | V9: =IF(SUM($J9:$L9)*INDEX('Таблица 6 (типы арм.)'!$F$6:$U$49,MATCH($D9,'Таблица 6 (типы арм.)'!$D$6:$D$49,0),MATCH((IF(COLUMN(V$5)>COLUMN($X$5),CONCATENATE(V$5,"А500С"),IF(COLUMN(V$5)>COLUMN($S$5),CONCATENATE(V$5,"А240"),CONCATENATE(V$5,"Вр-1")))),'Таблица 6 (типы арм.)'!$F$54:$U$54,0))=0,"",ROUND(SUM($J9:$L9)*INDEX('Таблица 6 (типы арм.)'!$F$6:$U$49,MATCH($D9,'Таблица 6 (типы арм.)'!$D$6:$D$49,0),MATCH((IF(COLUMN(V$5)>COLUMN($X$5),CONCATENATE(V$5,"А500С"),IF(COLUMN(V$5)>COLUMN($S$5),CONCATENATE(V$5,"А240"),CONCATENATE(V$5,"Вр-1")))),'Таблица 6 (типы арм.)'!$F$54:$U$54,0)),0)) | W9: =IF(SUM($J9:$L9)*INDEX('Таблица 6 (типы арм.)'!$F$6:$U$49,MATCH($D9,'Таблица 6 (типы арм.)'!$D$6:$D$49,0),MATCH((IF(COLUMN(W$5)>COLUMN($X$5),CONCATENATE(W$5,"А500С"),IF(COLUMN(W$5)>COLUMN($S$5),CONCATENATE(W$5,"А240"),CONCATENATE(W$5,"Вр-1")))),'Таблица 6 (типы арм.)'!$F$54:$U$54,0))=0,"",ROUND(SUM($J9:$L9)*INDEX('Таблица 6 (типы арм.)'!$F$6:$U$49,MATCH($D9,'Таблица 6 (типы арм.)'!$D$6:$D$49,0),MATCH((IF(COLUMN(W$5)>COLUMN($X$5),CONCATENATE(W$5,"А500С"),IF(COLUMN(W$5)>COLUMN($S$5),CONCATENATE(W$5,"А240"),CONCATENATE(W$5,"Вр-1")))),'Таблица 6 (типы арм.)'!$F$54:$U$54,0)),0)) | X9: =IF((IF(T9="",0,T9)+IF(U9="",0,U9)+IF(V9="",0,V9)+IF(W9="",0,W9))=0,"",(IF(T9="",0,T9)+IF(U9="",0,U9)+IF(V9="",0,V9)+IF(W9="",0,W9))) | Y9: =IF(SUM($J9:$L9)*INDEX('Таблица 6 (типы арм.)'!$F$6:$U$49,MATCH($D9,'Таблица 6 (типы арм.)'!$D$6:$D$49,0),MATCH((IF(COLUMN(Y$5)>COLUMN($X$5),CONCATENATE(Y$5,"А500С"),IF(COLUMN(Y$5)>COLUMN($S$5),CONCATENATE(Y$5,"А240"),CONCATENATE(Y$5,"Вр-1")))),'Таблица 6 (типы арм.)'!$F$54:$U$54,0))=0,"",ROUND(SUM($J9:$L9)*INDEX('Таблица 6 (типы арм.)'!$F$6:$U$49,MATCH($D9,'Таблица 6 (типы арм.)'!$D$6:$D$49,0),MATCH((IF(COLUMN(Y$5)>COLUMN($X$5),CONCATENATE(Y$5,"А500С"),IF(COLUMN(Y$5)>COLUMN($S$5),CONCATENATE(Y$5,"А240"),CONCATENATE(Y$5,"Вр-1")))),'Таблица 6 (типы арм.)'!$F$54:$U$54,0)),0)) | Z9: =IF(SUM($J9:$L9)*INDEX('Таблица 6 (типы арм.)'!$F$6:$U$49,MATCH($D9,'Таблица 6 (типы арм.)'!$D$6:$D$49,0),MATCH((IF(COLUMN(Z$5)>COLUMN($X$5),CONCATENATE(Z$5,"А500С"),IF(COLUMN(Z$5)>COLUMN($S$5),CONCATENATE(Z$5,"А240"),CONCATENATE(Z$5,"Вр-1")))),'Таблица 6 (типы арм.)'!$F$54:$U$54,0))=0,"",ROUND(SUM($J9:$L9)*INDEX('Таблица 6 (типы арм.)'!$F$6:$U$49,MATCH($D9,'Таблица 6 (типы арм.)'!$D$6:$D$49,0),MATCH((IF(COLUMN(Z$5)>COLUMN($X$5),CONCATENATE(Z$5,"А500С"),IF(COLUMN(Z$5)>COLUMN($S$5),CONCATENATE(Z$5,"А240"),CONCATENATE(Z$5,"Вр-1")))),'Таблица 6 (типы арм.)'!$F$54:$U$54,0)),0)) | AA9: =IF(SUM($J9:$L9)*INDEX('Таблица 6 (типы арм.)'!$F$6:$U$49,MATCH($D9,'Таблица 6 (типы арм.)'!$D$6:$D$49,0),MATCH((IF(COLUMN(AA$5)>COLUMN($X$5),CONCATENATE(AA$5,"А500С"),IF(COLUMN(AA$5)>COLUMN($S$5),CONCATENATE(AA$5,"А240"),CONCATENATE(AA$5,"Вр-1")))),'Таблица 6 (типы арм.)'!$F$54:$U$54,0))=0,"",ROUND(SUM($J9:$L9)*INDEX('Таблица 6 (типы арм.)'!$F$6:$U$49,MATCH($D9,'Таблица 6 (типы арм.)'!$D$6:$D$49,0),MATCH((IF(COLUMN(AA$5)>COLUMN($X$5),CONCATENATE(AA$5,"А500С"),IF(COLUMN(AA$5)>COLUMN($S$5),CONCATENATE(AA$5,"А240"),CONCATENATE(AA$5,"Вр-1")))),'Таблица 6 (типы арм.)'!$F$54:$U$54,0)),0)) | AB9: =IF(SUM($J9:$L9)*INDEX('Таблица 6 (типы арм.)'!$F$6:$U$49,MATCH($D9,'Таблица 6 (типы арм.)'!$D$6:$D$49,0),MATCH((IF(COLUMN(AB$5)>COLUMN($X$5),CONCATENATE(AB$5,"А500С"),IF(COLUMN(AB$5)>COLUMN($S$5),CONCATENATE(AB$5,"А240"),CONCATENATE(AB$5,"Вр-1")))),'Таблица 6 (типы арм.)'!$F$54:$U$54,0))=0,"",ROUND(SUM($J9:$L9)*INDEX('Таблица 6 (типы арм.)'!$F$6:$U$49,MATCH($D9,'Таблица 6 (типы арм.)'!$D$6:$D$49,0),MATCH((IF(COLUMN(AB$5)>COLUMN($X$5),CONCATENATE(AB$5,"А500С"),IF(COLUMN(AB$5)>COLUMN($S$5),CONCATENATE(AB$5,"А240"),CONCATENATE(AB$5,"Вр-1")))),'Таблица 6 (типы арм.)'!$F$54:$U$54,0)),0)) | AC9: =IF(SUM($J9:$L9)*INDEX('Таблица 6 (типы арм.)'!$F$6:$U$49,MATCH($D9,'Таблица 6 (типы арм.)'!$D$6:$D$49,0),MATCH((IF(COLUMN(AC$5)>COLUMN($X$5),CONCATENATE(AC$5,"А500С"),IF(COLUMN(AC$5)>COLUMN($S$5),CONCATENATE(AC$5,"А240"),CONCATENATE(AC$5,"Вр-1")))),'Таблица 6 (типы арм.)'!$F$54:$U$54,0))=0,"",ROUND(SUM($J9:$L9)*INDEX('Таблица 6 (типы арм.)'!$F$6:$U$49,MATCH($D9,'Таблица 6 (типы арм.)'!$D$6:$D$49,0),MATCH((IF(COLUMN(AC$5)>COLUMN($X$5),CONCATENATE(AC$5,"А500С"),IF(COLUMN(AC$5)>COLUMN($S$5),CONCATENATE(AC$5,"А240"),CONCATENATE(AC$5,"Вр-1")))),'Таблица 6 (типы арм.)'!$F$54:$U$54,0)),0)) | AD9: =IF(SUM($J9:$L9)*INDEX('Таблица 6 (типы арм.)'!$F$6:$U$49,MATCH($D9,'Таблица 6 (типы арм.)'!$D$6:$D$49,0),MATCH((IF(COLUMN(AD$5)>COLUMN($X$5),CONCATENATE(AD$5,"А500С"),IF(COLUMN(AD$5)>COLUMN($S$5),CONCATENATE(AD$5,"А240"),CONCATENATE(AD$5,"Вр-1")))),'Таблица 6 (типы арм.)'!$F$54:$U$54,0))=0,"",ROUND(SUM($J9:$L9)*INDEX('Таблица 6 (типы арм.)'!$F$6:$U$49,MATCH($D9,'Таблица 6 (типы арм.)'!$D$6:$D$49,0),MATCH((IF(COLUMN(AD$5)>COLUMN($X$5),CONCATENATE(AD$5,"А500С"),IF(COLUMN(AD$5)>COLUMN($S$5),CONCATENATE(AD$5,"А240"),CONCATENATE(AD$5,"Вр-1")))),'Таблица 6 (типы арм.)'!$F$54:$U$54,0)),0)) | AE9: =IF(SUM($J9:$L9)*INDEX('Таблица 6 (типы арм.)'!$F$6:$U$49,MATCH($D9,'Таблица 6 (типы арм.)'!$D$6:$D$49,0),MATCH((IF(COLUMN(AE$5)>COLUMN($X$5),CONCATENATE(AE$5,"А500С"),IF(COLUMN(AE$5)>COLUMN($S$5),CONCATENATE(AE$5,"А240"),CONCATENATE(AE$5,"Вр-1")))),'Таблица 6 (типы арм.)'!$F$54:$U$54,0))=0,"",ROUND(SUM($J9:$L9)*INDEX('Таблица 6 (типы арм.)'!$F$6:$U$49,MATCH($D9,'Таблица 6 (типы арм.)'!$D$6:$D$49,0),MATCH((IF(COLUMN(AE$5)>COLUMN($X$5),CONCATENATE(AE$5,"А500С"),IF(COLUMN(AE$5)>COLUMN($S$5),CONCATENATE(AE$5,"А240"),CONCATENATE(AE$5,"Вр-1")))),'Таблица 6 (типы арм.)'!$F$54:$U$54,0)),0)) | AF9: =IF(SUM($J9:$L9)*INDEX('Таблица 6 (типы арм.)'!$F$6:$U$49,MATCH($D9,'Таблица 6 (типы арм.)'!$D$6:$D$49,0),MATCH((IF(COLUMN(AF$5)>COLUMN($X$5),CONCATENATE(AF$5,"А500С"),IF(COLUMN(AF$5)>COLUMN($S$5),CONCATENATE(AF$5,"А240"),CONCATENATE(AF$5,"Вр-1")))),'Таблица 6 (типы арм.)'!$F$54:$U$54,0))=0,"",ROUND(SUM($J9:$L9)*INDEX('Таблица 6 (типы арм.)'!$F$6:$U$49,MATCH($D9,'Таблица 6 (типы арм.)'!$D$6:$D$49,0),MATCH((IF(COLUMN(AF$5)>COLUMN($X$5),CONCATENATE(AF$5,"А500С"),IF(COLUMN(AF$5)>COLUMN($S$5),CONCATENATE(AF$5,"А240"),CONCATENATE(AF$5,"Вр-1")))),'Таблица 6 (типы арм.)'!$F$54:$U$54,0)),0)) | ... AI9: =IF(SUM($J9:$L9)*INDEX('Таблица 6 (типы арм.)'!$F$6:$U$49,MATCH($D9,'Таблица 6 (типы арм.)'!$D$6:$D$49,0),MATCH((IF(COLUMN(AI$5)>COLUMN($X$5),CONCATENATE(AI$5,"А500С"),IF(COLUMN(AI$5)>COLUMN($S$5),CONCATENATE(AI$5,"А240"),CONCATENATE(AI$5,"Вр-1")))),'Таблица 6 (типы арм.)'!$F$54:$U$54,0))=0,"",ROUND(SUM($J9:$L9)*INDEX('Таблица 6 (типы арм.)'!$F$6:$U$49,MATCH($D9,'Таблица 6 (типы арм.)'!$D$6:$D$49,0),MATCH((IF(COLUMN(AI$5)>COLUMN($X$5),CONCATENATE(AI$5,"А500С"),IF(COLUMN(AI$5)>COLUMN($S$5),CONCATENATE(AI$5,"А240"),CONCATENATE(AI$5,"Вр-1")))),'Таблица 6 (типы арм.)'!$F$54:$U$54,0)),0)) | AJ9: =IF((IF(Y9="",0,Y9)+IF(Z9="",0,Z9)+IF(AA9="",0,AA9)+IF(AB9="",0,AB9)+IF(AC9="",0,AC9)+IF(AD9="",0,AD9)+IF(AE9="",0,AE9)+IF(AF9="",0,AF9)+IF(AG9="",0,AG9)+IF(AH9="",0,AH9)+IF(AI9="",0,AI9))=0,"",(IF(Y9="",0,Y9)+IF(Z9="",0,Z9)+IF(AA9="",0,AA9)+IF(AB9="",0,AB9)+IF(AC9="",0,AC9)+IF(AD9="",0,AD9)+IF(AE9="",0,AE9)+IF(AF9="",0,AF9)+IF(AG9="",0,AG9)+IF(AH9="",0,AH9)+IF(AI9="",0,AI9))) | AK9: =IF((IF(AJ9="",0,AJ9)+IF(X9="",0,X9)+IF(S9="",0,S9))=0,"",(IF(AJ9="",0,AJ9)+IF(X9="",0,X9)+IF(S9="",0,S9)))
C10: при отсутствии ФП с данной толщиной строку удалить | D10: 1 | E10: =CONCATENATE($E$8,".",(ROW(G10)-ROW($G$8))) -> 1.2 | F10: Плита фундаментная 600 мм | G10: куб.м | M10: =IF((IF(H10="",0,H10)+IF(I10="",0,I10)+IF(J10="",0,J10)+IF(K10="",0,K10)+IF(L10="",0,L10))=0,"",(IF(H10="",0,H10)+IF(I10="",0,I10)+IF(J10="",0,J10)+IF(K10="",0,K10)+IF(L10="",0,L10))) | N10: W6 | O10: F150 | P10: =IF(M10="","",IF(M10=0,"",IF(MID(F10,1,4)="Стен",M10/(VALUE(MID(F10,SEARCH(" ",F10,1)+1,SEARCH("мм",F10,1)-SEARCH(" ",F10,1)-2))/1000),IF(MID(F10,1,10)="Плита фунд",SQRT(M10/(VALUE(MID(F10,SEARCH(" ",F10,1)+14,SEARCH("мм",F10,1)-SEARCH(" ",F10,1)-15))/1000))*(4+1)*(VALUE(MID(F10,SEARCH(" ",F10,1)+14,SEARCH("мм",F10,1)-SEARCH(" ",F10,1)-15))/1000),IF(MID(F10,1,4)="Плит",M10/(VALUE(MID(F10,SEARCH(" ",F10,1)+1,SEARCH("мм",F10,1)-SEARCH(" ",F10,1)-2))/1000),IF(MID(F10,1,4)="Площ",M10/(VALUE(MID(F10,SEARCH(" ",F10,1)+12,SEARCH("мм",F10,1)-SEARCH(" ",F10,1)-13))/1000),IF(MID(F10,1,4)="Марш",M10/0.263,IF(MID(F10,1,4)="Коло",M10/((VALUE(LEFT(MID(F10,SEARCH(" ",F10,1)+1,SEARCH("мм",F10,1)-SEARCH(" ",F10,1)-2),SEARCH("х",MID(F10,SEARCH(" ",F10,1)+1,SEARCH("мм",F10,1)-SEARCH(" ",F10,1)-2),1)-1))*VALUE(RIGHT(MID(F10,SEARCH(" ",F10,1)+1,SEARCH("мм",F10,1)-SEARCH(" ",F10,1)-2),LEN(MID(F10,SEARCH(" ",F10,1)+1,SEARCH("мм",F10,1)-SEARCH(" ",F10,1)-2))-SEARCH("х",MID(F10,SEARCH(" ",F10,1)+1,SEARCH("мм",F10,1)-SEARCH(" ",F10,1)-2),1))))/1000000*3.2)*((VALUE(LEFT(MID(F10,SEARCH(" ",F10,1)+1,SEARCH("мм",F10,1)-SEARCH(" ",F10,1)-2),SEARCH("х",MID(F10,SEARCH(" ",F10,1)+1,SEARCH("мм",F10,1)-SEARCH(" ",F10,1)-2),1)-1))+VALUE(RIGHT(MID(F10,SEARCH(" ",F10,1)+1,SEARCH("мм",F10,1)-SEARCH(" ",F10,1)-2),LEN(MID(F10,SEARCH(" ",F10,1)+1,SEARCH("мм",F10,1)-SEARCH(" ",F10,1)-2))-SEARCH("х",MID(F10,SEARCH(" ",F10,1)+1,SEARCH("мм",F10,1)-SEARCH(" ",F10,1)-2),1))))/1000*2*3.2),IF(MID(F10,1,4)="Балк",M10/((VALUE(LEFT(MID(F10,SEARCH(" ",F10,1)+1,SEARCH("мм",F10,1)-SEARCH(" ",F10,1)-5),SEARCH("х",MID(F10,SEARCH(" ",F10,1)+1,SEARCH("мм",F10,1)-SEARCH(" ",F10,1)-5),1)-1))*VALUE(RIGHT(MID(F10,SEARCH(" ",F10,1)+1,SEARCH("мм",F10,1)-SEARCH(" ",F10,1)-5),LEN(MID(F10,SEARCH(" ",F10,1)+1,SEARCH("мм",F10,1)-SEARCH(" ",F10,1)-5))-SEARCH("х",MID(F10,SEARCH(" ",F10,1)+1,SEARCH("мм",F10,1)-SEARCH(" ",F10,1)-5),1))))/1000000*1)*((2*VALUE(LEFT(MID(F10,SEARCH(" ",F10,1)+1,SEARCH("мм",F10,1)-SEARCH(" ",F10,1)-5),SEARCH("х",MID(F10,SEARCH(" ",F10,1)+1,SEARCH("мм",F10,1)-SEARCH(" ",F10,1)-5),1)-1))+VALUE(RIGHT(MID(F10,SEARCH(" ",F10,1)+1,SEARCH("мм",F10,1)-SEARCH(" ",F10,1)-5),LEN(MID(F10,SEARCH(" ",F10,1)+1,SEARCH("мм",F10,1)-SEARCH(" ",F10,1)-5))-SEARCH("х",MID(F10,SEARCH(" ",F10,1)+1,SEARCH("мм",F10,1)-SEARCH(" ",F10,1)-5),1))))/1000*1),IF(MID(F10,1,4)="Капи",M10/(2.8*3.6*0.4)*((2.8+3.6)*2*0.4),"")))))))))) | R10: =IF(SUM($J10:$L10)*INDEX('Таблица 6 (типы арм.)'!$F$6:$U$49,MATCH($D10,'Таблица 6 (типы арм.)'!$D$6:$D$49,0),MATCH((IF(COLUMN(R$5)>COLUMN($X$5),CONCATENATE(R$5,"А500С"),IF(COLUMN(R$5)>COLUMN($S$5),CONCATENATE(R$5,"А240"),CONCATENATE(R$5,"Вр-1")))),'Таблица 6 (типы арм.)'!$F$54:$U$54,0))=0,"",ROUND(SUM($J10:$L10)*INDEX('Таблица 6 (типы арм.)'!$F$6:$U$49,MATCH($D10,'Таблица 6 (типы арм.)'!$D$6:$D$49,0),MATCH((IF(COLUMN(R$5)>COLUMN($X$5),CONCATENATE(R$5,"А500С"),IF(COLUMN(R$5)>COLUMN($S$5),CONCATENATE(R$5,"А240"),CONCATENATE(R$5,"Вр-1")))),'Таблица 6 (типы арм.)'!$F$54:$U$54,0)),0)) | S10: =IF((IF(R10="",0,R10))=0,"",(IF(R10="",0,R10))) | T10: =IF(SUM($J10:$L10)*INDEX('Таблица 6 (типы арм.)'!$F$6:$U$49,MATCH($D10,'Таблица 6 (типы арм.)'!$D$6:$D$49,0),MATCH((IF(COLUMN(T$5)>COLUMN($X$5),CONCATENATE(T$5,"А500С"),IF(COLUMN(T$5)>COLUMN($S$5),CONCATENATE(T$5,"А240"),CONCATENATE(T$5,"Вр-1")))),'Таблица 6 (типы арм.)'!$F$54:$U$54,0))=0,"",ROUND(SUM($J10:$L10)*INDEX('Таблица 6 (типы арм.)'!$F$6:$U$49,MATCH($D10,'Таблица 6 (типы арм.)'!$D$6:$D$49,0),MATCH((IF(COLUMN(T$5)>COLUMN($X$5),CONCATENATE(T$5,"А500С"),IF(COLUMN(T$5)>COLUMN($S$5),CONCATENATE(T$5,"А240"),CONCATENATE(T$5,"Вр-1")))),'Таблица 6 (типы арм.)'!$F$54:$U$54,0)),0)) | U10: =IF(SUM($J10:$L10)*INDEX('Таблица 6 (типы арм.)'!$F$6:$U$49,MATCH($D10,'Таблица 6 (типы арм.)'!$D$6:$D$49,0),MATCH((IF(COLUMN(U$5)>COLUMN($X$5),CONCATENATE(U$5,"А500С"),IF(COLUMN(U$5)>COLUMN($S$5),CONCATENATE(U$5,"А240"),CONCATENATE(U$5,"Вр-1")))),'Таблица 6 (типы арм.)'!$F$54:$U$54,0))=0,"",ROUND(SUM($J10:$L10)*INDEX('Таблица 6 (типы арм.)'!$F$6:$U$49,MATCH($D10,'Таблица 6 (типы арм.)'!$D$6:$D$49,0),MATCH((IF(COLUMN(U$5)>COLUMN($X$5),CONCATENATE(U$5,"А500С"),IF(COLUMN(U$5)>COLUMN($S$5),CONCATENATE(U$5,"А240"),CONCATENATE(U$5,"Вр-1")))),'Таблица 6 (типы арм.)'!$F$54:$U$54,0)),0)) | V10: =IF(SUM($J10:$L10)*INDEX('Таблица 6 (типы арм.)'!$F$6:$U$49,MATCH($D10,'Таблица 6 (типы арм.)'!$D$6:$D$49,0),MATCH((IF(COLUMN(V$5)>COLUMN($X$5),CONCATENATE(V$5,"А500С"),IF(COLUMN(V$5)>COLUMN($S$5),CONCATENATE(V$5,"А240"),CONCATENATE(V$5,"Вр-1")))),'Таблица 6 (типы арм.)'!$F$54:$U$54,0))=0,"",ROUND(SUM($J10:$L10)*INDEX('Таблица 6 (типы арм.)'!$F$6:$U$49,MATCH($D10,'Таблица 6 (типы арм.)'!$D$6:$D$49,0),MATCH((IF(COLUMN(V$5)>COLUMN($X$5),CONCATENATE(V$5,"А500С"),IF(COLUMN(V$5)>COLUMN($S$5),CONCATENATE(V$5,"А240"),CONCATENATE(V$5,"Вр-1")))),'Таблица 6 (типы арм.)'!$F$54:$U$54,0)),0)) | W10: =IF(SUM($J10:$L10)*INDEX('Таблица 6 (типы арм.)'!$F$6:$U$49,MATCH($D10,'Таблица 6 (типы арм.)'!$D$6:$D$49,0),MATCH((IF(COLUMN(W$5)>COLUMN($X$5),CONCATENATE(W$5,"А500С"),IF(COLUMN(W$5)>COLUMN($S$5),CONCATENATE(W$5,"А240"),CONCATENATE(W$5,"Вр-1")))),'Таблица 6 (типы арм.)'!$F$54:$U$54,0))=0,"",ROUND(SUM($J10:$L10)*INDEX('Таблица 6 (типы арм.)'!$F$6:$U$49,MATCH($D10,'Таблица 6 (типы арм.)'!$D$6:$D$49,0),MATCH((IF(COLUMN(W$5)>COLUMN($X$5),CONCATENATE(W$5,"А500С"),IF(COLUMN(W$5)>COLUMN($S$5),CONCATENATE(W$5,"А240"),CONCATENATE(W$5,"Вр-1")))),'Таблица 6 (типы арм.)'!$F$54:$U$54,0)),0)) | X10: =IF((IF(T10="",0,T10)+IF(U10="",0,U10)+IF(V10="",0,V10)+IF(W10="",0,W10))=0,"",(IF(T10="",0,T10)+IF(U10="",0,U10)+IF(V10="",0,V10)+IF(W10="",0,W10))) | Y10: =IF(SUM($J10:$L10)*INDEX('Таблица 6 (типы арм.)'!$F$6:$U$49,MATCH($D10,'Таблица 6 (типы арм.)'!$D$6:$D$49,0),MATCH((IF(COLUMN(Y$5)>COLUMN($X$5),CONCATENATE(Y$5,"А500С"),IF(COLUMN(Y$5)>COLUMN($S$5),CONCATENATE(Y$5,"А240"),CONCATENATE(Y$5,"Вр-1")))),'Таблица 6 (типы арм.)'!$F$54:$U$54,0))=0,"",ROUND(SUM($J10:$L10)*INDEX('Таблица 6 (типы арм.)'!$F$6:$U$49,MATCH($D10,'Таблица 6 (типы арм.)'!$D$6:$D$49,0),MATCH((IF(COLUMN(Y$5)>COLUMN($X$5),CONCATENATE(Y$5,"А500С"),IF(COLUMN(Y$5)>COLUMN($S$5),CONCATENATE(Y$5,"А240"),CONCATENATE(Y$5,"Вр-1")))),'Таблица 6 (типы арм.)'!$F$54:$U$54,0)),0)) | Z10: =IF(SUM($J10:$L10)*INDEX('Таблица 6 (типы арм.)'!$F$6:$U$49,MATCH($D10,'Таблица 6 (типы арм.)'!$D$6:$D$49,0),MATCH((IF(COLUMN(Z$5)>COLUMN($X$5),CONCATENATE(Z$5,"А500С"),IF(COLUMN(Z$5)>COLUMN($S$5),CONCATENATE(Z$5,"А240"),CONCATENATE(Z$5,"Вр-1")))),'Таблица 6 (типы арм.)'!$F$54:$U$54,0))=0,"",ROUND(SUM($J10:$L10)*INDEX('Таблица 6 (типы арм.)'!$F$6:$U$49,MATCH($D10,'Таблица 6 (типы арм.)'!$D$6:$D$49,0),MATCH((IF(COLUMN(Z$5)>COLUMN($X$5),CONCATENATE(Z$5,"А500С"),IF(COLUMN(Z$5)>COLUMN($S$5),CONCATENATE(Z$5,"А240"),CONCATENATE(Z$5,"Вр-1")))),'Таблица 6 (типы арм.)'!$F$54:$U$54,0)),0)) | AA10: =IF(SUM($J10:$L10)*INDEX('Таблица 6 (типы арм.)'!$F$6:$U$49,MATCH($D10,'Таблица 6 (типы арм.)'!$D$6:$D$49,0),MATCH((IF(COLUMN(AA$5)>COLUMN($X$5),CONCATENATE(AA$5,"А500С"),IF(COLUMN(AA$5)>COLUMN($S$5),CONCATENATE(AA$5,"А240"),CONCATENATE(AA$5,"Вр-1")))),'Таблица 6 (типы арм.)'!$F$54:$U$54,0))=0,"",ROUND(SUM($J10:$L10)*INDEX('Таблица 6 (типы арм.)'!$F$6:$U$49,MATCH($D10,'Таблица 6 (типы арм.)'!$D$6:$D$49,0),MATCH((IF(COLUMN(AA$5)>COLUMN($X$5),CONCATENATE(AA$5,"А500С"),IF(COLUMN(AA$5)>COLUMN($S$5),CONCATENATE(AA$5,"А240"),CONCATENATE(AA$5,"Вр-1")))),'Таблица 6 (типы арм.)'!$F$54:$U$54,0)),0)) | AB10: =IF(SUM($J10:$L10)*INDEX('Таблица 6 (типы арм.)'!$F$6:$U$49,MATCH($D10,'Таблица 6 (типы арм.)'!$D$6:$D$49,0),MATCH((IF(COLUMN(AB$5)>COLUMN($X$5),CONCATENATE(AB$5,"А500С"),IF(COLUMN(AB$5)>COLUMN($S$5),CONCATENATE(AB$5,"А240"),CONCATENATE(AB$5,"Вр-1")))),'Таблица 6 (типы арм.)'!$F$54:$U$54,0))=0,"",ROUND(SUM($J10:$L10)*INDEX('Таблица 6 (типы арм.)'!$F$6:$U$49,MATCH($D10,'Таблица 6 (типы арм.)'!$D$6:$D$49,0),MATCH((IF(COLUMN(AB$5)>COLUMN($X$5),CONCATENATE(AB$5,"А500С"),IF(COLUMN(AB$5)>COLUMN($S$5),CONCATENATE(AB$5,"А240"),CONCATENATE(AB$5,"Вр-1")))),'Таблица 6 (типы арм.)'!$F$54:$U$54,0)),0)) | AC10: =IF(SUM($J10:$L10)*INDEX('Таблица 6 (типы арм.)'!$F$6:$U$49,MATCH($D10,'Таблица 6 (типы арм.)'!$D$6:$D$49,0),MATCH((IF(COLUMN(AC$5)>COLUMN($X$5),CONCATENATE(AC$5,"А500С"),IF(COLUMN(AC$5)>COLUMN($S$5),CONCATENATE(AC$5,"А240"),CONCATENATE(AC$5,"Вр-1")))),'Таблица 6 (типы арм.)'!$F$54:$U$54,0))=0,"",ROUND(SUM($J10:$L10)*INDEX('Таблица 6 (типы арм.)'!$F$6:$U$49,MATCH($D10,'Таблица 6 (типы арм.)'!$D$6:$D$49,0),MATCH((IF(COLUMN(AC$5)>COLUMN($X$5),CONCATENATE(AC$5,"А500С"),IF(COLUMN(AC$5)>COLUMN($S$5),CONCATENATE(AC$5,"А240"),CONCATENATE(AC$5,"Вр-1")))),'Таблица 6 (типы арм.)'!$F$54:$U$54,0)),0)) | AD10: =IF(SUM($J10:$L10)*INDEX('Таблица 6 (типы арм.)'!$F$6:$U$49,MATCH($D10,'Таблица 6 (типы арм.)'!$D$6:$D$49,0),MATCH((IF(COLUMN(AD$5)>COLUMN($X$5),CONCATENATE(AD$5,"А500С"),IF(COLUMN(AD$5)>COLUMN($S$5),CONCATENATE(AD$5,"А240"),CONCATENATE(AD$5,"Вр-1")))),'Таблица 6 (типы арм.)'!$F$54:$U$54,0))=0,"",ROUND(SUM($J10:$L10)*INDEX('Таблица 6 (типы арм.)'!$F$6:$U$49,MATCH($D10,'Таблица 6 (типы арм.)'!$D$6:$D$49,0),MATCH((IF(COLUMN(AD$5)>COLUMN($X$5),CONCATENATE(AD$5,"А500С"),IF(COLUMN(AD$5)>COLUMN($S$5),CONCATENATE(AD$5,"А240"),CONCATENATE(AD$5,"Вр-1")))),'Таблица 6 (типы арм.)'!$F$54:$U$54,0)),0)) | AE10: =IF(SUM($J10:$L10)*INDEX('Таблица 6 (типы арм.)'!$F$6:$U$49,MATCH($D10,'Таблица 6 (типы арм.)'!$D$6:$D$49,0),MATCH((IF(COLUMN(AE$5)>COLUMN($X$5),CONCATENATE(AE$5,"А500С"),IF(COLUMN(AE$5)>COLUMN($S$5),CONCATENATE(AE$5,"А240"),CONCATENATE(AE$5,"Вр-1")))),'Таблица 6 (типы арм.)'!$F$54:$U$54,0))=0,"",ROUND(SUM($J10:$L10)*INDEX('Таблица 6 (типы арм.)'!$F$6:$U$49,MATCH($D10,'Таблица 6 (типы арм.)'!$D$6:$D$49,0),MATCH((IF(COLUMN(AE$5)>COLUMN($X$5),CONCATENATE(AE$5,"А500С"),IF(COLUMN(AE$5)>COLUMN($S$5),CONCATENATE(AE$5,"А240"),CONCATENATE(AE$5,"Вр-1")))),'Таблица 6 (типы арм.)'!$F$54:$U$54,0)),0)) | AF10: =IF(SUM($J10:$L10)*INDEX('Таблица 6 (типы арм.)'!$F$6:$U$49,MATCH($D10,'Таблица 6 (типы арм.)'!$D$6:$D$49,0),MATCH((IF(COLUMN(AF$5)>COLUMN($X$5),CONCATENATE(AF$5,"А500С"),IF(COLUMN(AF$5)>COLUMN($S$5),CONCATENATE(AF$5,"А240"),CONCATENATE(AF$5,"Вр-1")))),'Таблица 6 (типы арм.)'!$F$54:$U$54,0))=0,"",ROUND(SUM($J10:$L10)*INDEX('Таблица 6 (типы арм.)'!$F$6:$U$49,MATCH($D10,'Таблица 6 (типы арм.)'!$D$6:$D$49,0),MATCH((IF(COLUMN(AF$5)>COLUMN($X$5),CONCATENATE(AF$5,"А500С"),IF(COLUMN(AF$5)>COLUMN($S$5),CONCATENATE(AF$5,"А240"),CONCATENATE(AF$5,"Вр-1")))),'Таблица 6 (типы арм.)'!$F$54:$U$54,0)),0)) | ... AI10: =IF(SUM($J10:$L10)*INDEX('Таблица 6 (типы арм.)'!$F$6:$U$49,MATCH($D10,'Таблица 6 (типы арм.)'!$D$6:$D$49,0),MATCH((IF(COLUMN(AI$5)>COLUMN($X$5),CONCATENATE(AI$5,"А500С"),IF(COLUMN(AI$5)>COLUMN($S$5),CONCATENATE(AI$5,"А240"),CONCATENATE(AI$5,"Вр-1")))),'Таблица 6 (типы арм.)'!$F$54:$U$54,0))=0,"",ROUND(SUM($J10:$L10)*INDEX('Таблица 6 (типы арм.)'!$F$6:$U$49,MATCH($D10,'Таблица 6 (типы арм.)'!$D$6:$D$49,0),MATCH((IF(COLUMN(AI$5)>COLUMN($X$5),CONCATENATE(AI$5,"А500С"),IF(COLUMN(AI$5)>COLUMN($S$5),CONCATENATE(AI$5,"А240"),CONCATENATE(AI$5,"Вр-1")))),'Таблица 6 (типы арм.)'!$F$54:$U$54,0)),0)) | AJ10: =IF((IF(Y10="",0,Y10)+IF(Z10="",0,Z10)+IF(AA10="",0,AA10)+IF(AB10="",0,AB10)+IF(AC10="",0,AC10)+IF(AD10="",0,AD10)+IF(AE10="",0,AE10)+IF(AF10="",0,AF10)+IF(AG10="",0,AG10)+IF(AH10="",0,AH10)+IF(AI10="",0,AI10))=0,"",(IF(Y10="",0,Y10)+IF(Z10="",0,Z10)+IF(AA10="",0,AA10)+IF(AB10="",0,AB10)+IF(AC10="",0,AC10)+IF(AD10="",0,AD10)+IF(AE10="",0,AE10)+IF(AF10="",0,AF10)+IF(AG10="",0,AG10)+IF(AH10="",0,AH10)+IF(AI10="",0,AI10))) | AK10: =IF((IF(AJ10="",0,AJ10)+IF(X10="",0,X10)+IF(S10="",0,S10))=0,"",(IF(AJ10="",0,AJ10)+IF(X10="",0,X10)+IF(S10="",0,S10)))
C11: при отсутствии ФП с данной толщиной строку удалить | D11: 1 | E11: =CONCATENATE($E$8,".",(ROW(G11)-ROW($G$8))) -> 1.3 | F11: Плита фундаментная 700 мм | G11: куб.м | M11: =IF((IF(H11="",0,H11)+IF(I11="",0,I11)+IF(J11="",0,J11)+IF(K11="",0,K11)+IF(L11="",0,L11))=0,"",(IF(H11="",0,H11)+IF(I11="",0,I11)+IF(J11="",0,J11)+IF(K11="",0,K11)+IF(L11="",0,L11))) | N11: W6 | O11: F150 | P11: =IF(M11="","",IF(M11=0,"",IF(MID(F11,1,4)="Стен",M11/(VALUE(MID(F11,SEARCH(" ",F11,1)+1,SEARCH("мм",F11,1)-SEARCH(" ",F11,1)-2))/1000),IF(MID(F11,1,10)="Плита фунд",SQRT(M11/(VALUE(MID(F11,SEARCH(" ",F11,1)+14,SEARCH("мм",F11,1)-SEARCH(" ",F11,1)-15))/1000))*(4+1)*(VALUE(MID(F11,SEARCH(" ",F11,1)+14,SEARCH("мм",F11,1)-SEARCH(" ",F11,1)-15))/1000),IF(MID(F11,1,4)="Плит",M11/(VALUE(MID(F11,SEARCH(" ",F11,1)+1,SEARCH("мм",F11,1)-SEARCH(" ",F11,1)-2))/1000),IF(MID(F11,1,4)="Площ",M11/(VALUE(MID(F11,SEARCH(" ",F11,1)+12,SEARCH("мм",F11,1)-SEARCH(" ",F11,1)-13))/1000),IF(MID(F11,1,4)="Марш",M11/0.263,IF(MID(F11,1,4)="Коло",M11/((VALUE(LEFT(MID(F11,SEARCH(" ",F11,1)+1,SEARCH("мм",F11,1)-SEARCH(" ",F11,1)-2),SEARCH("х",MID(F11,SEARCH(" ",F11,1)+1,SEARCH("мм",F11,1)-SEARCH(" ",F11,1)-2),1)-1))*VALUE(RIGHT(MID(F11,SEARCH(" ",F11,1)+1,SEARCH("мм",F11,1)-SEARCH(" ",F11,1)-2),LEN(MID(F11,SEARCH(" ",F11,1)+1,SEARCH("мм",F11,1)-SEARCH(" ",F11,1)-2))-SEARCH("х",MID(F11,SEARCH(" ",F11,1)+1,SEARCH("мм",F11,1)-SEARCH(" ",F11,1)-2),1))))/1000000*3.2)*((VALUE(LEFT(MID(F11,SEARCH(" ",F11,1)+1,SEARCH("мм",F11,1)-SEARCH(" ",F11,1)-2),SEARCH("х",MID(F11,SEARCH(" ",F11,1)+1,SEARCH("мм",F11,1)-SEARCH(" ",F11,1)-2),1)-1))+VALUE(RIGHT(MID(F11,SEARCH(" ",F11,1)+1,SEARCH("мм",F11,1)-SEARCH(" ",F11,1)-2),LEN(MID(F11,SEARCH(" ",F11,1)+1,SEARCH("мм",F11,1)-SEARCH(" ",F11,1)-2))-SEARCH("х",MID(F11,SEARCH(" ",F11,1)+1,SEARCH("мм",F11,1)-SEARCH(" ",F11,1)-2),1))))/1000*2*3.2),IF(MID(F11,1,4)="Балк",M11/((VALUE(LEFT(MID(F11,SEARCH(" ",F11,1)+1,SEARCH("мм",F11,1)-SEARCH(" ",F11,1)-5),SEARCH("х",MID(F11,SEARCH(" ",F11,1)+1,SEARCH("мм",F11,1)-SEARCH(" ",F11,1)-5),1)-1))*VALUE(RIGHT(MID(F11,SEARCH(" ",F11,1)+1,SEARCH("мм",F11,1)-SEARCH(" ",F11,1)-5),LEN(MID(F11,SEARCH(" ",F11,1)+1,SEARCH("мм",F11,1)-SEARCH(" ",F11,1)-5))-SEARCH("х",MID(F11,SEARCH(" ",F11,1)+1,SEARCH("мм",F11,1)-SEARCH(" ",F11,1)-5),1))))/1000000*1)*((2*VALUE(LEFT(MID(F11,SEARCH(" ",F11,1)+1,SEARCH("мм",F11,1)-SEARCH(" ",F11,1)-5),SEARCH("х",MID(F11,SEARCH(" ",F11,1)+1,SEARCH("мм",F11,1)-SEARCH(" ",F11,1)-5),1)-1))+VALUE(RIGHT(MID(F11,SEARCH(" ",F11,1)+1,SEARCH("мм",F11,1)-SEARCH(" ",F11,1)-5),LEN(MID(F11,SEARCH(" ",F11,1)+1,SEARCH("мм",F11,1)-SEARCH(" ",F11,1)-5))-SEARCH("х",MID(F11,SEARCH(" ",F11,1)+1,SEARCH("мм",F11,1)-SEARCH(" ",F11,1)-5),1))))/1000*1),IF(MID(F11,1,4)="Капи",M11/(2.8*3.6*0.4)*((2.8+3.6)*2*0.4),"")))))))))) | R11: =IF(SUM($J11:$L11)*INDEX('Таблица 6 (типы арм.)'!$F$6:$U$49,MATCH($D11,'Таблица 6 (типы арм.)'!$D$6:$D$49,0),MATCH((IF(COLUMN(R$5)>COLUMN($X$5),CONCATENATE(R$5,"А500С"),IF(COLUMN(R$5)>COLUMN($S$5),CONCATENATE(R$5,"А240"),CONCATENATE(R$5,"Вр-1")))),'Таблица 6 (типы арм.)'!$F$54:$U$54,0))=0,"",ROUND(SUM($J11:$L11)*INDEX('Таблица 6 (типы арм.)'!$F$6:$U$49,MATCH($D11,'Таблица 6 (типы арм.)'!$D$6:$D$49,0),MATCH((IF(COLUMN(R$5)>COLUMN($X$5),CONCATENATE(R$5,"А500С"),IF(COLUMN(R$5)>COLUMN($S$5),CONCATENATE(R$5,"А240"),CONCATENATE(R$5,"Вр-1")))),'Таблица 6 (типы арм.)'!$F$54:$U$54,0)),0)) | S11: =IF((IF(R11="",0,R11))=0,"",(IF(R11="",0,R11))) | T11: =IF(SUM($J11:$L11)*INDEX('Таблица 6 (типы арм.)'!$F$6:$U$49,MATCH($D11,'Таблица 6 (типы арм.)'!$D$6:$D$49,0),MATCH((IF(COLUMN(T$5)>COLUMN($X$5),CONCATENATE(T$5,"А500С"),IF(COLUMN(T$5)>COLUMN($S$5),CONCATENATE(T$5,"А240"),CONCATENATE(T$5,"Вр-1")))),'Таблица 6 (типы арм.)'!$F$54:$U$54,0))=0,"",ROUND(SUM($J11:$L11)*INDEX('Таблица 6 (типы арм.)'!$F$6:$U$49,MATCH($D11,'Таблица 6 (типы арм.)'!$D$6:$D$49,0),MATCH((IF(COLUMN(T$5)>COLUMN($X$5),CONCATENATE(T$5,"А500С"),IF(COLUMN(T$5)>COLUMN($S$5),CONCATENATE(T$5,"А240"),CONCATENATE(T$5,"Вр-1")))),'Таблица 6 (типы арм.)'!$F$54:$U$54,0)),0)) | U11: =IF(SUM($J11:$L11)*INDEX('Таблица 6 (типы арм.)'!$F$6:$U$49,MATCH($D11,'Таблица 6 (типы арм.)'!$D$6:$D$49,0),MATCH((IF(COLUMN(U$5)>COLUMN($X$5),CONCATENATE(U$5,"А500С"),IF(COLUMN(U$5)>COLUMN($S$5),CONCATENATE(U$5,"А240"),CONCATENATE(U$5,"Вр-1")))),'Таблица 6 (типы арм.)'!$F$54:$U$54,0))=0,"",ROUND(SUM($J11:$L11)*INDEX('Таблица 6 (типы арм.)'!$F$6:$U$49,MATCH($D11,'Таблица 6 (типы арм.)'!$D$6:$D$49,0),MATCH((IF(COLUMN(U$5)>COLUMN($X$5),CONCATENATE(U$5,"А500С"),IF(COLUMN(U$5)>COLUMN($S$5),CONCATENATE(U$5,"А240"),CONCATENATE(U$5,"Вр-1")))),'Таблица 6 (типы арм.)'!$F$54:$U$54,0)),0)) | V11: =IF(SUM($J11:$L11)*INDEX('Таблица 6 (типы арм.)'!$F$6:$U$49,MATCH($D11,'Таблица 6 (типы арм.)'!$D$6:$D$49,0),MATCH((IF(COLUMN(V$5)>COLUMN($X$5),CONCATENATE(V$5,"А500С"),IF(COLUMN(V$5)>COLUMN($S$5),CONCATENATE(V$5,"А240"),CONCATENATE(V$5,"Вр-1")))),'Таблица 6 (типы арм.)'!$F$54:$U$54,0))=0,"",ROUND(SUM($J11:$L11)*INDEX('Таблица 6 (типы арм.)'!$F$6:$U$49,MATCH($D11,'Таблица 6 (типы арм.)'!$D$6:$D$49,0),MATCH((IF(COLUMN(V$5)>COLUMN($X$5),CONCATENATE(V$5,"А500С"),IF(COLUMN(V$5)>COLUMN($S$5),CONCATENATE(V$5,"А240"),CONCATENATE(V$5,"Вр-1")))),'Таблица 6 (типы арм.)'!$F$54:$U$54,0)),0)) | W11: =IF(SUM($J11:$L11)*INDEX('Таблица 6 (типы арм.)'!$F$6:$U$49,MATCH($D11,'Таблица 6 (типы арм.)'!$D$6:$D$49,0),MATCH((IF(COLUMN(W$5)>COLUMN($X$5),CONCATENATE(W$5,"А500С"),IF(COLUMN(W$5)>COLUMN($S$5),CONCATENATE(W$5,"А240"),CONCATENATE(W$5,"Вр-1")))),'Таблица 6 (типы арм.)'!$F$54:$U$54,0))=0,"",ROUND(SUM($J11:$L11)*INDEX('Таблица 6 (типы арм.)'!$F$6:$U$49,MATCH($D11,'Таблица 6 (типы арм.)'!$D$6:$D$49,0),MATCH((IF(COLUMN(W$5)>COLUMN($X$5),CONCATENATE(W$5,"А500С"),IF(COLUMN(W$5)>COLUMN($S$5),CONCATENATE(W$5,"А240"),CONCATENATE(W$5,"Вр-1")))),'Таблица 6 (типы арм.)'!$F$54:$U$54,0)),0)) | X11: =IF((IF(T11="",0,T11)+IF(U11="",0,U11)+IF(V11="",0,V11)+IF(W11="",0,W11))=0,"",(IF(T11="",0,T11)+IF(U11="",0,U11)+IF(V11="",0,V11)+IF(W11="",0,W11))) | Y11: =IF(SUM($J11:$L11)*INDEX('Таблица 6 (типы арм.)'!$F$6:$U$49,MATCH($D11,'Таблица 6 (типы арм.)'!$D$6:$D$49,0),MATCH((IF(COLUMN(Y$5)>COLUMN($X$5),CONCATENATE(Y$5,"А500С"),IF(COLUMN(Y$5)>COLUMN($S$5),CONCATENATE(Y$5,"А240"),CONCATENATE(Y$5,"Вр-1")))),'Таблица 6 (типы арм.)'!$F$54:$U$54,0))=0,"",ROUND(SUM($J11:$L11)*INDEX('Таблица 6 (типы арм.)'!$F$6:$U$49,MATCH($D11,'Таблица 6 (типы арм.)'!$D$6:$D$49,0),MATCH((IF(COLUMN(Y$5)>COLUMN($X$5),CONCATENATE(Y$5,"А500С"),IF(COLUMN(Y$5)>COLUMN($S$5),CONCATENATE(Y$5,"А240"),CONCATENATE(Y$5,"Вр-1")))),'Таблица 6 (типы арм.)'!$F$54:$U$54,0)),0)) | Z11: =IF(SUM($J11:$L11)*INDEX('Таблица 6 (типы арм.)'!$F$6:$U$49,MATCH($D11,'Таблица 6 (типы арм.)'!$D$6:$D$49,0),MATCH((IF(COLUMN(Z$5)>COLUMN($X$5),CONCATENATE(Z$5,"А500С"),IF(COLUMN(Z$5)>COLUMN($S$5),CONCATENATE(Z$5,"А240"),CONCATENATE(Z$5,"Вр-1")))),'Таблица 6 (типы арм.)'!$F$54:$U$54,0))=0,"",ROUND(SUM($J11:$L11)*INDEX('Таблица 6 (типы арм.)'!$F$6:$U$49,MATCH($D11,'Таблица 6 (типы арм.)'!$D$6:$D$49,0),MATCH((IF(COLUMN(Z$5)>COLUMN($X$5),CONCATENATE(Z$5,"А500С"),IF(COLUMN(Z$5)>COLUMN($S$5),CONCATENATE(Z$5,"А240"),CONCATENATE(Z$5,"Вр-1")))),'Таблица 6 (типы арм.)'!$F$54:$U$54,0)),0)) | AA11: =IF(SUM($J11:$L11)*INDEX('Таблица 6 (типы арм.)'!$F$6:$U$49,MATCH($D11,'Таблица 6 (типы арм.)'!$D$6:$D$49,0),MATCH((IF(COLUMN(AA$5)>COLUMN($X$5),CONCATENATE(AA$5,"А500С"),IF(COLUMN(AA$5)>COLUMN($S$5),CONCATENATE(AA$5,"А240"),CONCATENATE(AA$5,"Вр-1")))),'Таблица 6 (типы арм.)'!$F$54:$U$54,0))=0,"",ROUND(SUM($J11:$L11)*INDEX('Таблица 6 (типы арм.)'!$F$6:$U$49,MATCH($D11,'Таблица 6 (типы арм.)'!$D$6:$D$49,0),MATCH((IF(COLUMN(AA$5)>COLUMN($X$5),CONCATENATE(AA$5,"А500С"),IF(COLUMN(AA$5)>COLUMN($S$5),CONCATENATE(AA$5,"А240"),CONCATENATE(AA$5,"Вр-1")))),'Таблица 6 (типы арм.)'!$F$54:$U$54,0)),0)) | AB11: =IF(SUM($J11:$L11)*INDEX('Таблица 6 (типы арм.)'!$F$6:$U$49,MATCH($D11,'Таблица 6 (типы арм.)'!$D$6:$D$49,0),MATCH((IF(COLUMN(AB$5)>COLUMN($X$5),CONCATENATE(AB$5,"А500С"),IF(COLUMN(AB$5)>COLUMN($S$5),CONCATENATE(AB$5,"А240"),CONCATENATE(AB$5,"Вр-1")))),'Таблица 6 (типы арм.)'!$F$54:$U$54,0))=0,"",ROUND(SUM($J11:$L11)*INDEX('Таблица 6 (типы арм.)'!$F$6:$U$49,MATCH($D11,'Таблица 6 (типы арм.)'!$D$6:$D$49,0),MATCH((IF(COLUMN(AB$5)>COLUMN($X$5),CONCATENATE(AB$5,"А500С"),IF(COLUMN(AB$5)>COLUMN($S$5),CONCATENATE(AB$5,"А240"),CONCATENATE(AB$5,"Вр-1")))),'Таблица 6 (типы арм.)'!$F$54:$U$54,0)),0)) | AC11: =IF(SUM($J11:$L11)*INDEX('Таблица 6 (типы арм.)'!$F$6:$U$49,MATCH($D11,'Таблица 6 (типы арм.)'!$D$6:$D$49,0),MATCH((IF(COLUMN(AC$5)>COLUMN($X$5),CONCATENATE(AC$5,"А500С"),IF(COLUMN(AC$5)>COLUMN($S$5),CONCATENATE(AC$5,"А240"),CONCATENATE(AC$5,"Вр-1")))),'Таблица 6 (типы арм.)'!$F$54:$U$54,0))=0,"",ROUND(SUM($J11:$L11)*INDEX('Таблица 6 (типы арм.)'!$F$6:$U$49,MATCH($D11,'Таблица 6 (типы арм.)'!$D$6:$D$49,0),MATCH((IF(COLUMN(AC$5)>COLUMN($X$5),CONCATENATE(AC$5,"А500С"),IF(COLUMN(AC$5)>COLUMN($S$5),CONCATENATE(AC$5,"А240"),CONCATENATE(AC$5,"Вр-1")))),'Таблица 6 (типы арм.)'!$F$54:$U$54,0)),0)) | AD11: =IF(SUM($J11:$L11)*INDEX('Таблица 6 (типы арм.)'!$F$6:$U$49,MATCH($D11,'Таблица 6 (типы арм.)'!$D$6:$D$49,0),MATCH((IF(COLUMN(AD$5)>COLUMN($X$5),CONCATENATE(AD$5,"А500С"),IF(COLUMN(AD$5)>COLUMN($S$5),CONCATENATE(AD$5,"А240"),CONCATENATE(AD$5,"Вр-1")))),'Таблица 6 (типы арм.)'!$F$54:$U$54,0))=0,"",ROUND(SUM($J11:$L11)*INDEX('Таблица 6 (типы арм.)'!$F$6:$U$49,MATCH($D11,'Таблица 6 (типы арм.)'!$D$6:$D$49,0),MATCH((IF(COLUMN(AD$5)>COLUMN($X$5),CONCATENATE(AD$5,"А500С"),IF(COLUMN(AD$5)>COLUMN($S$5),CONCATENATE(AD$5,"А240"),CONCATENATE(AD$5,"Вр-1")))),'Таблица 6 (типы арм.)'!$F$54:$U$54,0)),0)) | AE11: =IF(SUM($J11:$L11)*INDEX('Таблица 6 (типы арм.)'!$F$6:$U$49,MATCH($D11,'Таблица 6 (типы арм.)'!$D$6:$D$49,0),MATCH((IF(COLUMN(AE$5)>COLUMN($X$5),CONCATENATE(AE$5,"А500С"),IF(COLUMN(AE$5)>COLUMN($S$5),CONCATENATE(AE$5,"А240"),CONCATENATE(AE$5,"Вр-1")))),'Таблица 6 (типы арм.)'!$F$54:$U$54,0))=0,"",ROUND(SUM($J11:$L11)*INDEX('Таблица 6 (типы арм.)'!$F$6:$U$49,MATCH($D11,'Таблица 6 (типы арм.)'!$D$6:$D$49,0),MATCH((IF(COLUMN(AE$5)>COLUMN($X$5),CONCATENATE(AE$5,"А500С"),IF(COLUMN(AE$5)>COLUMN($S$5),CONCATENATE(AE$5,"А240"),CONCATENATE(AE$5,"Вр-1")))),'Таблица 6 (типы арм.)'!$F$54:$U$54,0)),0)) | AF11: =IF(SUM($J11:$L11)*INDEX('Таблица 6 (типы арм.)'!$F$6:$U$49,MATCH($D11,'Таблица 6 (типы арм.)'!$D$6:$D$49,0),MATCH((IF(COLUMN(AF$5)>COLUMN($X$5),CONCATENATE(AF$5,"А500С"),IF(COLUMN(AF$5)>COLUMN($S$5),CONCATENATE(AF$5,"А240"),CONCATENATE(AF$5,"Вр-1")))),'Таблица 6 (типы арм.)'!$F$54:$U$54,0))=0,"",ROUND(SUM($J11:$L11)*INDEX('Таблица 6 (типы арм.)'!$F$6:$U$49,MATCH($D11,'Таблица 6 (типы арм.)'!$D$6:$D$49,0),MATCH((IF(COLUMN(AF$5)>COLUMN($X$5),CONCATENATE(AF$5,"А500С"),IF(COLUMN(AF$5)>COLUMN($S$5),CONCATENATE(AF$5,"А240"),CONCATENATE(AF$5,"Вр-1")))),'Таблица 6 (типы арм.)'!$F$54:$U$54,0)),0)) | ... AI11: =IF(SUM($J11:$L11)*INDEX('Таблица 6 (типы арм.)'!$F$6:$U$49,MATCH($D11,'Таблица 6 (типы арм.)'!$D$6:$D$49,0),MATCH((IF(COLUMN(AI$5)>COLUMN($X$5),CONCATENATE(AI$5,"А500С"),IF(COLUMN(AI$5)>COLUMN($S$5),CONCATENATE(AI$5,"А240"),CONCATENATE(AI$5,"Вр-1")))),'Таблица 6 (типы арм.)'!$F$54:$U$54,0))=0,"",ROUND(SUM($J11:$L11)*INDEX('Таблица 6 (типы арм.)'!$F$6:$U$49,MATCH($D11,'Таблица 6 (типы арм.)'!$D$6:$D$49,0),MATCH((IF(COLUMN(AI$5)>COLUMN($X$5),CONCATENATE(AI$5,"А500С"),IF(COLUMN(AI$5)>COLUMN($S$5),CONCATENATE(AI$5,"А240"),CONCATENATE(AI$5,"Вр-1")))),'Таблица 6 (типы арм.)'!$F$54:$U$54,0)),0)) | AJ11: =IF((IF(Y11="",0,Y11)+IF(Z11="",0,Z11)+IF(AA11="",0,AA11)+IF(AB11="",0,AB11)+IF(AC11="",0,AC11)+IF(AD11="",0,AD11)+IF(AE11="",0,AE11)+IF(AF11="",0,AF11)+IF(AG11="",0,AG11)+IF(AH11="",0,AH11)+IF(AI11="",0,AI11))=0,"",(IF(Y11="",0,Y11)+IF(Z11="",0,Z11)+IF(AA11="",0,AA11)+IF(AB11="",0,AB11)+IF(AC11="",0,AC11)+IF(AD11="",0,AD11)+IF(AE11="",0,AE11)+IF(AF11="",0,AF11)+IF(AG11="",0,AG11)+IF(AH11="",0,AH11)+IF(AI11="",0,AI11))) | AK11: =IF((IF(AJ11="",0,AJ11)+IF(X11="",0,X11)+IF(S11="",0,S11))=0,"",(IF(AJ11="",0,AJ11)+IF(X11="",0,X11)+IF(S11="",0,S11)))
C12: при отсутствии ФП с данной толщиной строку удалить | D12: 1 | E12: =CONCATENATE($E$8,".",(ROW(G12)-ROW($G$8))) -> 1.4 | F12: Плита фундаментная 800 мм | G12: куб.м | K12: 500 | M12: =IF((IF(H12="",0,H12)+IF(I12="",0,I12)+IF(J12="",0,J12)+IF(K12="",0,K12)+IF(L12="",0,L12))=0,"",(IF(H12="",0,H12)+IF(I12="",0,I12)+IF(J12="",0,J12)+IF(K12="",0,K12)+IF(L12="",0,L12))) -> 500 | N12: W6 | O12: F150 | P12: =IF(M12="","",IF(M12=0,"",IF(MID(F12,1,4)="Стен",M12/(VALUE(MID(F12,SEARCH(" ",F12,1)+1,SEARCH("мм",F12,1)-SEARCH(" ",F12,1)-2))/1000),IF(MID(F12,1,10)="Плита фунд",SQRT(M12/(VALUE(MID(F12,SEARCH(" ",F12,1)+14,SEARCH("мм",F12,1)-SEARCH(" ",F12,1)-15))/1000))*(4+1)*(VALUE(MID(F12,SEARCH(" ",F12,1)+14,SEARCH("мм",F12,1)-SEARCH(" ",F12,1)-15))/1000),IF(MID(F12,1,4)="Плит",M12/(VALUE(MID(F12,SEARCH(" ",F12,1)+1,SEARCH("мм",F12,1)-SEARCH(" ",F12,1)-2))/1000),IF(MID(F12,1,4)="Площ",M12/(VALUE(MID(F12,SEARCH(" ",F12,1)+12,SEARCH("мм",F12,1)-SEARCH(" ",F12,1)-13))/1000),IF(MID(F12,1,4)="Марш",M12/0.263,IF(MID(F12,1,4)="Коло",M12/((VALUE(LEFT(MID(F12,SEARCH(" ",F12,1)+1,SEARCH("мм",F12,1)-SEARCH(" ",F12,1)-2),SEARCH("х",MID(F12,SEARCH(" ",F12,1)+1,SEARCH("мм",F12,1)-SEARCH(" ",F12,1)-2),1)-1))*VALUE(RIGHT(MID(F12,SEARCH(" ",F12,1)+1,SEARCH("мм",F12,1)-SEARCH(" ",F12,1)-2),LEN(MID(F12,SEARCH(" ",F12,1)+1,SEARCH("мм",F12,1)-SEARCH(" ",F12,1)-2))-SEARCH("х",MID(F12,SEARCH(" ",F12,1)+1,SEARCH("мм",F12,1)-SEARCH(" ",F12,1)-2),1))))/1000000*3.2)*((VALUE(LEFT(MID(F12,SEARCH(" ",F12,1)+1,SEARCH("мм",F12,1)-SEARCH(" ",F12,1)-2),SEARCH("х",MID(F12,SEARCH(" ",F12,1)+1,SEARCH("мм",F12,1)-SEARCH(" ",F12,1)-2),1)-1))+VALUE(RIGHT(MID(F12,SEARCH(" ",F12,1)+1,SEARCH("мм",F12,1)-SEARCH(" ",F12,1)-2),LEN(MID(F12,SEARCH(" ",F12,1)+1,SEARCH("мм",F12,1)-SEARCH(" ",F12,1)-2))-SEARCH("х",MID(F12,SEARCH(" ",F12,1)+1,SEARCH("мм",F12,1)-SEARCH(" ",F12,1)-2),1))))/1000*2*3.2),IF(MID(F12,1,4)="Балк",M12/((VALUE(LEFT(MID(F12,SEARCH(" ",F12,1)+1,SEARCH("мм",F12,1)-SEARCH(" ",F12,1)-5),SEARCH("х",MID(F12,SEARCH(" ",F12,1)+1,SEARCH("мм",F12,1)-SEARCH(" ",F12,1)-5),1)-1))*VALUE(RIGHT(MID(F12,SEARCH(" ",F12,1)+1,SEARCH("мм",F12,1)-SEARCH(" ",F12,1)-5),LEN(MID(F12,SEARCH(" ",F12,1)+1,SEARCH("мм",F12,1)-SEARCH(" ",F12,1)-5))-SEARCH("х",MID(F12,SEARCH(" ",F12,1)+1,SEARCH("мм",F12,1)-SEARCH(" ",F12,1)-5),1))))/1000000*1)*((2*VALUE(LEFT(MID(F12,SEARCH(" ",F12,1)+1,SEARCH("мм",F12,1)-SEARCH(" ",F12,1)-5),SEARCH("х",MID(F12,SEARCH(" ",F12,1)+1,SEARCH("мм",F12,1)-SEARCH(" ",F12,1)-5),1)-1))+VALUE(RIGHT(MID(F12,SEARCH(" ",F12,1)+1,SEARCH("мм",F12,1)-SEARCH(" ",F12,1)-5),LEN(MID(F12,SEARCH(" ",F12,1)+1,SEARCH("мм",F12,1)-SEARCH(" ",F12,1)-5))-SEARCH("х",MID(F12,SEARCH(" ",F12,1)+1,SEARCH("мм",F12,1)-SEARCH(" ",F12,1)-5),1))))/1000*1),IF(MID(F12,1,4)="Капи",M12/(2.8*3.6*0.4)*((2.8+3.6)*2*0.4),"")))))))))) -> 100 | R12: =IF(SUM($J12:$L12)*INDEX('Таблица 6 (типы арм.)'!$F$6:$U$49,MATCH($D12,'Таблица 6 (типы арм.)'!$D$6:$D$49,0),MATCH((IF(COLUMN(R$5)>COLUMN($X$5),CONCATENATE(R$5,"А500С"),IF(COLUMN(R$5)>COLUMN($S$5),CONCATENATE(R$5,"А240"),CONCATENATE(R$5,"Вр-1")))),'Таблица 6 (типы арм.)'!$F$54:$U$54,0))=0,"",ROUND(SUM($J12:$L12)*INDEX('Таблица 6 (типы арм.)'!$F$6:$U$49,MATCH($D12,'Таблица 6 (типы арм.)'!$D$6:$D$49,0),MATCH((IF(COLUMN(R$5)>COLUMN($X$5),CONCATENATE(R$5,"А500С"),IF(COLUMN(R$5)>COLUMN($S$5),CONCATENATE(R$5,"А240"),CONCATENATE(R$5,"Вр-1")))),'Таблица 6 (типы арм.)'!$F$54:$U$54,0)),0)) | S12: =IF((IF(R12="",0,R12))=0,"",(IF(R12="",0,R12))) | T12: =IF(SUM($J12:$L12)*INDEX('Таблица 6 (типы арм.)'!$F$6:$U$49,MATCH($D12,'Таблица 6 (типы арм.)'!$D$6:$D$49,0),MATCH((IF(COLUMN(T$5)>COLUMN($X$5),CONCATENATE(T$5,"А500С"),IF(COLUMN(T$5)>COLUMN($S$5),CONCATENATE(T$5,"А240"),CONCATENATE(T$5,"Вр-1")))),'Таблица 6 (типы арм.)'!$F$54:$U$54,0))=0,"",ROUND(SUM($J12:$L12)*INDEX('Таблица 6 (типы арм.)'!$F$6:$U$49,MATCH($D12,'Таблица 6 (типы арм.)'!$D$6:$D$49,0),MATCH((IF(COLUMN(T$5)>COLUMN($X$5),CONCATENATE(T$5,"А500С"),IF(COLUMN(T$5)>COLUMN($S$5),CONCATENATE(T$5,"А240"),CONCATENATE(T$5,"Вр-1")))),'Таблица 6 (типы арм.)'!$F$54:$U$54,0)),0)) | U12: =IF(SUM($J12:$L12)*INDEX('Таблица 6 (типы арм.)'!$F$6:$U$49,MATCH($D12,'Таблица 6 (типы арм.)'!$D$6:$D$49,0),MATCH((IF(COLUMN(U$5)>COLUMN($X$5),CONCATENATE(U$5,"А500С"),IF(COLUMN(U$5)>COLUMN($S$5),CONCATENATE(U$5,"А240"),CONCATENATE(U$5,"Вр-1")))),'Таблица 6 (типы арм.)'!$F$54:$U$54,0))=0,"",ROUND(SUM($J12:$L12)*INDEX('Таблица 6 (типы арм.)'!$F$6:$U$49,MATCH($D12,'Таблица 6 (типы арм.)'!$D$6:$D$49,0),MATCH((IF(COLUMN(U$5)>COLUMN($X$5),CONCATENATE(U$5,"А500С"),IF(COLUMN(U$5)>COLUMN($S$5),CONCATENATE(U$5,"А240"),CONCATENATE(U$5,"Вр-1")))),'Таблица 6 (типы арм.)'!$F$54:$U$54,0)),0)) | V12: =IF(SUM($J12:$L12)*INDEX('Таблица 6 (типы арм.)'!$F$6:$U$49,MATCH($D12,'Таблица 6 (типы арм.)'!$D$6:$D$49,0),MATCH((IF(COLUMN(V$5)>COLUMN($X$5),CONCATENATE(V$5,"А500С"),IF(COLUMN(V$5)>COLUMN($S$5),CONCATENATE(V$5,"А240"),CONCATENATE(V$5,"Вр-1")))),'Таблица 6 (типы арм.)'!$F$54:$U$54,0))=0,"",ROUND(SUM($J12:$L12)*INDEX('Таблица 6 (типы арм.)'!$F$6:$U$49,MATCH($D12,'Таблица 6 (типы арм.)'!$D$6:$D$49,0),MATCH((IF(COLUMN(V$5)>COLUMN($X$5),CONCATENATE(V$5,"А500С"),IF(COLUMN(V$5)>COLUMN($S$5),CONCATENATE(V$5,"А240"),CONCATENATE(V$5,"Вр-1")))),'Таблица 6 (типы арм.)'!$F$54:$U$54,0)),0)) | W12: =IF(SUM($J12:$L12)*INDEX('Таблица 6 (типы арм.)'!$F$6:$U$49,MATCH($D12,'Таблица 6 (типы арм.)'!$D$6:$D$49,0),MATCH((IF(COLUMN(W$5)>COLUMN($X$5),CONCATENATE(W$5,"А500С"),IF(COLUMN(W$5)>COLUMN($S$5),CONCATENATE(W$5,"А240"),CONCATENATE(W$5,"Вр-1")))),'Таблица 6 (типы арм.)'!$F$54:$U$54,0))=0,"",ROUND(SUM($J12:$L12)*INDEX('Таблица 6 (типы арм.)'!$F$6:$U$49,MATCH($D12,'Таблица 6 (типы арм.)'!$D$6:$D$49,0),MATCH((IF(COLUMN(W$5)>COLUMN($X$5),CONCATENATE(W$5,"А500С"),IF(COLUMN(W$5)>COLUMN($S$5),CONCATENATE(W$5,"А240"),CONCATENATE(W$5,"Вр-1")))),'Таблица 6 (типы арм.)'!$F$54:$U$54,0)),0)) | X12: =IF((IF(T12="",0,T12)+IF(U12="",0,U12)+IF(V12="",0,V12)+IF(W12="",0,W12))=0,"",(IF(T12="",0,T12)+IF(U12="",0,U12)+IF(V12="",0,V12)+IF(W12="",0,W12))) | Y12: =IF(SUM($J12:$L12)*INDEX('Таблица 6 (типы арм.)'!$F$6:$U$49,MATCH($D12,'Таблица 6 (типы арм.)'!$D$6:$D$49,0),MATCH((IF(COLUMN(Y$5)>COLUMN($X$5),CONCATENATE(Y$5,"А500С"),IF(COLUMN(Y$5)>COLUMN($S$5),CONCATENATE(Y$5,"А240"),CONCATENATE(Y$5,"Вр-1")))),'Таблица 6 (типы арм.)'!$F$54:$U$54,0))=0,"",ROUND(SUM($J12:$L12)*INDEX('Таблица 6 (типы арм.)'!$F$6:$U$49,MATCH($D12,'Таблица 6 (типы арм.)'!$D$6:$D$49,0),MATCH((IF(COLUMN(Y$5)>COLUMN($X$5),CONCATENATE(Y$5,"А500С"),IF(COLUMN(Y$5)>COLUMN($S$5),CONCATENATE(Y$5,"А240"),CONCATENATE(Y$5,"Вр-1")))),'Таблица 6 (типы арм.)'!$F$54:$U$54,0)),0)) | Z12: =IF(SUM($J12:$L12)*INDEX('Таблица 6 (типы арм.)'!$F$6:$U$49,MATCH($D12,'Таблица 6 (типы арм.)'!$D$6:$D$49,0),MATCH((IF(COLUMN(Z$5)>COLUMN($X$5),CONCATENATE(Z$5,"А500С"),IF(COLUMN(Z$5)>COLUMN($S$5),CONCATENATE(Z$5,"А240"),CONCATENATE(Z$5,"Вр-1")))),'Таблица 6 (типы арм.)'!$F$54:$U$54,0))=0,"",ROUND(SUM($J12:$L12)*INDEX('Таблица 6 (типы арм.)'!$F$6:$U$49,MATCH($D12,'Таблица 6 (типы арм.)'!$D$6:$D$49,0),MATCH((IF(COLUMN(Z$5)>COLUMN($X$5),CONCATENATE(Z$5,"А500С"),IF(COLUMN(Z$5)>COLUMN($S$5),CONCATENATE(Z$5,"А240"),CONCATENATE(Z$5,"Вр-1")))),'Таблица 6 (типы арм.)'!$F$54:$U$54,0)),0)) | AA12: =IF(SUM($J12:$L12)*INDEX('Таблица 6 (типы арм.)'!$F$6:$U$49,MATCH($D12,'Таблица 6 (типы арм.)'!$D$6:$D$49,0),MATCH((IF(COLUMN(AA$5)>COLUMN($X$5),CONCATENATE(AA$5,"А500С"),IF(COLUMN(AA$5)>COLUMN($S$5),CONCATENATE(AA$5,"А240"),CONCATENATE(AA$5,"Вр-1")))),'Таблица 6 (типы арм.)'!$F$54:$U$54,0))=0,"",ROUND(SUM($J12:$L12)*INDEX('Таблица 6 (типы арм.)'!$F$6:$U$49,MATCH($D12,'Таблица 6 (типы арм.)'!$D$6:$D$49,0),MATCH((IF(COLUMN(AA$5)>COLUMN($X$5),CONCATENATE(AA$5,"А500С"),IF(COLUMN(AA$5)>COLUMN($S$5),CONCATENATE(AA$5,"А240"),CONCATENATE(AA$5,"Вр-1")))),'Таблица 6 (типы арм.)'!$F$54:$U$54,0)),0)) -> 4615 | AB12: =IF(SUM($J12:$L12)*INDEX('Таблица 6 (типы арм.)'!$F$6:$U$49,MATCH($D12,'Таблица 6 (типы арм.)'!$D$6:$D$49,0),MATCH((IF(COLUMN(AB$5)>COLUMN($X$5),CONCATENATE(AB$5,"А500С"),IF(COLUMN(AB$5)>COLUMN($S$5),CONCATENATE(AB$5,"А240"),CONCATENATE(AB$5,"Вр-1")))),'Таблица 6 (типы арм.)'!$F$54:$U$54,0))=0,"",ROUND(SUM($J12:$L12)*INDEX('Таблица 6 (типы арм.)'!$F$6:$U$49,MATCH($D12,'Таблица 6 (типы арм.)'!$D$6:$D$49,0),MATCH((IF(COLUMN(AB$5)>COLUMN($X$5),CONCATENATE(AB$5,"А500С"),IF(COLUMN(AB$5)>COLUMN($S$5),CONCATENATE(AB$5,"А240"),CONCATENATE(AB$5,"Вр-1")))),'Таблица 6 (типы арм.)'!$F$54:$U$54,0)),0)) | AC12: =IF(SUM($J12:$L12)*INDEX('Таблица 6 (типы арм.)'!$F$6:$U$49,MATCH($D12,'Таблица 6 (типы арм.)'!$D$6:$D$49,0),MATCH((IF(COLUMN(AC$5)>COLUMN($X$5),CONCATENATE(AC$5,"А500С"),IF(COLUMN(AC$5)>COLUMN($S$5),CONCATENATE(AC$5,"А240"),CONCATENATE(AC$5,"Вр-1")))),'Таблица 6 (типы арм.)'!$F$54:$U$54,0))=0,"",ROUND(SUM($J12:$L12)*INDEX('Таблица 6 (типы арм.)'!$F$6:$U$49,MATCH($D12,'Таблица 6 (типы арм.)'!$D$6:$D$49,0),MATCH((IF(COLUMN(AC$5)>COLUMN($X$5),CONCATENATE(AC$5,"А500С"),IF(COLUMN(AC$5)>COLUMN($S$5),CONCATENATE(AC$5,"А240"),CONCATENATE(AC$5,"Вр-1")))),'Таблица 6 (типы арм.)'!$F$54:$U$54,0)),0)) -> 20192 | AD12: =IF(SUM($J12:$L12)*INDEX('Таблица 6 (типы арм.)'!$F$6:$U$49,MATCH($D12,'Таблица 6 (типы арм.)'!$D$6:$D$49,0),MATCH((IF(COLUMN(AD$5)>COLUMN($X$5),CONCATENATE(AD$5,"А500С"),IF(COLUMN(AD$5)>COLUMN($S$5),CONCATENATE(AD$5,"А240"),CONCATENATE(AD$5,"Вр-1")))),'Таблица 6 (типы арм.)'!$F$54:$U$54,0))=0,"",ROUND(SUM($J12:$L12)*INDEX('Таблица 6 (типы арм.)'!$F$6:$U$49,MATCH($D12,'Таблица 6 (типы арм.)'!$D$6:$D$49,0),MATCH((IF(COLUMN(AD$5)>COLUMN($X$5),CONCATENATE(AD$5,"А500С"),IF(COLUMN(AD$5)>COLUMN($S$5),CONCATENATE(AD$5,"А240"),CONCATENATE(AD$5,"Вр-1")))),'Таблица 6 (типы арм.)'!$F$54:$U$54,0)),0)) -> 6603 | AE12: =IF(SUM($J12:$L12)*INDEX('Таблица 6 (типы арм.)'!$F$6:$U$49,MATCH($D12,'Таблица 6 (типы арм.)'!$D$6:$D$49,0),MATCH((IF(COLUMN(AE$5)>COLUMN($X$5),CONCATENATE(AE$5,"А500С"),IF(COLUMN(AE$5)>COLUMN($S$5),CONCATENATE(AE$5,"А240"),CONCATENATE(AE$5,"Вр-1")))),'Таблица 6 (типы арм.)'!$F$54:$U$54,0))=0,"",ROUND(SUM($J12:$L12)*INDEX('Таблица 6 (типы арм.)'!$F$6:$U$49,MATCH($D12,'Таблица 6 (типы арм.)'!$D$6:$D$49,0),MATCH((IF(COLUMN(AE$5)>COLUMN($X$5),CONCATENATE(AE$5,"А500С"),IF(COLUMN(AE$5)>COLUMN($S$5),CONCATENATE(AE$5,"А240"),CONCATENATE(AE$5,"Вр-1")))),'Таблица 6 (типы арм.)'!$F$54:$U$54,0)),0)) -> 5897 | AF12: =IF(SUM($J12:$L12)*INDEX('Таблица 6 (типы арм.)'!$F$6:$U$49,MATCH($D12,'Таблица 6 (типы арм.)'!$D$6:$D$49,0),MATCH((IF(COLUMN(AF$5)>COLUMN($X$5),CONCATENATE(AF$5,"А500С"),IF(COLUMN(AF$5)>COLUMN($S$5),CONCATENATE(AF$5,"А240"),CONCATENATE(AF$5,"Вр-1")))),'Таблица 6 (типы арм.)'!$F$54:$U$54,0))=0,"",ROUND(SUM($J12:$L12)*INDEX('Таблица 6 (типы арм.)'!$F$6:$U$49,MATCH($D12,'Таблица 6 (типы арм.)'!$D$6:$D$49,0),MATCH((IF(COLUMN(AF$5)>COLUMN($X$5),CONCATENATE(AF$5,"А500С"),IF(COLUMN(AF$5)>COLUMN($S$5),CONCATENATE(AF$5,"А240"),CONCATENATE(AF$5,"Вр-1")))),'Таблица 6 (типы арм.)'!$F$54:$U$54,0)),0)) -> 7949 | ... AI12: =IF(SUM($J12:$L12)*INDEX('Таблица 6 (типы арм.)'!$F$6:$U$49,MATCH($D12,'Таблица 6 (типы арм.)'!$D$6:$D$49,0),MATCH((IF(COLUMN(AI$5)>COLUMN($X$5),CONCATENATE(AI$5,"А500С"),IF(COLUMN(AI$5)>COLUMN($S$5),CONCATENATE(AI$5,"А240"),CONCATENATE(AI$5,"Вр-1")))),'Таблица 6 (типы арм.)'!$F$54:$U$54,0))=0,"",ROUND(SUM($J12:$L12)*INDEX('Таблица 6 (типы арм.)'!$F$6:$U$49,MATCH($D12,'Таблица 6 (типы арм.)'!$D$6:$D$49,0),MATCH((IF(COLUMN(AI$5)>COLUMN($X$5),CONCATENATE(AI$5,"А500С"),IF(COLUMN(AI$5)>COLUMN($S$5),CONCATENATE(AI$5,"А240"),CONCATENATE(AI$5,"Вр-1")))),'Таблица 6 (типы арм.)'!$F$54:$U$54,0)),0)) -> 12115 | AJ12: =IF((IF(Y12="",0,Y12)+IF(Z12="",0,Z12)+IF(AA12="",0,AA12)+IF(AB12="",0,AB12)+IF(AC12="",0,AC12)+IF(AD12="",0,AD12)+IF(AE12="",0,AE12)+IF(AF12="",0,AF12)+IF(AG12="",0,AG12)+IF(AH12="",0,AH12)+IF(AI12="",0,AI12))=0,"",(IF(Y12="",0,Y12)+IF(Z12="",0,Z12)+IF(AA12="",0,AA12)+IF(AB12="",0,AB12)+IF(AC12="",0,AC12)+IF(AD12="",0,AD12)+IF(AE12="",0,AE12)+IF(AF12="",0,AF12)+IF(AG12="",0,AG12)+IF(AH12="",0,AH12)+IF(AI12="",0,AI12))) -> 84871 | AK12: =IF((IF(AJ12="",0,AJ12)+IF(X12="",0,X12)+IF(S12="",0,S12))=0,"",(IF(AJ12="",0,AJ12)+IF(X12="",0,X12)+IF(S12="",0,S12))) -> 84871 | AL12: 74
