Workbook
Name F: #REF!
Name ID_ARM: #REF!
Name KZ_ARM: #REF!
Name KZ_B: #REF!
Name KZ_GIDR: #REF!
Name KZ_M: #REF!
Name KZ_OPAL: #REF!
Name W: #REF!

Sheet Ведомость
E1: Таблица 3 - ВОР v14
D2: 0 | E2: 1 | F2: =E2+1 -> 2 | G2: =F2+1 -> 3 | H2: =G2+1 -> 4 | I2: =H2+1 -> 5 | J2: =I2+1 -> 6 | K2: =J2+1 -> 7 | L2: =K2+1 -> 8 | M2: =L2+1 -> 9 | ... AK2: =AJ2+1 -> 33 | AL2: ё
E3: ГРУППОВАЯ ВЕДОМОСТЬ РАСХОДА СТАЛИ И МАТЕРИАЛОВ (СТАДИЯ П) по объекту: ХХХХХХ
E4: №п/п | F4: Наименование конструкции | G4: Ед.изм. | H4: Бетон, куб.м | N4: Марка бетона W | O4: Марка бетона F | P4: Опалубка, кв.м | Q4: Прочие объемы | R4: Проволока Вр-1, кг | T4: Арматура А240, кг | Y4: Арматура А500С, кг | AK4: ВСЕГО | AL4: ЗД, кг
H5: В7,5 | I5: В10 | J5: В25 | K5: В30 | L5: В35 | M5: Итого | R5: Ø5 мм | S5: ИТОГО | T5: Ø6 мм | U5: Ø8 мм | V5: Ø10 мм | W5: Ø12 мм | X5: ИТОГО | Y5: Ø8 мм | Z5: Ø10 мм | AA5: Ø12 мм | AB5: Ø14 мм | AC5: Ø16 мм | AD5: Ø18 мм | AE5: Ø20 мм | AF5: Ø22 мм | AG5: Ø25 мм | AH5: Ø28 мм | AI5: Ø32 мм | AJ5: ИТОГО
A6: Таблицы (удалить столбец после заполнения ведомости): | B6: Рисунки (удалить после заполнения ведомости): | C6: Примечания (удалить после заполнения ведомости): | E6: 1. ФУНДАМЕНТЫ (ПОДЗЕМНЫЕ КОНСТРУКЦИИ)
E7: 1.1 Жилой дом | M7: =IF((IF(H7="",0,H7)+IF(I7="",0,I7)+IF(J7="",0,J7)+IF(K7="",0,K7)+IF(L7="",0,L7))=0,"",(IF(H7="",0,H7)+IF(I7="",0,I7)+IF(J7="",0,J7)+IF(K7="",0,K7)+IF(L7="",0,L7))) | X7: =IF((IF(T7="",0,T7)+IF(U7="",0,U7)+IF(V7="",0,V7)+IF(W7="",0,W7))=0,"",(IF(T7="",0,T7)+IF(U7="",0,U7)+IF(V7="",0,V7)+IF(W7="",0,W7))) | AJ7: =IF((IF(Y7="",0,Y7)+IF(Z7="",0,Z7)+IF(AA7="",0,AA7)+IF(AB7="",0,AB7)+IF(AC7="",0,AC7)+IF(AD7="",0,AD7)+IF(AE7="",0,AE7)+IF(AF7="",0,AF7)+IF(AG7="",0,AG7)+IF(AH7="",0,AH7)+IF(AI7="",0,AI7))=0,"",(IF(Y7="",0,Y7)+IF(Z7="",0,Z7)+IF(AA7="",0,AA7)+IF(AB7="",0,AB7)+IF(AC7="",0,AC7)+IF(AD7="",0,AD7)+IF(AE7="",0,AE7)+IF(AF7="",0,AF7)+IF(AG7="",0,AG7)+IF(AH7="",0,AH7)+IF(AI7="",0,AI7))) | AK7: =IF((IF(AJ7="",0,AJ7)+IF(X7="",0,X7))=0,"",(IF(AJ7="",0,AJ7)+IF(X7="",0,X7)))
A8: Таблицы приведены на других листах данной книги | C8: к данной строке относится расход на фундамент жилого дома (деление на "жилой дом" и "подземную автостоянку" производить по дефшву); для фундаментных плит класс бетона рекомендуется принимать В30, W6, F150 (столбцы 6-8, 10, 11) - уточнить при адресном проектировании | E8: 1 | F8: Фундаменты | G8: куб.м | H8: =IF(SUM(H9:H15)=0,"",SUM(H9:H15)) | I8: =IF(SUM(I9:I15)=0,"",SUM(I9:I15)) | J8: =IF(SUM(J9:J15)=0,"",SUM(J9:J15)) | K8: =IF(SUM(K9:K15)=0,"",SUM(K9:K15)) -> 1170 | L8: =IF(SUM(L9:L15)=0,"",SUM(L9:L15)) | M8: =IF((IF(H8="",0,H8)+IF(I8="",0,I8)+IF(J8="",0,J8)+IF(K8="",0,K8)+IF(L8="",0,L8))=0,"",(IF(H8="",0,H8)+IF(I8="",0,I8)+IF(J8="",0,J8)+IF(K8="",0,K8)+IF(L8="",0,L8))) -> 1170 | N8: W6 | O8: F150 | P8: =IF(SUM(P9:P15)=0,"",SUM(P9:P15)) -> 229.42179 | R8: =IF(SUM(R9:R15)=0,"",SUM(R9:R15)) | S8: =IF((IF(R8="",0,R8))=0,"",(IF(R8="",0,R8))) | T8: =IF(SUM(T9:T15)=0,"",SUM(T9:T15)) | U8: =IF(SUM(U9:U15)=0,"",SUM(U9:U15)) | V8: =IF(SUM(V9:V15)=0,"",SUM(V9:V15)) | W8: =IF(SUM(W9:W15)=0,"",SUM(W9:W15)) | X8: =IF((IF(T8="",0,T8)+IF(U8="",0,U8)+IF(V8="",0,V8)+IF(W8="",0,W8))=0,"",(IF(T8="",0,T8)+IF(U8="",0,U8)+IF(V8="",0,V8)+IF(W8="",0,W8))) | Y8: =IF(SUM(Y9:Y15)=0,"",SUM(Y9:Y15)) | Z8: =IF(SUM(Z9:Z15)=0,"",SUM(Z9:Z15)) | AA8: =IF(SUM(AA9:AA15)=0,"",SUM(AA9:AA15)) -> 10800 | AB8: =IF(SUM(AB9:AB15)=0,"",SUM(AB9:AB15)) | AC8: =IF(SUM(AC9:AC15)=0,"",SUM(AC9:AC15)) -> 47250 | AD8: =IF(SUM(AD9:AD15)=0,"",SUM(AD9:AD15)) -> 15450 | AE8: =IF(SUM(AE9:AE15)=0,"",SUM(AE9:AE15)) -> 13800 | AF8: =IF(SUM(AF9:AF15)=0,"",SUM(AF9:AF15)) -> 18600 | ... AI8: =IF(SUM(AI9:AI15)=0,"",SUM(AI9:AI15)) -> 28350 | AJ8: =IF((IF(Y8="",0,Y8)+IF(Z8="",0,Z8)+IF(AA8="",0,AA8)+IF(AB8="",0,AB8)+IF(AC8="",0,AC8)+IF(AD8="",0,AD8)+IF(AE8="",0,AE8)+IF(AF8="",0,AF8)+IF(AG8="",0,AG8)+IF(AH8="",0,AH8)+IF(AI8="",0,AI8))=0,"",(IF(Y8="",0,Y8)+IF(Z8="",0,Z8)+IF(AA8="",0,AA8)+IF(AB8="",0,AB8)+IF(AC8="",0,AC8)+IF(AD8="",0,AD8)+IF(AE8="",0,AE8)+IF(AF8="",0,AF8)+IF(AG8="",0,AG8)+IF(AH8="",0,AH8)+IF(AI8="",0,AI8))) -> 198600 | AK8: =IF((IF(AJ8="",0,AJ8)+IF(X8="",0,X8)+IF(S8="",0,S8))=0,"",(IF(AJ8="",0,AJ8)+IF(X8="",0,X8)+IF(S8="",0,S8))) -> 198600 | AL8: =IF(SUM(AL9:AL15)=0,"",SUM(AL9:AL15)) -> 185
C9: при отсутствии ФП с данной толщиной строку удалить | D9: 1 | E9: =CONCATENATE($E$8,".",(ROW(G9)-ROW($G$8))) -> 1.1 | F9: Плита фундаментная 500 мм | G9: куб.м | M9: =IF((IF(H9="",0,H9)+IF(I9="",0,I9)+IF(J9="",0,J9)+IF(K9="",0,K9)+IF(L9="",0,L9))=0,"",(IF(H9="",0,H9)+IF(I9="",0,I9)+IF(J9="",0,J9)+IF(K9="",0,K9)+IF(L9="",0,L9))) | N9: W6 | O9: F150 | P9: =IF(M9="","",IF(M9=0,"",IF(MID(F9,1,4)="Стен",M9/(VALUE(MID(F9,SEARCH(" ",F9,1)+1,SEARCH("мм",F9,1)-SEARCH(" ",F9,1)-2))/1000),IF(MID(F9,1,10)="Плита фунд",SQRT(M9/(VALUE(MID(F9,SEARCH(" ",F9,1)+14,SEARCH("мм",F9,1)-SEARCH(" ",F9,1)-15))/1000))*(4+1)*(VALUE(MID(F9,SEARCH(" ",F9,1)+14,SEARCH("мм",F9,1)-SEARCH(" ",F9,1)-15))/1000),IF(MID(F9,1,4)="Плит",M9/(VALUE(MID(F9,SEARCH(" ",F9,1)+1,SEARCH("мм",F9,1)-SEARCH(" ",F9,1)-2))/1000),IF(MID(F9,1,4)="Площ",M9/(VALUE(MID(F9,SEARCH(" ",F9,1)+12,SEARCH("мм",F9,1)-SEARCH(" ",F9,1)-13))/1000),IF(MID(F9,1,4)="Марш",M9/0.263,IF(MID(F9,1,4)="Коло",M9/((VALUE(LEFT(MID(F9,SEARCH(" ",F9,1)+1,SEARCH("мм",F9,1)-SEARCH(" ",F9,1)-2),SEARCH("х",MID(F9,SEARCH(" ",F9,1)+1,SEARCH("мм",F9,1)-SEARCH(" ",F9,1)-2),1)-1))*VALUE(RIGHT(MID(F9,SEARCH(" ",F9,1)+1,SEARCH("мм",F9,1)-SEARCH(" ",F9,1)-2),LEN(MID(F9,SEARCH(" ",F9,1)+1,SEARCH("мм",F9,1)-SEARCH(" ",F9,1)-2))-SEARCH("х",MID(F9,SEARCH(" ",F9,1)+1,SEARCH("мм",F9,1)-SEARCH(" ",F9,1)-2),1))))/1000000*3.2)*((VALUE(LEFT(MID(F9,SEARCH(" ",F9,1)+1,SEARCH("мм",F9,1)-SEARCH(" ",F9,1)-2),SEARCH("х",MID(F9,SEARCH(" ",F9,1)+1,SEARCH("мм",F9,1)-SEARCH(" ",F9,1)-2),1)-1))+VALUE(RIGHT(MID(F9,SEARCH(" ",F9,1)+1,SEARCH("мм",F9,1)-SEARCH(" ",F9,1)-2),LEN(MID(F9,SEARCH(" ",F9,1)+1,SEARCH("мм",F9,1)-SEARCH(" ",F9,1)-2))-SEARCH("х",MID(F9,SEARCH(" ",F9,1)+1,SEARCH("мм",F9,1)-SEARCH(" ",F9,1)-2),1))))/1000*2*3.2),IF(MID(F9,1,4)="Балк",M9/((VALUE(LEFT(MID(F9,SEARCH(" ",F9,1)+1,SEARCH("мм",F9,1)-SEARCH(" ",F9,1)-5),SEARCH("х",MID(F9,SEARCH(" ",F9,1)+1,SEARCH("мм",F9,1)-SEARCH(" ",F9,1)-5),1)-1))*VALUE(RIGHT(MID(F9,SEARCH(" ",F9,1)+1,SEARCH("мм",F9,1)-SEARCH(" ",F9,1)-5),LEN(MID(F9,SEARCH(" ",F9,1)+1,SEARCH("мм",F9,1)-SEARCH(" ",F9,1)-5))-SEARCH("х",MID(F9,SEARCH(" ",F9,1)+1,SEARCH("мм",F9,1)-SEARCH(" ",F9,1)-5),1))))/1000000*1)*((2*VALUE(LEFT(MID(F9,SEARCH(" ",F9,1)+1,SEARCH("мм",F9,1)-SEARCH(" ",F9,1)-5),SEARCH("х",MID(F9,SEARCH(" ",F9,1)+1,SEARCH("мм",F9,1)-SEARCH(" ",F9,1)-5),1)-1))+VALUE(RIGHT(MID(F9,SEARCH(" ",F9,1)+1,SEARCH("мм",F9,1)-SEARCH(" ",F9,1)-5),LEN(MID(F9,SEARCH(" ",F9,1)+1,SEARCH("мм",F9,1)-SEARCH(" ",F9,1)-5))-SEARCH("х",MID(F9,SEARCH(" ",F9,1)+1,SEARCH("мм",F9,1)-SEARCH(" ",F9,1)-5),1))))/1000*1),IF(MID(F9,1,4)="Капи",M9/(2.8*3.6*0.4)*((2.8+3.6)*2*0.4),"")))))))))) | R9: =IF(SUM($J9:$L9)*INDEX('Таблица 6 (типы арм.)'!$F$6:$U$49,MATCH($D9,'Таблица 6 (типы арм.)'!$D$6:$D$49,0),MATCH((IF(COLUMN(R$5)>COLUMN($X$5),CONCATENATE(R$5,"А500С"),IF(COLUMN(R$5)>COLUMN($S$5),CONCATENATE(R$5,"А240"),CONCATENATE(R$5,"Вр-1")))),'Таблица 6 (типы арм.)'!$F$54:$U$54,0))=0,"",ROUND(SUM($J9:$L9)*INDEX('Таблица 6 (типы арм.)'!$F$6:$U$49,MATCH($D9,'Таблица 6 (типы арм.)'!$D$6:$D$49,0),MATCH((IF(COLUMN(R$5)>COLUMN($X$5),CONCATENATE(R$5,"А500С"),IF(COLUMN(R$5)>COLUMN($S$5),CONCATENATE(R$5,"А240"),CONCATENATE(R$5,"Вр-1")))),'Таблица 6 (типы арм.)'!$F$54:$U$54,0)),0)) | S9: =IF((IF(R9="",0,R9))=0,"",(IF(R9="",0,R9))) | T9: =IF(SUM($J9:$L9)*INDEX('Таблица 6 (типы арм.)'!$F$6:$U$49,MATCH($D9,'Таблица 6 (типы арм.)'!$D$6:$D$49,0),MATCH((IF(COLUMN(T$5)>COLUMN($X$5),CONCATENATE(T$5,"А500С"),IF(COLUMN(T$5)>COLUMN($S$5),CONCATENATE(T$5,"А240"),CONCATENATE(T$5,"Вр-1")))),'Таблица 6 (типы арм.)'!$F$54:$U$54,0))=0,"",ROUND(SUM($J9:$L9)*INDEX('Таблица 6 (типы арм.)'!$F$6:$U$49,MATCH($D9,'Таблица 6 (типы арм.)'!$D$6:$D$49,0),MATCH((IF(COLUMN(T$5)>COLUMN($X$5),CONCATENATE(T$5,"А500С"),IF(COLUMN(T$5)>COLUMN($S$5),CONCATENATE(T$5,"А240"),CONCATENATE(T$5,"Вр-1")))),'Таблица 6 (типы арм.)'!$F$54:$U$54,0)),0)) | U9: =IF(SUM($J9:$L9)*INDEX('Таблица 6 (типы арм.)'!$F$6:$U$49,MATCH($D9,'Таблица 6 (типы арм.)'!$D$6:$D$49,0),MATCH((IF(COLUMN(U$5)>COLUMN($X$5),CONCATENATE(U$5,"А500С"),IF(COLUMN(U$5)>COLUMN($S$5),CONCATENATE(U$5,"А240"),CONCATENATE(U$5,"Вр-1")))),'Таблица 6 (типы арм.)'!$F$54:$U$54,0))=0,"",ROUND(SUM($J9:$L9)*INDEX('Таблица 6 (типы арм.)'!$F$6:$U$49,MATCH($D9,'Таблица 6 (типы арм.)'!$D$6:$D$49,0),MATCH((IF(COLUMN(U$5)>COLUMN($X$5),CONCATENATE(U$5,"А500С"),IF(COLUMN(U$5)>COLUMN($S$5),CONCATENATE(U$5,"А240"),CONCATENATE(U$5,"Вр-1")))),'Таблица 6 (типы арм.)'!$F$54:$U$54,0)),0)) | V9: =IF(SUM($J9:$L9)*INDEX('Таблица 6 (типы арм.)'!$F$6:$U$49,MATCH($D9,'Таблица 6 (типы арм.)'!$D$6:$D$49,0),MATCH((IF(COLUMN(V$5)>COLUMN($X$5),CONCATENATE(V$5,"А500С"),IF(COLUMN(V$5)>COLUMN($S$5),CONCATENATE(V$5,"А240"),CONCATENATE(V$5,"Вр-1")))),'Таблица 6 (типы арм.)'!$F$54:$U$54,0))=0,"",ROUND(SUM($J9:$L9)*INDEX('Таблица 6 (типы арм.)'!$F$6:$U$49,MATCH($D9,'Таблица 6 (типы арм.)'!$D$6:$D$49,0),MATCH((IF(COLUMN(V$5)>COLUMN($X$5),CONCATENATE(V$5,"А500С"),IF(COLUMN(V$5)>COLUMN($S$5),CONCATENATE(V$5,"А240"),CONCATENATE(V$5,"Вр-1")))),'Таблица 6 (типы арм.)'!$F$54:$U$54,0)),0)) | W9: =IF(SUM($J9:$L9)*INDEX('Таблица 6 (типы арм.)'!$F$6:$U$49,MATCH($D9,'Таблица 6 (типы арм.)'!$D$6:$D$49,0),MATCH((IF(COLUMN(W$5)>COLUMN($X$5),CONCATENATE(W$5,"А500С"),IF(COLUMN(W$5)>COLUMN($S$5),CONCATENATE(W$5,"А240"),CONCATENATE(W$5,"Вр-1")))),'Таблица 6 (типы арм.)'!$F$54:$U$54,0))=0,"",ROUND(SUM($J9:$L9)*INDEX('Таблица 6 (типы арм.)'!$F$6:$U$49,MATCH($D9,'Таблица 6 (типы арм.)'!$D$6:$D$49,0),MATCH((IF(COLUMN(W$5)>COLUMN($X$5),CONCATENATE(W$5,"А500С"),IF(COLUMN(W$5)>COLUMN($S$5),CONCATENATE(W$5,"А240"),CONCATENATE(W$5,"Вр-1")))),'Таблица 6 (типы арм.)'!$F$54:$U$54,0)),0)) | X9: =IF((IF(T9="",0,T9)+IF(U9="",0,U9)+IF(V9="",0,V9)+IF(W9="",0,W9))=0,"",(IF(T9="",0,T9)+IF(U9="",0,U9)+IF(V9="",0,V9)+IF(W9="",0,W9))) | Y9: =IF(SUM($J9:$L9)*INDEX('Таблица 6 (типы арм.)'!$F$6:$U$49,MATCH($D9,'Таблица 6 (типы арм.)'!$D$6:$D$49,0),MATCH((IF(COLUMN(Y$5)>COLUMN($X$5),CONCATENATE(Y$5,"А500С"),IF(COLUMN(Y$5)>COLUMN($S$5),CONCATENATE(Y$5,"А240"),CONCATENATE(Y$5,"Вр-1")))),'Таблица 6 (типы арм.)'!$F$54:$U$54,0))=0,"",ROUND(SUM($J9:$L9)*INDEX('Таблица 6 (типы арм.)'!$F$6:$U$49,MATCH($D9,'Таблица 6 (типы арм.)'!$D$6:$D$49,0),MATCH((IF(COLUMN(Y$5)>COLUMN($X$5),CONCATENATE(Y$5,"А500С"),IF(COLUMN(Y$5)>COLUMN($S$5),CONCATENATE(Y$5,"А240"),CONCATENATE(Y$5,"Вр-1")))),'Таблица 6 (типы арм.)'!$F$54:$U$54,0)),0)) | Z9: =IF(SUM($J9:$L9)*INDEX('Таблица 6 (типы арм.)'!$F$6:$U$49,MATCH($D9,'Таблица 6 (типы арм.)'!$D$6:$D$49,0),MATCH((IF(COLUMN(Z$5)>COLUMN($X$5),CONCATENATE(Z$5,"А500С"),IF(COLUMN(Z$5)>COLUMN($S$5),CONCATENATE(Z$5,"А240"),CONCATENATE(Z$5,"Вр-1")))),'Таблица 6 (типы арм.)'!$F$54:$U$54,0))=0,"",ROUND(SUM($J9:$L9)*INDEX('Таблица 6 (типы арм.)'!$F$6:$U$49,MATCH($D9,'Таблица 6 (типы арм.)'!$D$6:$D$49,0),MATCH((IF(COLUMN(Z$5)>COLUMN($X$5),CONCATENATE(Z$5,"А500С"),IF(COLUMN(Z$5)>COLUMN($S$5),CONCATENATE(Z$5,"А240"),CONCATENATE(Z$5,"Вр-1")))),'Таблица 6 (типы арм.)'!$F$54:$U$54,0)),0)) | AA9: =IF(SUM($J9:$L9)*INDEX('Таблица 6 (типы арм.)'!$F$6:$U$49,MATCH($D9,'Таблица 6 (типы арм.)'!$D$6:$D$49,0),MATCH((IF(COLUMN(AA$5)>COLUMN($X$5),CONCATENATE(AA$5,"А500С"),IF(COLUMN(AA$5)>COLUMN($S$5),CONCATENATE(AA$5,"А240"),CONCATENATE(AA$5,"Вр-1")))),'Таблица 6 (типы арм.)'!$F$54:$U$54,0))=0,"",ROUND(SUM($J9:$L9)*INDEX('Таблица 6 (типы арм.)'!$F$6:$U$49,MATCH($D9,'Таблица 6 (типы арм.)'!$D$6:$D$49,0),MATCH((IF(COLUMN(AA$5)>COLUMN($X$5),CONCATENATE(AA$5,"А500С"),IF(COLUMN(AA$5)>COLUMN($S$5),CONCATENATE(AA$5,"А240"),CONCATENATE(AA$5,"Вр-1")))),'Таблица 6 (типы арм.)'!$F$54:$U$54,0)),0)) | AB9: =IF(SUM($J9:$L9)*INDEX('Таблица 6 (типы арм.)'!$F$6:$U$49,MATCH($D9,'Таблица 6 (типы арм.)'!$D$6:$D$49,0),MATCH((IF(COLUMN(AB$5)>COLUMN($X$5),CONCATENATE(AB$5,"А500С"),IF(COLUMN(AB$5)>COLUMN($S$5),CONCATENATE(AB$5,"А240"),CONCATENATE(AB$5,"Вр-1")))),'Таблица 6 (типы арм.)'!$F$54:$U$54,0))=0,"",ROUND(SUM($J9:$L9)*INDEX('Таблица 6 (типы арм.)'!$F$6:$U$49,MATCH($D9,'Таблица 6 (типы арм.)'!$D$6:$D$49,0),MATCH((IF(COLUMN(AB$5)>COLUMN($X$5),CONCATENATE(AB$5,"А500С"),IF(COLUMN(AB$5)>COLUMN($S$5),CONCATENATE(AB$5,"А240"),CONCATENATE(AB$5,"Вр-1")))),'Таблица 6 (типы арм.)'!$F$54:$U$54,0)),0)) | AC9: =IF(SUM($J9:$L9)*INDEX('Таблица 6 (типы арм.)'!$F$6:$U$49,MATCH($D9,'Таблица 6 (типы арм.)'!$D$6:$D$49,0),MATCH((IF(COLUMN(AC$5)>COLUMN($X$5),CONCATENATE(AC$5,"А500С"),IF(COLUMN(AC$5)>COLUMN($S$5),CONCATENATE(AC$5,"А240"),CONCATENATE(AC$5,"Вр-1")))),'Таблица 6 (типы арм.)'!$F$54:$U$54,0))=0,"",ROUND(SUM($J9:$L9)*INDEX('Таблица 6 (типы арм.)'!$F$6:$U$49,MATCH($D9,'Таблица 6 (типы арм.)'!$D$6:$D$49,0),MATCH((IF(COLUMN(AC$5)>COLUMN($X$5),CONCATENATE(AC$5,"А500С"),IF(COLUMN(AC$5)>COLUMN($S$5),CONCATENATE(AC$5,"А240"),CONCATENATE(AC$5,"Вр-1")))),'Таблица 6 (типы арм.)'!$F$54:$U$54,0)),0)) | AD9: =IF(SUM($J9:$L9)*INDEX('Таблица 6 (типы арм.)'!$F$6:$U$49,MATCH($D9,'Таблица 6 (типы арм.)'!$D$6:$D$49,0),MATCH((IF(COLUMN(AD$5)>COLUMN($X$5),CONCATENATE(AD$5,"А500С"),IF(COLUMN(AD$5)>COLUMN($S$5),CONCATENATE(AD$5,"А240"),CONCATENATE(AD$5,"Вр-1")))),'Таблица 6 (типы арм.)'!$F$54:$U$54,0))=0,"",ROUND(SUM($J9:$L9)*INDEX('Таблица 6 (типы арм.)'!$F$6:$U$49,MATCH($D9,'Таблица 6 (типы арм.)'!$D$6:$D$49,0),MATCH((IF(COLUMN(AD$5)>COLUMN($X$5),CONCATENATE(AD$5,"А500С"),IF(COLUMN(AD$5)>COLUMN($S$5),CONCATENATE(AD$5,"А240"),CONCATENATE(AD$5,"Вр-1")))),'Таблица 6 (типы арм.)'!$F$54:$U$54,0)),0)) | AE9: =IF(SUM($J9:$L9)*INDEX('Таблица 6 (типы арм.)'!$F$6:$U$49,MATCH($D9,'Таблица 6 (типы арм.)'!$D$6:$D$49,0),MATCH((IF(COLUMN(AE$5)>COLUMN($X$5),CONCATENATE(AE$5,"А500С"),IF(COLUMN(AE$5)>COLUMN($S$5),CONCATENATE(AE$5,"А240"),CONCATENATE(AE$5,"Вр-1")))),'Таблица 6 (типы арм.)'!$F$54:$U$54,0))=0,"",ROUND(SUM($J9:$L9)*INDEX('Таблица 6 (типы арм.)'!$F$6:$U$49,MATCH($D9,'Таблица 6 (типы арм.)'!$D$6:$D$49,0),MATCH((IF(COLUMN(AE$5)>COLUMN($X$5),CONCATENATE(AE$5,"А500С"),IF(COLUMN(AE$5)>COLUMN($S$5),CONCATENATE(AE$5,"А240"),CONCATENATE(AE$5,"Вр-1")))),'Таблица 6 (типы арм.)'!$F$54:$U$54,0)),0)) | AF9: =IF(SUM($J9:$L9)*INDEX('Таблица 6 (типы арм.)'!$F$6:$U$49,MATCH($D9,'Таблица 6 (типы арм.)'!$D$6:$D$49,0),MATCH((IF(COLUMN(AF$5)>COLUMN($X$5),CONCATENATE(AF$5,"А500С"),IF(COLUMN(AF$5)>COLUMN($S$5),CONCATENATE(AF$5,"А240"),CONCATENATE(AF$5,"Вр-1")))),'Таблица 6 (типы арм.)'!$F$54:$U$54,0))=0,"",ROUND(SUM($J9:$L9)*INDEX('Таблица 6 (типы арм.)'!$F$6:$U$49,MATCH($D9,'Таблица 6 (типы арм.)'!$D$6:$D$49,0),MATCH((IF(COLUMN(AF$5)>COLUMN($X$5),CONCATENATE(AF$5,"А500С"),IF(COLUMN(AF$5)>COLUMN($S$5),CONCATENATE(AF$5,"А240"),CONCATENATE(AF$5,"Вр-1")))),'Таблица 6 (типы арм.)'!$F$54:$U$54,0)),0)) | ... AI9: =IF(SUM($J9:$L9)*INDEX('Таблица 6 (типы арм.)'!$F$6:$U$49,MATCH($D9,'Таблица 6 (типы арм.)'!$D$6:$D$49,0),MATCH((IF(COLUMN(AI$5)>COLUMN($X$5),CONCATENATE(AI$5,"А500С"),IF(COLUMN(AI$5)>COLUMN($S$5),CONCATENATE(AI$5,"А240"),CONCATENATE(AI$5,"Вр-1")))),'Таблица 6 (типы арм.)'!$F$54:$U$54,0))=0,"",ROUND(SUM($J9:$L9)*INDEX('Таблица 6 (типы арм.)'!$F$6:$U$49,MATCH($D9,'Таблица 6 (типы арм.)'!$D$6:$D$49,0),MATCH((IF(COLUMN(AI$5)>COLUMN($X$5),CONCATENATE(AI$5,"А500С"),IF(COLUMN(AI$5)>COLUMN($S$5),CONCATENATE(AI$5,"А240"),CONCATENATE(AI$5,"Вр-1")))),'Таблица 6 (типы арм.)'!$F$54:$U$54,0)),0)) | AJ9: =IF((IF(Y9="",0,Y9)+IF(Z9="",0,Z9)+IF(AA9="",0,AA9)+IF(AB9="",0,AB9)+IF(AC9="",0,AC9)+IF(AD9="",0,AD9)+IF(AE9="",0,AE9)+IF(AF9="",0,AF9)+IF(AG9="",0,AG9)+IF(AH9="",0,AH9)+IF(AI9="",0,AI9))=0,"",(IF(Y9="",0,Y9)+IF(Z9="",0,Z9)+IF(AA9="",0,AA9)+IF(AB9="",0,AB9)+IF(AC9="",0,AC9)+IF(AD9="",0,AD9)+IF(AE9="",0,AE9)+IF(AF9="",0,AF9)+IF(AG9="",0,AG9)+IF(AH9="",0,AH9)+IF(AI9="",0,AI9))) | AK9: =IF((IF(AJ9="",0,AJ9)+IF(X9="",0,X9)+IF(S9="",0,S9))=0,"",(IF(AJ9="",0,AJ9)+IF(X9="",0,X9)+IF(S9="",0,S9)))
C10: при отсутствии ФП с данной толщиной строку удалить | D10: 1 | E10: =CONCATENATE($E$8,".",(ROW(G10)-ROW($G$8))) -> 1.2 | F10: Плита фундаментная 600 мм | G10: куб.м | M10: =IF((IF(H10="",0,H10)+IF(I10="",0,I10)+IF(J10="",0,J10)+IF(K10="",0,K10)+IF(L10="",0,L10))=0,"",(IF(H10="",0,H10)+IF(I10="",0,I10)+IF(J10="",0,J10)+IF(K10="",0,K10)+IF(L10="",0,L10))) | N10: W6 | O10: F150 | P10: =IF(M10="","",IF(M10=0,"",IF(MID(F10,1,4)="Стен",M10/(VALUE(MID(F10,SEARCH(" ",F10,1)+1,SEARCH("мм",F10,1)-SEARCH(" ",F10,1)-2))/1000),IF(MID(F10,1,10)="Плита фунд",SQRT(M10/(VALUE(MID(F10,SEARCH(" ",F10,1)+14,SEARCH("мм",F10,1)-SEARCH(" ",F10,1)-15))/1000))*(4+1)*(VALUE(MID(F10,SEARCH(" ",F10,1)+14,SEARCH("мм",F10,1)-SEARCH(" ",F10,1)-15))/1000),IF(MID(F10,1,4)="Плит",M10/(VALUE(MID(F10,SEARCH(" ",F10,1)+1,SEARCH("мм",F10,1)-SEARCH(" ",F10,1)-2))/1000),IF(MID(F10,1,4)="Площ",M10/(VALUE(MID(F10,SEARCH(" ",F10,1)+12,SEARCH("мм",F10,1)-SEARCH(" ",F10,1)-13))/1000),IF(MID(F10,1,4)="Марш",M10/0.263,IF(MID(F10,1,4)="Коло",M10/((VALUE(LEFT(MID(F10,SEARCH(" ",F10,1)+1,SEARCH("мм",F10,1)-SEARCH(" ",F10,1)-2),SEARCH("х",MID(F10,SEARCH(" ",F10,1)+1,SEARCH("мм",F10,1)-SEARCH(" ",F10,1)-2),1)-1))*VALUE(RIGHT(MID(F10,SEARCH(" ",F10,1)+1,SEARCH("мм",F10,1)-SEARCH(" ",F10,1)-2),LEN(MID(F10,SEARCH(" ",F10,1)+1,SEARCH("мм",F10,1)-SEARCH(" ",F10,1)-2))-SEARCH("х",MID(F10,SEARCH(" ",F10,1)+1,SEARCH("мм",F10,1)-SEARCH(" ",F10,1)-2),1))))/1000000*3.2)*((VALUE(LEFT(MID(F10,SEARCH(" ",F10,1)+1,SEARCH("мм",F10,1)-SEARCH(" ",F10,1)-2),SEARCH("х",MID(F10,SEARCH(" ",F10,1)+1,SEARCH("мм",F10,1)-SEARCH(" ",F10,1)-2),1)-1))+VALUE(RIGHT(MID(F10,SEARCH(" ",F10,1)+1,SEARCH("мм",F10,1)-SEARCH(" ",F10,1)-2),LEN(MID(F10,SEARCH(" ",F10,1)+1,SEARCH("мм",F10,1)-SEARCH(" ",F10,1)-2))-SEARCH("х",MID(F10,SEARCH(" ",F10,1)+1,SEARCH("мм",F10,1)-SEARCH(" ",F10,1)-2),1))))/1000*2*3.2),IF(MID(F10,1,4)="Балк",M10/((VALUE(LEFT(MID(F10,SEARCH(" ",F10,1)+1,SEARCH("мм",F10,1)-SEARCH(" ",F10,1)-5),SEARCH("х",MID(F10,SEARCH(" ",F10,1)+1,SEARCH("мм",F10,1)-SEARCH(" ",F10,1)-5),1)-1))*VALUE(RIGHT(MID(F10,SEARCH(" ",F10,1)+1,SEARCH("мм",F10,1)-SEARCH(" ",F10,1)-5),LEN(MID(F10,SEARCH(" ",F10,1)+1,SEARCH("мм",F10,1)-SEARCH(" ",F10,1)-5))-SEARCH("х",MID(F10,SEARCH(" ",F10,1)+1,SEARCH("мм",F10,1)-SEARCH(" ",F10,1)-5),1))))/1000000*1)*((2*VALUE(LEFT(MID(F10,SEARCH(" ",F10,1)+1,SEARCH("мм",F10,1)-SEARCH(" ",F10,1)-5),SEARCH("х",MID(F10,SEARCH(" ",F10,1)+1,SEARCH("мм",F10,1)-SEARCH(" ",F10,1)-5),1)-1))+VALUE(RIGHT(MID(F10,SEARCH(" ",F10,1)+1,SEARCH("мм",F10,1)-SEARCH(" ",F10,1)-5),LEN(MID(F10,SEARCH(" ",F10,1)+1,SEARCH("мм",F10,1)-SEARCH(" ",F10,1)-5))-SEARCH("х",MID(F10,SEARCH(" ",F10,1)+1,SEARCH("мм",F10,1)-SEARCH(" ",F10,1)-5),1))))/1000*1),IF(MID(F10,1,4)="Капи",M10/(2.8*3.6*0.4)*((2.8+3.6)*2*0.4),"")))))))))) | R10: =IF(SUM($J10:$L10)*INDEX('Таблица 6 (типы арм.)'!$F$6:$U$49,MATCH($D10,'Таблица 6 (типы арм.)'!$D$6:$D$49,0),MATCH((IF(COLUMN(R$5)>COLUMN($X$5),CONCATENATE(R$5,"А500С"),IF(COLUMN(R$5)>COLUMN($S$5),CONCATENATE(R$5,"А240"),CONCATENATE(R$5,"Вр-1")))),'Таблица 6 (типы арм.)'!$F$54:$U$54,0))=0,"",ROUND(SUM($J10:$L10)*INDEX('Таблица 6 (типы арм.)'!$F$6:$U$49,MATCH($D10,'Таблица 6 (типы арм.)'!$D$6:$D$49,0),MATCH((IF(COLUMN(R$5)>COLUMN($X$5),CONCATENATE(R$5,"А500С"),IF(COLUMN(R$5)>COLUMN($S$5),CONCATENATE(R$5,"А240"),CONCATENATE(R$5,"Вр-1")))),'Таблица 6 (типы арм.)'!$F$54:$U$54,0)),0)) | S10: =IF((IF(R10="",0,R10))=0,"",(IF(R10="",0,R10))) | T10: =IF(SUM($J10:$L10)*INDEX('Таблица 6 (типы арм.)'!$F$6:$U$49,MATCH($D10,'Таблица 6 (типы арм.)'!$D$6:$D$49,0),MATCH((IF(COLUMN(T$5)>COLUMN($X$5),CONCATENATE(T$5,"А500С"),IF(COLUMN(T$5)>COLUMN($S$5),CONCATENATE(T$5,"А240"),CONCATENATE(T$5,"Вр-1")))),'Таблица 6 (типы арм.)'!$F$54:$U$54,0))=0,"",ROUND(SUM($J10:$L10)*INDEX('Таблица 6 (типы арм.)'!$F$6:$U$49,MATCH($D10,'Таблица 6 (типы арм.)'!$D$6:$D$49,0),MATCH((IF(COLUMN(T$5)>COLUMN($X$5),CONCATENATE(T$5,"А500С"),IF(COLUMN(T$5)>COLUMN($S$5),CONCATENATE(T$5,"А240"),CONCATENATE(T$5,"Вр-1")))),'Таблица 6 (типы арм.)'!$F$54:$U$54,0)),0)) | U10: =IF(SUM($J10:$L10)*INDEX('Таблица 6 (типы арм.)'!$F$6:$U$49,MATCH($D10,'Таблица 6 (типы арм.)'!$D$6:$D$49,0),MATCH((IF(COLUMN(U$5)>COLUMN($X$5),CONCATENATE(U$5,"А500С"),IF(COLUMN(U$5)>COLUMN($S$5),CONCATENATE(U$5,"А240"),CONCATENATE(U$5,"Вр-1")))),'Таблица 6 (типы арм.)'!$F$54:$U$54,0))=0,"",ROUND(SUM($J10:$L10)*INDEX('Таблица 6 (типы арм.)'!$F$6:$U$49,MATCH($D10,'Таблица 6 (типы арм.)'!$D$6:$D$49,0),MATCH((IF(COLUMN(U$5)>COLUMN($X$5),CONCATENATE(U$5,"А500С"),IF(COLUMN(U$5)>COLUMN($S$5),CONCATENATE(U$5,"А240"),CONCATENATE(U$5,"Вр-1")))),'Таблица 6 (типы арм.)'!$F$54:$U$54,0)),0)) | V10: =IF(SUM($J10:$L10)*INDEX('Таблица 6 (типы арм.)'!$F$6:$U$49,MATCH($D10,'Таблица 6 (типы арм.)'!$D$6:$D$49,0),MATCH((IF(COLUMN(V$5)>COLUMN($X$5),CONCATENATE(V$5,"А500С"),IF(COLUMN(V$5)>COLUMN($S$5),CONCATENATE(V$5,"А240"),CONCATENATE(V$5,"Вр-1")))),'Таблица 6 (типы арм.)'!$F$54:$U$54,0))=0,"",ROUND(SUM($J10:$L10)*INDEX('Таблица 6 (типы арм.)'!$F$6:$U$49,MATCH($D10,'Таблица 6 (типы арм.)'!$D$6:$D$49,0),MATCH((IF(COLUMN(V$5)>COLUMN($X$5),CONCATENATE(V$5,"А500С"),IF(COLUMN(V$5)>COLUMN($S$5),CONCATENATE(V$5,"А240"),CONCATENATE(V$5,"Вр-1")))),'Таблица 6 (типы арм.)'!$F$54:$U$54,0)),0)) | W10: =IF(SUM($J10:$L10)*INDEX('Таблица 6 (типы арм.)'!$F$6:$U$49,MATCH($D10,'Таблица 6 (типы арм.)'!$D$6:$D$49,0),MATCH((IF(COLUMN(W$5)>COLUMN($X$5),CONCATENATE(W$5,"А500С"),IF(COLUMN(W$5)>COLUMN($S$5),CONCATENATE(W$5,"А240"),CONCATENATE(W$5,"Вр-1")))),'Таблица 6 (типы арм.)'!$F$54:$U$54,0))=0,"",ROUND(SUM($J10:$L10)*INDEX('Таблица 6 (типы арм.)'!$F$6:$U$49,MATCH($D10,'Таблица 6 (типы арм.)'!$D$6:$D$49,0),MATCH((IF(COLUMN(W$5)>COLUMN($X$5),CONCATENATE(W$5,"А500С"),IF(COLUMN(W$5)>COLUMN($S$5),CONCATENATE(W$5,"А240"),CONCATENATE(W$5,"Вр-1")))),'Таблица 6 (типы арм.)'!$F$54:$U$54,0)),0)) | X10: =IF((IF(T10="",0,T10)+IF(U10="",0,U10)+IF(V10="",0,V10)+IF(W10="",0,W10))=0,"",(IF(T10="",0,T10)+IF(U10="",0,U10)+IF(V10="",0,V10)+IF(W10="",0,W10))) | Y10: =IF(SUM($J10:$L10)*INDEX('Таблица 6 (типы арм.)'!$F$6:$U$49,MATCH($D10,'Таблица 6 (типы арм.)'!$D$6:$D$49,0),MATCH((IF(COLUMN(Y$5)>COLUMN($X$5),CONCATENATE(Y$5,"А500С"),IF(COLUMN(Y$5)>COLUMN($S$5),CONCATENATE(Y$5,"А240"),CONCATENATE(Y$5,"Вр-1")))),'Таблица 6 (типы арм.)'!$F$54:$U$54,0))=0,"",ROUND(SUM($J10:$L10)*INDEX('Таблица 6 (типы арм.)'!$F$6:$U$49,MATCH($D10,'Таблица 6 (типы арм.)'!$D$6:$D$49,0),MATCH((IF(COLUMN(Y$5)>COLUMN($X$5),CONCATENATE(Y$5,"А500С"),IF(COLUMN(Y$5)>COLUMN($S$5),CONCATENATE(Y$5,"А240"),CONCATENATE(Y$5,"Вр-1")))),'Таблица 6 (типы арм.)'!$F$54:$U$54,0)),0)) | Z10: =IF(SUM($J10:$L10)*INDEX('Таблица 6 (типы арм.)'!$F$6:$U$49,MATCH($D10,'Таблица 6 (типы арм.)'!$D$6:$D$49,0),MATCH((IF(COLUMN(Z$5)>COLUMN($X$5),CONCATENATE(Z$5,"А500С"),IF(COLUMN(Z$5)>COLUMN($S$5),CONCATENATE(Z$5,"А240"),CONCATENATE(Z$5,"Вр-1")))),'Таблица 6 (типы арм.)'!$F$54:$U$54,0))=0,"",ROUND(SUM($J10:$L10)*INDEX('Таблица 6 (типы арм.)'!$F$6:$U$49,MATCH($D10,'Таблица 6 (типы арм.)'!$D$6:$D$49,0),MATCH((IF(COLUMN(Z$5)>COLUMN($X$5),CONCATENATE(Z$5,"А500С"),IF(COLUMN(Z$5)>COLUMN($S$5),CONCATENATE(Z$5,"А240"),CONCATENATE(Z$5,"Вр-1")))),'Таблица 6 (типы арм.)'!$F$54:$U$54,0)),0)) | AA10: =IF(SUM($J10:$L10)*INDEX('Таблица 6 (типы арм.)'!$F$6:$U$49,MATCH($D10,'Таблица 6 (типы арм.)'!$D$6:$D$49,0),MATCH((IF(COLUMN(AA$5)>COLUMN($X$5),CONCATENATE(AA$5,"А500С"),IF(COLUMN(AA$5)>COLUMN($S$5),CONCATENATE(AA$5,"А240"),CONCATENATE(AA$5,"Вр-1")))),'Таблица 6 (типы арм.)'!$F$54:$U$54,0))=0,"",ROUND(SUM($J10:$L10)*INDEX('Таблица 6 (типы арм.)'!$F$6:$U$49,MATCH($D10,'Таблица 6 (типы арм.)'!$D$6:$D$49,0),MATCH((IF(COLUMN(AA$5)>COLUMN($X$5),CONCATENATE(AA$5,"А500С"),IF(COLUMN(AA$5)>COLUMN($S$5),CONCATENATE(AA$5,"А240"),CONCATENATE(AA$5,"Вр-1")))),'Таблица 6 (типы арм.)'!$F$54:$U$54,0)),0)) | AB10: =IF(SUM($J10:$L10)*INDEX('Таблица 6 (типы арм.)'!$F$6:$U$49,MATCH($D10,'Таблица 6 (типы арм.)'!$D$6:$D$49,0),MATCH((IF(COLUMN(AB$5)>COLUMN($X$5),CONCATENATE(AB$5,"А500С"),IF(COLUMN(AB$5)>COLUMN($S$5),CONCATENATE(AB$5,"А240"),CONCATENATE(AB$5,"Вр-1")))),'Таблица 6 (типы арм.)'!$F$54:$U$54,0))=0,"",ROUND(SUM($J10:$L10)*INDEX('Таблица 6 (типы арм.)'!$F$6:$U$49,MATCH($D10,'Таблица 6 (типы арм.)'!$D$6:$D$49,0),MATCH((IF(COLUMN(AB$5)>COLUMN($X$5),CONCATENATE(AB$5,"А500С"),IF(COLUMN(AB$5)>COLUMN($S$5),CONCATENATE(AB$5,"А240"),CONCATENATE(AB$5,"Вр-1")))),'Таблица 6 (типы арм.)'!$F$54:$U$54,0)),0)) | AC10: =IF(SUM($J10:$L10)*INDEX('Таблица 6 (типы арм.)'!$F$6:$U$49,MATCH($D10,'Таблица 6 (типы арм.)'!$D$6:$D$49,0),MATCH((IF(COLUMN(AC$5)>COLUMN($X$5),CONCATENATE(AC$5,"А500С"),IF(COLUMN(AC$5)>COLUMN($S$5),CONCATENATE(AC$5,"А240"),CONCATENATE(AC$5,"Вр-1")))),'Таблица 6 (типы арм.)'!$F$54:$U$54,0))=0,"",ROUND(SUM($J10:$L10)*INDEX('Таблица 6 (типы арм.)'!$F$6:$U$49,MATCH($D10,'Таблица 6 (типы арм.)'!$D$6:$D$49,0),MATCH((IF(COLUMN(AC$5)>COLUMN($X$5),CONCATENATE(AC$5,"А500С"),IF(COLUMN(AC$5)>COLUMN($S$5),CONCATENATE(AC$5,"А240"),CONCATENATE(AC$5,"Вр-1")))),'Таблица 6 (типы арм.)'!$F$54:$U$54,0)),0)) | AD10: =IF(SUM($J10:$L10)*INDEX('Таблица 6 (типы арм.)'!$F$6:$U$49,MATCH($D10,'Таблица 6 (типы арм.)'!$D$6:$D$49,0),MATCH((IF(COLUMN(AD$5)>COLUMN($X$5),CONCATENATE(AD$5,"А500С"),IF(COLUMN(AD$5)>COLUMN($S$5),CONCATENATE(AD$5,"А240"),CONCATENATE(AD$5,"Вр-1")))),'Таблица 6 (типы арм.)'!$F$54:$U$54,0))=0,"",ROUND(SUM($J10:$L10)*INDEX('Таблица 6 (типы арм.)'!$F$6:$U$49,MATCH($D10,'Таблица 6 (типы арм.)'!$D$6:$D$49,0),MATCH((IF(COLUMN(AD$5)>COLUMN($X$5),CONCATENATE(AD$5,"А500С"),IF(COLUMN(AD$5)>COLUMN($S$5),CONCATENATE(AD$5,"А240"),CONCATENATE(AD$5,"Вр-1")))),'Таблица 6 (типы арм.)'!$F$54:$U$54,0)),0)) | AE10: =IF(SUM($J10:$L10)*INDEX('Таблица 6 (типы арм.)'!$F$6:$U$49,MATCH($D10,'Таблица 6 (типы арм.)'!$D$6:$D$49,0),MATCH((IF(COLUMN(AE$5)>COLUMN($X$5),CONCATENATE(AE$5,"А500С"),IF(COLUMN(AE$5)>COLUMN($S$5),CONCATENATE(AE$5,"А240"),CONCATENATE(AE$5,"Вр-1")))),'Таблица 6 (типы арм.)'!$F$54:$U$54,0))=0,"",ROUND(SUM($J10:$L10)*INDEX('Таблица 6 (типы арм.)'!$F$6:$U$49,MATCH($D10,'Таблица 6 (типы арм.)'!$D$6:$D$49,0),MATCH((IF(COLUMN(AE$5)>COLUMN($X$5),CONCATENATE(AE$5,"А500С"),IF(COLUMN(AE$5)>COLUMN($S$5),CONCATENATE(AE$5,"А240"),CONCATENATE(AE$5,"Вр-1")))),'Таблица 6 (типы арм.)'!$F$54:$U$54,0)),0)) | AF10: =IF(SUM($J10:$L10)*INDEX('Таблица 6 (типы арм.)'!$F$6:$U$49,MATCH($D10,'Таблица 6 (типы арм.)'!$D$6:$D$49,0),MATCH((IF(COLUMN(AF$5)>COLUMN($X$5),CONCATENATE(AF$5,"А500С"),IF(COLUMN(AF$5)>COLUMN($S$5),CONCATENATE(AF$5,"А240"),CONCATENATE(AF$5,"Вр-1")))),'Таблица 6 (типы арм.)'!$F$54:$U$54,0))=0,"",ROUND(SUM($J10:$L10)*INDEX('Таблица 6 (типы арм.)'!$F$6:$U$49,MATCH($D10,'Таблица 6 (типы арм.)'!$D$6:$D$49,0),MATCH((IF(COLUMN(AF$5)>COLUMN($X$5),CONCATENATE(AF$5,"А500С"),IF(COLUMN(AF$5)>COLUMN($S$5),CONCATENATE(AF$5,"А240"),CONCATENATE(AF$5,"Вр-1")))),'Таблица 6 (типы арм.)'!$F$54:$U$54,0)),0)) | ... AI10: =IF(SUM($J10:$L10)*INDEX('Таблица 6 (типы арм.)'!$F$6:$U$49,MATCH($D10,'Таблица 6 (типы арм.)'!$D$6:$D$49,0),MATCH((IF(COLUMN(AI$5)>COLUMN($X$5),CONCATENATE(AI$5,"А500С"),IF(COLUMN(AI$5)>COLUMN($S$5),CONCATENATE(AI$5,"А240"),CONCATENATE(AI$5,"Вр-1")))),'Таблица 6 (типы арм.)'!$F$54:$U$54,0))=0,"",ROUND(SUM($J10:$L10)*INDEX('Таблица 6 (типы арм.)'!$F$6:$U$49,MATCH($D10,'Таблица 6 (типы арм.)'!$D$6:$D$49,0),MATCH((IF(COLUMN(AI$5)>COLUMN($X$5),CONCATENATE(AI$5,"А500С"),IF(COLUMN(AI$5)>COLUMN($S$5),CONCATENATE(AI$5,"А240"),CONCATENATE(AI$5,"Вр-1")))),'Таблица 6 (типы арм.)'!$F$54:$U$54,0)),0)) | AJ10: =IF((IF(Y10="",0,Y10)+IF(Z10="",0,Z10)+IF(AA10="",0,AA10)+IF(AB10="",0,AB10)+IF(AC10="",0,AC10)+IF(AD10="",0,AD10)+IF(AE10="",0,AE10)+IF(AF10="",0,AF10)+IF(AG10="",0,AG10)+IF(AH10="",0,AH10)+IF(AI10="",0,AI10))=0,"",(IF(Y10="",0,Y10)+IF(Z10="",0,Z10)+IF(AA10="",0,AA10)+IF(AB10="",0,AB10)+IF(AC10="",0,AC10)+IF(AD10="",0,AD10)+IF(AE10="",0,AE10)+IF(AF10="",0,AF10)+IF(AG10="",0,AG10)+IF(AH10="",0,AH10)+IF(AI10="",0,AI10))) | AK10: =IF((IF(AJ10="",0,AJ10)+IF(X10="",0,X10)+IF(S10="",0,S10))=0,"",(IF(AJ10="",0,AJ10)+IF(X10="",0,X10)+IF(S10="",0,S10)))
C11: при отсутствии ФП с данной толщиной строку удалить | D11: 1 | E11: =CONCATENATE($E$8,".",(ROW(G11)-ROW($G$8))) -> 1.3 | F11: Плита фундаментная 700 мм | G11: куб.м | M11: =IF((IF(H11="",0,H11)+IF(I11="",0,I11)+IF(J11="",0,J11)+IF(K11="",0,K11)+IF(L11="",0,L11))=0,"",(IF(H11="",0,H11)+IF(I11="",0,I11)+IF(J11="",0,J11)+IF(K11="",0,K11)+IF(L11="",0,L11))) | N11: W6 | O11: F150 | P11: =IF(M11="","",IF(M11=0,"",IF(MID(F11,1,4)="Стен",M11/(VALUE(MID(F11,SEARCH(" ",F11,1)+1,SEARCH("мм",F11,1)-SEARCH(" ",F11,1)-2))/1000),IF(MID(F11,1,10)="Плита фунд",SQRT(M11/(VALUE(MID(F11,SEARCH(" ",F11,1)+14,SEARCH("мм",F11,1)-SEARCH(" ",F11,1)-15))/1000))*(4+1)*(VALUE(MID(F11,SEARCH(" ",F11,1)+14,SEARCH("мм",F11,1)-SEARCH(" ",F11,1)-15))/1000),IF(MID(F11,1,4)="Плит",M11/(VALUE(MID(F11,SEARCH(" ",F11,1)+1,SEARCH("мм",F11,1)-SEARCH(" ",F11,1)-2))/1000),IF(MID(F11,1,4)="Площ",M11/(VALUE(MID(F11,SEARCH(" ",F11,1)+12,SEARCH("мм",F11,1)-SEARCH(" ",F11,1)-13))/1000),IF(MID(F11,1,4)="Марш",M11/0.263,IF(MID(F11,1,4)="Коло",M11/((VALUE(LEFT(MID(F11,SEARCH(" ",F11,1)+1,SEARCH("мм",F11,1)-SEARCH(" ",F11,1)-2),SEARCH("х",MID(F11,SEARCH(" ",F11,1)+1,SEARCH("мм",F11,1)-SEARCH(" ",F11,1)-2),1)-1))*VALUE(RIGHT(MID(F11,SEARCH(" ",F11,1)+1,SEARCH("мм",F11,1)-SEARCH(" ",F11,1)-2),LEN(MID(F11,SEARCH(" ",F11,1)+1,SEARCH("мм",F11,1)-SEARCH(" ",F11,1)-2))-SEARCH("х",MID(F11,SEARCH(" ",F11,1)+1,SEARCH("мм",F11,1)-SEARCH(" ",F11,1)-2),1))))/1000000*3.2)*((VALUE(LEFT(MID(F11,SEARCH(" ",F11,1)+1,SEARCH("мм",F11,1)-SEARCH(" ",F11,1)-2),SEARCH("х",MID(F11,SEARCH(" ",F11,1)+1,SEARCH("мм",F11,1)-SEARCH(" ",F11,1)-2),1)-1))+VALUE(RIGHT(MID(F11,SEARCH(" ",F11,1)+1,SEARCH("мм",F11,1)-SEARCH(" ",F11,1)-2),LEN(MID(F11,SEARCH(" ",F11,1)+1,SEARCH("мм",F11,1)-SEARCH(" ",F11,1)-2))-SEARCH("х",MID(F11,SEARCH(" ",F11,1)+1,SEARCH("мм",F11,1)-SEARCH(" ",F11,1)-2),1))))/1000*2*3.2),IF(MID(F11,1,4)="Балк",M11/((VALUE(LEFT(MID(F11,SEARCH(" ",F11,1)+1,SEARCH("мм",F11,1)-SEARCH(" ",F11,1)-5),SEARCH("х",MID(F11,SEARCH(" ",F11,1)+1,SEARCH("мм",F11,1)-SEARCH(" ",F11,1)-5),1)-1))*VALUE(RIGHT(MID(F11,SEARCH(" ",F11,1)+1,SEARCH("мм",F11,1)-SEARCH(" ",F11,1)-5),LEN(MID(F11,SEARCH(" ",F11,1)+1,SEARCH("мм",F11,1)-SEARCH(" ",F11,1)-5))-SEARCH("х",MID(F11,SEARCH(" ",F11,1)+1,SEARCH("мм",F11,1)-SEARCH(" ",F11,1)-5),1))))/1000000*1)*((2*VALUE(LEFT(MID(F11,SEARCH(" ",F11,1)+1,SEARCH("мм",F11,1)-SEARCH(" ",F11,1)-5),SEARCH("х",MID(F11,SEARCH(" ",F11,1)+1,SEARCH("мм",F11,1)-SEARCH(" ",F11,1)-5),1)-1))+VALUE(RIGHT(MID(F11,SEARCH(" ",F11,1)+1,SEARCH("мм",F11,1)-SEARCH(" ",F11,1)-5),LEN(MID(F11,SEARCH(" ",F11,1)+1,SEARCH("мм",F11,1)-SEARCH(" ",F11,1)-5))-SEARCH("х",MID(F11,SEARCH(" ",F11,1)+1,SEARCH("мм",F11,1)-SEARCH(" ",F11,1)-5),1))))/1000*1),IF(MID(F11,1,4)="Капи",M11/(2.8*3.6*0.4)*((2.8+3.6)*2*0.4),"")))))))))) | R11: =IF(SUM($J11:$L11)*INDEX('Таблица 6 (типы арм.)'!$F$6:$U$49,MATCH($D11,'Таблица 6 (типы арм.)'!$D$6:$D$49,0),MATCH((IF(COLUMN(R$5)>COLUMN($X$5),CONCATENATE(R$5,"А500С"),IF(COLUMN(R$5)>COLUMN($S$5),CONCATENATE(R$5,"А240"),CONCATENATE(R$5,"Вр-1")))),'Таблица 6 (типы арм.)'!$F$54:$U$54,0))=0,"",ROUND(SUM($J11:$L11)*INDEX('Таблица 6 (типы арм.)'!$F$6:$U$49,MATCH($D11,'Таблица 6 (типы арм.)'!$D$6:$D$49,0),MATCH((IF(COLUMN(R$5)>COLUMN($X$5),CONCATENATE(R$5,"А500С"),IF(COLUMN(R$5)>COLUMN($S$5),CONCATENATE(R$5,"А240"),CONCATENATE(R$5,"Вр-1")))),'Таблица 6 (типы арм.)'!$F$54:$U$54,0)),0)) | S11: =IF((IF(R11="",0,R11))=0,"",(IF(R11="",0,R11))) | T11: =IF(SUM($J11:$L11)*INDEX('Таблица 6 (типы арм.)'!$F$6:$U$49,MATCH($D11,'Таблица 6 (типы арм.)'!$D$6:$D$49,0),MATCH((IF(COLUMN(T$5)>COLUMN($X$5),CONCATENATE(T$5,"А500С"),IF(COLUMN(T$5)>COLUMN($S$5),CONCATENATE(T$5,"А240"),CONCATENATE(T$5,"Вр-1")))),'Таблица 6 (типы арм.)'!$F$54:$U$54,0))=0,"",ROUND(SUM($J11:$L11)*INDEX('Таблица 6 (типы арм.)'!$F$6:$U$49,MATCH($D11,'Таблица 6 (типы арм.)'!$D$6:$D$49,0),MATCH((IF(COLUMN(T$5)>COLUMN($X$5),CONCATENATE(T$5,"А500С"),IF(COLUMN(T$5)>COLUMN($S$5),CONCATENATE(T$5,"А240"),CONCATENATE(T$5,"Вр-1")))),'Таблица 6 (типы арм.)'!$F$54:$U$54,0)),0)) | U11: =IF(SUM($J11:$L11)*INDEX('Таблица 6 (типы арм.)'!$F$6:$U$49,MATCH($D11,'Таблица 6 (типы арм.)'!$D$6:$D$49,0),MATCH((IF(COLUMN(U$5)>COLUMN($X$5),CONCATENATE(U$5,"А500С"),IF(COLUMN(U$5)>COLUMN($S$5),CONCATENATE(U$5,"А240"),CONCATENATE(U$5,"Вр-1")))),'Таблица 6 (типы арм.)'!$F$54:$U$54,0))=0,"",ROUND(SUM($J11:$L11)*INDEX('Таблица 6 (типы арм.)'!$F$6:$U$49,MATCH($D11,'Таблица 6 (типы арм.)'!$D$6:$D$49,0),MATCH((IF(COLUMN(U$5)>COLUMN($X$5),CONCATENATE(U$5,"А500С"),IF(COLUMN(U$5)>COLUMN($S$5),CONCATENATE(U$5,"А240"),CONCATENATE(U$5,"Вр-1")))),'Таблица 6 (типы арм.)'!$F$54:$U$54,0)),0)) | V11: =IF(SUM($J11:$L11)*INDEX('Таблица 6 (типы арм.)'!$F$6:$U$49,MATCH($D11,'Таблица 6 (типы арм.)'!$D$6:$D$49,0),MATCH((IF(COLUMN(V$5)>COLUMN($X$5),CONCATENATE(V$5,"А500С"),IF(COLUMN(V$5)>COLUMN($S$5),CONCATENATE(V$5,"А240"),CONCATENATE(V$5,"Вр-1")))),'Таблица 6 (типы арм.)'!$F$54:$U$54,0))=0,"",ROUND(SUM($J11:$L11)*INDEX('Таблица 6 (типы арм.)'!$F$6:$U$49,MATCH($D11,'Таблица 6 (типы арм.)'!$D$6:$D$49,0),MATCH((IF(COLUMN(V$5)>COLUMN($X$5),CONCATENATE(V$5,"А500С"),IF(COLUMN(V$5)>COLUMN($S$5),CONCATENATE(V$5,"А240"),CONCATENATE(V$5,"Вр-1")))),'Таблица 6 (типы арм.)'!$F$54:$U$54,0)),0)) | W11: =IF(SUM($J11:$L11)*INDEX('Таблица 6 (типы арм.)'!$F$6:$U$49,MATCH($D11,'Таблица 6 (типы арм.)'!$D$6:$D$49,0),MATCH((IF(COLUMN(W$5)>COLUMN($X$5),CONCATENATE(W$5,"А500С"),IF(COLUMN(W$5)>COLUMN($S$5),CONCATENATE(W$5,"А240"),CONCATENATE(W$5,"Вр-1")))),'Таблица 6 (типы арм.)'!$F$54:$U$54,0))=0,"",ROUND(SUM($J11:$L11)*INDEX('Таблица 6 (типы арм.)'!$F$6:$U$49,MATCH($D11,'Таблица 6 (типы арм.)'!$D$6:$D$49,0),MATCH((IF(COLUMN(W$5)>COLUMN($X$5),CONCATENATE(W$5,"А500С"),IF(COLUMN(W$5)>COLUMN($S$5),CONCATENATE(W$5,"А240"),CONCATENATE(W$5,"Вр-1")))),'Таблица 6 (типы арм.)'!$F$54:$U$54,0)),0)) | X11: =IF((IF(T11="",0,T11)+IF(U11="",0,U11)+IF(V11="",0,V11)+IF(W11="",0,W11))=0,"",(IF(T11="",0,T11)+IF(U11="",0,U11)+IF(V11="",0,V11)+IF(W11="",0,W11))) | Y11: =IF(SUM($J11:$L11)*INDEX('Таблица 6 (типы арм.)'!$F$6:$U$49,MATCH($D11,'Таблица 6 (типы арм.)'!$D$6:$D$49,0),MATCH((IF(COLUMN(Y$5)>COLUMN($X$5),CONCATENATE(Y$5,"А500С"),IF(COLUMN(Y$5)>COLUMN($S$5),CONCATENATE(Y$5,"А240"),CONCATENATE(Y$5,"Вр-1")))),'Таблица 6 (типы арм.)'!$F$54:$U$54,0))=0,"",ROUND(SUM($J11:$L11)*INDEX('Таблица 6 (типы арм.)'!$F$6:$U$49,MATCH($D11,'Таблица 6 (типы арм.)'!$D$6:$D$49,0),MATCH((IF(COLUMN(Y$5)>COLUMN($X$5),CONCATENATE(Y$5,"А500С"),IF(COLUMN(Y$5)>COLUMN($S$5),CONCATENATE(Y$5,"А240"),CONCATENATE(Y$5,"Вр-1")))),'Таблица 6 (типы арм.)'!$F$54:$U$54,0)),0)) | Z11: =IF(SUM($J11:$L11)*INDEX('Таблица 6 (типы арм.)'!$F$6:$U$49,MATCH($D11,'Таблица 6 (типы арм.)'!$D$6:$D$49,0),MATCH((IF(COLUMN(Z$5)>COLUMN($X$5),CONCATENATE(Z$5,"А500С"),IF(COLUMN(Z$5)>COLUMN($S$5),CONCATENATE(Z$5,"А240"),CONCATENATE(Z$5,"Вр-1")))),'Таблица 6 (типы арм.)'!$F$54:$U$54,0))=0,"",ROUND(SUM($J11:$L11)*INDEX('Таблица 6 (типы арм.)'!$F$6:$U$49,MATCH($D11,'Таблица 6 (типы арм.)'!$D$6:$D$49,0),MATCH((IF(COLUMN(Z$5)>COLUMN($X$5),CONCATENATE(Z$5,"А500С"),IF(COLUMN(Z$5)>COLUMN($S$5),CONCATENATE(Z$5,"А240"),CONCATENATE(Z$5,"Вр-1")))),'Таблица 6 (типы арм.)'!$F$54:$U$54,0)),0)) | AA11: =IF(SUM($J11:$L11)*INDEX('Таблица 6 (типы арм.)'!$F$6:$U$49,MATCH($D11,'Таблица 6 (типы арм.)'!$D$6:$D$49,0),MATCH((IF(COLUMN(AA$5)>COLUMN($X$5),CONCATENATE(AA$5,"А500С"),IF(COLUMN(AA$5)>COLUMN($S$5),CONCATENATE(AA$5,"А240"),CONCATENATE(AA$5,"Вр-1")))),'Таблица 6 (типы арм.)'!$F$54:$U$54,0))=0,"",ROUND(SUM($J11:$L11)*INDEX('Таблица 6 (типы арм.)'!$F$6:$U$49,MATCH($D11,'Таблица 6 (типы арм.)'!$D$6:$D$49,0),MATCH((IF(COLUMN(AA$5)>COLUMN($X$5),CONCATENATE(AA$5,"А500С"),IF(COLUMN(AA$5)>COLUMN($S$5),CONCATENATE(AA$5,"А240"),CONCATENATE(AA$5,"Вр-1")))),'Таблица 6 (типы арм.)'!$F$54:$U$54,0)),0)) | AB11: =IF(SUM($J11:$L11)*INDEX('Таблица 6 (типы арм.)'!$F$6:$U$49,MATCH($D11,'Таблица 6 (типы арм.)'!$D$6:$D$49,0),MATCH((IF(COLUMN(AB$5)>COLUMN($X$5),CONCATENATE(AB$5,"А500С"),IF(COLUMN(AB$5)>COLUMN($S$5),CONCATENATE(AB$5,"А240"),CONCATENATE(AB$5,"Вр-1")))),'Таблица 6 (типы арм.)'!$F$54:$U$54,0))=0,"",ROUND(SUM($J11:$L11)*INDEX('Таблица 6 (типы арм.)'!$F$6:$U$49,MATCH($D11,'Таблица 6 (типы арм.)'!$D$6:$D$49,0),MATCH((IF(COLUMN(AB$5)>COLUMN($X$5),CONCATENATE(AB$5,"А500С"),IF(COLUMN(AB$5)>COLUMN($S$5),CONCATENATE(AB$5,"А240"),CONCATENATE(AB$5,"Вр-1")))),'Таблица 6 (типы арм.)'!$F$54:$U$54,0)),0)) | AC11: =IF(SUM($J11:$L11)*INDEX('Таблица 6 (типы арм.)'!$F$6:$U$49,MATCH($D11,'Таблица 6 (типы арм.)'!$D$6:$D$49,0),MATCH((IF(COLUMN(AC$5)>COLUMN($X$5),CONCATENATE(AC$5,"А500С"),IF(COLUMN(AC$5)>COLUMN($S$5),CONCATENATE(AC$5,"А240"),CONCATENATE(AC$5,"Вр-1")))),'Таблица 6 (типы арм.)'!$F$54:$U$54,0))=0,"",ROUND(SUM($J11:$L11)*INDEX('Таблица 6 (типы арм.)'!$F$6:$U$49,MATCH($D11,'Таблица 6 (типы арм.)'!$D$6:$D$49,0),MATCH((IF(COLUMN(AC$5)>COLUMN($X$5),CONCATENATE(AC$5,"А500С"),IF(COLUMN(AC$5)>COLUMN($S$5),CONCATENATE(AC$5,"А240"),CONCATENATE(AC$5,"Вр-1")))),'Таблица 6 (типы арм.)'!$F$54:$U$54,0)),0)) | AD11: =IF(SUM($J11:$L11)*INDEX('Таблица 6 (типы арм.)'!$F$6:$U$49,MATCH($D11,'Таблица 6 (типы арм.)'!$D$6:$D$49,0),MATCH((IF(COLUMN(AD$5)>COLUMN($X$5),CONCATENATE(AD$5,"А500С"),IF(COLUMN(AD$5)>COLUMN($S$5),CONCATENATE(AD$5,"А240"),CONCATENATE(AD$5,"Вр-1")))),'Таблица 6 (типы арм.)'!$F$54:$U$54,0))=0,"",ROUND(SUM($J11:$L11)*INDEX('Таблица 6 (типы арм.)'!$F$6:$U$49,MATCH($D11,'Таблица 6 (типы арм.)'!$D$6:$D$49,0),MATCH((IF(COLUMN(AD$5)>COLUMN($X$5),CONCATENATE(AD$5,"А500С"),IF(COLUMN(AD$5)>COLUMN($S$5),CONCATENATE(AD$5,"А240"),CONCATENATE(AD$5,"Вр-1")))),'Таблица 6 (типы арм.)'!$F$54:$U$54,0)),0)) | AE11: =IF(SUM($J11:$L11)*INDEX('Таблица 6 (типы арм.)'!$F$6:$U$49,MATCH($D11,'Таблица 6 (типы арм.)'!$D$6:$D$49,0),MATCH((IF(COLUMN(AE$5)>COLUMN($X$5),CONCATENATE(AE$5,"А500С"),IF(COLUMN(AE$5)>COLUMN($S$5),CONCATENATE(AE$5,"А240"),CONCATENATE(AE$5,"Вр-1")))),'Таблица 6 (типы арм.)'!$F$54:$U$54,0))=0,"",ROUND(SUM($J11:$L11)*INDEX('Таблица 6 (типы арм.)'!$F$6:$U$49,MATCH($D11,'Таблица 6 (типы арм.)'!$D$6:$D$49,0),MATCH((IF(COLUMN(AE$5)>COLUMN($X$5),CONCATENATE(AE$5,"А500С"),IF(COLUMN(AE$5)>COLUMN($S$5),CONCATENATE(AE$5,"А240"),CONCATENATE(AE$5,"Вр-1")))),'Таблица 6 (типы арм.)'!$F$54:$U$54,0)),0)) | AF11: =IF(SUM($J11:$L11)*INDEX('Таблица 6 (типы арм.)'!$F$6:$U$49,MATCH($D11,'Таблица 6 (типы арм.)'!$D$6:$D$49,0),MATCH((IF(COLUMN(AF$5)>COLUMN($X$5),CONCATENATE(AF$5,"А500С"),IF(COLUMN(AF$5)>COLUMN($S$5),CONCATENATE(AF$5,"А240"),CONCATENATE(AF$5,"Вр-1")))),'Таблица 6 (типы арм.)'!$F$54:$U$54,0))=0,"",ROUND(SUM($J11:$L11)*INDEX('Таблица 6 (типы арм.)'!$F$6:$U$49,MATCH($D11,'Таблица 6 (типы арм.)'!$D$6:$D$49,0),MATCH((IF(COLUMN(AF$5)>COLUMN($X$5),CONCATENATE(AF$5,"А500С"),IF(COLUMN(AF$5)>COLUMN($S$5),CONCATENATE(AF$5,"А240"),CONCATENATE(AF$5,"Вр-1")))),'Таблица 6 (типы арм.)'!$F$54:$U$54,0)),0)) | ... AI11: =IF(SUM($J11:$L11)*INDEX('Таблица 6 (типы арм.)'!$F$6:$U$49,MATCH($D11,'Таблица 6 (типы арм.)'!$D$6:$D$49,0),MATCH((IF(COLUMN(AI$5)>COLUMN($X$5),CONCATENATE(AI$5,"А500С"),IF(COLUMN(AI$5)>COLUMN($S$5),CONCATENATE(AI$5,"А240"),CONCATENATE(AI$5,"Вр-1")))),'Таблица 6 (типы арм.)'!$F$54:$U$54,0))=0,"",ROUND(SUM($J11:$L11)*INDEX('Таблица 6 (типы арм.)'!$F$6:$U$49,MATCH($D11,'Таблица 6 (типы арм.)'!$D$6:$D$49,0),MATCH((IF(COLUMN(AI$5)>COLUMN($X$5),CONCATENATE(AI$5,"А500С"),IF(COLUMN(AI$5)>COLUMN($S$5),CONCATENATE(AI$5,"А240"),CONCATENATE(AI$5,"Вр-1")))),'Таблица 6 (типы арм.)'!$F$54:$U$54,0)),0)) | AJ11: =IF((IF(Y11="",0,Y11)+IF(Z11="",0,Z11)+IF(AA11="",0,AA11)+IF(AB11="",0,AB11)+IF(AC11="",0,AC11)+IF(AD11="",0,AD11)+IF(AE11="",0,AE11)+IF(AF11="",0,AF11)+IF(AG11="",0,AG11)+IF(AH11="",0,AH11)+IF(AI11="",0,AI11))=0,"",(IF(Y11="",0,Y11)+IF(Z11="",0,Z11)+IF(AA11="",0,AA11)+IF(AB11="",0,AB11)+IF(AC11="",0,AC11)+IF(AD11="",0,AD11)+IF(AE11="",0,AE11)+IF(AF11="",0,AF11)+IF(AG11="",0,AG11)+IF(AH11="",0,AH11)+IF(AI11="",0,AI11))) | AK11: =IF((IF(AJ11="",0,AJ11)+IF(X11="",0,X11)+IF(S11="",0,S11))=0,"",(IF(AJ11="",0,AJ11)+IF(X11="",0,X11)+IF(S11="",0,S11)))
C12: при отсутствии ФП с данной толщиной строку удалить | D12: 1 | E12: =CONCATENATE($E$8,".",(ROW(G12)-ROW($G$8))) -> 1.4 | F12: Плита фундаментная 800 мм | G12: куб.м | K12: 500 | M12: =IF((IF(H12="",0,H12)+IF(I12="",0,I12)+IF(J12="",0,J12)+IF(K12="",0,K12)+IF(L12="",0,L12))=0,"",(IF(H12="",0,H12)+IF(I12="",0,I12)+IF(J12="",0,J12)+IF(K12="",0,K12)+IF(L12="",0,L12))) -> 500 | N12: W6 | O12: F150 | P12: =IF(M12="","",IF(M12=0,"",IF(MID(F12,1,4)="Стен",M12/(VALUE(MID(F12,SEARCH(" ",F12,1)+1,SEARCH("мм",F12,1)-SEARCH(" ",F12,1)-2))/1000),IF(MID(F12,1,10)="Плита фунд",SQRT(M12/(VALUE(MID(F12,SEARCH(" ",F12,1)+14,SEARCH("мм",F12,1)-SEARCH(" ",F12,1)-15))/1000))*(4+1)*(VALUE(MID(F12,SEARCH(" ",F12,1)+14,SEARCH("мм",F12,1)-SEARCH(" ",F12,1)-15))/1000),IF(MID(F12,1,4)="Плит",M12/(VALUE(MID(F12,SEARCH(" ",F12,1)+1,SEARCH("мм",F12,1)-SEARCH(" ",F12,1)-2))/1000),IF(MID(F12,1,4)="Площ",M12/(VALUE(MID(F12,SEARCH(" ",F12,1)+12,SEARCH("мм",F12,1)-SEARCH(" ",F12,1)-13))/1000),IF(MID(F12,1,4)="Марш",M12/0.263,IF(MID(F12,1,4)="Коло",M12/((VALUE(LEFT(MID(F12,SEARCH(" ",F12,1)+1,SEARCH("мм",F12,1)-SEARCH(" ",F12,1)-2),SEARCH("х",MID(F12,SEARCH(" ",F12,1)+1,SEARCH("мм",F12,1)-SEARCH(" ",F12,1)-2),1)-1))*VALUE(RIGHT(MID(F12,SEARCH(" ",F12,1)+1,SEARCH("мм",F12,1)-SEARCH(" ",F12,1)-2),LEN(MID(F12,SEARCH(" ",F12,1)+1,SEARCH("мм",F12,1)-SEARCH(" ",F12,1)-2))-SEARCH("х",MID(F12,SEARCH(" ",F12,1)+1,SEARCH("мм",F12,1)-SEARCH(" ",F12,1)-2),1))))/1000000*3.2)*((VALUE(LEFT(MID(F12,SEARCH(" ",F12,1)+1,SEARCH("мм",F12,1)-SEARCH(" ",F12,1)-2),SEARCH("х",MID(F12,SEARCH(" ",F12,1)+1,SEARCH("мм",F12,1)-SEARCH(" ",F12,1)-2),1)-1))+VALUE(RIGHT(MID(F12,SEARCH(" ",F12,1)+1,SEARCH("мм",F12,1)-SEARCH(" ",F12,1)-2),LEN(MID(F12,SEARCH(" ",F12,1)+1,SEARCH("мм",F12,1)-SEARCH(" ",F12,1)-2))-SEARCH("х",MID(F12,SEARCH(" ",F12,1)+1,SEARCH("мм",F12,1)-SEARCH(" ",F12,1)-2),1))))/1000*2*3.2),IF(MID(F12,1,4)="Балк",M12/((VALUE(LEFT(MID(F12,SEARCH(" ",F12,1)+1,SEARCH("мм",F12,1)-SEARCH(" ",F12,1)-5),SEARCH("х",MID(F12,SEARCH(" ",F12,1)+1,SEARCH("мм",F12,1)-SEARCH(" ",F12,1)-5),1)-1))*VALUE(RIGHT(MID(F12,SEARCH(" ",F12,1)+1,SEARCH("мм",F12,1)-SEARCH(" ",F12,1)-5),LEN(MID(F12,SEARCH(" ",F12,1)+1,SEARCH("мм",F12,1)-SEARCH(" ",F12,1)-5))-SEARCH("х",MID(F12,SEARCH(" ",F12,1)+1,SEARCH("мм",F12,1)-SEARCH(" ",F12,1)-5),1))))/1000000*1)*((2*VALUE(LEFT(MID(F12,SEARCH(" ",F12,1)+1,SEARCH("мм",F12,1)-SEARCH(" ",F12,1)-5),SEARCH("х",MID(F12,SEARCH(" ",F12,1)+1,SEARCH("мм",F12,1)-SEARCH(" ",F12,1)-5),1)-1))+VALUE(RIGHT(MID(F12,SEARCH(" ",F12,1)+1,SEARCH("мм",F12,1)-SEARCH(" ",F12,1)-5),LEN(MID(F12,SEARCH(" ",F12,1)+1,SEARCH("мм",F12,1)-SEARCH(" ",F12,1)-5))-SEARCH("х",MID(F12,SEARCH(" ",F12,1)+1,SEARCH("мм",F12,1)-SEARCH(" ",F12,1)-5),1))))/1000*1),IF(MID(F12,1,4)="Капи",M12/(2.8*3.6*0.4)*((2.8+3.6)*2*0.4),"")))))))))) -> 100 | R12: =IF(SUM($J12:$L12)*INDEX('Таблица 6 (типы арм.)'!$F$6:$U$49,MATCH($D12,'Таблица 6 (типы арм.)'!$D$6:$D$49,0),MATCH((IF(COLUMN(R$5)>COLUMN($X$5),CONCATENATE(R$5,"А500С"),IF(COLUMN(R$5)>COLUMN($S$5),CONCATENATE(R$5,"А240"),CONCATENATE(R$5,"Вр-1")))),'Таблица 6 (типы арм.)'!$F$54:$U$54,0))=0,"",ROUND(SUM($J12:$L12)*INDEX('Таблица 6 (типы арм.)'!$F$6:$U$49,MATCH($D12,'Таблица 6 (типы арм.)'!$D$6:$D$49,0),MATCH((IF(COLUMN(R$5)>COLUMN($X$5),CONCATENATE(R$5,"А500С"),IF(COLUMN(R$5)>COLUMN($S$5),CONCATENATE(R$5,"А240"),CONCATENATE(R$5,"Вр-1")))),'Таблица 6 (типы арм.)'!$F$54:$U$54,0)),0)) | S12: =IF((IF(R12="",0,R12))=0,"",(IF(R12="",0,R12))) | T12: =IF(SUM($J12:$L12)*INDEX('Таблица 6 (типы арм.)'!$F$6:$U$49,MATCH($D12,'Таблица 6 (типы арм.)'!$D$6:$D$49,0),MATCH((IF(COLUMN(T$5)>COLUMN($X$5),CONCATENATE(T$5,"А500С"),IF(COLUMN(T$5)>COLUMN($S$5),CONCATENATE(T$5,"А240"),CONCATENATE(T$5,"Вр-1")))),'Таблица 6 (типы арм.)'!$F$54:$U$54,0))=0,"",ROUND(SUM($J12:$L12)*INDEX('Таблица 6 (типы арм.)'!$F$6:$U$49,MATCH($D12,'Таблица 6 (типы арм.)'!$D$6:$D$49,0),MATCH((IF(COLUMN(T$5)>COLUMN($X$5),CONCATENATE(T$5,"А500С"),IF(COLUMN(T$5)>COLUMN($S$5),CONCATENATE(T$5,"А240"),CONCATENATE(T$5,"Вр-1")))),'Таблица 6 (типы арм.)'!$F$54:$U$54,0)),0)) | U12: =IF(SUM($J12:$L12)*INDEX('Таблица 6 (типы арм.)'!$F$6:$U$49,MATCH($D12,'Таблица 6 (типы арм.)'!$D$6:$D$49,0),MATCH((IF(COLUMN(U$5)>COLUMN($X$5),CONCATENATE(U$5,"А500С"),IF(COLUMN(U$5)>COLUMN($S$5),CONCATENATE(U$5,"А240"),CONCATENATE(U$5,"Вр-1")))),'Таблица 6 (типы арм.)'!$F$54:$U$54,0))=0,"",ROUND(SUM($J12:$L12)*INDEX('Таблица 6 (типы арм.)'!$F$6:$U$49,MATCH($D12,'Таблица 6 (типы арм.)'!$D$6:$D$49,0),MATCH((IF(COLUMN(U$5)>COLUMN($X$5),CONCATENATE(U$5,"А500С"),IF(COLUMN(U$5)>COLUMN($S$5),CONCATENATE(U$5,"А240"),CONCATENATE(U$5,"Вр-1")))),'Таблица 6 (типы арм.)'!$F$54:$U$54,0)),0)) | V12: =IF(SUM($J12:$L12)*INDEX('Таблица 6 (типы арм.)'!$F$6:$U$49,MATCH($D12,'Таблица 6 (типы арм.)'!$D$6:$D$49,0),MATCH((IF(COLUMN(V$5)>COLUMN($X$5),CONCATENATE(V$5,"А500С"),IF(COLUMN(V$5)>COLUMN($S$5),CONCATENATE(V$5,"А240"),CONCATENATE(V$5,"Вр-1")))),'Таблица 6 (типы арм.)'!$F$54:$U$54,0))=0,"",ROUND(SUM($J12:$L12)*INDEX('Таблица 6 (типы арм.)'!$F$6:$U$49,MATCH($D12,'Таблица 6 (типы арм.)'!$D$6:$D$49,0),MATCH((IF(COLUMN(V$5)>COLUMN($X$5),CONCATENATE(V$5,"А500С"),IF(COLUMN(V$5)>COLUMN($S$5),CONCATENATE(V$5,"А240"),CONCATENATE(V$5,"Вр-1")))),'Таблица 6 (типы арм.)'!$F$54:$U$54,0)),0)) | W12: =IF(SUM($J12:$L12)*INDEX('Таблица 6 (типы арм.)'!$F$6:$U$49,MATCH($D12,'Таблица 6 (типы арм.)'!$D$6:$D$49,0),MATCH((IF(COLUMN(W$5)>COLUMN($X$5),CONCATENATE(W$5,"А500С"),IF(COLUMN(W$5)>COLUMN($S$5),CONCATENATE(W$5,"А240"),CONCATENATE(W$5,"Вр-1")))),'Таблица 6 (типы арм.)'!$F$54:$U$54,0))=0,"",ROUND(SUM($J12:$L12)*INDEX('Таблица 6 (типы арм.)'!$F$6:$U$49,MATCH($D12,'Таблица 6 (типы арм.)'!$D$6:$D$49,0),MATCH((IF(COLUMN(W$5)>COLUMN($X$5),CONCATENATE(W$5,"А500С"),IF(COLUMN(W$5)>COLUMN($S$5),CONCATENATE(W$5,"А240"),CONCATENATE(W$5,"Вр-1")))),'Таблица 6 (типы арм.)'!$F$54:$U$54,0)),0)) | X12: =IF((IF(T12="",0,T12)+IF(U12="",0,U12)+IF(V12="",0,V12)+IF(W12="",0,W12))=0,"",(IF(T12="",0,T12)+IF(U12="",0,U12)+IF(V12="",0,V12)+IF(W12="",0,W12))) | Y12: =IF(SUM($J12:$L12)*INDEX('Таблица 6 (типы арм.)'!$F$6:$U$49,MATCH($D12,'Таблица 6 (типы арм.)'!$D$6:$D$49,0),MATCH((IF(COLUMN(Y$5)>COLUMN($X$5),CONCATENATE(Y$5,"А500С"),IF(COLUMN(Y$5)>COLUMN($S$5),CONCATENATE(Y$5,"А240"),CONCATENATE(Y$5,"Вр-1")))),'Таблица 6 (типы арм.)'!$F$54:$U$54,0))=0,"",ROUND(SUM($J12:$L12)*INDEX('Таблица 6 (типы арм.)'!$F$6:$U$49,MATCH($D12,'Таблица 6 (типы арм.)'!$D$6:$D$49,0),MATCH((IF(COLUMN(Y$5)>COLUMN($X$5),CONCATENATE(Y$5,"А500С"),IF(COLUMN(Y$5)>COLUMN($S$5),CONCATENATE(Y$5,"А240"),CONCATENATE(Y$5,"Вр-1")))),'Таблица 6 (типы арм.)'!$F$54:$U$54,0)),0)) | Z12: =IF(SUM($J12:$L12)*INDEX('Таблица 6 (типы арм.)'!$F$6:$U$49,MATCH($D12,'Таблица 6 (типы арм.)'!$D$6:$D$49,0),MATCH((IF(COLUMN(Z$5)>COLUMN($X$5),CONCATENATE(Z$5,"А500С"),IF(COLUMN(Z$5)>COLUMN($S$5),CONCATENATE(Z$5,"А240"),CONCATENATE(Z$5,"Вр-1")))),'Таблица 6 (типы арм.)'!$F$54:$U$54,0))=0,"",ROUND(SUM($J12:$L12)*INDEX('Таблица 6 (типы арм.)'!$F$6:$U$49,MATCH($D12,'Таблица 6 (типы арм.)'!$D$6:$D$49,0),MATCH((IF(COLUMN(Z$5)>COLUMN($X$5),CONCATENATE(Z$5,"А500С"),IF(COLUMN(Z$5)>COLUMN($S$5),CONCATENATE(Z$5,"А240"),CONCATENATE(Z$5,"Вр-1")))),'Таблица 6 (типы арм.)'!$F$54:$U$54,0)),0)) | AA12: =IF(SUM($J12:$L12)*INDEX('Таблица 6 (типы арм.)'!$F$6:$U$49,MATCH($D12,'Таблица 6 (типы арм.)'!$D$6:$D$49,0),MATCH((IF(COLUMN(AA$5)>COLUMN($X$5),CONCATENATE(AA$5,"А500С"),IF(COLUMN(AA$5)>COLUMN($S$5),CONCATENATE(AA$5,"А240"),CONCATENATE(AA$5,"Вр-1")))),'Таблица 6 (типы арм.)'!$F$54:$U$54,0))=0,"",ROUND(SUM($J12:$L12)*INDEX('Таблица 6 (типы арм.)'!$F$6:$U$49,MATCH($D12,'Таблица 6 (типы арм.)'!$D$6:$D$49,0),MATCH((IF(COLUMN(AA$5)>COLUMN($X$5),CONCATENATE(AA$5,"А500С"),IF(COLUMN(AA$5)>COLUMN($S$5),CONCATENATE(AA$5,"А240"),CONCATENATE(AA$5,"Вр-1")))),'Таблица 6 (типы арм.)'!$F$54:$U$54,0)),0)) -> 4615 | AB12: =IF(SUM($J12:$L12)*INDEX('Таблица 6 (типы арм.)'!$F$6:$U$49,MATCH($D12,'Таблица 6 (типы арм.)'!$D$6:$D$49,0),MATCH((IF(COLUMN(AB$5)>COLUMN($X$5),CONCATENATE(AB$5,"А500С"),IF(COLUMN(AB$5)>COLUMN($S$5),CONCATENATE(AB$5,"А240"),CONCATENATE(AB$5,"Вр-1")))),'Таблица 6 (типы арм.)'!$F$54:$U$54,0))=0,"",ROUND(SUM($J12:$L12)*INDEX('Таблица 6 (типы арм.)'!$F$6:$U$49,MATCH($D12,'Таблица 6 (типы арм.)'!$D$6:$D$49,0),MATCH((IF(COLUMN(AB$5)>COLUMN($X$5),CONCATENATE(AB$5,"А500С"),IF(COLUMN(AB$5)>COLUMN($S$5),CONCATENATE(AB$5,"А240"),CONCATENATE(AB$5,"Вр-1")))),'Таблица 6 (типы арм.)'!$F$54:$U$54,0)),0)) | AC12: =IF(SUM($J12:$L12)*INDEX('Таблица 6 (типы арм.)'!$F$6:$U$49,MATCH($D12,'Таблица 6 (типы арм.)'!$D$6:$D$49,0),MATCH((IF(COLUMN(AC$5)>COLUMN($X$5),CONCATENATE(AC$5,"А500С"),IF(COLUMN(AC$5)>COLUMN($S$5),CONCATENATE(AC$5,"А240"),CONCATENATE(AC$5,"Вр-1")))),'Таблица 6 (типы арм.)'!$F$54:$U$54,0))=0,"",ROUND(SUM($J12:$L12)*INDEX('Таблица 6 (типы арм.)'!$F$6:$U$49,MATCH($D12,'Таблица 6 (типы арм.)'!$D$6:$D$49,0),MATCH((IF(COLUMN(AC$5)>COLUMN($X$5),CONCATENATE(AC$5,"А500С"),IF(COLUMN(AC$5)>COLUMN($S$5),CONCATENATE(AC$5,"А240"),CONCATENATE(AC$5,"Вр-1")))),'Таблица 6 (типы арм.)'!$F$54:$U$54,0)),0)) -> 20192 | AD12: =IF(SUM($J12:$L12)*INDEX('Таблица 6 (типы арм.)'!$F$6:$U$49,MATCH($D12,'Таблица 6 (типы арм.)'!$D$6:$D$49,0),MATCH((IF(COLUMN(AD$5)>COLUMN($X$5),CONCATENATE(AD$5,"А500С"),IF(COLUMN(AD$5)>COLUMN($S$5),CONCATENATE(AD$5,"А240"),CONCATENATE(AD$5,"Вр-1")))),'Таблица 6 (типы арм.)'!$F$54:$U$54,0))=0,"",ROUND(SUM($J12:$L12)*INDEX('Таблица 6 (типы арм.)'!$F$6:$U$49,MATCH($D12,'Таблица 6 (типы арм.)'!$D$6:$D$49,0),MATCH((IF(COLUMN(AD$5)>COLUMN($X$5),CONCATENATE(AD$5,"А500С"),IF(COLUMN(AD$5)>COLUMN($S$5),CONCATENATE(AD$5,"А240"),CONCATENATE(AD$5,"Вр-1")))),'Таблица 6 (типы арм.)'!$F$54:$U$54,0)),0)) -> 6603 | AE12: =IF(SUM($J12:$L12)*INDEX('Таблица 6 (типы арм.)'!$F$6:$U$49,MATCH($D12,'Таблица 6 (типы арм.)'!$D$6:$D$49,0),MATCH((IF(COLUMN(AE$5)>COLUMN($X$5),CONCATENATE(AE$5,"А500С"),IF(COLUMN(AE$5)>COLUMN($S$5),CONCATENATE(AE$5,"А240"),CONCATENATE(AE$5,"Вр-1")))),'Таблица 6 (типы арм.)'!$F$54:$U$54,0))=0,"",ROUND(SUM($J12:$L12)*INDEX('Таблица 6 (типы арм.)'!$F$6:$U$49,MATCH($D12,'Таблица 6 (типы арм.)'!$D$6:$D$49,0),MATCH((IF(COLUMN(AE$5)>COLUMN($X$5),CONCATENATE(AE$5,"А500С"),IF(COLUMN(AE$5)>COLUMN($S$5),CONCATENATE(AE$5,"А240"),CONCATENATE(AE$5,"Вр-1")))),'Таблица 6 (типы арм.)'!$F$54:$U$54,0)),0)) -> 5897 | AF12: =IF(SUM($J12:$L12)*INDEX('Таблица 6 (типы арм.)'!$F$6:$U$49,MATCH($D12,'Таблица 6 (типы арм.)'!$D$6:$D$49,0),MATCH((IF(COLUMN(AF$5)>COLUMN($X$5),CONCATENATE(AF$5,"А500С"),IF(COLUMN(AF$5)>COLUMN($S$5),CONCATENATE(AF$5,"А240"),CONCATENATE(AF$5,"Вр-1")))),'Таблица 6 (типы арм.)'!$F$54:$U$54,0))=0,"",ROUND(SUM($J12:$L12)*INDEX('Таблица 6 (типы арм.)'!$F$6:$U$49,MATCH($D12,'Таблица 6 (типы арм.)'!$D$6:$D$49,0),MATCH((IF(COLUMN(AF$5)>COLUMN($X$5),CONCATENATE(AF$5,"А500С"),IF(COLUMN(AF$5)>COLUMN($S$5),CONCATENATE(AF$5,"А240"),CONCATENATE(AF$5,"Вр-1")))),'Таблица 6 (типы арм.)'!$F$54:$U$54,0)),0)) -> 7949 | ... AI12: =IF(SUM($J12:$L12)*INDEX('Таблица 6 (типы арм.)'!$F$6:$U$49,MATCH($D12,'Таблица 6 (типы арм.)'!$D$6:$D$49,0),MATCH((IF(COLUMN(AI$5)>COLUMN($X$5),CONCATENATE(AI$5,"А500С"),IF(COLUMN(AI$5)>COLUMN($S$5),CONCATENATE(AI$5,"А240"),CONCATENATE(AI$5,"Вр-1")))),'Таблица 6 (типы арм.)'!$F$54:$U$54,0))=0,"",ROUND(SUM($J12:$L12)*INDEX('Таблица 6 (типы арм.)'!$F$6:$U$49,MATCH($D12,'Таблица 6 (типы арм.)'!$D$6:$D$49,0),MATCH((IF(COLUMN(AI$5)>COLUMN($X$5),CONCATENATE(AI$5,"А500С"),IF(COLUMN(AI$5)>COLUMN($S$5),CONCATENATE(AI$5,"А240"),CONCATENATE(AI$5,"Вр-1")))),'Таблица 6 (типы арм.)'!$F$54:$U$54,0)),0)) -> 12115 | AJ12: =IF((IF(Y12="",0,Y12)+IF(Z12="",0,Z12)+IF(AA12="",0,AA12)+IF(AB12="",0,AB12)+IF(AC12="",0,AC12)+IF(AD12="",0,AD12)+IF(AE12="",0,AE12)+IF(AF12="",0,AF12)+IF(AG12="",0,AG12)+IF(AH12="",0,AH12)+IF(AI12="",0,AI12))=0,"",(IF(Y12="",0,Y12)+IF(Z12="",0,Z12)+IF(AA12="",0,AA12)+IF(AB12="",0,AB12)+IF(AC12="",0,AC12)+IF(AD12="",0,AD12)+IF(AE12="",0,AE12)+IF(AF12="",0,AF12)+IF(AG12="",0,AG12)+IF(AH12="",0,AH12)+IF(AI12="",0,AI12))) -> 84871 | AK12: =IF((IF(AJ12="",0,AJ12)+IF(X12="",0,X12)+IF(S12="",0,S12))=0,"",(IF(AJ12="",0,AJ12)+IF(X12="",0,X12)+IF(S12="",0,S12))) -> 84871 | AL12: 74
C13: при отсутствии ФП с данной толщиной строку удалить | D13: 1 | E13: =CONCATENATE($E$8,".",(ROW(G13)-ROW($G$8))) -> 1.5 | F13: Плита фундаментная 900 мм | G13: куб.м | M13: =IF((IF(H13="",0,H13)+IF(I13="",0,I13)+IF(J13="",0,J13)+IF(K13="",0,K13)+IF(L13="",0,L13))=0,"",(IF(H13="",0,H13)+IF(I13="",0,I13)+IF(J13="",0,J13)+IF(K13="",0,K13)+IF(L13="",0,L13))) | N13: W6 | O13: F150 | P13: =IF(M13="","",IF(M13=0,"",IF(MID(F13,1,4)="Стен",M13/(VALUE(MID(F13,SEARCH(" ",F13,1)+1,SEARCH("мм",F13,1)-SEARCH(" ",F13,1)-2))/1000),IF(MID(F13,1,10)="Плита фунд",SQRT(M13/(VALUE(MID(F13,SEARCH(" ",F13,1)+14,SEARCH("мм",F13,1)-SEARCH(" ",F13,1)-15))/1000))*(4+1)*(VALUE(MID(F13,SEARCH(" ",F13,1)+14,SEARCH("мм",F13,1)-SEARCH(" ",F13,1)-15))/1000),IF(MID(F13,1,4)="Плит",M13/(VALUE(MID(F13,SEARCH(" ",F13,1)+1,SEARCH("мм",F13,1)-SEARCH(" ",F13,1)-2))/1000),IF(MID(F13,1,4)="Площ",M13/(VALUE(MID(F13,SEARCH(" ",F13,1)+12,SEARCH("мм",F13,1)-SEARCH(" ",F13,1)-13))/1000),IF(MID(F13,1,4)="Марш",M13/0.263,IF(MID(F13,1,4)="Коло",M13/((VALUE(LEFT(MID(F13,SEARCH(" ",F13,1)+1,SEARCH("мм",F13,1)-SEARCH(" ",F13,1)-2),SEARCH("х",MID(F13,SEARCH(" ",F13,1)+1,SEARCH("мм",F13,1)-SEARCH(" ",F13,1)-2),1)-1))*VALUE(RIGHT(MID(F13,SEARCH(" ",F13,1)+1,SEARCH("мм",F13,1)-SEARCH(" ",F13,1)-2),LEN(MID(F13,SEARCH(" ",F13,1)+1,SEARCH("мм",F13,1)-SEARCH(" ",F13,1)-2))-SEARCH("х",MID(F13,SEARCH(" ",F13,1)+1,SEARCH("мм",F13,1)-SEARCH(" ",F13,1)-2),1))))/1000000*3.2)*((VALUE(LEFT(MID(F13,SEARCH(" ",F13,1)+1,SEARCH("мм",F13,1)-SEARCH(" ",F13,1)-2),SEARCH("х",MID(F13,SEARCH(" ",F13,1)+1,SEARCH("мм",F13,1)-SEARCH(" ",F13,1)-2),1)-1))+VALUE(RIGHT(MID(F13,SEARCH(" ",F13,1)+1,SEARCH("мм",F13,1)-SEARCH(" ",F13,1)-2),LEN(MID(F13,SEARCH(" ",F13,1)+1,SEARCH("мм",F13,1)-SEARCH(" ",F13,1)-2))-SEARCH("х",MID(F13,SEARCH(" ",F13,1)+1,SEARCH("мм",F13,1)-SEARCH(" ",F13,1)-2),1))))/1000*2*3.2),IF(MID(F13,1,4)="Балк",M13/((VALUE(LEFT(MID(F13,SEARCH(" ",F13,1)+1,SEARCH("мм",F13,1)-SEARCH(" ",F13,1)-5),SEARCH("х",MID(F13,SEARCH(" ",F13,1)+1,SEARCH("мм",F13,1)-SEARCH(" ",F13,1)-5),1)-1))*VALUE(RIGHT(MID(F13,SEARCH(" ",F13,1)+1,SEARCH("мм",F13,1)-SEARCH(" ",F13,1)-5),LEN(MID(F13,SEARCH(" ",F13,1)+1,SEARCH("мм",F13,1)-SEARCH(" ",F13,1)-5))-SEARCH("х",MID(F13,SEARCH(" ",F13,1)+1,SEARCH("мм",F13,1)-SEARCH(" ",F13,1)-5),1))))/1000000*1)*((2*VALUE(LEFT(MID(F13,SEARCH(" ",F13,1)+1,SEARCH("мм",F13,1)-SEARCH(" ",F13,1)-5),SEARCH("х",MID(F13,SEARCH(" ",F13,1)+1,SEARCH("мм",F13,1)-SEARCH(" ",F13,1)-5),1)-1))+VALUE(RIGHT(MID(F13,SEARCH(" ",F13,1)+1,SEARCH("мм",F13,1)-SEARCH(" ",F13,1)-5),LEN(MID(F13,SEARCH(" ",F13,1)+1,SEARCH("мм",F13,1)-SEARCH(" ",F13,1)-5))-SEARCH("х",MID(F13,SEARCH(" ",F13,1)+1,SEARCH("мм",F13,1)-SEARCH(" ",F13,1)-5),1))))/1000*1),IF(MID(F13,1,4)="Капи",M13/(2.8*3.6*0.4)*((2.8+3.6)*2*0.4),"")))))))))) | R13: =IF(SUM($J13:$L13)*INDEX('Таблица 6 (типы арм.)'!$F$6:$U$49,MATCH($D13,'Таблица 6 (типы арм.)'!$D$6:$D$49,0),MATCH((IF(COLUMN(R$5)>COLUMN($X$5),CONCATENATE(R$5,"А500С"),IF(COLUMN(R$5)>COLUMN($S$5),CONCATENATE(R$5,"А240"),CONCATENATE(R$5,"Вр-1")))),'Таблица 6 (типы арм.)'!$F$54:$U$54,0))=0,"",ROUND(SUM($J13:$L13)*INDEX('Таблица 6 (типы арм.)'!$F$6:$U$49,MATCH($D13,'Таблица 6 (типы арм.)'!$D$6:$D$49,0),MATCH((IF(COLUMN(R$5)>COLUMN($X$5),CONCATENATE(R$5,"А500С"),IF(COLUMN(R$5)>COLUMN($S$5),CONCATENATE(R$5,"А240"),CONCATENATE(R$5,"Вр-1")))),'Таблица 6 (типы арм.)'!$F$54:$U$54,0)),0)) | S13: =IF((IF(R13="",0,R13))=0,"",(IF(R13="",0,R13))) | T13: =IF(SUM($J13:$L13)*INDEX('Таблица 6 (типы арм.)'!$F$6:$U$49,MATCH($D13,'Таблица 6 (типы арм.)'!$D$6:$D$49,0),MATCH((IF(COLUMN(T$5)>COLUMN($X$5),CONCATENATE(T$5,"А500С"),IF(COLUMN(T$5)>COLUMN($S$5),CONCATENATE(T$5,"А240"),CONCATENATE(T$5,"Вр-1")))),'Таблица 6 (типы арм.)'!$F$54:$U$54,0))=0,"",ROUND(SUM($J13:$L13)*INDEX('Таблица 6 (типы арм.)'!$F$6:$U$49,MATCH($D13,'Таблица 6 (типы арм.)'!$D$6:$D$49,0),MATCH((IF(COLUMN(T$5)>COLUMN($X$5),CONCATENATE(T$5,"А500С"),IF(COLUMN(T$5)>COLUMN($S$5),CONCATENATE(T$5,"А240"),CONCATENATE(T$5,"Вр-1")))),'Таблица 6 (типы арм.)'!$F$54:$U$54,0)),0)) | U13: =IF(SUM($J13:$L13)*INDEX('Таблица 6 (типы арм.)'!$F$6:$U$49,MATCH($D13,'Таблица 6 (типы арм.)'!$D$6:$D$49,0),MATCH((IF(COLUMN(U$5)>COLUMN($X$5),CONCATENATE(U$5,"А500С"),IF(COLUMN(U$5)>COLUMN($S$5),CONCATENATE(U$5,"А240"),CONCATENATE(U$5,"Вр-1")))),'Таблица 6 (типы арм.)'!$F$54:$U$54,0))=0,"",ROUND(SUM($J13:$L13)*INDEX('Таблица 6 (типы арм.)'!$F$6:$U$49,MATCH($D13,'Таблица 6 (типы арм.)'!$D$6:$D$49,0),MATCH((IF(COLUMN(U$5)>COLUMN($X$5),CONCATENATE(U$5,"А500С"),IF(COLUMN(U$5)>COLUMN($S$5),CONCATENATE(U$5,"А240"),CONCATENATE(U$5,"Вр-1")))),'Таблица 6 (типы арм.)'!$F$54:$U$54,0)),0)) | V13: =IF(SUM($J13:$L13)*INDEX('Таблица 6 (типы арм.)'!$F$6:$U$49,MATCH($D13,'Таблица 6 (типы арм.)'!$D$6:$D$49,0),MATCH((IF(COLUMN(V$5)>COLUMN($X$5),CONCATENATE(V$5,"А500С"),IF(COLUMN(V$5)>COLUMN($S$5),CONCATENATE(V$5,"А240"),CONCATENATE(V$5,"Вр-1")))),'Таблица 6 (типы арм.)'!$F$54:$U$54,0))=0,"",ROUND(SUM($J13:$L13)*INDEX('Таблица 6 (типы арм.)'!$F$6:$U$49,MATCH($D13,'Таблица 6 (типы арм.)'!$D$6:$D$49,0),MATCH((IF(COLUMN(V$5)>COLUMN($X$5),CONCATENATE(V$5,"А500С"),IF(COLUMN(V$5)>COLUMN($S$5),CONCATENATE(V$5,"А240"),CONCATENATE(V$5,"Вр-1")))),'Таблица 6 (типы арм.)'!$F$54:$U$54,0)),0)) | W13: =IF(SUM($J13:$L13)*INDEX('Таблица 6 (типы арм.)'!$F$6:$U$49,MATCH($D13,'Таблица 6 (типы арм.)'!$D$6:$D$49,0),MATCH((IF(COLUMN(W$5)>COLUMN($X$5),CONCATENATE(W$5,"А500С"),IF(COLUMN(W$5)>COLUMN($S$5),CONCATENATE(W$5,"А240"),CONCATENATE(W$5,"Вр-1")))),'Таблица 6 (типы арм.)'!$F$54:$U$54,0))=0,"",ROUND(SUM($J13:$L13)*INDEX('Таблица 6 (типы арм.)'!$F$6:$U$49,MATCH($D13,'Таблица 6 (типы арм.)'!$D$6:$D$49,0),MATCH((IF(COLUMN(W$5)>COLUMN($X$5),CONCATENATE(W$5,"А500С"),IF(COLUMN(W$5)>COLUMN($S$5),CONCATENATE(W$5,"А240"),CONCATENATE(W$5,"Вр-1")))),'Таблица 6 (типы арм.)'!$F$54:$U$54,0)),0)) | X13: =IF((IF(T13="",0,T13)+IF(U13="",0,U13)+IF(V13="",0,V13)+IF(W13="",0,W13))=0,"",(IF(T13="",0,T13)+IF(U13="",0,U13)+IF(V13="",0,V13)+IF(W13="",0,W13))) | Y13: =IF(SUM($J13:$L13)*INDEX('Таблица 6 (типы арм.)'!$F$6:$U$49,MATCH($D13,'Таблица 6 (типы арм.)'!$D$6:$D$49,0),MATCH((IF(COLUMN(Y$5)>COLUMN($X$5),CONCATENATE(Y$5,"А500С"),IF(COLUMN(Y$5)>COLUMN($S$5),CONCATENATE(Y$5,"А240"),CONCATENATE(Y$5,"Вр-1")))),'Таблица 6 (типы арм.)'!$F$54:$U$54,0))=0,"",ROUND(SUM($J13:$L13)*INDEX('Таблица 6 (типы арм.)'!$F$6:$U$49,MATCH($D13,'Таблица 6 (типы арм.)'!$D$6:$D$49,0),MATCH((IF(COLUMN(Y$5)>COLUMN($X$5),CONCATENATE(Y$5,"А500С"),IF(COLUMN(Y$5)>COLUMN($S$5),CONCATENATE(Y$5,"А240"),CONCATENATE(Y$5,"Вр-1")))),'Таблица 6 (типы арм.)'!$F$54:$U$54,0)),0)) | Z13: =IF(SUM($J13:$L13)*INDEX('Таблица 6 (типы арм.)'!$F$6:$U$49,MATCH($D13,'Таблица 6 (типы арм.)'!$D$6:$D$49,0),MATCH((IF(COLUMN(Z$5)>COLUMN($X$5),CONCATENATE(Z$5,"А500С"),IF(COLUMN(Z$5)>COLUMN($S$5),CONCATENATE(Z$5,"А240"),CONCATENATE(Z$5,"Вр-1")))),'Таблица 6 (типы арм.)'!$F$54:$U$54,0))=0,"",ROUND(SUM($J13:$L13)*INDEX('Таблица 6 (типы арм.)'!$F$6:$U$49,MATCH($D13,'Таблица 6 (типы арм.)'!$D$6:$D$49,0),MATCH((IF(COLUMN(Z$5)>COLUMN($X$5),CONCATENATE(Z$5,"А500С"),IF(COLUMN(Z$5)>COLUMN($S$5),CONCATENATE(Z$5,"А240"),CONCATENATE(Z$5,"Вр-1")))),'Таблица 6 (типы арм.)'!$F$54:$U$54,0)),0)) | AA13: =IF(SUM($J13:$L13)*INDEX('Таблица 6 (типы арм.)'!$F$6:$U$49,MATCH($D13,'Таблица 6 (типы арм.)'!$D$6:$D$49,0),MATCH((IF(COLUMN(AA$5)>COLUMN($X$5),CONCATENATE(AA$5,"А500С"),IF(COLUMN(AA$5)>COLUMN($S$5),CONCATENATE(AA$5,"А240"),CONCATENATE(AA$5,"Вр-1")))),'Таблица 6 (типы арм.)'!$F$54:$U$54,0))=0,"",ROUND(SUM($J13:$L13)*INDEX('Таблица 6 (типы арм.)'!$F$6:$U$49,MATCH($D13,'Таблица 6 (типы арм.)'!$D$6:$D$49,0),MATCH((IF(COLUMN(AA$5)>COLUMN($X$5),CONCATENATE(AA$5,"А500С"),IF(COLUMN(AA$5)>COLUMN($S$5),CONCATENATE(AA$5,"А240"),CONCATENATE(AA$5,"Вр-1")))),'Таблица 6 (типы арм.)'!$F$54:$U$54,0)),0)) | AB13: =IF(SUM($J13:$L13)*INDEX('Таблица 6 (типы арм.)'!$F$6:$U$49,MATCH($D13,'Таблица 6 (типы арм.)'!$D$6:$D$49,0),MATCH((IF(COLUMN(AB$5)>COLUMN($X$5),CONCATENATE(AB$5,"А500С"),IF(COLUMN(AB$5)>COLUMN($S$5),CONCATENATE(AB$5,"А240"),CONCATENATE(AB$5,"Вр-1")))),'Таблица 6 (типы арм.)'!$F$54:$U$54,0))=0,"",ROUND(SUM($J13:$L13)*INDEX('Таблица 6 (типы арм.)'!$F$6:$U$49,MATCH($D13,'Таблица 6 (типы арм.)'!$D$6:$D$49,0),MATCH((IF(COLUMN(AB$5)>COLUMN($X$5),CONCATENATE(AB$5,"А500С"),IF(COLUMN(AB$5)>COLUMN($S$5),CONCATENATE(AB$5,"А240"),CONCATENATE(AB$5,"Вр-1")))),'Таблица 6 (типы арм.)'!$F$54:$U$54,0)),0)) | AC13: =IF(SUM($J13:$L13)*INDEX('Таблица 6 (типы арм.)'!$F$6:$U$49,MATCH($D13,'Таблица 6 (типы арм.)'!$D$6:$D$49,0),MATCH((IF(COLUMN(AC$5)>COLUMN($X$5),CONCATENATE(AC$5,"А500С"),IF(COLUMN(AC$5)>COLUMN($S$5),CONCATENATE(AC$5,"А240"),CONCATENATE(AC$5,"Вр-1")))),'Таблица 6 (типы арм.)'!$F$54:$U$54,0))=0,"",ROUND(SUM($J13:$L13)*INDEX('Таблица 6 (типы арм.)'!$F$6:$U$49,MATCH($D13,'Таблица 6 (типы арм.)'!$D$6:$D$49,0),MATCH((IF(COLUMN(AC$5)>COLUMN($X$5),CONCATENATE(AC$5,"А500С"),IF(COLUMN(AC$5)>COLUMN($S$5),CONCATENATE(AC$5,"А240"),CONCATENATE(AC$5,"Вр-1")))),'Таблица 6 (типы арм.)'!$F$54:$U$54,0)),0)) | AD13: =IF(SUM($J13:$L13)*INDEX('Таблица 6 (типы арм.)'!$F$6:$U$49,MATCH($D13,'Таблица 6 (типы арм.)'!$D$6:$D$49,0),MATCH((IF(COLUMN(AD$5)>COLUMN($X$5),CONCATENATE(AD$5,"А500С"),IF(COLUMN(AD$5)>COLUMN($S$5),CONCATENATE(AD$5,"А240"),CONCATENATE(AD$5,"Вр-1")))),'Таблица 6 (типы арм.)'!$F$54:$U$54,0))=0,"",ROUND(SUM($J13:$L13)*INDEX('Таблица 6 (типы арм.)'!$F$6:$U$49,MATCH($D13,'Таблица 6 (типы арм.)'!$D$6:$D$49,0),MATCH((IF(COLUMN(AD$5)>COLUMN($X$5),CONCATENATE(AD$5,"А500С"),IF(COLUMN(AD$5)>COLUMN($S$5),CONCATENATE(AD$5,"А240"),CONCATENATE(AD$5,"Вр-1")))),'Таблица 6 (типы арм.)'!$F$54:$U$54,0)),0)) | AE13: =IF(SUM($J13:$L13)*INDEX('Таблица 6 (типы арм.)'!$F$6:$U$49,MATCH($D13,'Таблица 6 (типы арм.)'!$D$6:$D$49,0),MATCH((IF(COLUMN(AE$5)>COLUMN($X$5),CONCATENATE(AE$5,"А500С"),IF(COLUMN(AE$5)>COLUMN($S$5),CONCATENATE(AE$5,"А240"),CONCATENATE(AE$5,"Вр-1")))),'Таблица 6 (типы арм.)'!$F$54:$U$54,0))=0,"",ROUND(SUM($J13:$L13)*INDEX('Таблица 6 (типы арм.)'!$F$6:$U$49,MATCH($D13,'Таблица 6 (типы арм.)'!$D$6:$D$49,0),MATCH((IF(COLUMN(AE$5)>COLUMN($X$5),CONCATENATE(AE$5,"А500С"),IF(COLUMN(AE$5)>COLUMN($S$5),CONCATENATE(AE$5,"А240"),CONCATENATE(AE$5,"Вр-1")))),'Таблица 6 (типы арм.)'!$F$54:$U$54,0)),0)) | AF13: =IF(SUM($J13:$L13)*INDEX('Таблица 6 (типы арм.)'!$F$6:$U$49,MATCH($D13,'Таблица 6 (типы арм.)'!$D$6:$D$49,0),MATCH((IF(COLUMN(AF$5)>COLUMN($X$5),CONCATENATE(AF$5,"А500С"),IF(COLUMN(AF$5)>COLUMN($S$5),CONCATENATE(AF$5,"А240"),CONCATENATE(AF$5,"Вр-1")))),'Таблица 6 (типы арм.)'!$F$54:$U$54,0))=0,"",ROUND(SUM($J13:$L13)*INDEX('Таблица 6 (типы арм.)'!$F$6:$U$49,MATCH($D13,'Таблица 6 (типы арм.)'!$D$6:$D$49,0),MATCH((IF(COLUMN(AF$5)>COLUMN($X$5),CONCATENATE(AF$5,"А500С"),IF(COLUMN(AF$5)>COLUMN($S$5),CONCATENATE(AF$5,"А240"),CONCATENATE(AF$5,"Вр-1")))),'Таблица 6 (типы арм.)'!$F$54:$U$54,0)),0)) | ... AI13: =IF(SUM($J13:$L13)*INDEX('Таблица 6 (типы арм.)'!$F$6:$U$49,MATCH($D13,'Таблица 6 (типы арм.)'!$D$6:$D$49,0),MATCH((IF(COLUMN(AI$5)>COLUMN($X$5),CONCATENATE(AI$5,"А500С"),IF(COLUMN(AI$5)>COLUMN($S$5),CONCATENATE(AI$5,"А240"),CONCATENATE(AI$5,"Вр-1")))),'Таблица 6 (типы арм.)'!$F$54:$U$54,0))=0,"",ROUND(SUM($J13:$L13)*INDEX('Таблица 6 (типы арм.)'!$F$6:$U$49,MATCH($D13,'Таблица 6 (типы арм.)'!$D$6:$D$49,0),MATCH((IF(COLUMN(AI$5)>COLUMN($X$5),CONCATENATE(AI$5,"А500С"),IF(COLUMN(AI$5)>COLUMN($S$5),CONCATENATE(AI$5,"А240"),CONCATENATE(AI$5,"Вр-1")))),'Таблица 6 (типы арм.)'!$F$54:$U$54,0)),0)) | AJ13: =IF((IF(Y13="",0,Y13)+IF(Z13="",0,Z13)+IF(AA13="",0,AA13)+IF(AB13="",0,AB13)+IF(AC13="",0,AC13)+IF(AD13="",0,AD13)+IF(AE13="",0,AE13)+IF(AF13="",0,AF13)+IF(AG13="",0,AG13)+IF(AH13="",0,AH13)+IF(AI13="",0,AI13))=0,"",(IF(Y13="",0,Y13)+IF(Z13="",0,Z13)+IF(AA13="",0,AA13)+IF(AB13="",0,AB13)+IF(AC13="",0,AC13)+IF(AD13="",0,AD13)+IF(AE13="",0,AE13)+IF(AF13="",0,AF13)+IF(AG13="",0,AG13)+IF(AH13="",0,AH13)+IF(AI13="",0,AI13))) | AK13: =IF((IF(AJ13="",0,AJ13)+IF(X13="",0,X13)+IF(S13="",0,S13))=0,"",(IF(AJ13="",0,AJ13)+IF(X13="",0,X13)+IF(S13="",0,S13)))
C14: при отсутствии ФП с данной толщиной строку удалить | D14: 1 | E14: =CONCATENATE($E$8,".",(ROW(G14)-ROW($G$8))) -> 1.6 | F14: Плита фундаментная 1000 мм | G14: куб.м | K14: 670 | M14: =IF((IF(H14="",0,H14)+IF(I14="",0,I14)+IF(J14="",0,J14)+IF(K14="",0,K14)+IF(L14="",0,L14))=0,"",(IF(H14="",0,H14)+IF(I14="",0,I14)+IF(J14="",0,J14)+IF(K14="",0,K14)+IF(L14="",0,L14))) -> 670 | N14: W6 | O14: F150 | P14: =IF(M14="","",IF(M14=0,"",IF(MID(F14,1,4)="Стен",M14/(VALUE(MID(F14,SEARCH(" ",F14,1)+1,SEARCH("мм",F14,1)-SEARCH(" ",F14,1)-2))/1000),IF(MID(F14,1,10)="Плита фунд",SQRT(M14/(VALUE(MID(F14,SEARCH(" ",F14,1)+14,SEARCH("мм",F14,1)-SEARCH(" ",F14,1)-15))/1000))*(4+1)*(VALUE(MID(F14,SEARCH(" ",F14,1)+14,SEARCH("мм",F14,1)-SEARCH(" ",F14,1)-15))/1000),IF(MID(F14,1,4)="Плит",M14/(VALUE(MID(F14,SEARCH(" ",F14,1)+1,SEARCH("мм",F14,1)-SEARCH(" ",F14,1)-2))/1000),IF(MID(F14,1,4)="Площ",M14/(VALUE(MID(F14,SEARCH(" ",F14,1)+12,SEARCH("мм",F14,1)-SEARCH(" ",F14,1)-13))/1000),IF(MID(F14,1,4)="Марш",M14/0.263,IF(MID(F14,1,4)="Коло",M14/((VALUE(LEFT(MID(F14,SEARCH(" ",F14,1)+1,SEARCH("мм",F14,1)-SEARCH(" ",F14,1)-2),SEARCH("х",MID(F14,SEARCH(" ",F14,1)+1,SEARCH("мм",F14,1)-SEARCH(" ",F14,1)-2),1)-1))*VALUE(RIGHT(MID(F14,SEARCH(" ",F14,1)+1,SEARCH("мм",F14,1)-SEARCH(" ",F14,1)-2),LEN(MID(F14,SEARCH(" ",F14,1)+1,SEARCH("мм",F14,1)-SEARCH(" ",F14,1)-2))-SEARCH("х",MID(F14,SEARCH(" ",F14,1)+1,SEARCH("мм",F14,1)-SEARCH(" ",F14,1)-2),1))))/1000000*3.2)*((VALUE(LEFT(MID(F14,SEARCH(" ",F14,1)+1,SEARCH("мм",F14,1)-SEARCH(" ",F14,1)-2),SEARCH("х",MID(F14,SEARCH(" ",F14,1)+1,SEARCH("мм",F14,1)-SEARCH(" ",F14,1)-2),1)-1))+VALUE(RIGHT(MID(F14,SEARCH(" ",F14,1)+1,SEARCH("мм",F14,1)-SEARCH(" ",F14,1)-2),LEN(MID(F14,SEARCH(" ",F14,1)+1,SEARCH("мм",F14,1)-SEARCH(" ",F14,1)-2))-SEARCH("х",MID(F14,SEARCH(" ",F14,1)+1,SEARCH("мм",F14,1)-SEARCH(" ",F14,1)-2),1))))/1000*2*3.2),IF(MID(F14,1,4)="Балк",M14/((VALUE(LEFT(MID(F14,SEARCH(" ",F14,1)+1,SEARCH("мм",F14,1)-SEARCH(" ",F14,1)-5),SEARCH("х",MID(F14,SEARCH(" ",F14,1)+1,SEARCH("мм",F14,1)-SEARCH(" ",F14,1)-5),1)-1))*VALUE(RIGHT(MID(F14,SEARCH(" ",F14,1)+1,SEARCH("мм",F14,1)-SEARCH(" ",F14,1)-5),LEN(MID(F14,SEARCH(" ",F14,1)+1,SEARCH("мм",F14,1)-SEARCH(" ",F14,1)-5))-SEARCH("х",MID(F14,SEARCH(" ",F14,1)+1,SEARCH("мм",F14,1)-SEARCH(" ",F14,1)-5),1))))/1000000*1)*((2*VALUE(LEFT(MID(F14,SEARCH(" ",F14,1)+1,SEARCH("мм",F14,1)-SEARCH(" ",F14,1)-5),SEARCH("х",MID(F14,SEARCH(" ",F14,1)+1,SEARCH("мм",F14,1)-SEARCH(" ",F14,1)-5),1)-1))+VALUE(RIGHT(MID(F14,SEARCH(" ",F14,1)+1,SEARCH("мм",F14,1)-SEARCH(" ",F14,1)-5),LEN(MID(F14,SEARCH(" ",F14,1)+1,SEARCH("мм",F14,1)-SEARCH(" ",F14,1)-5))-SEARCH("х",MID(F14,SEARCH(" ",F14,1)+1,SEARCH("мм",F14,1)-SEARCH(" ",F14,1)-5),1))))/1000*1),IF(MID(F14,1,4)="Капи",M14/(2.8*3.6*0.4)*((2.8+3.6)*2*0.4),"")))))))))) -> 129.42179 | R14: =IF(SUM($J14:$L14)*INDEX('Таблица 6 (типы арм.)'!$F$6:$U$49,MATCH($D14,'Таблица 6 (типы арм.)'!$D$6:$D$49,0),MATCH((IF(COLUMN(R$5)>COLUMN($X$5),CONCATENATE(R$5,"А500С"),IF(COLUMN(R$5)>COLUMN($S$5),CONCATENATE(R$5,"А240"),CONCATENATE(R$5,"Вр-1")))),'Таблица 6 (типы арм.)'!$F$54:$U$54,0))=0,"",ROUND(SUM($J14:$L14)*INDEX('Таблица 6 (типы арм.)'!$F$6:$U$49,MATCH($D14,'Таблица 6 (типы арм.)'!$D$6:$D$49,0),MATCH((IF(COLUMN(R$5)>COLUMN($X$5),CONCATENATE(R$5,"А500С"),IF(COLUMN(R$5)>COLUMN($S$5),CONCATENATE(R$5,"А240"),CONCATENATE(R$5,"Вр-1")))),'Таблица 6 (типы арм.)'!$F$54:$U$54,0)),0)) | S14: =IF((IF(R14="",0,R14))=0,"",(IF(R14="",0,R14))) | T14: =IF(SUM($J14:$L14)*INDEX('Таблица 6 (типы арм.)'!$F$6:$U$49,MATCH($D14,'Таблица 6 (типы арм.)'!$D$6:$D$49,0),MATCH((IF(COLUMN(T$5)>COLUMN($X$5),CONCATENATE(T$5,"А500С"),IF(COLUMN(T$5)>COLUMN($S$5),CONCATENATE(T$5,"А240"),CONCATENATE(T$5,"Вр-1")))),'Таблица 6 (типы арм.)'!$F$54:$U$54,0))=0,"",ROUND(SUM($J14:$L14)*INDEX('Таблица 6 (типы арм.)'!$F$6:$U$49,MATCH($D14,'Таблица 6 (типы арм.)'!$D$6:$D$49,0),MATCH((IF(COLUMN(T$5)>COLUMN($X$5),CONCATENATE(T$5,"А500С"),IF(COLUMN(T$5)>COLUMN($S$5),CONCATENATE(T$5,"А240"),CONCATENATE(T$5,"Вр-1")))),'Таблица 6 (типы арм.)'!$F$54:$U$54,0)),0)) | U14: =IF(SUM($J14:$L14)*INDEX('Таблица 6 (типы арм.)'!$F$6:$U$49,MATCH($D14,'Таблица 6 (типы арм.)'!$D$6:$D$49,0),MATCH((IF(COLUMN(U$5)>COLUMN($X$5),CONCATENATE(U$5,"А500С"),IF(COLUMN(U$5)>COLUMN($S$5),CONCATENATE(U$5,"А240"),CONCATENATE(U$5,"Вр-1")))),'Таблица 6 (типы арм.)'!$F$54:$U$54,0))=0,"",ROUND(SUM($J14:$L14)*INDEX('Таблица 6 (типы арм.)'!$F$6:$U$49,MATCH($D14,'Таблица 6 (типы арм.)'!$D$6:$D$49,0),MATCH((IF(COLUMN(U$5)>COLUMN($X$5),CONCATENATE(U$5,"А500С"),IF(COLUMN(U$5)>COLUMN($S$5),CONCATENATE(U$5,"А240"),CONCATENATE(U$5,"Вр-1")))),'Таблица 6 (типы арм.)'!$F$54:$U$54,0)),0)) | V14: =IF(SUM($J14:$L14)*INDEX('Таблица 6 (типы арм.)'!$F$6:$U$49,MATCH($D14,'Таблица 6 (типы арм.)'!$D$6:$D$49,0),MATCH((IF(COLUMN(V$5)>COLUMN($X$5),CONCATENATE(V$5,"А500С"),IF(COLUMN(V$5)>COLUMN($S$5),CONCATENATE(V$5,"А240"),CONCATENATE(V$5,"Вр-1")))),'Таблица 6 (типы арм.)'!$F$54:$U$54,0))=0,"",ROUND(SUM($J14:$L14)*INDEX('Таблица 6 (типы арм.)'!$F$6:$U$49,MATCH($D14,'Таблица 6 (типы арм.)'!$D$6:$D$49,0),MATCH((IF(COLUMN(V$5)>COLUMN($X$5),CONCATENATE(V$5,"А500С"),IF(COLUMN(V$5)>COLUMN($S$5),CONCATENATE(V$5,"А240"),CONCATENATE(V$5,"Вр-1")))),'Таблица 6 (типы арм.)'!$F$54:$U$54,0)),0)) | W14: =IF(SUM($J14:$L14)*INDEX('Таблица 6 (типы арм.)'!$F$6:$U$49,MATCH($D14,'Таблица 6 (типы арм.)'!$D$6:$D$49,0),MATCH((IF(COLUMN(W$5)>COLUMN($X$5),CONCATENATE(W$5,"А500С"),IF(COLUMN(W$5)>COLUMN($S$5),CONCATENATE(W$5,"А240"),CONCATENATE(W$5,"Вр-1")))),'Таблица 6 (типы арм.)'!$F$54:$U$54,0))=0,"",ROUND(SUM($J14:$L14)*INDEX('Таблица 6 (типы арм.)'!$F$6:$U$49,MATCH($D14,'Таблица 6 (типы арм.)'!$D$6:$D$49,0),MATCH((IF(COLUMN(W$5)>COLUMN($X$5),CONCATENATE(W$5,"А500С"),IF(COLUMN(W$5)>COLUMN($S$5),CONCATENATE(W$5,"А240"),CONCATENATE(W$5,"Вр-1")))),'Таблица 6 (типы арм.)'!$F$54:$U$54,0)),0)) | X14: =IF((IF(T14="",0,T14)+IF(U14="",0,U14)+IF(V14="",0,V14)+IF(W14="",0,W14))=0,"",(IF(T14="",0,T14)+IF(U14="",0,U14)+IF(V14="",0,V14)+IF(W14="",0,W14))) | Y14: =IF(SUM($J14:$L14)*INDEX('Таблица 6 (типы арм.)'!$F$6:$U$49,MATCH($D14,'Таблица 6 (типы арм.)'!$D$6:$D$49,0),MATCH((IF(COLUMN(Y$5)>COLUMN($X$5),CONCATENATE(Y$5,"А500С"),IF(COLUMN(Y$5)>COLUMN($S$5),CONCATENATE(Y$5,"А240"),CONCATENATE(Y$5,"Вр-1")))),'Таблица 6 (типы арм.)'!$F$54:$U$54,0))=0,"",ROUND(SUM($J14:$L14)*INDEX('Таблица 6 (типы арм.)'!$F$6:$U$49,MATCH($D14,'Таблица 6 (типы арм.)'!$D$6:$D$49,0),MATCH((IF(COLUMN(Y$5)>COLUMN($X$5),CONCATENATE(Y$5,"А500С"),IF(COLUMN(Y$5)>COLUMN($S$5),CONCATENATE(Y$5,"А240"),CONCATENATE(Y$5,"Вр-1")))),'Таблица 6 (типы арм.)'!$F$54:$U$54,0)),0)) | Z14: =IF(SUM($J14:$L14)*INDEX('Таблица 6 (типы арм.)'!$F$6:$U$49,MATCH($D14,'Таблица 6 (типы арм.)'!$D$6:$D$49,0),MATCH((IF(COLUMN(Z$5)>COLUMN($X$5),CONCATENATE(Z$5,"А500С"),IF(COLUMN(Z$5)>COLUMN($S$5),CONCATENATE(Z$5,"А240"),CONCATENATE(Z$5,"Вр-1")))),'Таблица 6 (типы арм.)'!$F$54:$U$54,0))=0,"",ROUND(SUM($J14:$L14)*INDEX('Таблица 6 (типы арм.)'!$F$6:$U$49,MATCH($D14,'Таблица 6 (типы арм.)'!$D$6:$D$49,0),MATCH((IF(COLUMN(Z$5)>COLUMN($X$5),CONCATENATE(Z$5,"А500С"),IF(COLUMN(Z$5)>COLUMN($S$5),CONCATENATE(Z$5,"А240"),CONCATENATE(Z$5,"Вр-1")))),'Таблица 6 (типы арм.)'!$F$54:$U$54,0)),0)) | AA14: =IF(SUM($J14:$L14)*INDEX('Таблица 6 (типы арм.)'!$F$6:$U$49,MATCH($D14,'Таблица 6 (типы арм.)'!$D$6:$D$49,0),MATCH((IF(COLUMN(AA$5)>COLUMN($X$5),CONCATENATE(AA$5,"А500С"),IF(COLUMN(AA$5)>COLUMN($S$5),CONCATENATE(AA$5,"А240"),CONCATENATE(AA$5,"Вр-1")))),'Таблица 6 (типы арм.)'!$F$54:$U$54,0))=0,"",ROUND(SUM($J14:$L14)*INDEX('Таблица 6 (типы арм.)'!$F$6:$U$49,MATCH($D14,'Таблица 6 (типы арм.)'!$D$6:$D$49,0),MATCH((IF(COLUMN(AA$5)>COLUMN($X$5),CONCATENATE(AA$5,"А500С"),IF(COLUMN(AA$5)>COLUMN($S$5),CONCATENATE(AA$5,"А240"),CONCATENATE(AA$5,"Вр-1")))),'Таблица 6 (типы арм.)'!$F$54:$U$54,0)),0)) -> 6185 | AB14: =IF(SUM($J14:$L14)*INDEX('Таблица 6 (типы арм.)'!$F$6:$U$49,MATCH($D14,'Таблица 6 (типы арм.)'!$D$6:$D$49,0),MATCH((IF(COLUMN(AB$5)>COLUMN($X$5),CONCATENATE(AB$5,"А500С"),IF(COLUMN(AB$5)>COLUMN($S$5),CONCATENATE(AB$5,"А240"),CONCATENATE(AB$5,"Вр-1")))),'Таблица 6 (типы арм.)'!$F$54:$U$54,0))=0,"",ROUND(SUM($J14:$L14)*INDEX('Таблица 6 (типы арм.)'!$F$6:$U$49,MATCH($D14,'Таблица 6 (типы арм.)'!$D$6:$D$49,0),MATCH((IF(COLUMN(AB$5)>COLUMN($X$5),CONCATENATE(AB$5,"А500С"),IF(COLUMN(AB$5)>COLUMN($S$5),CONCATENATE(AB$5,"А240"),CONCATENATE(AB$5,"Вр-1")))),'Таблица 6 (типы арм.)'!$F$54:$U$54,0)),0)) | AC14: =IF(SUM($J14:$L14)*INDEX('Таблица 6 (типы арм.)'!$F$6:$U$49,MATCH($D14,'Таблица 6 (типы арм.)'!$D$6:$D$49,0),MATCH((IF(COLUMN(AC$5)>COLUMN($X$5),CONCATENATE(AC$5,"А500С"),IF(COLUMN(AC$5)>COLUMN($S$5),CONCATENATE(AC$5,"А240"),CONCATENATE(AC$5,"Вр-1")))),'Таблица 6 (типы арм.)'!$F$54:$U$54,0))=0,"",ROUND(SUM($J14:$L14)*INDEX('Таблица 6 (типы арм.)'!$F$6:$U$49,MATCH($D14,'Таблица 6 (типы арм.)'!$D$6:$D$49,0),MATCH((IF(COLUMN(AC$5)>COLUMN($X$5),CONCATENATE(AC$5,"А500С"),IF(COLUMN(AC$5)>COLUMN($S$5),CONCATENATE(AC$5,"А240"),CONCATENATE(AC$5,"Вр-1")))),'Таблица 6 (типы арм.)'!$F$54:$U$54,0)),0)) -> 27058 | AD14: =IF(SUM($J14:$L14)*INDEX('Таблица 6 (типы арм.)'!$F$6:$U$49,MATCH($D14,'Таблица 6 (типы арм.)'!$D$6:$D$49,0),MATCH((IF(COLUMN(AD$5)>COLUMN($X$5),CONCATENATE(AD$5,"А500С"),IF(COLUMN(AD$5)>COLUMN($S$5),CONCATENATE(AD$5,"А240"),CONCATENATE(AD$5,"Вр-1")))),'Таблица 6 (типы арм.)'!$F$54:$U$54,0))=0,"",ROUND(SUM($J14:$L14)*INDEX('Таблица 6 (типы арм.)'!$F$6:$U$49,MATCH($D14,'Таблица 6 (типы арм.)'!$D$6:$D$49,0),MATCH((IF(COLUMN(AD$5)>COLUMN($X$5),CONCATENATE(AD$5,"А500С"),IF(COLUMN(AD$5)>COLUMN($S$5),CONCATENATE(AD$5,"А240"),CONCATENATE(AD$5,"Вр-1")))),'Таблица 6 (типы арм.)'!$F$54:$U$54,0)),0)) -> 8847 | AE14: =IF(SUM($J14:$L14)*INDEX('Таблица 6 (типы арм.)'!$F$6:$U$49,MATCH($D14,'Таблица 6 (типы арм.)'!$D$6:$D$49,0),MATCH((IF(COLUMN(AE$5)>COLUMN($X$5),CONCATENATE(AE$5,"А500С"),IF(COLUMN(AE$5)>COLUMN($S$5),CONCATENATE(AE$5,"А240"),CONCATENATE(AE$5,"Вр-1")))),'Таблица 6 (типы арм.)'!$F$54:$U$54,0))=0,"",ROUND(SUM($J14:$L14)*INDEX('Таблица 6 (типы арм.)'!$F$6:$U$49,MATCH($D14,'Таблица 6 (типы арм.)'!$D$6:$D$49,0),MATCH((IF(COLUMN(AE$5)>COLUMN($X$5),CONCATENATE(AE$5,"А500С"),IF(COLUMN(AE$5)>COLUMN($S$5),CONCATENATE(AE$5,"А240"),CONCATENATE(AE$5,"Вр-1")))),'Таблица 6 (типы арм.)'!$F$54:$U$54,0)),0)) -> 7903 | AF14: =IF(SUM($J14:$L14)*INDEX('Таблица 6 (типы арм.)'!$F$6:$U$49,MATCH($D14,'Таблица 6 (типы арм.)'!$D$6:$D$49,0),MATCH((IF(COLUMN(AF$5)>COLUMN($X$5),CONCATENATE(AF$5,"А500С"),IF(COLUMN(AF$5)>COLUMN($S$5),CONCATENATE(AF$5,"А240"),CONCATENATE(AF$5,"Вр-1")))),'Таблица 6 (типы арм.)'!$F$54:$U$54,0))=0,"",ROUND(SUM($J14:$L14)*INDEX('Таблица 6 (типы арм.)'!$F$6:$U$49,MATCH($D14,'Таблица 6 (типы арм.)'!$D$6:$D$49,0),MATCH((IF(COLUMN(AF$5)>COLUMN($X$5),CONCATENATE(AF$5,"А500С"),IF(COLUMN(AF$5)>COLUMN($S$5),CONCATENATE(AF$5,"А240"),CONCATENATE(AF$5,"Вр-1")))),'Таблица 6 (типы арм.)'!$F$54:$U$54,0)),0)) -> 10651 | ... AI14: =IF(SUM($J14:$L14)*INDEX('Таблица 6 (типы арм.)'!$F$6:$U$49,MATCH($D14,'Таблица 6 (типы арм.)'!$D$6:$D$49,0),MATCH((IF(COLUMN(AI$5)>COLUMN($X$5),CONCATENATE(AI$5,"А500С"),IF(COLUMN(AI$5)>COLUMN($S$5),CONCATENATE(AI$5,"А240"),CONCATENATE(AI$5,"Вр-1")))),'Таблица 6 (типы арм.)'!$F$54:$U$54,0))=0,"",ROUND(SUM($J14:$L14)*INDEX('Таблица 6 (типы арм.)'!$F$6:$U$49,MATCH($D14,'Таблица 6 (типы арм.)'!$D$6:$D$49,0),MATCH((IF(COLUMN(AI$5)>COLUMN($X$5),CONCATENATE(AI$5,"А500С"),IF(COLUMN(AI$5)>COLUMN($S$5),CONCATENATE(AI$5,"А240"),CONCATENATE(AI$5,"Вр-1")))),'Таблица 6 (типы арм.)'!$F$54:$U$54,0)),0)) -> 16235 | AJ14: =IF((IF(Y14="",0,Y14)+IF(Z14="",0,Z14)+IF(AA14="",0,AA14)+IF(AB14="",0,AB14)+IF(AC14="",0,AC14)+IF(AD14="",0,AD14)+IF(AE14="",0,AE14)+IF(AF14="",0,AF14)+IF(AG14="",0,AG14)+IF(AH14="",0,AH14)+IF(AI14="",0,AI14))=0,"",(IF(Y14="",0,Y14)+IF(Z14="",0,Z14)+IF(AA14="",0,AA14)+IF(AB14="",0,AB14)+IF(AC14="",0,AC14)+IF(AD14="",0,AD14)+IF(AE14="",0,AE14)+IF(AF14="",0,AF14)+IF(AG14="",0,AG14)+IF(AH14="",0,AH14)+IF(AI14="",0,AI14))) -> 113729 | AK14: =IF((IF(AJ14="",0,AJ14)+IF(X14="",0,X14)+IF(S14="",0,S14))=0,"",(IF(AJ14="",0,AJ14)+IF(X14="",0,X14)+IF(S14="",0,S14))) -> 113729 | AL14: 111
C15: при отсутствии ФП с данной толщиной строку удалить | D15: 1 | E15: =CONCATENATE($E$8,".",(ROW(G15)-ROW($G$8))) -> 1.7 | F15: Плита фундаментная 1100 мм | G15: куб.м | M15: =IF((IF(H15="",0,H15)+IF(I15="",0,I15)+IF(J15="",0,J15)+IF(K15="",0,K15)+IF(L15="",0,L15))=0,"",(IF(H15="",0,H15)+IF(I15="",0,I15)+IF(J15="",0,J15)+IF(K15="",0,K15)+IF(L15="",0,L15))) | N15: W6 | O15: F150 | P15: =IF(M15="","",IF(M15=0,"",IF(MID(F15,1,4)="Стен",M15/(VALUE(MID(F15,SEARCH(" ",F15,1)+1,SEARCH("мм",F15,1)-SEARCH(" ",F15,1)-2))/1000),IF(MID(F15,1,10)="Плита фунд",SQRT(M15/(VALUE(MID(F15,SEARCH(" ",F15,1)+14,SEARCH("мм",F15,1)-SEARCH(" ",F15,1)-15))/1000))*(4+1)*(VALUE(MID(F15,SEARCH(" ",F15,1)+14,SEARCH("мм",F15,1)-SEARCH(" ",F15,1)-15))/1000),IF(MID(F15,1,4)="Плит",M15/(VALUE(MID(F15,SEARCH(" ",F15,1)+1,SEARCH("мм",F15,1)-SEARCH(" ",F15,1)-2))/1000),IF(MID(F15,1,4)="Площ",M15/(VALUE(MID(F15,SEARCH(" ",F15,1)+12,SEARCH("мм",F15,1)-SEARCH(" ",F15,1)-13))/1000),IF(MID(F15,1,4)="Марш",M15/0.263,IF(MID(F15,1,4)="Коло",M15/((VALUE(LEFT(MID(F15,SEARCH(" ",F15,1)+1,SEARCH("мм",F15,1)-SEARCH(" ",F15,1)-2),SEARCH("х",MID(F15,SEARCH(" ",F15,1)+1,SEARCH("мм",F15,1)-SEARCH(" ",F15,1)-2),1)-1))*VALUE(RIGHT(MID(F15,SEARCH(" ",F15,1)+1,SEARCH("мм",F15,1)-SEARCH(" ",F15,1)-2),LEN(MID(F15,SEARCH(" ",F15,1)+1,SEARCH("мм",F15,1)-SEARCH(" ",F15,1)-2))-SEARCH("х",MID(F15,SEARCH(" ",F15,1)+1,SEARCH("мм",F15,1)-SEARCH(" ",F15,1)-2),1))))/1000000*3.2)*((VALUE(LEFT(MID(F15,SEARCH(" ",F15,1)+1,SEARCH("мм",F15,1)-SEARCH(" ",F15,1)-2),SEARCH("х",MID(F15,SEARCH(" ",F15,1)+1,SEARCH("мм",F15,1)-SEARCH(" ",F15,1)-2),1)-1))+VALUE(RIGHT(MID(F15,SEARCH(" ",F15,1)+1,SEARCH("мм",F15,1)-SEARCH(" ",F15,1)-2),LEN(MID(F15,SEARCH(" ",F15,1)+1,SEARCH("мм",F15,1)-SEARCH(" ",F15,1)-2))-SEARCH("х",MID(F15,SEARCH(" ",F15,1)+1,SEARCH("мм",F15,1)-SEARCH(" ",F15,1)-2),1))))/1000*2*3.2),IF(MID(F15,1,4)="Балк",M15/((VALUE(LEFT(MID(F15,SEARCH(" ",F15,1)+1,SEARCH("мм",F15,1)-SEARCH(" ",F15,1)-5),SEARCH("х",MID(F15,SEARCH(" ",F15,1)+1,SEARCH("мм",F15,1)-SEARCH(" ",F15,1)-5),1)-1))*VALUE(RIGHT(MID(F15,SEARCH(" ",F15,1)+1,SEARCH("мм",F15,1)-SEARCH(" ",F15,1)-5),LEN(MID(F15,SEARCH(" ",F15,1)+1,SEARCH("мм",F15,1)-SEARCH(" ",F15,1)-5))-SEARCH("х",MID(F15,SEARCH(" ",F15,1)+1,SEARCH("мм",F15,1)-SEARCH(" ",F15,1)-5),1))))/1000000*1)*((2*VALUE(LEFT(MID(F15,SEARCH(" ",F15,1)+1,SEARCH("мм",F15,1)-SEARCH(" ",F15,1)-5),SEARCH("х",MID(F15,SEARCH(" ",F15,1)+1,SEARCH("мм",F15,1)-SEARCH(" ",F15,1)-5),1)-1))+VALUE(RIGHT(MID(F15,SEARCH(" ",F15,1)+1,SEARCH("мм",F15,1)-SEARCH(" ",F15,1)-5),LEN(MID(F15,SEARCH(" ",F15,1)+1,SEARCH("мм",F15,1)-SEARCH(" ",F15,1)-5))-SEARCH("х",MID(F15,SEARCH(" ",F15,1)+1,SEARCH("мм",F15,1)-SEARCH(" ",F15,1)-5),1))))/1000*1),IF(MID(F15,1,4)="Капи",M15/(2.8*3.6*0.4)*((2.8+3.6)*2*0.4),"")))))))))) | R15: =IF(SUM($J15:$L15)*INDEX('Таблица 6 (типы арм.)'!$F$6:$U$49,MATCH($D15,'Таблица 6 (типы арм.)'!$D$6:$D$49,0),MATCH((IF(COLUMN(R$5)>COLUMN($X$5),CONCATENATE(R$5,"А500С"),IF(COLUMN(R$5)>COLUMN($S$5),CONCATENATE(R$5,"А240"),CONCATENATE(R$5,"Вр-1")))),'Таблица 6 (типы арм.)'!$F$54:$U$54,0))=0,"",ROUND(SUM($J15:$L15)*INDEX('Таблица 6 (типы арм.)'!$F$6:$U$49,MATCH($D15,'Таблица 6 (типы арм.)'!$D$6:$D$49,0),MATCH((IF(COLUMN(R$5)>COLUMN($X$5),CONCATENATE(R$5,"А500С"),IF(COLUMN(R$5)>COLUMN($S$5),CONCATENATE(R$5,"А240"),CONCATENATE(R$5,"Вр-1")))),'Таблица 6 (типы арм.)'!$F$54:$U$54,0)),0)) | S15: =IF((IF(R15="",0,R15))=0,"",(IF(R15="",0,R15))) | T15: =IF(SUM($J15:$L15)*INDEX('Таблица 6 (типы арм.)'!$F$6:$U$49,MATCH($D15,'Таблица 6 (типы арм.)'!$D$6:$D$49,0),MATCH((IF(COLUMN(T$5)>COLUMN($X$5),CONCATENATE(T$5,"А500С"),IF(COLUMN(T$5)>COLUMN($S$5),CONCATENATE(T$5,"А240"),CONCATENATE(T$5,"Вр-1")))),'Таблица 6 (типы арм.)'!$F$54:$U$54,0))=0,"",ROUND(SUM($J15:$L15)*INDEX('Таблица 6 (типы арм.)'!$F$6:$U$49,MATCH($D15,'Таблица 6 (типы арм.)'!$D$6:$D$49,0),MATCH((IF(COLUMN(T$5)>COLUMN($X$5),CONCATENATE(T$5,"А500С"),IF(COLUMN(T$5)>COLUMN($S$5),CONCATENATE(T$5,"А240"),CONCATENATE(T$5,"Вр-1")))),'Таблица 6 (типы арм.)'!$F$54:$U$54,0)),0)) | U15: =IF(SUM($J15:$L15)*INDEX('Таблица 6 (типы арм.)'!$F$6:$U$49,MATCH($D15,'Таблица 6 (типы арм.)'!$D$6:$D$49,0),MATCH((IF(COLUMN(U$5)>COLUMN($X$5),CONCATENATE(U$5,"А500С"),IF(COLUMN(U$5)>COLUMN($S$5),CONCATENATE(U$5,"А240"),CONCATENATE(U$5,"Вр-1")))),'Таблица 6 (типы арм.)'!$F$54:$U$54,0))=0,"",ROUND(SUM($J15:$L15)*INDEX('Таблица 6 (типы арм.)'!$F$6:$U$49,MATCH($D15,'Таблица 6 (типы арм.)'!$D$6:$D$49,0),MATCH((IF(COLUMN(U$5)>COLUMN($X$5),CONCATENATE(U$5,"А500С"),IF(COLUMN(U$5)>COLUMN($S$5),CONCATENATE(U$5,"А240"),CONCATENATE(U$5,"Вр-1")))),'Таблица 6 (типы арм.)'!$F$54:$U$54,0)),0)) | V15: =IF(SUM($J15:$L15)*INDEX('Таблица 6 (типы арм.)'!$F$6:$U$49,MATCH($D15,'Таблица 6 (типы арм.)'!$D$6:$D$49,0),MATCH((IF(COLUMN(V$5)>COLUMN($X$5),CONCATENATE(V$5,"А500С"),IF(COLUMN(V$5)>COLUMN($S$5),CONCATENATE(V$5,"А240"),CONCATENATE(V$5,"Вр-1")))),'Таблица 6 (типы арм.)'!$F$54:$U$54,0))=0,"",ROUND(SUM($J15:$L15)*INDEX('Таблица 6 (типы арм.)'!$F$6:$U$49,MATCH($D15,'Таблица 6 (типы арм.)'!$D$6:$D$49,0),MATCH((IF(COLUMN(V$5)>COLUMN($X$5),CONCATENATE(V$5,"А500С"),IF(COLUMN(V$5)>COLUMN($S$5),CONCATENATE(V$5,"А240"),CONCATENATE(V$5,"Вр-1")))),'Таблица 6 (типы арм.)'!$F$54:$U$54,0)),0)) | W15: =IF(SUM($J15:$L15)*INDEX('Таблица 6 (типы арм.)'!$F$6:$U$49,MATCH($D15,'Таблица 6 (типы арм.)'!$D$6:$D$49,0),MATCH((IF(COLUMN(W$5)>COLUMN($X$5),CONCATENATE(W$5,"А500С"),IF(COLUMN(W$5)>COLUMN($S$5),CONCATENATE(W$5,"А240"),CONCATENATE(W$5,"Вр-1")))),'Таблица 6 (типы арм.)'!$F$54:$U$54,0))=0,"",ROUND(SUM($J15:$L15)*INDEX('Таблица 6 (типы арм.)'!$F$6:$U$49,MATCH($D15,'Таблица 6 (типы арм.)'!$D$6:$D$49,0),MATCH((IF(COLUMN(W$5)>COLUMN($X$5),CONCATENATE(W$5,"А500С"),IF(COLUMN(W$5)>COLUMN($S$5),CONCATENATE(W$5,"А240"),CONCATENATE(W$5,"Вр-1")))),'Таблица 6 (типы арм.)'!$F$54:$U$54,0)),0)) | X15: =IF((IF(T15="",0,T15)+IF(U15="",0,U15)+IF(V15="",0,V15)+IF(W15="",0,W15))=0,"",(IF(T15="",0,T15)+IF(U15="",0,U15)+IF(V15="",0,V15)+IF(W15="",0,W15))) | Y15: =IF(SUM($J15:$L15)*INDEX('Таблица 6 (типы арм.)'!$F$6:$U$49,MATCH($D15,'Таблица 6 (типы арм.)'!$D$6:$D$49,0),MATCH((IF(COLUMN(Y$5)>COLUMN($X$5),CONCATENATE(Y$5,"А500С"),IF(COLUMN(Y$5)>COLUMN($S$5),CONCATENATE(Y$5,"А240"),CONCATENATE(Y$5,"Вр-1")))),'Таблица 6 (типы арм.)'!$F$54:$U$54,0))=0,"",ROUND(SUM($J15:$L15)*INDEX('Таблица 6 (типы арм.)'!$F$6:$U$49,MATCH($D15,'Таблица 6 (типы арм.)'!$D$6:$D$49,0),MATCH((IF(COLUMN(Y$5)>COLUMN($X$5),CONCATENATE(Y$5,"А500С"),IF(COLUMN(Y$5)>COLUMN($S$5),CONCATENATE(Y$5,"А240"),CONCATENATE(Y$5,"Вр-1")))),'Таблица 6 (типы арм.)'!$F$54:$U$54,0)),0)) | Z15: =IF(SUM($J15:$L15)*INDEX('Таблица 6 (типы арм.)'!$F$6:$U$49,MATCH($D15,'Таблица 6 (типы арм.)'!$D$6:$D$49,0),MATCH((IF(COLUMN(Z$5)>COLUMN($X$5),CONCATENATE(Z$5,"А500С"),IF(COLUMN(Z$5)>COLUMN($S$5),CONCATENATE(Z$5,"А240"),CONCATENATE(Z$5,"Вр-1")))),'Таблица 6 (типы арм.)'!$F$54:$U$54,0))=0,"",ROUND(SUM($J15:$L15)*INDEX('Таблица 6 (типы арм.)'!$F$6:$U$49,MATCH($D15,'Таблица 6 (типы арм.)'!$D$6:$D$49,0),MATCH((IF(COLUMN(Z$5)>COLUMN($X$5),CONCATENATE(Z$5,"А500С"),IF(COLUMN(Z$5)>COLUMN($S$5),CONCATENATE(Z$5,"А240"),CONCATENATE(Z$5,"Вр-1")))),'Таблица 6 (типы арм.)'!$F$54:$U$54,0)),0)) | AA15: =IF(SUM($J15:$L15)*INDEX('Таблица 6 (типы арм.)'!$F$6:$U$49,MATCH($D15,'Таблица 6 (типы арм.)'!$D$6:$D$49,0),MATCH((IF(COLUMN(AA$5)>COLUMN($X$5),CONCATENATE(AA$5,"А500С"),IF(COLUMN(AA$5)>COLUMN($S$5),CONCATENATE(AA$5,"А240"),CONCATENATE(AA$5,"Вр-1")))),'Таблица 6 (типы арм.)'!$F$54:$U$54,0))=0,"",ROUND(SUM($J15:$L15)*INDEX('Таблица 6 (типы арм.)'!$F$6:$U$49,MATCH($D15,'Таблица 6 (типы арм.)'!$D$6:$D$49,0),MATCH((IF(COLUMN(AA$5)>COLUMN($X$5),CONCATENATE(AA$5,"А500С"),IF(COLUMN(AA$5)>COLUMN($S$5),CONCATENATE(AA$5,"А240"),CONCATENATE(AA$5,"Вр-1")))),'Таблица 6 (типы арм.)'!$F$54:$U$54,0)),0)) | AB15: =IF(SUM($J15:$L15)*INDEX('Таблица 6 (типы арм.)'!$F$6:$U$49,MATCH($D15,'Таблица 6 (типы арм.)'!$D$6:$D$49,0),MATCH((IF(COLUMN(AB$5)>COLUMN($X$5),CONCATENATE(AB$5,"А500С"),IF(COLUMN(AB$5)>COLUMN($S$5),CONCATENATE(AB$5,"А240"),CONCATENATE(AB$5,"Вр-1")))),'Таблица 6 (типы арм.)'!$F$54:$U$54,0))=0,"",ROUND(SUM($J15:$L15)*INDEX('Таблица 6 (типы арм.)'!$F$6:$U$49,MATCH($D15,'Таблица 6 (типы арм.)'!$D$6:$D$49,0),MATCH((IF(COLUMN(AB$5)>COLUMN($X$5),CONCATENATE(AB$5,"А500С"),IF(COLUMN(AB$5)>COLUMN($S$5),CONCATENATE(AB$5,"А240"),CONCATENATE(AB$5,"Вр-1")))),'Таблица 6 (типы арм.)'!$F$54:$U$54,0)),0)) | AC15: =IF(SUM($J15:$L15)*INDEX('Таблица 6 (типы арм.)'!$F$6:$U$49,MATCH($D15,'Таблица 6 (типы арм.)'!$D$6:$D$49,0),MATCH((IF(COLUMN(AC$5)>COLUMN($X$5),CONCATENATE(AC$5,"А500С"),IF(COLUMN(AC$5)>COLUMN($S$5),CONCATENATE(AC$5,"А240"),CONCATENATE(AC$5,"Вр-1")))),'Таблица 6 (типы арм.)'!$F$54:$U$54,0))=0,"",ROUND(SUM($J15:$L15)*INDEX('Таблица 6 (типы арм.)'!$F$6:$U$49,MATCH($D15,'Таблица 6 (типы арм.)'!$D$6:$D$49,0),MATCH((IF(COLUMN(AC$5)>COLUMN($X$5),CONCATENATE(AC$5,"А500С"),IF(COLUMN(AC$5)>COLUMN($S$5),CONCATENATE(AC$5,"А240"),CONCATENATE(AC$5,"Вр-1")))),'Таблица 6 (типы арм.)'!$F$54:$U$54,0)),0)) | AD15: =IF(SUM($J15:$L15)*INDEX('Таблица 6 (типы арм.)'!$F$6:$U$49,MATCH($D15,'Таблица 6 (типы арм.)'!$D$6:$D$49,0),MATCH((IF(COLUMN(AD$5)>COLUMN($X$5),CONCATENATE(AD$5,"А500С"),IF(COLUMN(AD$5)>COLUMN($S$5),CONCATENATE(AD$5,"А240"),CONCATENATE(AD$5,"Вр-1")))),'Таблица 6 (типы арм.)'!$F$54:$U$54,0))=0,"",ROUND(SUM($J15:$L15)*INDEX('Таблица 6 (типы арм.)'!$F$6:$U$49,MATCH($D15,'Таблица 6 (типы арм.)'!$D$6:$D$49,0),MATCH((IF(COLUMN(AD$5)>COLUMN($X$5),CONCATENATE(AD$5,"А500С"),IF(COLUMN(AD$5)>COLUMN($S$5),CONCATENATE(AD$5,"А240"),CONCATENATE(AD$5,"Вр-1")))),'Таблица 6 (типы арм.)'!$F$54:$U$54,0)),0)) | AE15: =IF(SUM($J15:$L15)*INDEX('Таблица 6 (типы арм.)'!$F$6:$U$49,MATCH($D15,'Таблица 6 (типы арм.)'!$D$6:$D$49,0),MATCH((IF(COLUMN(AE$5)>COLUMN($X$5),CONCATENATE(AE$5,"А500С"),IF(COLUMN(AE$5)>COLUMN($S$5),CONCATENATE(AE$5,"А240"),CONCATENATE(AE$5,"Вр-1")))),'Таблица 6 (типы арм.)'!$F$54:$U$54,0))=0,"",ROUND(SUM($J15:$L15)*INDEX('Таблица 6 (типы арм.)'!$F$6:$U$49,MATCH($D15,'Таблица 6 (типы арм.)'!$D$6:$D$49,0),MATCH((IF(COLUMN(AE$5)>COLUMN($X$5),CONCATENATE(AE$5,"А500С"),IF(COLUMN(AE$5)>COLUMN($S$5),CONCATENATE(AE$5,"А240"),CONCATENATE(AE$5,"Вр-1")))),'Таблица 6 (типы арм.)'!$F$54:$U$54,0)),0)) | AF15: =IF(SUM($J15:$L15)*INDEX('Таблица 6 (типы арм.)'!$F$6:$U$49,MATCH($D15,'Таблица 6 (типы арм.)'!$D$6:$D$49,0),MATCH((IF(COLUMN(AF$5)>COLUMN($X$5),CONCATENATE(AF$5,"А500С"),IF(COLUMN(AF$5)>COLUMN($S$5),CONCATENATE(AF$5,"А240"),CONCATENATE(AF$5,"Вр-1")))),'Таблица 6 (типы арм.)'!$F$54:$U$54,0))=0,"",ROUND(SUM($J15:$L15)*INDEX('Таблица 6 (типы арм.)'!$F$6:$U$49,MATCH($D15,'Таблица 6 (типы арм.)'!$D$6:$D$49,0),MATCH((IF(COLUMN(AF$5)>COLUMN($X$5),CONCATENATE(AF$5,"А500С"),IF(COLUMN(AF$5)>COLUMN($S$5),CONCATENATE(AF$5,"А240"),CONCATENATE(AF$5,"Вр-1")))),'Таблица 6 (типы арм.)'!$F$54:$U$54,0)),0)) | ... AI15: =IF(SUM($J15:$L15)*INDEX('Таблица 6 (типы арм.)'!$F$6:$U$49,MATCH($D15,'Таблица 6 (типы арм.)'!$D$6:$D$49,0),MATCH((IF(COLUMN(AI$5)>COLUMN($X$5),CONCATENATE(AI$5,"А500С"),IF(COLUMN(AI$5)>COLUMN($S$5),CONCATENATE(AI$5,"А240"),CONCATENATE(AI$5,"Вр-1")))),'Таблица 6 (типы арм.)'!$F$54:$U$54,0))=0,"",ROUND(SUM($J15:$L15)*INDEX('Таблица 6 (типы арм.)'!$F$6:$U$49,MATCH($D15,'Таблица 6 (типы арм.)'!$D$6:$D$49,0),MATCH((IF(COLUMN(AI$5)>COLUMN($X$5),CONCATENATE(AI$5,"А500С"),IF(COLUMN(AI$5)>COLUMN($S$5),CONCATENATE(AI$5,"А240"),CONCATENATE(AI$5,"Вр-1")))),'Таблица 6 (типы арм.)'!$F$54:$U$54,0)),0)) | AJ15: =IF((IF(Y15="",0,Y15)+IF(Z15="",0,Z15)+IF(AA15="",0,AA15)+IF(AB15="",0,AB15)+IF(AC15="",0,AC15)+IF(AD15="",0,AD15)+IF(AE15="",0,AE15)+IF(AF15="",0,AF15)+IF(AG15="",0,AG15)+IF(AH15="",0,AH15)+IF(AI15="",0,AI15))=0,"",(IF(Y15="",0,Y15)+IF(Z15="",0,Z15)+IF(AA15="",0,AA15)+IF(AB15="",0,AB15)+IF(AC15="",0,AC15)+IF(AD15="",0,AD15)+IF(AE15="",0,AE15)+IF(AF15="",0,AF15)+IF(AG15="",0,AG15)+IF(AH15="",0,AH15)+IF(AI15="",0,AI15))) | AK15: =IF((IF(AJ15="",0,AJ15)+IF(X15="",0,X15)+IF(S15="",0,S15))=0,"",(IF(AJ15="",0,AJ15)+IF(X15="",0,X15)+IF(S15="",0,S15)))
C16: к данным строкам относится расход на арматуру сварных каркасов в фундаментных плитах, см. примечания к таблице 5 и таблице 6; наличие пространственных каркасов уточнить при адресном проектировании, в случае необходимости соответствующую строку удалить | D16: 1.1 | E16: =E8+1 -> 2 | F16: Каркасы плоские арматурные в фундаментной плите | G16: кг | M16: =IF((IF(H16="",0,H16)+IF(I16="",0,I16)+IF(J16="",0,J16)+IF(K16="",0,K16)+IF(L16="",0,L16))=0,"",(IF(H16="",0,H16)+IF(I16="",0,I16)+IF(J16="",0,J16)+IF(K16="",0,K16)+IF(L16="",0,L16))) | R16: =IF(SUM($J8:$L8)*INDEX('Таблица 6 (типы арм.)'!$F$6:$U$49,MATCH($D16,'Таблица 6 (типы арм.)'!$D$6:$D$49,0),MATCH((IF(COLUMN(R$5)>COLUMN($X$5),CONCATENATE(R$5,"А500С"),IF(COLUMN(R$5)>COLUMN($S$5),CONCATENATE(R$5,"А240"),CONCATENATE(R$5,"Вр-1")))),'Таблица 6 (типы арм.)'!$F$54:$U$54,0))=0,"",ROUND(SUM($J8:$L8)*INDEX('Таблица 6 (типы арм.)'!$F$6:$U$49,MATCH($D16,'Таблица 6 (типы арм.)'!$D$6:$D$49,0),MATCH((IF(COLUMN(R$5)>COLUMN($X$5),CONCATENATE(R$5,"А500С"),IF(COLUMN(R$5)>COLUMN($S$5),CONCATENATE(R$5,"А240"),CONCATENATE(R$5,"Вр-1")))),'Таблица 6 (типы арм.)'!$F$54:$U$54,0)),0)) | S16: =IF((IF(R16="",0,R16))=0,"",(IF(R16="",0,R16))) | T16: =IF(SUM($J8:$L8)*INDEX('Таблица 6 (типы арм.)'!$F$6:$U$49,MATCH($D16,'Таблица 6 (типы арм.)'!$D$6:$D$49,0),MATCH((IF(COLUMN(T$5)>COLUMN($X$5),CONCATENATE(T$5,"А500С"),IF(COLUMN(T$5)>COLUMN($S$5),CONCATENATE(T$5,"А240"),CONCATENATE(T$5,"Вр-1")))),'Таблица 6 (типы арм.)'!$F$54:$U$54,0))=0,"",ROUND(SUM($J8:$L8)*INDEX('Таблица 6 (типы арм.)'!$F$6:$U$49,MATCH($D16,'Таблица 6 (типы арм.)'!$D$6:$D$49,0),MATCH((IF(COLUMN(T$5)>COLUMN($X$5),CONCATENATE(T$5,"А500С"),IF(COLUMN(T$5)>COLUMN($S$5),CONCATENATE(T$5,"А240"),CONCATENATE(T$5,"Вр-1")))),'Таблица 6 (типы арм.)'!$F$54:$U$54,0)),0)) | U16: =IF(SUM($J8:$L8)*INDEX('Таблица 6 (типы арм.)'!$F$6:$U$49,MATCH($D16,'Таблица 6 (типы арм.)'!$D$6:$D$49,0),MATCH((IF(COLUMN(U$5)>COLUMN($X$5),CONCATENATE(U$5,"А500С"),IF(COLUMN(U$5)>COLUMN($S$5),CONCATENATE(U$5,"А240"),CONCATENATE(U$5,"Вр-1")))),'Таблица 6 (типы арм.)'!$F$54:$U$54,0))=0,"",ROUND(SUM($J8:$L8)*INDEX('Таблица 6 (типы арм.)'!$F$6:$U$49,MATCH($D16,'Таблица 6 (типы арм.)'!$D$6:$D$49,0),MATCH((IF(COLUMN(U$5)>COLUMN($X$5),CONCATENATE(U$5,"А500С"),IF(COLUMN(U$5)>COLUMN($S$5),CONCATENATE(U$5,"А240"),CONCATENATE(U$5,"Вр-1")))),'Таблица 6 (типы арм.)'!$F$54:$U$54,0)),0)) | V16: =IF(SUM($J8:$L8)*INDEX('Таблица 6 (типы арм.)'!$F$6:$U$49,MATCH($D16,'Таблица 6 (типы арм.)'!$D$6:$D$49,0),MATCH((IF(COLUMN(V$5)>COLUMN($X$5),CONCATENATE(V$5,"А500С"),IF(COLUMN(V$5)>COLUMN($S$5),CONCATENATE(V$5,"А240"),CONCATENATE(V$5,"Вр-1")))),'Таблица 6 (типы арм.)'!$F$54:$U$54,0))=0,"",ROUND(SUM($J8:$L8)*INDEX('Таблица 6 (типы арм.)'!$F$6:$U$49,MATCH($D16,'Таблица 6 (типы арм.)'!$D$6:$D$49,0),MATCH((IF(COLUMN(V$5)>COLUMN($X$5),CONCATENATE(V$5,"А500С"),IF(COLUMN(V$5)>COLUMN($S$5),CONCATENATE(V$5,"А240"),CONCATENATE(V$5,"Вр-1")))),'Таблица 6 (типы арм.)'!$F$54:$U$54,0)),0)) | W16: =IF(SUM($J8:$L8)*INDEX('Таблица 6 (типы арм.)'!$F$6:$U$49,MATCH($D16,'Таблица 6 (типы арм.)'!$D$6:$D$49,0),MATCH((IF(COLUMN(W$5)>COLUMN($X$5),CONCATENATE(W$5,"А500С"),IF(COLUMN(W$5)>COLUMN($S$5),CONCATENATE(W$5,"А240"),CONCATENATE(W$5,"Вр-1")))),'Таблица 6 (типы арм.)'!$F$54:$U$54,0))=0,"",ROUND(SUM($J8:$L8)*INDEX('Таблица 6 (типы арм.)'!$F$6:$U$49,MATCH($D16,'Таблица 6 (типы арм.)'!$D$6:$D$49,0),MATCH((IF(COLUMN(W$5)>COLUMN($X$5),CONCATENATE(W$5,"А500С"),IF(COLUMN(W$5)>COLUMN($S$5),CONCATENATE(W$5,"А240"),CONCATENATE(W$5,"Вр-1")))),'Таблица 6 (типы арм.)'!$F$54:$U$54,0)),0)) | X16: =IF((IF(T16="",0,T16)+IF(U16="",0,U16)+IF(V16="",0,V16)+IF(W16="",0,W16))=0,"",(IF(T16="",0,T16)+IF(U16="",0,U16)+IF(V16="",0,V16)+IF(W16="",0,W16))) | Y16: =IF(SUM($J8:$L8)*INDEX('Таблица 6 (типы арм.)'!$F$6:$U$49,MATCH($D16,'Таблица 6 (типы арм.)'!$D$6:$D$49,0),MATCH((IF(COLUMN(Y$5)>COLUMN($X$5),CONCATENATE(Y$5,"А500С"),IF(COLUMN(Y$5)>COLUMN($S$5),CONCATENATE(Y$5,"А240"),CONCATENATE(Y$5,"Вр-1")))),'Таблица 6 (типы арм.)'!$F$54:$U$54,0))=0,"",ROUND(SUM($J8:$L8)*INDEX('Таблица 6 (типы арм.)'!$F$6:$U$49,MATCH($D16,'Таблица 6 (типы арм.)'!$D$6:$D$49,0),MATCH((IF(COLUMN(Y$5)>COLUMN($X$5),CONCATENATE(Y$5,"А500С"),IF(COLUMN(Y$5)>COLUMN($S$5),CONCATENATE(Y$5,"А240"),CONCATENATE(Y$5,"Вр-1")))),'Таблица 6 (типы арм.)'!$F$54:$U$54,0)),0)) | Z16: =IF(SUM($J8:$L8)*INDEX('Таблица 6 (типы арм.)'!$F$6:$U$49,MATCH($D16,'Таблица 6 (типы арм.)'!$D$6:$D$49,0),MATCH((IF(COLUMN(Z$5)>COLUMN($X$5),CONCATENATE(Z$5,"А500С"),IF(COLUMN(Z$5)>COLUMN($S$5),CONCATENATE(Z$5,"А240"),CONCATENATE(Z$5,"Вр-1")))),'Таблица 6 (типы арм.)'!$F$54:$U$54,0))=0,"",ROUND(SUM($J8:$L8)*INDEX('Таблица 6 (типы арм.)'!$F$6:$U$49,MATCH($D16,'Таблица 6 (типы арм.)'!$D$6:$D$49,0),MATCH((IF(COLUMN(Z$5)>COLUMN($X$5),CONCATENATE(Z$5,"А500С"),IF(COLUMN(Z$5)>COLUMN($S$5),CONCATENATE(Z$5,"А240"),CONCATENATE(Z$5,"Вр-1")))),'Таблица 6 (типы арм.)'!$F$54:$U$54,0)),0)) | AA16: =IF(SUM($J8:$L8)*INDEX('Таблица 6 (типы арм.)'!$F$6:$U$49,MATCH($D16,'Таблица 6 (типы арм.)'!$D$6:$D$49,0),MATCH((IF(COLUMN(AA$5)>COLUMN($X$5),CONCATENATE(AA$5,"А500С"),IF(COLUMN(AA$5)>COLUMN($S$5),CONCATENATE(AA$5,"А240"),CONCATENATE(AA$5,"Вр-1")))),'Таблица 6 (типы арм.)'!$F$54:$U$54,0))=0,"",ROUND(SUM($J8:$L8)*INDEX('Таблица 6 (типы арм.)'!$F$6:$U$49,MATCH($D16,'Таблица 6 (типы арм.)'!$D$6:$D$49,0),MATCH((IF(COLUMN(AA$5)>COLUMN($X$5),CONCATENATE(AA$5,"А500С"),IF(COLUMN(AA$5)>COLUMN($S$5),CONCATENATE(AA$5,"А240"),CONCATENATE(AA$5,"Вр-1")))),'Таблица 6 (типы арм.)'!$F$54:$U$54,0)),0)) | AB16: =IF(SUM($J8:$L8)*INDEX('Таблица 6 (типы арм.)'!$F$6:$U$49,MATCH($D16,'Таблица 6 (типы арм.)'!$D$6:$D$49,0),MATCH((IF(COLUMN(AB$5)>COLUMN($X$5),CONCATENATE(AB$5,"А500С"),IF(COLUMN(AB$5)>COLUMN($S$5),CONCATENATE(AB$5,"А240"),CONCATENATE(AB$5,"Вр-1")))),'Таблица 6 (типы арм.)'!$F$54:$U$54,0))=0,"",ROUND(SUM($J8:$L8)*INDEX('Таблица 6 (типы арм.)'!$F$6:$U$49,MATCH($D16,'Таблица 6 (типы арм.)'!$D$6:$D$49,0),MATCH((IF(COLUMN(AB$5)>COLUMN($X$5),CONCATENATE(AB$5,"А500С"),IF(COLUMN(AB$5)>COLUMN($S$5),CONCATENATE(AB$5,"А240"),CONCATENATE(AB$5,"Вр-1")))),'Таблица 6 (типы арм.)'!$F$54:$U$54,0)),0)) | AC16: =IF(SUM($J8:$L8)*INDEX('Таблица 6 (типы арм.)'!$F$6:$U$49,MATCH($D16,'Таблица 6 (типы арм.)'!$D$6:$D$49,0),MATCH((IF(COLUMN(AC$5)>COLUMN($X$5),CONCATENATE(AC$5,"А500С"),IF(COLUMN(AC$5)>COLUMN($S$5),CONCATENATE(AC$5,"А240"),CONCATENATE(AC$5,"Вр-1")))),'Таблица 6 (типы арм.)'!$F$54:$U$54,0))=0,"",ROUND(SUM($J8:$L8)*INDEX('Таблица 6 (типы арм.)'!$F$6:$U$49,MATCH($D16,'Таблица 6 (типы арм.)'!$D$6:$D$49,0),MATCH((IF(COLUMN(AC$5)>COLUMN($X$5),CONCATENATE(AC$5,"А500С"),IF(COLUMN(AC$5)>COLUMN($S$5),CONCATENATE(AC$5,"А240"),CONCATENATE(AC$5,"Вр-1")))),'Таблица 6 (типы арм.)'!$F$54:$U$54,0)),0)) -> 6150 | AD16: =IF(SUM($J8:$L8)*INDEX('Таблица 6 (типы арм.)'!$F$6:$U$49,MATCH($D16,'Таблица 6 (типы арм.)'!$D$6:$D$49,0),MATCH((IF(COLUMN(AD$5)>COLUMN($X$5),CONCATENATE(AD$5,"А500С"),IF(COLUMN(AD$5)>COLUMN($S$5),CONCATENATE(AD$5,"А240"),CONCATENATE(AD$5,"Вр-1")))),'Таблица 6 (типы арм.)'!$F$54:$U$54,0))=0,"",ROUND(SUM($J8:$L8)*INDEX('Таблица 6 (типы арм.)'!$F$6:$U$49,MATCH($D16,'Таблица 6 (типы арм.)'!$D$6:$D$49,0),MATCH((IF(COLUMN(AD$5)>COLUMN($X$5),CONCATENATE(AD$5,"А500С"),IF(COLUMN(AD$5)>COLUMN($S$5),CONCATENATE(AD$5,"А240"),CONCATENATE(AD$5,"Вр-1")))),'Таблица 6 (типы арм.)'!$F$54:$U$54,0)),0)) | AE16: =IF(SUM($J8:$L8)*INDEX('Таблица 6 (типы арм.)'!$F$6:$U$49,MATCH($D16,'Таблица 6 (типы арм.)'!$D$6:$D$49,0),MATCH((IF(COLUMN(AE$5)>COLUMN($X$5),CONCATENATE(AE$5,"А500С"),IF(COLUMN(AE$5)>COLUMN($S$5),CONCATENATE(AE$5,"А240"),CONCATENATE(AE$5,"Вр-1")))),'Таблица 6 (типы арм.)'!$F$54:$U$54,0))=0,"",ROUND(SUM($J8:$L8)*INDEX('Таблица 6 (типы арм.)'!$F$6:$U$49,MATCH($D16,'Таблица 6 (типы арм.)'!$D$6:$D$49,0),MATCH((IF(COLUMN(AE$5)>COLUMN($X$5),CONCATENATE(AE$5,"А500С"),IF(COLUMN(AE$5)>COLUMN($S$5),CONCATENATE(AE$5,"А240"),CONCATENATE(AE$5,"Вр-1")))),'Таблица 6 (типы арм.)'!$F$54:$U$54,0)),0)) | AF16: =IF(SUM($J8:$L8)*INDEX('Таблица 6 (типы арм.)'!$F$6:$U$49,MATCH($D16,'Таблица 6 (типы арм.)'!$D$6:$D$49,0),MATCH((IF(COLUMN(AF$5)>COLUMN($X$5),CONCATENATE(AF$5,"А500С"),IF(COLUMN(AF$5)>COLUMN($S$5),CONCATENATE(AF$5,"А240"),CONCATENATE(AF$5,"Вр-1")))),'Таблица 6 (типы арм.)'!$F$54:$U$54,0))=0,"",ROUND(SUM($J8:$L8)*INDEX('Таблица 6 (типы арм.)'!$F$6:$U$49,MATCH($D16,'Таблица 6 (типы арм.)'!$D$6:$D$49,0),MATCH((IF(COLUMN(AF$5)>COLUMN($X$5),CONCATENATE(AF$5,"А500С"),IF(COLUMN(AF$5)>COLUMN($S$5),CONCATENATE(AF$5,"А240"),CONCATENATE(AF$5,"Вр-1")))),'Таблица 6 (типы арм.)'!$F$54:$U$54,0)),0)) | ... AI16: =IF(SUM($J8:$L8)*INDEX('Таблица 6 (типы арм.)'!$F$6:$U$49,MATCH($D16,'Таблица 6 (типы арм.)'!$D$6:$D$49,0),MATCH((IF(COLUMN(AI$5)>COLUMN($X$5),CONCATENATE(AI$5,"А500С"),IF(COLUMN(AI$5)>COLUMN($S$5),CONCATENATE(AI$5,"А240"),CONCATENATE(AI$5,"Вр-1")))),'Таблица 6 (типы арм.)'!$F$54:$U$54,0))=0,"",ROUND(SUM($J8:$L8)*INDEX('Таблица 6 (типы арм.)'!$F$6:$U$49,MATCH($D16,'Таблица 6 (типы арм.)'!$D$6:$D$49,0),MATCH((IF(COLUMN(AI$5)>COLUMN($X$5),CONCATENATE(AI$5,"А500С"),IF(COLUMN(AI$5)>COLUMN($S$5),CONCATENATE(AI$5,"А240"),CONCATENATE(AI$5,"Вр-1")))),'Таблица 6 (типы арм.)'!$F$54:$U$54,0)),0)) | AJ16: =IF((IF(Y16="",0,Y16)+IF(Z16="",0,Z16)+IF(AA16="",0,AA16)+IF(AB16="",0,AB16)+IF(AC16="",0,AC16)+IF(AD16="",0,AD16)+IF(AE16="",0,AE16)+IF(AF16="",0,AF16)+IF(AG16="",0,AG16)+IF(AH16="",0,AH16)+IF(AI16="",0,AI16))=0,"",(IF(Y16="",0,Y16)+IF(Z16="",0,Z16)+IF(AA16="",0,AA16)+IF(AB16="",0,AB16)+IF(AC16="",0,AC16)+IF(AD16="",0,AD16)+IF(AE16="",0,AE16)+IF(AF16="",0,AF16)+IF(AG16="",0,AG16)+IF(AH16="",0,AH16)+IF(AI16="",0,AI16))) -> 6150 | AK16: =IF((IF(AJ16="",0,AJ16)+IF(X16="",0,X16)+IF(S16="",0,S16))=0,"",(IF(AJ16="",0,AJ16)+IF(X16="",0,X16)+IF(S16="",0,S16))) -> 6150
D17: 1.2 | E17: =E16+1 -> 3 | F17: Каркасы пространственные арматурные в фундаментной плите | G17: кг | M17: =IF((IF(H17="",0,H17)+IF(I17="",0,I17)+IF(J17="",0,J17)+IF(K17="",0,K17)+IF(L17="",0,L17))=0,"",(IF(H17="",0,H17)+IF(I17="",0,I17)+IF(J17="",0,J17)+IF(K17="",0,K17)+IF(L17="",0,L17))) | R17: =IF(SUM($J8:$L8)*INDEX('Таблица 6 (типы арм.)'!$F$6:$U$49,MATCH($D17,'Таблица 6 (типы арм.)'!$D$6:$D$49,0),MATCH((IF(COLUMN(R$5)>COLUMN($X$5),CONCATENATE(R$5,"А500С"),IF(COLUMN(R$5)>COLUMN($S$5),CONCATENATE(R$5,"А240"),CONCATENATE(R$5,"Вр-1")))),'Таблица 6 (типы арм.)'!$F$54:$U$54,0))=0,"",ROUND(SUM($J8:$L8)*INDEX('Таблица 6 (типы арм.)'!$F$6:$U$49,MATCH($D17,'Таблица 6 (типы арм.)'!$D$6:$D$49,0),MATCH((IF(COLUMN(R$5)>COLUMN($X$5),CONCATENATE(R$5,"А500С"),IF(COLUMN(R$5)>COLUMN($S$5),CONCATENATE(R$5,"А240"),CONCATENATE(R$5,"Вр-1")))),'Таблица 6 (типы арм.)'!$F$54:$U$54,0)),0)) | S17: =IF((IF(R17="",0,R17))=0,"",(IF(R17="",0,R17))) | T17: =IF(SUM($J8:$L8)*INDEX('Таблица 6 (типы арм.)'!$F$6:$U$49,MATCH($D17,'Таблица 6 (типы арм.)'!$D$6:$D$49,0),MATCH((IF(COLUMN(T$5)>COLUMN($X$5),CONCATENATE(T$5,"А500С"),IF(COLUMN(T$5)>COLUMN($S$5),CONCATENATE(T$5,"А240"),CONCATENATE(T$5,"Вр-1")))),'Таблица 6 (типы арм.)'!$F$54:$U$54,0))=0,"",ROUND(SUM($J8:$L8)*INDEX('Таблица 6 (типы арм.)'!$F$6:$U$49,MATCH($D17,'Таблица 6 (типы арм.)'!$D$6:$D$49,0),MATCH((IF(COLUMN(T$5)>COLUMN($X$5),CONCATENATE(T$5,"А500С"),IF(COLUMN(T$5)>COLUMN($S$5),CONCATENATE(T$5,"А240"),CONCATENATE(T$5,"Вр-1")))),'Таблица 6 (типы арм.)'!$F$54:$U$54,0)),0)) | U17: =IF(SUM($J8:$L8)*INDEX('Таблица 6 (типы арм.)'!$F$6:$U$49,MATCH($D17,'Таблица 6 (типы арм.)'!$D$6:$D$49,0),MATCH((IF(COLUMN(U$5)>COLUMN($X$5),CONCATENATE(U$5,"А500С"),IF(COLUMN(U$5)>COLUMN($S$5),CONCATENATE(U$5,"А240"),CONCATENATE(U$5,"Вр-1")))),'Таблица 6 (типы арм.)'!$F$54:$U$54,0))=0,"",ROUND(SUM($J8:$L8)*INDEX('Таблица 6 (типы арм.)'!$F$6:$U$49,MATCH($D17,'Таблица 6 (типы арм.)'!$D$6:$D$49,0),MATCH((IF(COLUMN(U$5)>COLUMN($X$5),CONCATENATE(U$5,"А500С"),IF(COLUMN(U$5)>COLUMN($S$5),CONCATENATE(U$5,"А240"),CONCATENATE(U$5,"Вр-1")))),'Таблица 6 (типы арм.)'!$F$54:$U$54,0)),0)) | V17: =IF(SUM($J8:$L8)*INDEX('Таблица 6 (типы арм.)'!$F$6:$U$49,MATCH($D17,'Таблица 6 (типы арм.)'!$D$6:$D$49,0),MATCH((IF(COLUMN(V$5)>COLUMN($X$5),CONCATENATE(V$5,"А500С"),IF(COLUMN(V$5)>COLUMN($S$5),CONCATENATE(V$5,"А240"),CONCATENATE(V$5,"Вр-1")))),'Таблица 6 (типы арм.)'!$F$54:$U$54,0))=0,"",ROUND(SUM($J8:$L8)*INDEX('Таблица 6 (типы арм.)'!$F$6:$U$49,MATCH($D17,'Таблица 6 (типы арм.)'!$D$6:$D$49,0),MATCH((IF(COLUMN(V$5)>COLUMN($X$5),CONCATENATE(V$5,"А500С"),IF(COLUMN(V$5)>COLUMN($S$5),CONCATENATE(V$5,"А240"),CONCATENATE(V$5,"Вр-1")))),'Таблица 6 (типы арм.)'!$F$54:$U$54,0)),0)) | W17: =IF(SUM($J8:$L8)*INDEX('Таблица 6 (типы арм.)'!$F$6:$U$49,MATCH($D17,'Таблица 6 (типы арм.)'!$D$6:$D$49,0),MATCH((IF(COLUMN(W$5)>COLUMN($X$5),CONCATENATE(W$5,"А500С"),IF(COLUMN(W$5)>COLUMN($S$5),CONCATENATE(W$5,"А240"),CONCATENATE(W$5,"Вр-1")))),'Таблица 6 (типы арм.)'!$F$54:$U$54,0))=0,"",ROUND(SUM($J8:$L8)*INDEX('Таблица 6 (типы арм.)'!$F$6:$U$49,MATCH($D17,'Таблица 6 (типы арм.)'!$D$6:$D$49,0),MATCH((IF(COLUMN(W$5)>COLUMN($X$5),CONCATENATE(W$5,"А500С"),IF(COLUMN(W$5)>COLUMN($S$5),CONCATENATE(W$5,"А240"),CONCATENATE(W$5,"Вр-1")))),'Таблица 6 (типы арм.)'!$F$54:$U$54,0)),0)) | X17: =IF((IF(T17="",0,T17)+IF(U17="",0,U17)+IF(V17="",0,V17)+IF(W17="",0,W17))=0,"",(IF(T17="",0,T17)+IF(U17="",0,U17)+IF(V17="",0,V17)+IF(W17="",0,W17))) | Y17: =IF(SUM($J8:$L8)*INDEX('Таблица 6 (типы арм.)'!$F$6:$U$49,MATCH($D17,'Таблица 6 (типы арм.)'!$D$6:$D$49,0),MATCH((IF(COLUMN(Y$5)>COLUMN($X$5),CONCATENATE(Y$5,"А500С"),IF(COLUMN(Y$5)>COLUMN($S$5),CONCATENATE(Y$5,"А240"),CONCATENATE(Y$5,"Вр-1")))),'Таблица 6 (типы арм.)'!$F$54:$U$54,0))=0,"",ROUND(SUM($J8:$L8)*INDEX('Таблица 6 (типы арм.)'!$F$6:$U$49,MATCH($D17,'Таблица 6 (типы арм.)'!$D$6:$D$49,0),MATCH((IF(COLUMN(Y$5)>COLUMN($X$5),CONCATENATE(Y$5,"А500С"),IF(COLUMN(Y$5)>COLUMN($S$5),CONCATENATE(Y$5,"А240"),CONCATENATE(Y$5,"Вр-1")))),'Таблица 6 (типы арм.)'!$F$54:$U$54,0)),0)) | Z17: =IF(SUM($J8:$L8)*INDEX('Таблица 6 (типы арм.)'!$F$6:$U$49,MATCH($D17,'Таблица 6 (типы арм.)'!$D$6:$D$49,0),MATCH((IF(COLUMN(Z$5)>COLUMN($X$5),CONCATENATE(Z$5,"А500С"),IF(COLUMN(Z$5)>COLUMN($S$5),CONCATENATE(Z$5,"А240"),CONCATENATE(Z$5,"Вр-1")))),'Таблица 6 (типы арм.)'!$F$54:$U$54,0))=0,"",ROUND(SUM($J8:$L8)*INDEX('Таблица 6 (типы арм.)'!$F$6:$U$49,MATCH($D17,'Таблица 6 (типы арм.)'!$D$6:$D$49,0),MATCH((IF(COLUMN(Z$5)>COLUMN($X$5),CONCATENATE(Z$5,"А500С"),IF(COLUMN(Z$5)>COLUMN($S$5),CONCATENATE(Z$5,"А240"),CONCATENATE(Z$5,"Вр-1")))),'Таблица 6 (типы арм.)'!$F$54:$U$54,0)),0)) | AA17: =IF(SUM($J8:$L8)*INDEX('Таблица 6 (типы арм.)'!$F$6:$U$49,MATCH($D17,'Таблица 6 (типы арм.)'!$D$6:$D$49,0),MATCH((IF(COLUMN(AA$5)>COLUMN($X$5),CONCATENATE(AA$5,"А500С"),IF(COLUMN(AA$5)>COLUMN($S$5),CONCATENATE(AA$5,"А240"),CONCATENATE(AA$5,"Вр-1")))),'Таблица 6 (типы арм.)'!$F$54:$U$54,0))=0,"",ROUND(SUM($J8:$L8)*INDEX('Таблица 6 (типы арм.)'!$F$6:$U$49,MATCH($D17,'Таблица 6 (типы арм.)'!$D$6:$D$49,0),MATCH((IF(COLUMN(AA$5)>COLUMN($X$5),CONCATENATE(AA$5,"А500С"),IF(COLUMN(AA$5)>COLUMN($S$5),CONCATENATE(AA$5,"А240"),CONCATENATE(AA$5,"Вр-1")))),'Таблица 6 (типы арм.)'!$F$54:$U$54,0)),0)) | AB17: =IF(SUM($J8:$L8)*INDEX('Таблица 6 (типы арм.)'!$F$6:$U$49,MATCH($D17,'Таблица 6 (типы арм.)'!$D$6:$D$49,0),MATCH((IF(COLUMN(AB$5)>COLUMN($X$5),CONCATENATE(AB$5,"А500С"),IF(COLUMN(AB$5)>COLUMN($S$5),CONCATENATE(AB$5,"А240"),CONCATENATE(AB$5,"Вр-1")))),'Таблица 6 (типы арм.)'!$F$54:$U$54,0))=0,"",ROUND(SUM($J8:$L8)*INDEX('Таблица 6 (типы арм.)'!$F$6:$U$49,MATCH($D17,'Таблица 6 (типы арм.)'!$D$6:$D$49,0),MATCH((IF(COLUMN(AB$5)>COLUMN($X$5),CONCATENATE(AB$5,"А500С"),IF(COLUMN(AB$5)>COLUMN($S$5),CONCATENATE(AB$5,"А240"),CONCATENATE(AB$5,"Вр-1")))),'Таблица 6 (типы арм.)'!$F$54:$U$54,0)),0)) | AC17: =IF(SUM($J8:$L8)*INDEX('Таблица 6 (типы арм.)'!$F$6:$U$49,MATCH($D17,'Таблица 6 (типы арм.)'!$D$6:$D$49,0),MATCH((IF(COLUMN(AC$5)>COLUMN($X$5),CONCATENATE(AC$5,"А500С"),IF(COLUMN(AC$5)>COLUMN($S$5),CONCATENATE(AC$5,"А240"),CONCATENATE(AC$5,"Вр-1")))),'Таблица 6 (типы арм.)'!$F$54:$U$54,0))=0,"",ROUND(SUM($J8:$L8)*INDEX('Таблица 6 (типы арм.)'!$F$6:$U$49,MATCH($D17,'Таблица 6 (типы арм.)'!$D$6:$D$49,0),MATCH((IF(COLUMN(AC$5)>COLUMN($X$5),CONCATENATE(AC$5,"А500С"),IF(COLUMN(AC$5)>COLUMN($S$5),CONCATENATE(AC$5,"А240"),CONCATENATE(AC$5,"Вр-1")))),'Таблица 6 (типы арм.)'!$F$54:$U$54,0)),0)) | AD17: =IF(SUM($J8:$L8)*INDEX('Таблица 6 (типы арм.)'!$F$6:$U$49,MATCH($D17,'Таблица 6 (типы арм.)'!$D$6:$D$49,0),MATCH((IF(COLUMN(AD$5)>COLUMN($X$5),CONCATENATE(AD$5,"А500С"),IF(COLUMN(AD$5)>COLUMN($S$5),CONCATENATE(AD$5,"А240"),CONCATENATE(AD$5,"Вр-1")))),'Таблица 6 (типы арм.)'!$F$54:$U$54,0))=0,"",ROUND(SUM($J8:$L8)*INDEX('Таблица 6 (типы арм.)'!$F$6:$U$49,MATCH($D17,'Таблица 6 (типы арм.)'!$D$6:$D$49,0),MATCH((IF(COLUMN(AD$5)>COLUMN($X$5),CONCATENATE(AD$5,"А500С"),IF(COLUMN(AD$5)>COLUMN($S$5),CONCATENATE(AD$5,"А240"),CONCATENATE(AD$5,"Вр-1")))),'Таблица 6 (типы арм.)'!$F$54:$U$54,0)),0)) | AE17: =IF(SUM($J8:$L8)*INDEX('Таблица 6 (типы арм.)'!$F$6:$U$49,MATCH($D17,'Таблица 6 (типы арм.)'!$D$6:$D$49,0),MATCH((IF(COLUMN(AE$5)>COLUMN($X$5),CONCATENATE(AE$5,"А500С"),IF(COLUMN(AE$5)>COLUMN($S$5),CONCATENATE(AE$5,"А240"),CONCATENATE(AE$5,"Вр-1")))),'Таблица 6 (типы арм.)'!$F$54:$U$54,0))=0,"",ROUND(SUM($J8:$L8)*INDEX('Таблица 6 (типы арм.)'!$F$6:$U$49,MATCH($D17,'Таблица 6 (типы арм.)'!$D$6:$D$49,0),MATCH((IF(COLUMN(AE$5)>COLUMN($X$5),CONCATENATE(AE$5,"А500С"),IF(COLUMN(AE$5)>COLUMN($S$5),CONCATENATE(AE$5,"А240"),CONCATENATE(AE$5,"Вр-1")))),'Таблица 6 (типы арм.)'!$F$54:$U$54,0)),0)) | AF17: =IF(SUM($J8:$L8)*INDEX('Таблица 6 (типы арм.)'!$F$6:$U$49,MATCH($D17,'Таблица 6 (типы арм.)'!$D$6:$D$49,0),MATCH((IF(COLUMN(AF$5)>COLUMN($X$5),CONCATENATE(AF$5,"А500С"),IF(COLUMN(AF$5)>COLUMN($S$5),CONCATENATE(AF$5,"А240"),CONCATENATE(AF$5,"Вр-1")))),'Таблица 6 (типы арм.)'!$F$54:$U$54,0))=0,"",ROUND(SUM($J8:$L8)*INDEX('Таблица 6 (типы арм.)'!$F$6:$U$49,MATCH($D17,'Таблица 6 (типы арм.)'!$D$6:$D$49,0),MATCH((IF(COLUMN(AF$5)>COLUMN($X$5),CONCATENATE(AF$5,"А500С"),IF(COLUMN(AF$5)>COLUMN($S$5),CONCATENATE(AF$5,"А240"),CONCATENATE(AF$5,"Вр-1")))),'Таблица 6 (типы арм.)'!$F$54:$U$54,0)),0)) | ... AI17: =IF(SUM($J8:$L8)*INDEX('Таблица 6 (типы арм.)'!$F$6:$U$49,MATCH($D17,'Таблица 6 (типы арм.)'!$D$6:$D$49,0),MATCH((IF(COLUMN(AI$5)>COLUMN($X$5),CONCATENATE(AI$5,"А500С"),IF(COLUMN(AI$5)>COLUMN($S$5),CONCATENATE(AI$5,"А240"),CONCATENATE(AI$5,"Вр-1")))),'Таблица 6 (типы арм.)'!$F$54:$U$54,0))=0,"",ROUND(SUM($J8:$L8)*INDEX('Таблица 6 (типы арм.)'!$F$6:$U$49,MATCH($D17,'Таблица 6 (типы арм.)'!$D$6:$D$49,0),MATCH((IF(COLUMN(AI$5)>COLUMN($X$5),CONCATENATE(AI$5,"А500С"),IF(COLUMN(AI$5)>COLUMN($S$5),CONCATENATE(AI$5,"А240"),CONCATENATE(AI$5,"Вр-1")))),'Таблица 6 (типы арм.)'!$F$54:$U$54,0)),0)) | AJ17: =IF((IF(Y17="",0,Y17)+IF(Z17="",0,Z17)+IF(AA17="",0,AA17)+IF(AB17="",0,AB17)+IF(AC17="",0,AC17)+IF(AD17="",0,AD17)+IF(AE17="",0,AE17)+IF(AF17="",0,AF17)+IF(AG17="",0,AG17)+IF(AH17="",0,AH17)+IF(AI17="",0,AI17))=0,"",(IF(Y17="",0,Y17)+IF(Z17="",0,Z17)+IF(AA17="",0,AA17)+IF(AB17="",0,AB17)+IF(AC17="",0,AC17)+IF(AD17="",0,AD17)+IF(AE17="",0,AE17)+IF(AF17="",0,AF17)+IF(AG17="",0,AG17)+IF(AH17="",0,AH17)+IF(AI17="",0,AI17))) | AK17: =IF((IF(AJ17="",0,AJ17)+IF(X17="",0,X17)+IF(S17="",0,S17))=0,"",(IF(AJ17="",0,AJ17)+IF(X17="",0,X17)+IF(S17="",0,S17)))
C18: уточнить наличие и диаметр муфт при адресном проектировании | E18: =E17+1 -> 4 | F18: Муфта стандартная диаметром 32 мм | G18: шт./кг | M18: =IF((IF(H18="",0,H18)+IF(I18="",0,I18)+IF(J18="",0,J18)+IF(K18="",0,K18)+IF(L18="",0,L18))=0,"",(IF(H18="",0,H18)+IF(I18="",0,I18)+IF(J18="",0,J18)+IF(K18="",0,K18)+IF(L18="",0,L18))) | X18: =IF((IF(T18="",0,T18)+IF(U18="",0,U18)+IF(V18="",0,V18)+IF(W18="",0,W18))=0,"",(IF(T18="",0,T18)+IF(U18="",0,U18)+IF(V18="",0,V18)+IF(W18="",0,W18))) | AJ18: =IF((IF(Y18="",0,Y18)+IF(Z18="",0,Z18)+IF(AA18="",0,AA18)+IF(AB18="",0,AB18)+IF(AC18="",0,AC18)+IF(AD18="",0,AD18)+IF(AE18="",0,AE18)+IF(AF18="",0,AF18)+IF(AG18="",0,AG18)+IF(AH18="",0,AH18)+IF(AI18="",0,AI18))=0,"",(IF(Y18="",0,Y18)+IF(Z18="",0,Z18)+IF(AA18="",0,AA18)+IF(AB18="",0,AB18)+IF(AC18="",0,AC18)+IF(AD18="",0,AD18)+IF(AE18="",0,AE18)+IF(AF18="",0,AF18)+IF(AG18="",0,AG18)+IF(AH18="",0,AH18)+IF(AI18="",0,AI18))) | AK18: =IF((IF(AJ18="",0,AJ18)+IF(X18="",0,X18))=0,"",(IF(AJ18="",0,AJ18)+IF(X18="",0,X18))) | AL18: 55/34.00
C19: данную строку заполнять для фундаментов типа "вариант 1", "вариант 2" и "вариант 4" (см. рисунок 20), для фундамента типа "вариант 3" (см. рисунок 20) бетонная подготовка отсутствует; для бетонной подготовки класс бетона рекомендуется принимать В10 (столбец 5) - уточнить при адресном проектировании | E19: =E18+1 -> 5 | F19: Подготовка бетонная 100 мм | G19: куб.м | I19: 116.73 | M19: =IF((IF(H19="",0,H19)+IF(I19="",0,I19)+IF(J19="",0,J19)+IF(K19="",0,K19)+IF(L19="",0,L19))=0,"",(IF(H19="",0,H19)+IF(I19="",0,I19)+IF(J19="",0,J19)+IF(K19="",0,K19)+IF(L19="",0,L19))) -> 116.73 | N19: W4 | O19: F100 | X19: =IF((IF(T19="",0,T19)+IF(U19="",0,U19)+IF(V19="",0,V19)+IF(W19="",0,W19))=0,"",(IF(T19="",0,T19)+IF(U19="",0,U19)+IF(V19="",0,V19)+IF(W19="",0,W19))) | AJ19: =IF((IF(Y19="",0,Y19)+IF(Z19="",0,Z19)+IF(AA19="",0,AA19)+IF(AB19="",0,AB19)+IF(AC19="",0,AC19)+IF(AD19="",0,AD19)+IF(AE19="",0,AE19)+IF(AF19="",0,AF19)+IF(AG19="",0,AG19)+IF(AH19="",0,AH19)+IF(AI19="",0,AI19))=0,"",(IF(Y19="",0,Y19)+IF(Z19="",0,Z19)+IF(AA19="",0,AA19)+IF(AB19="",0,AB19)+IF(AC19="",0,AC19)+IF(AD19="",0,AD19)+IF(AE19="",0,AE19)+IF(AF19="",0,AF19)+IF(AG19="",0,AG19)+IF(AH19="",0,AH19)+IF(AI19="",0,AI19))) | AK19: =IF((IF(AJ19="",0,AJ19)+IF(X19="",0,X19))=0,"",(IF(AJ19="",0,AJ19)+IF(X19="",0,X19)))
C20: данные строки заполнять для фундамента типа "вариант 3" (см. рисунок 20), для фундаментов типа "вариант 1", "вариант 2" и "вариант 4" (см. рисунок 20) данные строки удалить | E20: =E19+1 -> 6 | F20: Ростверк распределительный 150 мм. Бетон кл. В20 F100 W6 | G20: куб.м | N20: W6 | O20: F100 | Q20: 172
E21: =E20+1 -> 7 | F21: Сетка арматурная ∅5 Вр-1-100х100 мм | G21: кв.м | Q21: 1148
C22: если подстилающий слой представлен песками, то данный слой не нужен - уточнить при адресном проектировании | E22: =E21+1 -> 8 | F22: Подготовка песчаная 100 мм (kупл.=0,95) | G22: куб.м | Q22: 392.15
C23: данные строки заполнять в случае свайных фундаментов типа "вариант 2", "вариант 3" и "вариант 4" (см. рисунок 20), в противном случае удалить, тип свай, способ заделки свай уточнить при адресном проектировании; в строках 9 и 10, 11 представлен расход на цельные и составные сваи соответственно (при адресном проектировании ненужые строки, при необходимости, удалить); в строках 16, ..., 19 представлен расход на устройство узла стыка составных свай (при адресном проектировании, при необходимости, удалить); расход грунтовки TAIKOR Primer 150 на один стык равен b*4*0,2*0,27 (где b - сторона поперечного сечения сваи в м); расход финишного покрытия TAIKOR Top 425 на один стык равен b*4*0,2*0,17 (где b - сторона поперечного сечения сваи в м); детально см. Альбомом типовых узлов ЖД-ТА-РЕН-КР-КЖ0 “Свайное поле”, размещенным на ресурсе База знаний | F23: Сваи забивные цельные С120.30-8.у:
E24: =E22+1 -> 9 | F24: Сваи забивные С120.30-8.у по серии 1.011.1-10 в.1 (способ погружения вдавливание) | G24: шт./куб.м | M24: =IF((IF(H24="",0,H24)+IF(I24="",0,I24)+IF(J24="",0,J24)+IF(K24="",0,K24)+IF(L24="",0,L24))=0,"",(IF(H24="",0,H24)+IF(I24="",0,I24)+IF(J24="",0,J24)+IF(K24="",0,K24)+IF(L24="",0,L24))) | Q24: =CONCATENATE("674/",ROUNDUP((12*0.3*0.3+1/3*0.25*(0.3*0.3+0.08*0.08+SQRT(0.3*0.3*0.08*0.08)))*674,1)) -> 674/734,7 | X24: =IF((IF(T24="",0,T24)+IF(U24="",0,U24)+IF(V24="",0,V24)+IF(W24="",0,W24))=0,"",(IF(T24="",0,T24)+IF(U24="",0,U24)+IF(V24="",0,V24)+IF(W24="",0,W24))) | AJ24: =IF((IF(Y24="",0,Y24)+IF(Z24="",0,Z24)+IF(AA24="",0,AA24)+IF(AB24="",0,AB24)+IF(AC24="",0,AC24)+IF(AD24="",0,AD24)+IF(AE24="",0,AE24)+IF(AF24="",0,AF24)+IF(AG24="",0,AG24)+IF(AH24="",0,AH24)+IF(AI24="",0,AI24))=0,"",(IF(Y24="",0,Y24)+IF(Z24="",0,Z24)+IF(AA24="",0,AA24)+IF(AB24="",0,AB24)+IF(AC24="",0,AC24)+IF(AD24="",0,AD24)+IF(AE24="",0,AE24)+IF(AF24="",0,AF24)+IF(AG24="",0,AG24)+IF(AH24="",0,AH24)+IF(AI24="",0,AI24))) | AK24: =IF((IF(AJ24="",0,AJ24)+IF(X24="",0,X24))=0,"",(IF(AJ24="",0,AJ24)+IF(X24="",0,X24)))
F25: Сваи забивные составные С150.30-Св:
E26: =E24+1 -> 10 | F26: Сваи забивные С80.30-НСв.6 по серии 1.011.1-10 в.8 (способ погружения вдавливание) - нижняя секция сваи | G26: шт./куб.м | M26: =IF((IF(H26="",0,H26)+IF(I26="",0,I26)+IF(J26="",0,J26)+IF(K26="",0,K26)+IF(L26="",0,L26))=0,"",(IF(H26="",0,H26)+IF(I26="",0,I26)+IF(J26="",0,J26)+IF(K26="",0,K26)+IF(L26="",0,L26))) | Q26: =CONCATENATE("674/",ROUNDUP((8*0.3*0.3+1/3*0.25*(0.3*0.3+0.08*0.08+SQRT(0.3*0.3*0.08*0.08)))*674,1)) -> 674/492,1 | X26: =IF((IF(T26="",0,T26)+IF(U26="",0,U26)+IF(V26="",0,V26)+IF(W26="",0,W26))=0,"",(IF(T26="",0,T26)+IF(U26="",0,U26)+IF(V26="",0,V26)+IF(W26="",0,W26))) | AJ26: =IF((IF(Y26="",0,Y26)+IF(Z26="",0,Z26)+IF(AA26="",0,AA26)+IF(AB26="",0,AB26)+IF(AC26="",0,AC26)+IF(AD26="",0,AD26)+IF(AE26="",0,AE26)+IF(AF26="",0,AF26)+IF(AG26="",0,AG26)+IF(AH26="",0,AH26)+IF(AI26="",0,AI26))=0,"",(IF(Y26="",0,Y26)+IF(Z26="",0,Z26)+IF(AA26="",0,AA26)+IF(AB26="",0,AB26)+IF(AC26="",0,AC26)+IF(AD26="",0,AD26)+IF(AE26="",0,AE26)+IF(AF26="",0,AF26)+IF(AG26="",0,AG26)+IF(AH26="",0,AH26)+IF(AI26="",0,AI26))) | AK26: =IF((IF(AJ26="",0,AJ26)+IF(X26="",0,X26))=0,"",(IF(AJ26="",0,AJ26)+IF(X26="",0,X26)))
E27: =E26+1 -> 11 | F27: Сваи забивные С70.30-ВСв.6 по серии 1.011.1-10 в.8 (способ погружения вдавливание) - верхняя секция сваи | G27: шт./куб.м | M27: =IF((IF(H27="",0,H27)+IF(I27="",0,I27)+IF(J27="",0,J27)+IF(K27="",0,K27)+IF(L27="",0,L27))=0,"",(IF(H27="",0,H27)+IF(I27="",0,I27)+IF(J27="",0,J27)+IF(K27="",0,K27)+IF(L27="",0,L27))) | Q27: =CONCATENATE("674/",ROUNDUP((7*0.3*0.3)*674,1)) -> 674/424,7
E28: =E27+1 -> 12 | F28: Бурение лидерных скважин диаметром 300 мм | G28: п.м | M28: =IF((IF(H28="",0,H28)+IF(I28="",0,I28)+IF(J28="",0,J28)+IF(K28="",0,K28)+IF(L28="",0,L28))=0,"",(IF(H28="",0,H28)+IF(I28="",0,I28)+IF(J28="",0,J28)+IF(K28="",0,K28)+IF(L28="",0,L28))) | Q28: =674*(12-1.1-0.43-0.05-0.24) -> 6861.32 | X28: =IF((IF(T28="",0,T28)+IF(U28="",0,U28)+IF(V28="",0,V28)+IF(W28="",0,W28))=0,"",(IF(T28="",0,T28)+IF(U28="",0,U28)+IF(V28="",0,V28)+IF(W28="",0,W28))) | AJ28: =IF((IF(Y28="",0,Y28)+IF(Z28="",0,Z28)+IF(AA28="",0,AA28)+IF(AB28="",0,AB28)+IF(AC28="",0,AC28)+IF(AD28="",0,AD28)+IF(AE28="",0,AE28)+IF(AF28="",0,AF28)+IF(AG28="",0,AG28)+IF(AH28="",0,AH28)+IF(AI28="",0,AI28))=0,"",(IF(Y28="",0,Y28)+IF(Z28="",0,Z28)+IF(AA28="",0,AA28)+IF(AB28="",0,AB28)+IF(AC28="",0,AC28)+IF(AD28="",0,AD28)+IF(AE28="",0,AE28)+IF(AF28="",0,AF28)+IF(AG28="",0,AG28)+IF(AH28="",0,AH28)+IF(AI28="",0,AI28))) | AK28: =IF((IF(AJ28="",0,AJ28)+IF(X28="",0,X28))=0,"",(IF(AJ28="",0,AJ28)+IF(X28="",0,X28)))
E29: =E28+1 -> 13 | F29: Срубка оголовков свай | G29: шт./куб.м | M29: =IF((IF(H29="",0,H29)+IF(I29="",0,I29)+IF(J29="",0,J29)+IF(K29="",0,K29)+IF(L29="",0,L29))=0,"",(IF(H29="",0,H29)+IF(I29="",0,I29)+IF(J29="",0,J29)+IF(K29="",0,K29)+IF(L29="",0,L29))) | Q29: =CONCATENATE("674/",ROUNDUP(0.3*0.3*0.43*674,1)) -> 674/26,1 | X29: =IF((IF(T29="",0,T29)+IF(U29="",0,U29)+IF(V29="",0,V29)+IF(W29="",0,W29))=0,"",(IF(T29="",0,T29)+IF(U29="",0,U29)+IF(V29="",0,V29)+IF(W29="",0,W29))) | AJ29: =IF((IF(Y29="",0,Y29)+IF(Z29="",0,Z29)+IF(AA29="",0,AA29)+IF(AB29="",0,AB29)+IF(AC29="",0,AC29)+IF(AD29="",0,AD29)+IF(AE29="",0,AE29)+IF(AF29="",0,AF29)+IF(AG29="",0,AG29)+IF(AH29="",0,AH29)+IF(AI29="",0,AI29))=0,"",(IF(Y29="",0,Y29)+IF(Z29="",0,Z29)+IF(AA29="",0,AA29)+IF(AB29="",0,AB29)+IF(AC29="",0,AC29)+IF(AD29="",0,AD29)+IF(AE29="",0,AE29)+IF(AF29="",0,AF29)+IF(AG29="",0,AG29)+IF(AH29="",0,AH29)+IF(AI29="",0,AI29))) | AK29: =IF((IF(AJ29="",0,AJ29)+IF(X29="",0,X29))=0,"",(IF(AJ29="",0,AJ29)+IF(X29="",0,X29)))
E30: =E29+1 -> 14 | F30: Испытание свай статическое | G30: шт | M30: =IF((IF(H30="",0,H30)+IF(I30="",0,I30)+IF(J30="",0,J30)+IF(K30="",0,K30)+IF(L30="",0,L30))=0,"",(IF(H30="",0,H30)+IF(I30="",0,I30)+IF(J30="",0,J30)+IF(K30="",0,K30)+IF(L30="",0,L30))) | Q30: =ROUNDUP(674*0.01,0) -> 7 | X30: =IF((IF(T30="",0,T30)+IF(U30="",0,U30)+IF(V30="",0,V30)+IF(W30="",0,W30))=0,"",(IF(T30="",0,T30)+IF(U30="",0,U30)+IF(V30="",0,V30)+IF(W30="",0,W30))) | AJ30: =IF((IF(Y30="",0,Y30)+IF(Z30="",0,Z30)+IF(AA30="",0,AA30)+IF(AB30="",0,AB30)+IF(AC30="",0,AC30)+IF(AD30="",0,AD30)+IF(AE30="",0,AE30)+IF(AF30="",0,AF30)+IF(AG30="",0,AG30)+IF(AH30="",0,AH30)+IF(AI30="",0,AI30))=0,"",(IF(Y30="",0,Y30)+IF(Z30="",0,Z30)+IF(AA30="",0,AA30)+IF(AB30="",0,AB30)+IF(AC30="",0,AC30)+IF(AD30="",0,AD30)+IF(AE30="",0,AE30)+IF(AF30="",0,AF30)+IF(AG30="",0,AG30)+IF(AH30="",0,AH30)+IF(AI30="",0,AI30))) | AK30: =IF((IF(AJ30="",0,AJ30)+IF(X30="",0,X30))=0,"",(IF(AJ30="",0,AJ30)+IF(X30="",0,X30)))
E31: =E30+1 -> 15 | F31: Испытание свай динамическое | G31: шт | M31: =IF((IF(H31="",0,H31)+IF(I31="",0,I31)+IF(J31="",0,J31)+IF(K31="",0,K31)+IF(L31="",0,L31))=0,"",(IF(H31="",0,H31)+IF(I31="",0,I31)+IF(J31="",0,J31)+IF(K31="",0,K31)+IF(L31="",0,L31))) | Q31: =ROUNDUP(674*0.02,0) -> 14 | X31: =IF((IF(T31="",0,T31)+IF(U31="",0,U31)+IF(V31="",0,V31)+IF(W31="",0,W31))=0,"",(IF(T31="",0,T31)+IF(U31="",0,U31)+IF(V31="",0,V31)+IF(W31="",0,W31))) | AJ31: =IF((IF(Y31="",0,Y31)+IF(Z31="",0,Z31)+IF(AA31="",0,AA31)+IF(AB31="",0,AB31)+IF(AC31="",0,AC31)+IF(AD31="",0,AD31)+IF(AE31="",0,AE31)+IF(AF31="",0,AF31)+IF(AG31="",0,AG31)+IF(AH31="",0,AH31)+IF(AI31="",0,AI31))=0,"",(IF(Y31="",0,Y31)+IF(Z31="",0,Z31)+IF(AA31="",0,AA31)+IF(AB31="",0,AB31)+IF(AC31="",0,AC31)+IF(AD31="",0,AD31)+IF(AE31="",0,AE31)+IF(AF31="",0,AF31)+IF(AG31="",0,AG31)+IF(AH31="",0,AH31)+IF(AI31="",0,AI31))) | AK31: =IF((IF(AJ31="",0,AJ31)+IF(X31="",0,X31))=0,"",(IF(AJ31="",0,AJ31)+IF(X31="",0,X31)))
F32: 1.1.1 Устройство узла стыка составных свай | M32: =IF((IF(H32="",0,H32)+IF(I32="",0,I32)+IF(J32="",0,J32)+IF(K32="",0,K32)+IF(L32="",0,L32))=0,"",(IF(H32="",0,H32)+IF(I32="",0,I32)+IF(J32="",0,J32)+IF(K32="",0,K32)+IF(L32="",0,L32))) | X32: =IF((IF(T32="",0,T32)+IF(U32="",0,U32)+IF(V32="",0,V32)+IF(W32="",0,W32))=0,"",(IF(T32="",0,T32)+IF(U32="",0,U32)+IF(V32="",0,V32)+IF(W32="",0,W32))) | AJ32: =IF((IF(Y32="",0,Y32)+IF(Z32="",0,Z32)+IF(AA32="",0,AA32)+IF(AB32="",0,AB32)+IF(AC32="",0,AC32)+IF(AD32="",0,AD32)+IF(AE32="",0,AE32)+IF(AF32="",0,AF32)+IF(AG32="",0,AG32)+IF(AH32="",0,AH32)+IF(AI32="",0,AI32))=0,"",(IF(Y32="",0,Y32)+IF(Z32="",0,Z32)+IF(AA32="",0,AA32)+IF(AB32="",0,AB32)+IF(AC32="",0,AC32)+IF(AD32="",0,AD32)+IF(AE32="",0,AE32)+IF(AF32="",0,AF32)+IF(AG32="",0,AG32)+IF(AH32="",0,AH32)+IF(AI32="",0,AI32))) | AK32: =IF((IF(AJ32="",0,AJ32)+IF(X32="",0,X32))=0,"",(IF(AJ32="",0,AJ32)+IF(X32="",0,X32)))
E33: =E31+1 -> 16 | F33: Накладка Н1 по серии 1.011.1-10 в.8 (1.011.1-10.8-2002) | G33: шт./кг | M33: =IF((IF(H33="",0,H33)+IF(I33="",0,I33)+IF(J33="",0,J33)+IF(K33="",0,K33)+IF(L33="",0,L33))=0,"",(IF(H33="",0,H33)+IF(I33="",0,I33)+IF(J33="",0,J33)+IF(K33="",0,K33)+IF(L33="",0,L33))) | X33: =IF((IF(T33="",0,T33)+IF(U33="",0,U33)+IF(V33="",0,V33)+IF(W33="",0,W33))=0,"",(IF(T33="",0,T33)+IF(U33="",0,U33)+IF(V33="",0,V33)+IF(W33="",0,W33))) | AJ33: =IF((IF(Y33="",0,Y33)+IF(Z33="",0,Z33)+IF(AA33="",0,AA33)+IF(AB33="",0,AB33)+IF(AC33="",0,AC33)+IF(AD33="",0,AD33)+IF(AE33="",0,AE33)+IF(AF33="",0,AF33)+IF(AG33="",0,AG33)+IF(AH33="",0,AH33)+IF(AI33="",0,AI33))=0,"",(IF(Y33="",0,Y33)+IF(Z33="",0,Z33)+IF(AA33="",0,AA33)+IF(AB33="",0,AB33)+IF(AC33="",0,AC33)+IF(AD33="",0,AD33)+IF(AE33="",0,AE33)+IF(AF33="",0,AF33)+IF(AG33="",0,AG33)+IF(AH33="",0,AH33)+IF(AI33="",0,AI33))) | AK33: =IF((IF(AJ33="",0,AJ33)+IF(X33="",0,X33))=0,"",(IF(AJ33="",0,AJ33)+IF(X33="",0,X33))) | AL33: 674/5042,00
E34: =E33+1 -> 17 | F34: Прокладка ПС по серии 1.011.1-10 в.8 (1.011.1-10.8-2002) | G34: шт./кг | M34: =IF((IF(H34="",0,H34)+IF(I34="",0,I34)+IF(J34="",0,J34)+IF(K34="",0,K34)+IF(L34="",0,L34))=0,"",(IF(H34="",0,H34)+IF(I34="",0,I34)+IF(J34="",0,J34)+IF(K34="",0,K34)+IF(L34="",0,L34))) | Q34: 674/471,8 | X34: =IF((IF(T34="",0,T34)+IF(U34="",0,U34)+IF(V34="",0,V34)+IF(W34="",0,W34))=0,"",(IF(T34="",0,T34)+IF(U34="",0,U34)+IF(V34="",0,V34)+IF(W34="",0,W34))) | AJ34: =IF((IF(Y34="",0,Y34)+IF(Z34="",0,Z34)+IF(AA34="",0,AA34)+IF(AB34="",0,AB34)+IF(AC34="",0,AC34)+IF(AD34="",0,AD34)+IF(AE34="",0,AE34)+IF(AF34="",0,AF34)+IF(AG34="",0,AG34)+IF(AH34="",0,AH34)+IF(AI34="",0,AI34))=0,"",(IF(Y34="",0,Y34)+IF(Z34="",0,Z34)+IF(AA34="",0,AA34)+IF(AB34="",0,AB34)+IF(AC34="",0,AC34)+IF(AD34="",0,AD34)+IF(AE34="",0,AE34)+IF(AF34="",0,AF34)+IF(AG34="",0,AG34)+IF(AH34="",0,AH34)+IF(AI34="",0,AI34))) | AK34: =IF((IF(AJ34="",0,AJ34)+IF(X34="",0,X34))=0,"",(IF(AJ34="",0,AJ34)+IF(X34="",0,X34)))
F35: Система ТН-Антикор Топ (или аналог):
E36: =E34+1 -> 18 | F36: Грунтовка TAIKOR Primer 150 (расход 0,27 кг/м2 на 1 слой) всего 1 слой | G36: кг | M36: =IF((IF(H36="",0,H36)+IF(I36="",0,I36)+IF(J36="",0,J36)+IF(K36="",0,K36)+IF(L36="",0,L36))=0,"",(IF(H36="",0,H36)+IF(I36="",0,I36)+IF(J36="",0,J36)+IF(K36="",0,K36)+IF(L36="",0,L36))) | Q36: 43.66
E37: =E36+1 -> 19 | F37: Покрытие финишное TAIKOR Top 425 (расход 0,17 кг/м2 на 1 слой) всего 1 слой | G37: кг | M37: =IF((IF(H37="",0,H37)+IF(I37="",0,I37)+IF(J37="",0,J37)+IF(K37="",0,K37)+IF(L37="",0,L37))=0,"",(IF(H37="",0,H37)+IF(I37="",0,I37)+IF(J37="",0,J37)+IF(K37="",0,K37)+IF(L37="",0,L37))) | Q37: 27.5
F38: 1.1.2 Гидроизоляция участков сопряжения свай и ростверка | M38: =IF((IF(H38="",0,H38)+IF(I38="",0,I38)+IF(J38="",0,J38)+IF(K38="",0,K38)+IF(L38="",0,L38))=0,"",(IF(H38="",0,H38)+IF(I38="",0,I38)+IF(J38="",0,J38)+IF(K38="",0,K38)+IF(L38="",0,L38))) | X38: =IF((IF(T38="",0,T38)+IF(U38="",0,U38)+IF(V38="",0,V38)+IF(W38="",0,W38))=0,"",(IF(T38="",0,T38)+IF(U38="",0,U38)+IF(V38="",0,V38)+IF(W38="",0,W38))) | AJ38: =IF((IF(Y38="",0,Y38)+IF(Z38="",0,Z38)+IF(AA38="",0,AA38)+IF(AB38="",0,AB38)+IF(AC38="",0,AC38)+IF(AD38="",0,AD38)+IF(AE38="",0,AE38)+IF(AF38="",0,AF38)+IF(AG38="",0,AG38)+IF(AH38="",0,AH38)+IF(AI38="",0,AI38))=0,"",(IF(Y38="",0,Y38)+IF(Z38="",0,Z38)+IF(AA38="",0,AA38)+IF(AB38="",0,AB38)+IF(AC38="",0,AC38)+IF(AD38="",0,AD38)+IF(AE38="",0,AE38)+IF(AF38="",0,AF38)+IF(AG38="",0,AG38)+IF(AH38="",0,AH38)+IF(AI38="",0,AI38))) | AK38: =IF((IF(AJ38="",0,AJ38)+IF(X38="",0,X38))=0,"",(IF(AJ38="",0,AJ38)+IF(X38="",0,X38)))
E39: =E37+1 -> 20 | F39: Слой усиления гидроизоляции рулонной "ТЕХНОЭЛАСТ ФЛЕКС" (или аналог) (на 1 слой) всего 1 слой | G39: кв.м | M39: =IF((IF(H39="",0,H39)+IF(I39="",0,I39)+IF(J39="",0,J39)+IF(K39="",0,K39)+IF(L39="",0,L39))=0,"",(IF(H39="",0,H39)+IF(I39="",0,I39)+IF(J39="",0,J39)+IF(K39="",0,K39)+IF(L39="",0,L39))) | Q39: 315 | X39: =IF((IF(T39="",0,T39)+IF(U39="",0,U39)+IF(V39="",0,V39)+IF(W39="",0,W39))=0,"",(IF(T39="",0,T39)+IF(U39="",0,U39)+IF(V39="",0,V39)+IF(W39="",0,W39))) | AJ39: =IF((IF(Y39="",0,Y39)+IF(Z39="",0,Z39)+IF(AA39="",0,AA39)+IF(AB39="",0,AB39)+IF(AC39="",0,AC39)+IF(AD39="",0,AD39)+IF(AE39="",0,AE39)+IF(AF39="",0,AF39)+IF(AG39="",0,AG39)+IF(AH39="",0,AH39)+IF(AI39="",0,AI39))=0,"",(IF(Y39="",0,Y39)+IF(Z39="",0,Z39)+IF(AA39="",0,AA39)+IF(AB39="",0,AB39)+IF(AC39="",0,AC39)+IF(AD39="",0,AD39)+IF(AE39="",0,AE39)+IF(AF39="",0,AF39)+IF(AG39="",0,AG39)+IF(AH39="",0,AH39)+IF(AI39="",0,AI39))) | AK39: =IF((IF(AJ39="",0,AJ39)+IF(X39="",0,X39))=0,"",(IF(AJ39="",0,AJ39)+IF(X39="",0,X39)))
E40: =E39+1 -> 21 | F40: Шнур бентонитовый набухающий 30х30 мм | G40: п.м | M40: =IF((IF(H40="",0,H40)+IF(I40="",0,I40)+IF(J40="",0,J40)+IF(K40="",0,K40)+IF(L40="",0,L40))=0,"",(IF(H40="",0,H40)+IF(I40="",0,I40)+IF(J40="",0,J40)+IF(K40="",0,K40)+IF(L40="",0,L40))) | Q40: 809 | X40: =IF((IF(T40="",0,T40)+IF(U40="",0,U40)+IF(V40="",0,V40)+IF(W40="",0,W40))=0,"",(IF(T40="",0,T40)+IF(U40="",0,U40)+IF(V40="",0,V40)+IF(W40="",0,W40))) | AJ40: =IF((IF(Y40="",0,Y40)+IF(Z40="",0,Z40)+IF(AA40="",0,AA40)+IF(AB40="",0,AB40)+IF(AC40="",0,AC40)+IF(AD40="",0,AD40)+IF(AE40="",0,AE40)+IF(AF40="",0,AF40)+IF(AG40="",0,AG40)+IF(AH40="",0,AH40)+IF(AI40="",0,AI40))=0,"",(IF(Y40="",0,Y40)+IF(Z40="",0,Z40)+IF(AA40="",0,AA40)+IF(AB40="",0,AB40)+IF(AC40="",0,AC40)+IF(AD40="",0,AD40)+IF(AE40="",0,AE40)+IF(AF40="",0,AF40)+IF(AG40="",0,AG40)+IF(AH40="",0,AH40)+IF(AI40="",0,AI40))) | AK40: =IF((IF(AJ40="",0,AJ40)+IF(X40="",0,X40))=0,"",(IF(AJ40="",0,AJ40)+IF(X40="",0,X40)))
E41: =E40+1 -> 22 | F41: Праймер битумный "Технониколь №1" (или аналог) | G41: кв.м | M41: =IF((IF(H41="",0,H41)+IF(I41="",0,I41)+IF(J41="",0,J41)+IF(K41="",0,K41)+IF(L41="",0,L41))=0,"",(IF(H41="",0,H41)+IF(I41="",0,I41)+IF(J41="",0,J41)+IF(K41="",0,K41)+IF(L41="",0,L41))) | Q41: 73 | X41: =IF((IF(T41="",0,T41)+IF(U41="",0,U41)+IF(V41="",0,V41)+IF(W41="",0,W41))=0,"",(IF(T41="",0,T41)+IF(U41="",0,U41)+IF(V41="",0,V41)+IF(W41="",0,W41))) | AJ41: =IF((IF(Y41="",0,Y41)+IF(Z41="",0,Z41)+IF(AA41="",0,AA41)+IF(AB41="",0,AB41)+IF(AC41="",0,AC41)+IF(AD41="",0,AD41)+IF(AE41="",0,AE41)+IF(AF41="",0,AF41)+IF(AG41="",0,AG41)+IF(AH41="",0,AH41)+IF(AI41="",0,AI41))=0,"",(IF(Y41="",0,Y41)+IF(Z41="",0,Z41)+IF(AA41="",0,AA41)+IF(AB41="",0,AB41)+IF(AC41="",0,AC41)+IF(AD41="",0,AD41)+IF(AE41="",0,AE41)+IF(AF41="",0,AF41)+IF(AG41="",0,AG41)+IF(AH41="",0,AH41)+IF(AI41="",0,AI41))) | AK41: =IF((IF(AJ41="",0,AJ41)+IF(X41="",0,X41))=0,"",(IF(AJ41="",0,AJ41)+IF(X41="",0,X41)))
E42: =E41+1 -> 23 | F42: Состав гидроизоляционный "Кальматрон" (или аналог) (покрытие торца сваи) | G42: кв.м | M42: =IF((IF(H42="",0,H42)+IF(I42="",0,I42)+IF(J42="",0,J42)+IF(K42="",0,K42)+IF(L42="",0,L42))=0,"",(IF(H42="",0,H42)+IF(I42="",0,I42)+IF(J42="",0,J42)+IF(K42="",0,K42)+IF(L42="",0,L42))) | Q42: 61 | X42: =IF((IF(T42="",0,T42)+IF(U42="",0,U42)+IF(V42="",0,V42)+IF(W42="",0,W42))=0,"",(IF(T42="",0,T42)+IF(U42="",0,U42)+IF(V42="",0,V42)+IF(W42="",0,W42))) | AJ42: =IF((IF(Y42="",0,Y42)+IF(Z42="",0,Z42)+IF(AA42="",0,AA42)+IF(AB42="",0,AB42)+IF(AC42="",0,AC42)+IF(AD42="",0,AD42)+IF(AE42="",0,AE42)+IF(AF42="",0,AF42)+IF(AG42="",0,AG42)+IF(AH42="",0,AH42)+IF(AI42="",0,AI42))=0,"",(IF(Y42="",0,Y42)+IF(Z42="",0,Z42)+IF(AA42="",0,AA42)+IF(AB42="",0,AB42)+IF(AC42="",0,AC42)+IF(AD42="",0,AD42)+IF(AE42="",0,AE42)+IF(AF42="",0,AF42)+IF(AG42="",0,AG42)+IF(AH42="",0,AH42)+IF(AI42="",0,AI42))) | AK42: =IF((IF(AJ42="",0,AJ42)+IF(X42="",0,X42))=0,"",(IF(AJ42="",0,AJ42)+IF(X42="",0,X42)))
C43: см. рисунок 2 - в красной рамке; расход на затирку ц.п. раствором не учитывать, считается, что она входит в состав работ по гидроизоляции как подготовка поверхности | F43: 1.1.3 Гидроизоляция горизонтальная (под фундаментной плитой) | M43: =IF((IF(H43="",0,H43)+IF(I43="",0,I43)+IF(J43="",0,J43)+IF(K43="",0,K43)+IF(L43="",0,L43))=0,"",(IF(H43="",0,H43)+IF(I43="",0,I43)+IF(J43="",0,J43)+IF(K43="",0,K43)+IF(L43="",0,L43))) | X43: =IF((IF(T43="",0,T43)+IF(U43="",0,U43)+IF(V43="",0,V43)+IF(W43="",0,W43))=0,"",(IF(T43="",0,T43)+IF(U43="",0,U43)+IF(V43="",0,V43)+IF(W43="",0,W43))) | AJ43: =IF((IF(Y43="",0,Y43)+IF(Z43="",0,Z43)+IF(AA43="",0,AA43)+IF(AB43="",0,AB43)+IF(AC43="",0,AC43)+IF(AD43="",0,AD43)+IF(AE43="",0,AE43)+IF(AF43="",0,AF43)+IF(AG43="",0,AG43)+IF(AH43="",0,AH43)+IF(AI43="",0,AI43))=0,"",(IF(Y43="",0,Y43)+IF(Z43="",0,Z43)+IF(AA43="",0,AA43)+IF(AB43="",0,AB43)+IF(AC43="",0,AC43)+IF(AD43="",0,AD43)+IF(AE43="",0,AE43)+IF(AF43="",0,AF43)+IF(AG43="",0,AG43)+IF(AH43="",0,AH43)+IF(AI43="",0,AI43))) | AK43: =IF((IF(AJ43="",0,AJ43)+IF(X43="",0,X43))=0,"",(IF(AJ43="",0,AJ43)+IF(X43="",0,X43)))
C44: см. рисунок 20 | E44: =E42+1 -> 24 | F44: Стяжка защитная цементно-песчаная 30 мм М100 | G44: кв.м | M44: =IF((IF(H44="",0,H44)+IF(I44="",0,I44)+IF(J44="",0,J44)+IF(K44="",0,K44)+IF(L44="",0,L44))=0,"",(IF(H44="",0,H44)+IF(I44="",0,I44)+IF(J44="",0,J44)+IF(K44="",0,K44)+IF(L44="",0,L44))) | Q44: 1148 | X44: =IF((IF(T44="",0,T44)+IF(U44="",0,U44)+IF(V44="",0,V44)+IF(W44="",0,W44))=0,"",(IF(T44="",0,T44)+IF(U44="",0,U44)+IF(V44="",0,V44)+IF(W44="",0,W44))) | AJ44: =IF((IF(Y44="",0,Y44)+IF(Z44="",0,Z44)+IF(AA44="",0,AA44)+IF(AB44="",0,AB44)+IF(AC44="",0,AC44)+IF(AD44="",0,AD44)+IF(AE44="",0,AE44)+IF(AF44="",0,AF44)+IF(AG44="",0,AG44)+IF(AH44="",0,AH44)+IF(AI44="",0,AI44))=0,"",(IF(Y44="",0,Y44)+IF(Z44="",0,Z44)+IF(AA44="",0,AA44)+IF(AB44="",0,AB44)+IF(AC44="",0,AC44)+IF(AD44="",0,AD44)+IF(AE44="",0,AE44)+IF(AF44="",0,AF44)+IF(AG44="",0,AG44)+IF(AH44="",0,AH44)+IF(AI44="",0,AI44))) | AK44: =IF((IF(AJ44="",0,AJ44)+IF(X44="",0,X44))=0,"",(IF(AJ44="",0,AJ44)+IF(X44="",0,X44)))
C45: на 1 слой, см. рисунок 20 | E45: =E44+1 -> 25 | F45: Гидроизоляция рулонная "ТЕХНОЭЛАСТ ФУНДАМЕНТ" (или аналог) (на 1 слой) всего 2 слоя | G45: кв.м | M45: =IF((IF(H45="",0,H45)+IF(I45="",0,I45)+IF(J45="",0,J45)+IF(K45="",0,K45)+IF(L45="",0,L45))=0,"",(IF(H45="",0,H45)+IF(I45="",0,I45)+IF(J45="",0,J45)+IF(K45="",0,K45)+IF(L45="",0,L45))) | Q45: 1148 | X45: =IF((IF(T45="",0,T45)+IF(U45="",0,U45)+IF(V45="",0,V45)+IF(W45="",0,W45))=0,"",(IF(T45="",0,T45)+IF(U45="",0,U45)+IF(V45="",0,V45)+IF(W45="",0,W45))) | AJ45: =IF((IF(Y45="",0,Y45)+IF(Z45="",0,Z45)+IF(AA45="",0,AA45)+IF(AB45="",0,AB45)+IF(AC45="",0,AC45)+IF(AD45="",0,AD45)+IF(AE45="",0,AE45)+IF(AF45="",0,AF45)+IF(AG45="",0,AG45)+IF(AH45="",0,AH45)+IF(AI45="",0,AI45))=0,"",(IF(Y45="",0,Y45)+IF(Z45="",0,Z45)+IF(AA45="",0,AA45)+IF(AB45="",0,AB45)+IF(AC45="",0,AC45)+IF(AD45="",0,AD45)+IF(AE45="",0,AE45)+IF(AF45="",0,AF45)+IF(AG45="",0,AG45)+IF(AH45="",0,AH45)+IF(AI45="",0,AI45))) | AK45: =IF((IF(AJ45="",0,AJ45)+IF(X45="",0,X45))=0,"",(IF(AJ45="",0,AJ45)+IF(X45="",0,X45)))
E46: =E45+1 -> 26 | F46: Праймер битумный "Технониколь №1" (или аналог) | G46: кв.м | M46: =IF((IF(H46="",0,H46)+IF(I46="",0,I46)+IF(J46="",0,J46)+IF(K46="",0,K46)+IF(L46="",0,L46))=0,"",(IF(H46="",0,H46)+IF(I46="",0,I46)+IF(J46="",0,J46)+IF(K46="",0,K46)+IF(L46="",0,L46))) | Q46: 1148 | X46: =IF((IF(T46="",0,T46)+IF(U46="",0,U46)+IF(V46="",0,V46)+IF(W46="",0,W46))=0,"",(IF(T46="",0,T46)+IF(U46="",0,U46)+IF(V46="",0,V46)+IF(W46="",0,W46))) | AJ46: =IF((IF(Y46="",0,Y46)+IF(Z46="",0,Z46)+IF(AA46="",0,AA46)+IF(AB46="",0,AB46)+IF(AC46="",0,AC46)+IF(AD46="",0,AD46)+IF(AE46="",0,AE46)+IF(AF46="",0,AF46)+IF(AG46="",0,AG46)+IF(AH46="",0,AH46)+IF(AI46="",0,AI46))=0,"",(IF(Y46="",0,Y46)+IF(Z46="",0,Z46)+IF(AA46="",0,AA46)+IF(AB46="",0,AB46)+IF(AC46="",0,AC46)+IF(AD46="",0,AD46)+IF(AE46="",0,AE46)+IF(AF46="",0,AF46)+IF(AG46="",0,AG46)+IF(AH46="",0,AH46)+IF(AI46="",0,AI46))) | AK46: =IF((IF(AJ46="",0,AJ46)+IF(X46="",0,X46))=0,"",(IF(AJ46="",0,AJ46)+IF(X46="",0,X46)))
E47: =E46+1 -> 27 | F47: Галтель для устройства гидроизоляции 100х100 мм из ЦПР М100 | G47: п.м | M47: =IF((IF(H47="",0,H47)+IF(I47="",0,I47)+IF(J47="",0,J47)+IF(K47="",0,K47)+IF(L47="",0,L47))=0,"",(IF(H47="",0,H47)+IF(I47="",0,I47)+IF(J47="",0,J47)+IF(K47="",0,K47)+IF(L47="",0,L47))) | Q47: 80 | X47: =IF((IF(T47="",0,T47)+IF(U47="",0,U47)+IF(V47="",0,V47)+IF(W47="",0,W47))=0,"",(IF(T47="",0,T47)+IF(U47="",0,U47)+IF(V47="",0,V47)+IF(W47="",0,W47))) | AJ47: =IF((IF(Y47="",0,Y47)+IF(Z47="",0,Z47)+IF(AA47="",0,AA47)+IF(AB47="",0,AB47)+IF(AC47="",0,AC47)+IF(AD47="",0,AD47)+IF(AE47="",0,AE47)+IF(AF47="",0,AF47)+IF(AG47="",0,AG47)+IF(AH47="",0,AH47)+IF(AI47="",0,AI47))=0,"",(IF(Y47="",0,Y47)+IF(Z47="",0,Z47)+IF(AA47="",0,AA47)+IF(AB47="",0,AB47)+IF(AC47="",0,AC47)+IF(AD47="",0,AD47)+IF(AE47="",0,AE47)+IF(AF47="",0,AF47)+IF(AG47="",0,AG47)+IF(AH47="",0,AH47)+IF(AI47="",0,AI47))) | AK47: =IF((IF(AJ47="",0,AJ47)+IF(X47="",0,X47))=0,"",(IF(AJ47="",0,AJ47)+IF(X47="",0,X47)))
C48: уточнить наличие и при адресном проектировании (устраивается по контуру подошвы ФП в случае расположения шпунтового ограждения вплотную к фундаментной плите, см. рисунок 1) | E48: =E47+1 -> 28 | F48: Уплотнитель ∅60 мм. Шнур типа "Вилатерм" | G48: п.м | M48: =IF((IF(H48="",0,H48)+IF(I48="",0,I48)+IF(J48="",0,J48)+IF(K48="",0,K48)+IF(L48="",0,L48))=0,"",(IF(H48="",0,H48)+IF(I48="",0,I48)+IF(J48="",0,J48)+IF(K48="",0,K48)+IF(L48="",0,L48))) | Q48: 40 | X48: =IF((IF(T48="",0,T48)+IF(U48="",0,U48)+IF(V48="",0,V48)+IF(W48="",0,W48))=0,"",(IF(T48="",0,T48)+IF(U48="",0,U48)+IF(V48="",0,V48)+IF(W48="",0,W48))) | AJ48: =IF((IF(Y48="",0,Y48)+IF(Z48="",0,Z48)+IF(AA48="",0,AA48)+IF(AB48="",0,AB48)+IF(AC48="",0,AC48)+IF(AD48="",0,AD48)+IF(AE48="",0,AE48)+IF(AF48="",0,AF48)+IF(AG48="",0,AG48)+IF(AH48="",0,AH48)+IF(AI48="",0,AI48))=0,"",(IF(Y48="",0,Y48)+IF(Z48="",0,Z48)+IF(AA48="",0,AA48)+IF(AB48="",0,AB48)+IF(AC48="",0,AC48)+IF(AD48="",0,AD48)+IF(AE48="",0,AE48)+IF(AF48="",0,AF48)+IF(AG48="",0,AG48)+IF(AH48="",0,AH48)+IF(AI48="",0,AI48))) | AK48: =IF((IF(AJ48="",0,AJ48)+IF(X48="",0,X48))=0,"",(IF(AJ48="",0,AJ48)+IF(X48="",0,X48)))
C49: см. рисунок 2 - в синей рамке | F49: 1.1.4 Гидроизоляция вертикальная (по торцу фундаментной плиты) | M49: =IF((IF(H49="",0,H49)+IF(I49="",0,I49)+IF(J49="",0,J49)+IF(K49="",0,K49)+IF(L49="",0,L49))=0,"",(IF(H49="",0,H49)+IF(I49="",0,I49)+IF(J49="",0,J49)+IF(K49="",0,K49)+IF(L49="",0,L49))) | X49: =IF((IF(T49="",0,T49)+IF(U49="",0,U49)+IF(V49="",0,V49)+IF(W49="",0,W49))=0,"",(IF(T49="",0,T49)+IF(U49="",0,U49)+IF(V49="",0,V49)+IF(W49="",0,W49))) | AJ49: =IF((IF(Y49="",0,Y49)+IF(Z49="",0,Z49)+IF(AA49="",0,AA49)+IF(AB49="",0,AB49)+IF(AC49="",0,AC49)+IF(AD49="",0,AD49)+IF(AE49="",0,AE49)+IF(AF49="",0,AF49)+IF(AG49="",0,AG49)+IF(AH49="",0,AH49)+IF(AI49="",0,AI49))=0,"",(IF(Y49="",0,Y49)+IF(Z49="",0,Z49)+IF(AA49="",0,AA49)+IF(AB49="",0,AB49)+IF(AC49="",0,AC49)+IF(AD49="",0,AD49)+IF(AE49="",0,AE49)+IF(AF49="",0,AF49)+IF(AG49="",0,AG49)+IF(AH49="",0,AH49)+IF(AI49="",0,AI49))) | AK49: =IF((IF(AJ49="",0,AJ49)+IF(X49="",0,X49))=0,"",(IF(AJ49="",0,AJ49)+IF(X49="",0,X49)))
E50: =E48+1 -> 29 | F50: Мембрана защитная "PLANTER Standard" (или аналог) | G50: кв.м | M50: =IF((IF(H50="",0,H50)+IF(I50="",0,I50)+IF(J50="",0,J50)+IF(K50="",0,K50)+IF(L50="",0,L50))=0,"",(IF(H50="",0,H50)+IF(I50="",0,I50)+IF(J50="",0,J50)+IF(K50="",0,K50)+IF(L50="",0,L50))) | Q50: 63.03 | X50: =IF((IF(T50="",0,T50)+IF(U50="",0,U50)+IF(V50="",0,V50)+IF(W50="",0,W50))=0,"",(IF(T50="",0,T50)+IF(U50="",0,U50)+IF(V50="",0,V50)+IF(W50="",0,W50))) | AJ50: =IF((IF(Y50="",0,Y50)+IF(Z50="",0,Z50)+IF(AA50="",0,AA50)+IF(AB50="",0,AB50)+IF(AC50="",0,AC50)+IF(AD50="",0,AD50)+IF(AE50="",0,AE50)+IF(AF50="",0,AF50)+IF(AG50="",0,AG50)+IF(AH50="",0,AH50)+IF(AI50="",0,AI50))=0,"",(IF(Y50="",0,Y50)+IF(Z50="",0,Z50)+IF(AA50="",0,AA50)+IF(AB50="",0,AB50)+IF(AC50="",0,AC50)+IF(AD50="",0,AD50)+IF(AE50="",0,AE50)+IF(AF50="",0,AF50)+IF(AG50="",0,AG50)+IF(AH50="",0,AH50)+IF(AI50="",0,AI50))) | AK50: =IF((IF(AJ50="",0,AJ50)+IF(X50="",0,X50))=0,"",(IF(AJ50="",0,AJ50)+IF(X50="",0,X50)))
E51: =E50+1 -> 30 | F51: Гидроизоляция рулонная "ТЕХНОЭЛАСТ ФУНДАМЕНТ" (или аналог) (на 1 слой) всего 2 слоя | G51: кв.м | M51: =IF((IF(H51="",0,H51)+IF(I51="",0,I51)+IF(J51="",0,J51)+IF(K51="",0,K51)+IF(L51="",0,L51))=0,"",(IF(H51="",0,H51)+IF(I51="",0,I51)+IF(J51="",0,J51)+IF(K51="",0,K51)+IF(L51="",0,L51))) | Q51: 63.03 | X51: =IF((IF(T51="",0,T51)+IF(U51="",0,U51)+IF(V51="",0,V51)+IF(W51="",0,W51))=0,"",(IF(T51="",0,T51)+IF(U51="",0,U51)+IF(V51="",0,V51)+IF(W51="",0,W51))) | AJ51: =IF((IF(Y51="",0,Y51)+IF(Z51="",0,Z51)+IF(AA51="",0,AA51)+IF(AB51="",0,AB51)+IF(AC51="",0,AC51)+IF(AD51="",0,AD51)+IF(AE51="",0,AE51)+IF(AF51="",0,AF51)+IF(AG51="",0,AG51)+IF(AH51="",0,AH51)+IF(AI51="",0,AI51))=0,"",(IF(Y51="",0,Y51)+IF(Z51="",0,Z51)+IF(AA51="",0,AA51)+IF(AB51="",0,AB51)+IF(AC51="",0,AC51)+IF(AD51="",0,AD51)+IF(AE51="",0,AE51)+IF(AF51="",0,AF51)+IF(AG51="",0,AG51)+IF(AH51="",0,AH51)+IF(AI51="",0,AI51))) | AK51: =IF((IF(AJ51="",0,AJ51)+IF(X51="",0,X51))=0,"",(IF(AJ51="",0,AJ51)+IF(X51="",0,X51)))
E52: =E51+1 -> 31 | F52: Праймер битумный "Технониколь №1" (или аналог) | G52: кв.м | M52: =IF((IF(H52="",0,H52)+IF(I52="",0,I52)+IF(J52="",0,J52)+IF(K52="",0,K52)+IF(L52="",0,L52))=0,"",(IF(H52="",0,H52)+IF(I52="",0,I52)+IF(J52="",0,J52)+IF(K52="",0,K52)+IF(L52="",0,L52))) | Q52: 63.03 | X52: =IF((IF(T52="",0,T52)+IF(U52="",0,U52)+IF(V52="",0,V52)+IF(W52="",0,W52))=0,"",(IF(T52="",0,T52)+IF(U52="",0,U52)+IF(V52="",0,V52)+IF(W52="",0,W52))) | AJ52: =IF((IF(Y52="",0,Y52)+IF(Z52="",0,Z52)+IF(AA52="",0,AA52)+IF(AB52="",0,AB52)+IF(AC52="",0,AC52)+IF(AD52="",0,AD52)+IF(AE52="",0,AE52)+IF(AF52="",0,AF52)+IF(AG52="",0,AG52)+IF(AH52="",0,AH52)+IF(AI52="",0,AI52))=0,"",(IF(Y52="",0,Y52)+IF(Z52="",0,Z52)+IF(AA52="",0,AA52)+IF(AB52="",0,AB52)+IF(AC52="",0,AC52)+IF(AD52="",0,AD52)+IF(AE52="",0,AE52)+IF(AF52="",0,AF52)+IF(AG52="",0,AG52)+IF(AH52="",0,AH52)+IF(AI52="",0,AI52))) | AK52: =IF((IF(AJ52="",0,AJ52)+IF(X52="",0,X52))=0,"",(IF(AJ52="",0,AJ52)+IF(X52="",0,X52)))
C53: уточнить наличие при адресном проектировании (устраивается по контуру подошвы ФП в случае расположения шпунтового ограждения вплотную к фундаментной плите, см. рисунок 1) | E53: =E52+1 -> 32 | F53: Пенополистирол эструдированный "Технониколь" (группа горючести Г4/Г3 по ГОСТ 30244-94) (или аналог) | G53: куб.м | M53: =IF((IF(H53="",0,H53)+IF(I53="",0,I53)+IF(J53="",0,J53)+IF(K53="",0,K53)+IF(L53="",0,L53))=0,"",(IF(H53="",0,H53)+IF(I53="",0,I53)+IF(J53="",0,J53)+IF(K53="",0,K53)+IF(L53="",0,L53))) | Q53: 3.3 | X53: =IF((IF(T53="",0,T53)+IF(U53="",0,U53)+IF(V53="",0,V53)+IF(W53="",0,W53))=0,"",(IF(T53="",0,T53)+IF(U53="",0,U53)+IF(V53="",0,V53)+IF(W53="",0,W53))) | AJ53: =IF((IF(Y53="",0,Y53)+IF(Z53="",0,Z53)+IF(AA53="",0,AA53)+IF(AB53="",0,AB53)+IF(AC53="",0,AC53)+IF(AD53="",0,AD53)+IF(AE53="",0,AE53)+IF(AF53="",0,AF53)+IF(AG53="",0,AG53)+IF(AH53="",0,AH53)+IF(AI53="",0,AI53))=0,"",(IF(Y53="",0,Y53)+IF(Z53="",0,Z53)+IF(AA53="",0,AA53)+IF(AB53="",0,AB53)+IF(AC53="",0,AC53)+IF(AD53="",0,AD53)+IF(AE53="",0,AE53)+IF(AF53="",0,AF53)+IF(AG53="",0,AG53)+IF(AH53="",0,AH53)+IF(AI53="",0,AI53))) | AK53: =IF((IF(AJ53="",0,AJ53)+IF(X53="",0,X53))=0,"",(IF(AJ53="",0,AJ53)+IF(X53="",0,X53)))
E54: =E53+1 -> 33 | F54: Лист ЦСП 10 мм по ГОСТ 26816-2016 | G54: кв.м | M54: =IF((IF(H54="",0,H54)+IF(I54="",0,I54)+IF(J54="",0,J54)+IF(K54="",0,K54)+IF(L54="",0,L54))=0,"",(IF(H54="",0,H54)+IF(I54="",0,I54)+IF(J54="",0,J54)+IF(K54="",0,K54)+IF(L54="",0,L54))) | Q54: 16.2 | X54: =IF((IF(T54="",0,T54)+IF(U54="",0,U54)+IF(V54="",0,V54)+IF(W54="",0,W54))=0,"",(IF(T54="",0,T54)+IF(U54="",0,U54)+IF(V54="",0,V54)+IF(W54="",0,W54))) | AJ54: =IF((IF(Y54="",0,Y54)+IF(Z54="",0,Z54)+IF(AA54="",0,AA54)+IF(AB54="",0,AB54)+IF(AC54="",0,AC54)+IF(AD54="",0,AD54)+IF(AE54="",0,AE54)+IF(AF54="",0,AF54)+IF(AG54="",0,AG54)+IF(AH54="",0,AH54)+IF(AI54="",0,AI54))=0,"",(IF(Y54="",0,Y54)+IF(Z54="",0,Z54)+IF(AA54="",0,AA54)+IF(AB54="",0,AB54)+IF(AC54="",0,AC54)+IF(AD54="",0,AD54)+IF(AE54="",0,AE54)+IF(AF54="",0,AF54)+IF(AG54="",0,AG54)+IF(AH54="",0,AH54)+IF(AI54="",0,AI54))) | AK54: =IF((IF(AJ54="",0,AJ54)+IF(X54="",0,X54))=0,"",(IF(AJ54="",0,AJ54)+IF(X54="",0,X54)))
C55: см. рисунок 2 - в зеленой рамке | F55: 1.1.5 Гидроизоляция горизонтальная (горизонтальные участки вылета фундаментной плиты): | M55: =IF((IF(H55="",0,H55)+IF(I55="",0,I55)+IF(J55="",0,J55)+IF(K55="",0,K55)+IF(L55="",0,L55))=0,"",(IF(H55="",0,H55)+IF(I55="",0,I55)+IF(J55="",0,J55)+IF(K55="",0,K55)+IF(L55="",0,L55))) | X55: =IF((IF(T55="",0,T55)+IF(U55="",0,U55)+IF(V55="",0,V55)+IF(W55="",0,W55))=0,"",(IF(T55="",0,T55)+IF(U55="",0,U55)+IF(V55="",0,V55)+IF(W55="",0,W55))) | AJ55: =IF((IF(Y55="",0,Y55)+IF(Z55="",0,Z55)+IF(AA55="",0,AA55)+IF(AB55="",0,AB55)+IF(AC55="",0,AC55)+IF(AD55="",0,AD55)+IF(AE55="",0,AE55)+IF(AF55="",0,AF55)+IF(AG55="",0,AG55)+IF(AH55="",0,AH55)+IF(AI55="",0,AI55))=0,"",(IF(Y55="",0,Y55)+IF(Z55="",0,Z55)+IF(AA55="",0,AA55)+IF(AB55="",0,AB55)+IF(AC55="",0,AC55)+IF(AD55="",0,AD55)+IF(AE55="",0,AE55)+IF(AF55="",0,AF55)+IF(AG55="",0,AG55)+IF(AH55="",0,AH55)+IF(AI55="",0,AI55))) | AK55: =IF((IF(AJ55="",0,AJ55)+IF(X55="",0,X55))=0,"",(IF(AJ55="",0,AJ55)+IF(X55="",0,X55)))
E56: =E54+1 -> 34 | F56: Мембрана защитная "PLANTER Standard" (или аналог) | G56: кв.м | M56: =IF((IF(H56="",0,H56)+IF(I56="",0,I56)+IF(J56="",0,J56)+IF(K56="",0,K56)+IF(L56="",0,L56))=0,"",(IF(H56="",0,H56)+IF(I56="",0,I56)+IF(J56="",0,J56)+IF(K56="",0,K56)+IF(L56="",0,L56))) | Q56: 63.98 | X56: =IF((IF(T56="",0,T56)+IF(U56="",0,U56)+IF(V56="",0,V56)+IF(W56="",0,W56))=0,"",(IF(T56="",0,T56)+IF(U56="",0,U56)+IF(V56="",0,V56)+IF(W56="",0,W56))) | AJ56: =IF((IF(Y56="",0,Y56)+IF(Z56="",0,Z56)+IF(AA56="",0,AA56)+IF(AB56="",0,AB56)+IF(AC56="",0,AC56)+IF(AD56="",0,AD56)+IF(AE56="",0,AE56)+IF(AF56="",0,AF56)+IF(AG56="",0,AG56)+IF(AH56="",0,AH56)+IF(AI56="",0,AI56))=0,"",(IF(Y56="",0,Y56)+IF(Z56="",0,Z56)+IF(AA56="",0,AA56)+IF(AB56="",0,AB56)+IF(AC56="",0,AC56)+IF(AD56="",0,AD56)+IF(AE56="",0,AE56)+IF(AF56="",0,AF56)+IF(AG56="",0,AG56)+IF(AH56="",0,AH56)+IF(AI56="",0,AI56))) | AK56: =IF((IF(AJ56="",0,AJ56)+IF(X56="",0,X56))=0,"",(IF(AJ56="",0,AJ56)+IF(X56="",0,X56)))
C57: на 1 слой | E57: =E56+1 -> 35 | F57: Гидроизоляция рулонная "ТЕХНОЭЛАСТ ФУНДАМЕНТ" (или аналог) (на 1 слой) всего 2 слоя | G57: кв.м | M57: =IF((IF(H57="",0,H57)+IF(I57="",0,I57)+IF(J57="",0,J57)+IF(K57="",0,K57)+IF(L57="",0,L57))=0,"",(IF(H57="",0,H57)+IF(I57="",0,I57)+IF(J57="",0,J57)+IF(K57="",0,K57)+IF(L57="",0,L57))) | Q57: 63.98 | X57: =IF((IF(T57="",0,T57)+IF(U57="",0,U57)+IF(V57="",0,V57)+IF(W57="",0,W57))=0,"",(IF(T57="",0,T57)+IF(U57="",0,U57)+IF(V57="",0,V57)+IF(W57="",0,W57))) | AJ57: =IF((IF(Y57="",0,Y57)+IF(Z57="",0,Z57)+IF(AA57="",0,AA57)+IF(AB57="",0,AB57)+IF(AC57="",0,AC57)+IF(AD57="",0,AD57)+IF(AE57="",0,AE57)+IF(AF57="",0,AF57)+IF(AG57="",0,AG57)+IF(AH57="",0,AH57)+IF(AI57="",0,AI57))=0,"",(IF(Y57="",0,Y57)+IF(Z57="",0,Z57)+IF(AA57="",0,AA57)+IF(AB57="",0,AB57)+IF(AC57="",0,AC57)+IF(AD57="",0,AD57)+IF(AE57="",0,AE57)+IF(AF57="",0,AF57)+IF(AG57="",0,AG57)+IF(AH57="",0,AH57)+IF(AI57="",0,AI57))) | AK57: =IF((IF(AJ57="",0,AJ57)+IF(X57="",0,X57))=0,"",(IF(AJ57="",0,AJ57)+IF(X57="",0,X57)))
E58: =E57+1 -> 36 | F58: Праймер битумный "Технониколь №1" (или аналог) | G58: кв.м | M58: =IF((IF(H58="",0,H58)+IF(I58="",0,I58)+IF(J58="",0,J58)+IF(K58="",0,K58)+IF(L58="",0,L58))=0,"",(IF(H58="",0,H58)+IF(I58="",0,I58)+IF(J58="",0,J58)+IF(K58="",0,K58)+IF(L58="",0,L58))) | Q58: 63.98 | X58: =IF((IF(T58="",0,T58)+IF(U58="",0,U58)+IF(V58="",0,V58)+IF(W58="",0,W58))=0,"",(IF(T58="",0,T58)+IF(U58="",0,U58)+IF(V58="",0,V58)+IF(W58="",0,W58))) | AJ58: =IF((IF(Y58="",0,Y58)+IF(Z58="",0,Z58)+IF(AA58="",0,AA58)+IF(AB58="",0,AB58)+IF(AC58="",0,AC58)+IF(AD58="",0,AD58)+IF(AE58="",0,AE58)+IF(AF58="",0,AF58)+IF(AG58="",0,AG58)+IF(AH58="",0,AH58)+IF(AI58="",0,AI58))=0,"",(IF(Y58="",0,Y58)+IF(Z58="",0,Z58)+IF(AA58="",0,AA58)+IF(AB58="",0,AB58)+IF(AC58="",0,AC58)+IF(AD58="",0,AD58)+IF(AE58="",0,AE58)+IF(AF58="",0,AF58)+IF(AG58="",0,AG58)+IF(AH58="",0,AH58)+IF(AI58="",0,AI58))) | AK58: =IF((IF(AJ58="",0,AJ58)+IF(X58="",0,X58))=0,"",(IF(AJ58="",0,AJ58)+IF(X58="",0,X58)))
E59: =E58+1 -> 37 | F59: Галтель для устройства гидроизоляции 100х100 мм из ЦПР М100 | G59: п.м | M59: =IF((IF(H59="",0,H59)+IF(I59="",0,I59)+IF(J59="",0,J59)+IF(K59="",0,K59)+IF(L59="",0,L59))=0,"",(IF(H59="",0,H59)+IF(I59="",0,I59)+IF(J59="",0,J59)+IF(K59="",0,K59)+IF(L59="",0,L59))) | Q59: 83.76 | X59: =IF((IF(T59="",0,T59)+IF(U59="",0,U59)+IF(V59="",0,V59)+IF(W59="",0,W59))=0,"",(IF(T59="",0,T59)+IF(U59="",0,U59)+IF(V59="",0,V59)+IF(W59="",0,W59))) | AJ59: =IF((IF(Y59="",0,Y59)+IF(Z59="",0,Z59)+IF(AA59="",0,AA59)+IF(AB59="",0,AB59)+IF(AC59="",0,AC59)+IF(AD59="",0,AD59)+IF(AE59="",0,AE59)+IF(AF59="",0,AF59)+IF(AG59="",0,AG59)+IF(AH59="",0,AH59)+IF(AI59="",0,AI59))=0,"",(IF(Y59="",0,Y59)+IF(Z59="",0,Z59)+IF(AA59="",0,AA59)+IF(AB59="",0,AB59)+IF(AC59="",0,AC59)+IF(AD59="",0,AD59)+IF(AE59="",0,AE59)+IF(AF59="",0,AF59)+IF(AG59="",0,AG59)+IF(AH59="",0,AH59)+IF(AI59="",0,AI59))) | AK59: =IF((IF(AJ59="",0,AJ59)+IF(X59="",0,X59))=0,"",(IF(AJ59="",0,AJ59)+IF(X59="",0,X59)))
C60: см. рисунок 21, сечения 1-1, 1-1*, 2-2 (в красных рамках); в данных строках дан максимальный перечень (включая вариант дефшва м/у ФП разной толщины), при адресном проектировании в случае необходимости лишние строки удалить; в случае наличия деформационных швов между фундаментными плитами жилого дома, а также между участками фундаментной плиты подземной автостоянки расход на материалы этих деформационных швов учитывать в данных строках (заглавие подпункта уточнить); расход герметика полиуретанового "Технониколь" (плотность 1,2 г/мл) принимать 0,915 к на п.м. ; детально см. листы 2 и 4 Альбомом типовых узлов ЖД-ТА-РЕН-КР-КЖ1.2 “Гидроизоляция деформационных швов”, размещенным на ресурсе База знаний; гидрошпонки ДЗС не применяются из-за проблем стыковки с гидрошпонками ДЗ; расход на гидроизоляционный материал компенсационной петли учитывать в строке 42. | F60: 1.1.6 Деформационный шов 50 мм. Вертикальный (сопряжение фундамента жилого дома и фундамента подземной автостоянки) | M60: =IF((IF(H60="",0,H60)+IF(I60="",0,I60)+IF(J60="",0,J60)+IF(K60="",0,K60)+IF(L60="",0,L60))=0,"",(IF(H60="",0,H60)+IF(I60="",0,I60)+IF(J60="",0,J60)+IF(K60="",0,K60)+IF(L60="",0,L60))) | X60: =IF((IF(T60="",0,T60)+IF(U60="",0,U60)+IF(V60="",0,V60)+IF(W60="",0,W60))=0,"",(IF(T60="",0,T60)+IF(U60="",0,U60)+IF(V60="",0,V60)+IF(W60="",0,W60))) | AJ60: =IF((IF(Y60="",0,Y60)+IF(Z60="",0,Z60)+IF(AA60="",0,AA60)+IF(AB60="",0,AB60)+IF(AC60="",0,AC60)+IF(AD60="",0,AD60)+IF(AE60="",0,AE60)+IF(AF60="",0,AF60)+IF(AG60="",0,AG60)+IF(AH60="",0,AH60)+IF(AI60="",0,AI60))=0,"",(IF(Y60="",0,Y60)+IF(Z60="",0,Z60)+IF(AA60="",0,AA60)+IF(AB60="",0,AB60)+IF(AC60="",0,AC60)+IF(AD60="",0,AD60)+IF(AE60="",0,AE60)+IF(AF60="",0,AF60)+IF(AG60="",0,AG60)+IF(AH60="",0,AH60)+IF(AI60="",0,AI60))) | AK60: =IF((IF(AJ60="",0,AJ60)+IF(X60="",0,X60))=0,"",(IF(AJ60="",0,AJ60)+IF(X60="",0,X60)))
E61: =E59+1 -> 38 | F61: Пленка полиэтиленовая t=0.2 мм по ГОСТ 10354-82 | G61: кв.м | M61: =IF((IF(H61="",0,H61)+IF(I61="",0,I61)+IF(J61="",0,J61)+IF(K61="",0,K61)+IF(L61="",0,L61))=0,"",(IF(H61="",0,H61)+IF(I61="",0,I61)+IF(J61="",0,J61)+IF(K61="",0,K61)+IF(L61="",0,L61))) | Q61: 6 | X61: =IF((IF(T61="",0,T61)+IF(U61="",0,U61)+IF(V61="",0,V61)+IF(W61="",0,W61))=0,"",(IF(T61="",0,T61)+IF(U61="",0,U61)+IF(V61="",0,V61)+IF(W61="",0,W61))) | AJ61: =IF((IF(Y61="",0,Y61)+IF(Z61="",0,Z61)+IF(AA61="",0,AA61)+IF(AB61="",0,AB61)+IF(AC61="",0,AC61)+IF(AD61="",0,AD61)+IF(AE61="",0,AE61)+IF(AF61="",0,AF61)+IF(AG61="",0,AG61)+IF(AH61="",0,AH61)+IF(AI61="",0,AI61))=0,"",(IF(Y61="",0,Y61)+IF(Z61="",0,Z61)+IF(AA61="",0,AA61)+IF(AB61="",0,AB61)+IF(AC61="",0,AC61)+IF(AD61="",0,AD61)+IF(AE61="",0,AE61)+IF(AF61="",0,AF61)+IF(AG61="",0,AG61)+IF(AH61="",0,AH61)+IF(AI61="",0,AI61))) | AK61: =IF((IF(AJ61="",0,AJ61)+IF(X61="",0,X61))=0,"",(IF(AJ61="",0,AJ61)+IF(X61="",0,X61)))
E62: =E61+1 -> 39 | F62: Утеплитель д.ш. толщиной 50 мм. Пенополистирол экструдированный "Технониколь" (плотность 35-45 кг/м3, группа горючести Г4/Г3 по ГОСТ 30244-94) (или аналог) | G62: куб.м | M62: =IF((IF(H62="",0,H62)+IF(I62="",0,I62)+IF(J62="",0,J62)+IF(K62="",0,K62)+IF(L62="",0,L62))=0,"",(IF(H62="",0,H62)+IF(I62="",0,I62)+IF(J62="",0,J62)+IF(K62="",0,K62)+IF(L62="",0,L62))) | Q62: 1.85 | X62: =IF((IF(T62="",0,T62)+IF(U62="",0,U62)+IF(V62="",0,V62)+IF(W62="",0,W62))=0,"",(IF(T62="",0,T62)+IF(U62="",0,U62)+IF(V62="",0,V62)+IF(W62="",0,W62))) | AJ62: =IF((IF(Y62="",0,Y62)+IF(Z62="",0,Z62)+IF(AA62="",0,AA62)+IF(AB62="",0,AB62)+IF(AC62="",0,AC62)+IF(AD62="",0,AD62)+IF(AE62="",0,AE62)+IF(AF62="",0,AF62)+IF(AG62="",0,AG62)+IF(AH62="",0,AH62)+IF(AI62="",0,AI62))=0,"",(IF(Y62="",0,Y62)+IF(Z62="",0,Z62)+IF(AA62="",0,AA62)+IF(AB62="",0,AB62)+IF(AC62="",0,AC62)+IF(AD62="",0,AD62)+IF(AE62="",0,AE62)+IF(AF62="",0,AF62)+IF(AG62="",0,AG62)+IF(AH62="",0,AH62)+IF(AI62="",0,AI62))) | AK62: =IF((IF(AJ62="",0,AJ62)+IF(X62="",0,X62))=0,"",(IF(AJ62="",0,AJ62)+IF(X62="",0,X62)))
E63: =E62+1 -> 40 | F63: Уплотнитель ∅60 мм. Шнур типа "Вилатерм" | G63: п.м | M63: =IF((IF(H63="",0,H63)+IF(I63="",0,I63)+IF(J63="",0,J63)+IF(K63="",0,K63)+IF(L63="",0,L63))=0,"",(IF(H63="",0,H63)+IF(I63="",0,I63)+IF(J63="",0,J63)+IF(K63="",0,K63)+IF(L63="",0,L63))) | Q63: 132.5 | X63: =IF((IF(T63="",0,T63)+IF(U63="",0,U63)+IF(V63="",0,V63)+IF(W63="",0,W63))=0,"",(IF(T63="",0,T63)+IF(U63="",0,U63)+IF(V63="",0,V63)+IF(W63="",0,W63))) | AJ63: =IF((IF(Y63="",0,Y63)+IF(Z63="",0,Z63)+IF(AA63="",0,AA63)+IF(AB63="",0,AB63)+IF(AC63="",0,AC63)+IF(AD63="",0,AD63)+IF(AE63="",0,AE63)+IF(AF63="",0,AF63)+IF(AG63="",0,AG63)+IF(AH63="",0,AH63)+IF(AI63="",0,AI63))=0,"",(IF(Y63="",0,Y63)+IF(Z63="",0,Z63)+IF(AA63="",0,AA63)+IF(AB63="",0,AB63)+IF(AC63="",0,AC63)+IF(AD63="",0,AD63)+IF(AE63="",0,AE63)+IF(AF63="",0,AF63)+IF(AG63="",0,AG63)+IF(AH63="",0,AH63)+IF(AI63="",0,AI63))) | AK63: =IF((IF(AJ63="",0,AJ63)+IF(X63="",0,X63))=0,"",(IF(AJ63="",0,AJ63)+IF(X63="",0,X63)))
E64: =E63+1 -> 41 | F64: Герметик полиуретановый "Технониколь" (или аналог) | G64: п.м/кг | M64: =IF((IF(H64="",0,H64)+IF(I64="",0,I64)+IF(J64="",0,J64)+IF(K64="",0,K64)+IF(L64="",0,L64))=0,"",(IF(H64="",0,H64)+IF(I64="",0,I64)+IF(J64="",0,J64)+IF(K64="",0,K64)+IF(L64="",0,L64))) | Q64: 101/92,42 | X64: =IF((IF(T64="",0,T64)+IF(U64="",0,U64)+IF(V64="",0,V64)+IF(W64="",0,W64))=0,"",(IF(T64="",0,T64)+IF(U64="",0,U64)+IF(V64="",0,V64)+IF(W64="",0,W64))) | AJ64: =IF((IF(Y64="",0,Y64)+IF(Z64="",0,Z64)+IF(AA64="",0,AA64)+IF(AB64="",0,AB64)+IF(AC64="",0,AC64)+IF(AD64="",0,AD64)+IF(AE64="",0,AE64)+IF(AF64="",0,AF64)+IF(AG64="",0,AG64)+IF(AH64="",0,AH64)+IF(AI64="",0,AI64))=0,"",(IF(Y64="",0,Y64)+IF(Z64="",0,Z64)+IF(AA64="",0,AA64)+IF(AB64="",0,AB64)+IF(AC64="",0,AC64)+IF(AD64="",0,AD64)+IF(AE64="",0,AE64)+IF(AF64="",0,AF64)+IF(AG64="",0,AG64)+IF(AH64="",0,AH64)+IF(AI64="",0,AI64))) | AK64: =IF((IF(AJ64="",0,AJ64)+IF(X64="",0,X64))=0,"",(IF(AJ64="",0,AJ64)+IF(X64="",0,X64)))
E65: =E64+1 -> 42 | F65: Слой усиления гидроизоляции рулонной "ТЕХНОЭЛАСТ ФУНДАМЕНТ" (или аналог) (на 1 слой) всего 1 слой | G65: кв.м | M65: =IF((IF(H65="",0,H65)+IF(I65="",0,I65)+IF(J65="",0,J65)+IF(K65="",0,K65)+IF(L65="",0,L65))=0,"",(IF(H65="",0,H65)+IF(I65="",0,I65)+IF(J65="",0,J65)+IF(K65="",0,K65)+IF(L65="",0,L65))) | Q65: 26 | X65: =IF((IF(T65="",0,T65)+IF(U65="",0,U65)+IF(V65="",0,V65)+IF(W65="",0,W65))=0,"",(IF(T65="",0,T65)+IF(U65="",0,U65)+IF(V65="",0,V65)+IF(W65="",0,W65))) | AJ65: =IF((IF(Y65="",0,Y65)+IF(Z65="",0,Z65)+IF(AA65="",0,AA65)+IF(AB65="",0,AB65)+IF(AC65="",0,AC65)+IF(AD65="",0,AD65)+IF(AE65="",0,AE65)+IF(AF65="",0,AF65)+IF(AG65="",0,AG65)+IF(AH65="",0,AH65)+IF(AI65="",0,AI65))=0,"",(IF(Y65="",0,Y65)+IF(Z65="",0,Z65)+IF(AA65="",0,AA65)+IF(AB65="",0,AB65)+IF(AC65="",0,AC65)+IF(AD65="",0,AD65)+IF(AE65="",0,AE65)+IF(AF65="",0,AF65)+IF(AG65="",0,AG65)+IF(AH65="",0,AH65)+IF(AI65="",0,AI65))) | AK65: =IF((IF(AJ65="",0,AJ65)+IF(X65="",0,X65))=0,"",(IF(AJ65="",0,AJ65)+IF(X65="",0,X65)))
E66: =E65+1 -> 43 | F66: Гидрошпонка "АКВАСТОП" тип ДЗ-160/50-6/35 (или аналог) | G66: п.м | M66: =IF((IF(H66="",0,H66)+IF(I66="",0,I66)+IF(J66="",0,J66)+IF(K66="",0,K66)+IF(L66="",0,L66))=0,"",(IF(H66="",0,H66)+IF(I66="",0,I66)+IF(J66="",0,J66)+IF(K66="",0,K66)+IF(L66="",0,L66))) | Q66: 72 | X66: =IF((IF(T66="",0,T66)+IF(U66="",0,U66)+IF(V66="",0,V66)+IF(W66="",0,W66))=0,"",(IF(T66="",0,T66)+IF(U66="",0,U66)+IF(V66="",0,V66)+IF(W66="",0,W66))) | AJ66: =IF((IF(Y66="",0,Y66)+IF(Z66="",0,Z66)+IF(AA66="",0,AA66)+IF(AB66="",0,AB66)+IF(AC66="",0,AC66)+IF(AD66="",0,AD66)+IF(AE66="",0,AE66)+IF(AF66="",0,AF66)+IF(AG66="",0,AG66)+IF(AH66="",0,AH66)+IF(AI66="",0,AI66))=0,"",(IF(Y66="",0,Y66)+IF(Z66="",0,Z66)+IF(AA66="",0,AA66)+IF(AB66="",0,AB66)+IF(AC66="",0,AC66)+IF(AD66="",0,AD66)+IF(AE66="",0,AE66)+IF(AF66="",0,AF66)+IF(AG66="",0,AG66)+IF(AH66="",0,AH66)+IF(AI66="",0,AI66))) | AK66: =IF((IF(AJ66="",0,AJ66)+IF(X66="",0,X66))=0,"",(IF(AJ66="",0,AJ66)+IF(X66="",0,X66)))
C67: см. рисунок 22 - в красных рамках; расход на водосборные приямки учитывать в данных строках согласно узлу Е в том случае, если разница между отметкой низа фундаментной плиты и отметкой низа утолщения приямка не более 200 мм (в синей рамке); расход на водосборные приямки учитывать в данных строках согласно узлам Г и Д (аналогично лифтовому приямку) в том случае, если разница между отметкой низа фундаментной плиты и отметкой низа утолщения приямка более 200 мм (в синей рамке); расход на затирку ц.п. раствором не учитывать, считается, что она входит в состав работ по гидроизоляции как подготовка поверхности | F67: 1.1.7 Гидроизоляция вертикальная (лифтовые и водосборные приямки в фундаменте) | M67: =IF((IF(H67="",0,H67)+IF(I67="",0,I67)+IF(J67="",0,J67)+IF(K67="",0,K67)+IF(L67="",0,L67))=0,"",(IF(H67="",0,H67)+IF(I67="",0,I67)+IF(J67="",0,J67)+IF(K67="",0,K67)+IF(L67="",0,L67))) | X67: =IF((IF(T67="",0,T67)+IF(U67="",0,U67)+IF(V67="",0,V67)+IF(W67="",0,W67))=0,"",(IF(T67="",0,T67)+IF(U67="",0,U67)+IF(V67="",0,V67)+IF(W67="",0,W67))) | AJ67: =IF((IF(Y67="",0,Y67)+IF(Z67="",0,Z67)+IF(AA67="",0,AA67)+IF(AB67="",0,AB67)+IF(AC67="",0,AC67)+IF(AD67="",0,AD67)+IF(AE67="",0,AE67)+IF(AF67="",0,AF67)+IF(AG67="",0,AG67)+IF(AH67="",0,AH67)+IF(AI67="",0,AI67))=0,"",(IF(Y67="",0,Y67)+IF(Z67="",0,Z67)+IF(AA67="",0,AA67)+IF(AB67="",0,AB67)+IF(AC67="",0,AC67)+IF(AD67="",0,AD67)+IF(AE67="",0,AE67)+IF(AF67="",0,AF67)+IF(AG67="",0,AG67)+IF(AH67="",0,AH67)+IF(AI67="",0,AI67))) | AK67: =IF((IF(AJ67="",0,AJ67)+IF(X67="",0,X67))=0,"",(IF(AJ67="",0,AJ67)+IF(X67="",0,X67)))
E68: =E66+1 -> 44 | F68: Лист ЦСП 10 мм по ГОСТ 26816-2016 | G68: кв.м | M68: =IF((IF(H68="",0,H68)+IF(I68="",0,I68)+IF(J68="",0,J68)+IF(K68="",0,K68)+IF(L68="",0,L68))=0,"",(IF(H68="",0,H68)+IF(I68="",0,I68)+IF(J68="",0,J68)+IF(K68="",0,K68)+IF(L68="",0,L68))) | Q68: 12.65 | X68: =IF((IF(T68="",0,T68)+IF(U68="",0,U68)+IF(V68="",0,V68)+IF(W68="",0,W68))=0,"",(IF(T68="",0,T68)+IF(U68="",0,U68)+IF(V68="",0,V68)+IF(W68="",0,W68))) | AJ68: =IF((IF(Y68="",0,Y68)+IF(Z68="",0,Z68)+IF(AA68="",0,AA68)+IF(AB68="",0,AB68)+IF(AC68="",0,AC68)+IF(AD68="",0,AD68)+IF(AE68="",0,AE68)+IF(AF68="",0,AF68)+IF(AG68="",0,AG68)+IF(AH68="",0,AH68)+IF(AI68="",0,AI68))=0,"",(IF(Y68="",0,Y68)+IF(Z68="",0,Z68)+IF(AA68="",0,AA68)+IF(AB68="",0,AB68)+IF(AC68="",0,AC68)+IF(AD68="",0,AD68)+IF(AE68="",0,AE68)+IF(AF68="",0,AF68)+IF(AG68="",0,AG68)+IF(AH68="",0,AH68)+IF(AI68="",0,AI68))) | AK68: =IF((IF(AJ68="",0,AJ68)+IF(X68="",0,X68))=0,"",(IF(AJ68="",0,AJ68)+IF(X68="",0,X68)))
E69: =E68+1 -> 45 | F69: Мастика приклеивающая "Технониколь №27" (или аналог) | G69: кв.м | M69: =IF((IF(H69="",0,H69)+IF(I69="",0,I69)+IF(J69="",0,J69)+IF(K69="",0,K69)+IF(L69="",0,L69))=0,"",(IF(H69="",0,H69)+IF(I69="",0,I69)+IF(J69="",0,J69)+IF(K69="",0,K69)+IF(L69="",0,L69))) | Q69: 12.65 | X69: =IF((IF(T69="",0,T69)+IF(U69="",0,U69)+IF(V69="",0,V69)+IF(W69="",0,W69))=0,"",(IF(T69="",0,T69)+IF(U69="",0,U69)+IF(V69="",0,V69)+IF(W69="",0,W69))) | AJ69: =IF((IF(Y69="",0,Y69)+IF(Z69="",0,Z69)+IF(AA69="",0,AA69)+IF(AB69="",0,AB69)+IF(AC69="",0,AC69)+IF(AD69="",0,AD69)+IF(AE69="",0,AE69)+IF(AF69="",0,AF69)+IF(AG69="",0,AG69)+IF(AH69="",0,AH69)+IF(AI69="",0,AI69))=0,"",(IF(Y69="",0,Y69)+IF(Z69="",0,Z69)+IF(AA69="",0,AA69)+IF(AB69="",0,AB69)+IF(AC69="",0,AC69)+IF(AD69="",0,AD69)+IF(AE69="",0,AE69)+IF(AF69="",0,AF69)+IF(AG69="",0,AG69)+IF(AH69="",0,AH69)+IF(AI69="",0,AI69))) | AK69: =IF((IF(AJ69="",0,AJ69)+IF(X69="",0,X69))=0,"",(IF(AJ69="",0,AJ69)+IF(X69="",0,X69)))
E70: =E69+1 -> 46 | F70: Гидроизоляция рулонная "ТЕХНОЭЛАСТ ФУНДАМЕНТ" (или аналог) (на 1 слой) всего 2 слоя | G70: кв.м | M70: =IF((IF(H70="",0,H70)+IF(I70="",0,I70)+IF(J70="",0,J70)+IF(K70="",0,K70)+IF(L70="",0,L70))=0,"",(IF(H70="",0,H70)+IF(I70="",0,I70)+IF(J70="",0,J70)+IF(K70="",0,K70)+IF(L70="",0,L70))) | Q70: 12.65 | X70: =IF((IF(T70="",0,T70)+IF(U70="",0,U70)+IF(V70="",0,V70)+IF(W70="",0,W70))=0,"",(IF(T70="",0,T70)+IF(U70="",0,U70)+IF(V70="",0,V70)+IF(W70="",0,W70))) | AJ70: =IF((IF(Y70="",0,Y70)+IF(Z70="",0,Z70)+IF(AA70="",0,AA70)+IF(AB70="",0,AB70)+IF(AC70="",0,AC70)+IF(AD70="",0,AD70)+IF(AE70="",0,AE70)+IF(AF70="",0,AF70)+IF(AG70="",0,AG70)+IF(AH70="",0,AH70)+IF(AI70="",0,AI70))=0,"",(IF(Y70="",0,Y70)+IF(Z70="",0,Z70)+IF(AA70="",0,AA70)+IF(AB70="",0,AB70)+IF(AC70="",0,AC70)+IF(AD70="",0,AD70)+IF(AE70="",0,AE70)+IF(AF70="",0,AF70)+IF(AG70="",0,AG70)+IF(AH70="",0,AH70)+IF(AI70="",0,AI70))) | AK70: =IF((IF(AJ70="",0,AJ70)+IF(X70="",0,X70))=0,"",(IF(AJ70="",0,AJ70)+IF(X70="",0,X70)))
E71: =E70+1 -> 47 | F71: Праймер битумный "Технониколь №1" (или аналог) | G71: кв.м | M71: =IF((IF(H71="",0,H71)+IF(I71="",0,I71)+IF(J71="",0,J71)+IF(K71="",0,K71)+IF(L71="",0,L71))=0,"",(IF(H71="",0,H71)+IF(I71="",0,I71)+IF(J71="",0,J71)+IF(K71="",0,K71)+IF(L71="",0,L71))) | Q71: 12.65 | X71: =IF((IF(T71="",0,T71)+IF(U71="",0,U71)+IF(V71="",0,V71)+IF(W71="",0,W71))=0,"",(IF(T71="",0,T71)+IF(U71="",0,U71)+IF(V71="",0,V71)+IF(W71="",0,W71))) | AJ71: =IF((IF(Y71="",0,Y71)+IF(Z71="",0,Z71)+IF(AA71="",0,AA71)+IF(AB71="",0,AB71)+IF(AC71="",0,AC71)+IF(AD71="",0,AD71)+IF(AE71="",0,AE71)+IF(AF71="",0,AF71)+IF(AG71="",0,AG71)+IF(AH71="",0,AH71)+IF(AI71="",0,AI71))=0,"",(IF(Y71="",0,Y71)+IF(Z71="",0,Z71)+IF(AA71="",0,AA71)+IF(AB71="",0,AB71)+IF(AC71="",0,AC71)+IF(AD71="",0,AD71)+IF(AE71="",0,AE71)+IF(AF71="",0,AF71)+IF(AG71="",0,AG71)+IF(AH71="",0,AH71)+IF(AI71="",0,AI71))) | AK71: =IF((IF(AJ71="",0,AJ71)+IF(X71="",0,X71))=0,"",(IF(AJ71="",0,AJ71)+IF(X71="",0,X71)))
E72: =E71+1 -> 48 | F72: Галтель для устройства гидроизоляции 50х50 мм из ЦПР М100 | G72: п.м | M72: =IF((IF(H72="",0,H72)+IF(I72="",0,I72)+IF(J72="",0,J72)+IF(K72="",0,K72)+IF(L72="",0,L72))=0,"",(IF(H72="",0,H72)+IF(I72="",0,I72)+IF(J72="",0,J72)+IF(K72="",0,K72)+IF(L72="",0,L72))) | Q72: 22 | X72: =IF((IF(T72="",0,T72)+IF(U72="",0,U72)+IF(V72="",0,V72)+IF(W72="",0,W72))=0,"",(IF(T72="",0,T72)+IF(U72="",0,U72)+IF(V72="",0,V72)+IF(W72="",0,W72))) | AJ72: =IF((IF(Y72="",0,Y72)+IF(Z72="",0,Z72)+IF(AA72="",0,AA72)+IF(AB72="",0,AB72)+IF(AC72="",0,AC72)+IF(AD72="",0,AD72)+IF(AE72="",0,AE72)+IF(AF72="",0,AF72)+IF(AG72="",0,AG72)+IF(AH72="",0,AH72)+IF(AI72="",0,AI72))=0,"",(IF(Y72="",0,Y72)+IF(Z72="",0,Z72)+IF(AA72="",0,AA72)+IF(AB72="",0,AB72)+IF(AC72="",0,AC72)+IF(AD72="",0,AD72)+IF(AE72="",0,AE72)+IF(AF72="",0,AF72)+IF(AG72="",0,AG72)+IF(AH72="",0,AH72)+IF(AI72="",0,AI72))) | AK72: =IF((IF(AJ72="",0,AJ72)+IF(X72="",0,X72))=0,"",(IF(AJ72="",0,AJ72)+IF(X72="",0,X72)))
C73: см. рисунок 23 - в красной рамке; расход гидрошпонок определяется рабочими швами бетонирования (РШБ), к которым относятся швы, образующиеся при очередности (этапности) возведения ФП, расстановку РШБ берем из задания от ГТО и от ПОС; детально см. лист 5 Альбомом типовых узлов ЖД-ТА-РЕН-КР-КЖ1.2 “Гидроизоляция деформационных швов”, размещенным на ресурсе База знаний; площадь гидроизоляции 1-го слоя усиления равна площади полосы шириной 300 мм и длиной, равной протяженности рабочего шва | F73: 1.1.8 Устройство гидроизоляции рабочего шва бетонирования в фундаментной плите | M73: =IF((IF(H73="",0,H73)+IF(I73="",0,I73)+IF(J73="",0,J73)+IF(K73="",0,K73)+IF(L73="",0,L73))=0,"",(IF(H73="",0,H73)+IF(I73="",0,I73)+IF(J73="",0,J73)+IF(K73="",0,K73)+IF(L73="",0,L73))) | X73: =IF((IF(T73="",0,T73)+IF(U73="",0,U73)+IF(V73="",0,V73)+IF(W73="",0,W73))=0,"",(IF(T73="",0,T73)+IF(U73="",0,U73)+IF(V73="",0,V73)+IF(W73="",0,W73))) | AJ73: =IF((IF(Y73="",0,Y73)+IF(Z73="",0,Z73)+IF(AA73="",0,AA73)+IF(AB73="",0,AB73)+IF(AC73="",0,AC73)+IF(AD73="",0,AD73)+IF(AE73="",0,AE73)+IF(AF73="",0,AF73)+IF(AG73="",0,AG73)+IF(AH73="",0,AH73)+IF(AI73="",0,AI73))=0,"",(IF(Y73="",0,Y73)+IF(Z73="",0,Z73)+IF(AA73="",0,AA73)+IF(AB73="",0,AB73)+IF(AC73="",0,AC73)+IF(AD73="",0,AD73)+IF(AE73="",0,AE73)+IF(AF73="",0,AF73)+IF(AG73="",0,AG73)+IF(AH73="",0,AH73)+IF(AI73="",0,AI73))) | AK73: =IF((IF(AJ73="",0,AJ73)+IF(X73="",0,X73))=0,"",(IF(AJ73="",0,AJ73)+IF(X73="",0,X73)))
E74: =E72+1 -> 49 | F74: Гидрошпонка "АКВАСТОП" тип ХВ-320 (или аналог) | G74: п.м | M74: =IF((IF(H74="",0,H74)+IF(I74="",0,I74)+IF(J74="",0,J74)+IF(K74="",0,K74)+IF(L74="",0,L74))=0,"",(IF(H74="",0,H74)+IF(I74="",0,I74)+IF(J74="",0,J74)+IF(K74="",0,K74)+IF(L74="",0,L74))) | Q74: 25 | X74: =IF((IF(T74="",0,T74)+IF(U74="",0,U74)+IF(V74="",0,V74)+IF(W74="",0,W74))=0,"",(IF(T74="",0,T74)+IF(U74="",0,U74)+IF(V74="",0,V74)+IF(W74="",0,W74))) | AJ74: =IF((IF(Y74="",0,Y74)+IF(Z74="",0,Z74)+IF(AA74="",0,AA74)+IF(AB74="",0,AB74)+IF(AC74="",0,AC74)+IF(AD74="",0,AD74)+IF(AE74="",0,AE74)+IF(AF74="",0,AF74)+IF(AG74="",0,AG74)+IF(AH74="",0,AH74)+IF(AI74="",0,AI74))=0,"",(IF(Y74="",0,Y74)+IF(Z74="",0,Z74)+IF(AA74="",0,AA74)+IF(AB74="",0,AB74)+IF(AC74="",0,AC74)+IF(AD74="",0,AD74)+IF(AE74="",0,AE74)+IF(AF74="",0,AF74)+IF(AG74="",0,AG74)+IF(AH74="",0,AH74)+IF(AI74="",0,AI74))) | AK74: =IF((IF(AJ74="",0,AJ74)+IF(X74="",0,X74))=0,"",(IF(AJ74="",0,AJ74)+IF(X74="",0,X74)))
E75: =E74+1 -> 50 | F75: Слой усиления гидроизоляции рулонной "ТЕХНОЭЛАСТ ФУНДАМЕНТ" (или аналог) (на 1 слой) всего 1 слой | G75: кв.м | M75: =IF((IF(H75="",0,H75)+IF(I75="",0,I75)+IF(J75="",0,J75)+IF(K75="",0,K75)+IF(L75="",0,L75))=0,"",(IF(H75="",0,H75)+IF(I75="",0,I75)+IF(J75="",0,J75)+IF(K75="",0,K75)+IF(L75="",0,L75))) | Q75: =Q74*0.3 -> 7.5 | X75: =IF((IF(T75="",0,T75)+IF(U75="",0,U75)+IF(V75="",0,V75)+IF(W75="",0,W75))=0,"",(IF(T75="",0,T75)+IF(U75="",0,U75)+IF(V75="",0,V75)+IF(W75="",0,W75))) | AJ75: =IF((IF(Y75="",0,Y75)+IF(Z75="",0,Z75)+IF(AA75="",0,AA75)+IF(AB75="",0,AB75)+IF(AC75="",0,AC75)+IF(AD75="",0,AD75)+IF(AE75="",0,AE75)+IF(AF75="",0,AF75)+IF(AG75="",0,AG75)+IF(AH75="",0,AH75)+IF(AI75="",0,AI75))=0,"",(IF(Y75="",0,Y75)+IF(Z75="",0,Z75)+IF(AA75="",0,AA75)+IF(AB75="",0,AB75)+IF(AC75="",0,AC75)+IF(AD75="",0,AD75)+IF(AE75="",0,AE75)+IF(AF75="",0,AF75)+IF(AG75="",0,AG75)+IF(AH75="",0,AH75)+IF(AI75="",0,AI75))) | AK75: =IF((IF(AJ75="",0,AJ75)+IF(X75="",0,X75))=0,"",(IF(AJ75="",0,AJ75)+IF(X75="",0,X75)))
E76: 1.2 Подземная автостоянка | M76: =IF((IF(H76="",0,H76)+IF(I76="",0,I76)+IF(J76="",0,J76)+IF(K76="",0,K76)+IF(L76="",0,L76))=0,"",(IF(H76="",0,H76)+IF(I76="",0,I76)+IF(J76="",0,J76)+IF(K76="",0,K76)+IF(L76="",0,L76))) | X76: =IF((IF(T76="",0,T76)+IF(U76="",0,U76)+IF(V76="",0,V76)+IF(W76="",0,W76))=0,"",(IF(T76="",0,T76)+IF(U76="",0,U76)+IF(V76="",0,V76)+IF(W76="",0,W76))) | AJ76: =IF((IF(Y76="",0,Y76)+IF(Z76="",0,Z76)+IF(AA76="",0,AA76)+IF(AB76="",0,AB76)+IF(AC76="",0,AC76)+IF(AD76="",0,AD76)+IF(AE76="",0,AE76)+IF(AF76="",0,AF76)+IF(AG76="",0,AG76)+IF(AH76="",0,AH76)+IF(AI76="",0,AI76))=0,"",(IF(Y76="",0,Y76)+IF(Z76="",0,Z76)+IF(AA76="",0,AA76)+IF(AB76="",0,AB76)+IF(AC76="",0,AC76)+IF(AD76="",0,AD76)+IF(AE76="",0,AE76)+IF(AF76="",0,AF76)+IF(AG76="",0,AG76)+IF(AH76="",0,AH76)+IF(AI76="",0,AI76))) | AK76: =IF((IF(AJ76="",0,AJ76)+IF(X76="",0,X76))=0,"",(IF(AJ76="",0,AJ76)+IF(X76="",0,X76)))
C77: к данной строке относится расход на фундамент подземной автостоянки (деление на "жилой дом" и "подземную автостоянку" производить по дефшву); для фундаментных плит класс бетона рекомендуется принимать В30, W6, F150 (столбцы 6-8, 10, 11) - уточнить при адресном проектировании | E77: =E75+1 -> 51 | F77: Фундаменты | G77: куб.м | H77: =IF(SUM(H78:H79)=0,"",SUM(H78:H79)) | I77: =IF(SUM(I78:I79)=0,"",SUM(I78:I79)) | J77: =IF(SUM(J78:J79)=0,"",SUM(J78:J79)) | K77: =IF(SUM(K78:K79)=0,"",SUM(K78:K79)) -> 1724 | L77: =IF(SUM(L78:L79)=0,"",SUM(L78:L79)) | M77: =IF((IF(H77="",0,H77)+IF(I77="",0,I77)+IF(J77="",0,J77)+IF(K77="",0,K77)+IF(L77="",0,L77))=0,"",(IF(H77="",0,H77)+IF(I77="",0,I77)+IF(J77="",0,J77)+IF(K77="",0,K77)+IF(L77="",0,L77))) -> 1724 | N77: W6 | O77: F150 | P77: =IF(SUM(P78:P79)=0,"",SUM(P78:P79)) -> 249.59171 | R77: =IF(SUM(R78:R79)=0,"",SUM(R78:R79)) | S77: =IF((IF(R77="",0,R77))=0,"",(IF(R77="",0,R77))) | T77: =IF(SUM(T78:T79)=0,"",SUM(T78:T79)) | U77: =IF(SUM(U78:U79)=0,"",SUM(U78:U79)) | V77: =IF(SUM(V78:V79)=0,"",SUM(V78:V79)) | W77: =IF(SUM(W78:W79)=0,"",SUM(W78:W79)) | X77: =IF((IF(T77="",0,T77)+IF(U77="",0,U77)+IF(V77="",0,V77)+IF(W77="",0,W77))=0,"",(IF(T77="",0,T77)+IF(U77="",0,U77)+IF(V77="",0,V77)+IF(W77="",0,W77))) | Y77: =IF(SUM(Y78:Y79)=0,"",SUM(Y78:Y79)) -> 2567 | Z77: =IF(SUM(Z78:Z79)=0,"",SUM(Z78:Z79)) -> 3103 | AA77: =IF(SUM(AA78:AA79)=0,"",SUM(AA78:AA79)) -> 11340 | AB77: =IF(SUM(AB78:AB79)=0,"",SUM(AB78:AB79)) | AC77: =IF(SUM(AC78:AC79)=0,"",SUM(AC78:AC79)) -> 91147 | AD77: =IF(SUM(AD78:AD79)=0,"",SUM(AD78:AD79)) | AE77: =IF(SUM(AE78:AE79)=0,"",SUM(AE78:AE79)) -> 10270 | AF77: =IF(SUM(AF78:AF79)=0,"",SUM(AF78:AF79)) | ... AI77: =IF(SUM(AI78:AI79)=0,"",SUM(AI78:AI79)) -> 79593 | AJ77: =IF((IF(Y77="",0,Y77)+IF(Z77="",0,Z77)+IF(AA77="",0,AA77)+IF(AB77="",0,AB77)+IF(AC77="",0,AC77)+IF(AD77="",0,AD77)+IF(AE77="",0,AE77)+IF(AF77="",0,AF77)+IF(AG77="",0,AG77)+IF(AH77="",0,AH77)+IF(AI77="",0,AI77))=0,"",(IF(Y77="",0,Y77)+IF(Z77="",0,Z77)+IF(AA77="",0,AA77)+IF(AB77="",0,AB77)+IF(AC77="",0,AC77)+IF(AD77="",0,AD77)+IF(AE77="",0,AE77)+IF(AF77="",0,AF77)+IF(AG77="",0,AG77)+IF(AH77="",0,AH77)+IF(AI77="",0,AI77))) -> 275901 | AK77: =IF((IF(AJ77="",0,AJ77)+IF(X77="",0,X77)+IF(S77="",0,S77))=0,"",(IF(AJ77="",0,AJ77)+IF(X77="",0,X77)+IF(S77="",0,S77))) -> 275901 | AL77: =IF(SUM(AL78:AL79)=0,"",SUM(AL78:AL79)) -> 464
D78: 2 | E78: =CONCATENATE($E$77,".",(ROW(G78)-ROW($G$77))) -> 51.1 | F78: Плита фундаментная 600 мм (основная ФП) | G78: куб.м | K78: 1531.9 | M78: =IF((IF(H78="",0,H78)+IF(I78="",0,I78)+IF(J78="",0,J78)+IF(K78="",0,K78)+IF(L78="",0,L78))=0,"",(IF(H78="",0,H78)+IF(I78="",0,I78)+IF(J78="",0,J78)+IF(K78="",0,K78)+IF(L78="",0,L78))) -> 1531.9 | N78: W6 | O78: F150 | P78: =IF(M78="","",IF(M78=0,"",IF(MID(F78,1,4)="Стен",M78/(VALUE(MID(F78,SEARCH(" ",F78,1)+1,SEARCH("мм",F78,1)-SEARCH(" ",F78,1)-2))/1000),IF(MID(F78,1,10)="Плита фунд",SQRT(M78/(VALUE(MID(F78,SEARCH(" ",F78,1)+14,SEARCH("мм",F78,1)-SEARCH(" ",F78,1)-15))/1000))*(4+1)*(VALUE(MID(F78,SEARCH(" ",F78,1)+14,SEARCH("мм",F78,1)-SEARCH(" ",F78,1)-15))/1000),IF(MID(F78,1,4)="Плит",M78/(VALUE(MID(F78,SEARCH(" ",F78,1)+1,SEARCH("мм",F78,1)-SEARCH(" ",F78,1)-2))/1000),IF(MID(F78,1,4)="Площ",M78/(VALUE(MID(F78,SEARCH(" ",F78,1)+12,SEARCH("мм",F78,1)-SEARCH(" ",F78,1)-13))/1000),IF(MID(F78,1,4)="Марш",M78/0.263,IF(MID(F78,1,4)="Коло",M78/((VALUE(LEFT(MID(F78,SEARCH(" ",F78,1)+1,SEARCH("мм",F78,1)-SEARCH(" ",F78,1)-2),SEARCH("х",MID(F78,SEARCH(" ",F78,1)+1,SEARCH("мм",F78,1)-SEARCH(" ",F78,1)-2),1)-1))*VALUE(RIGHT(MID(F78,SEARCH(" ",F78,1)+1,SEARCH("мм",F78,1)-SEARCH(" ",F78,1)-2),LEN(MID(F78,SEARCH(" ",F78,1)+1,SEARCH("мм",F78,1)-SEARCH(" ",F78,1)-2))-SEARCH("х",MID(F78,SEARCH(" ",F78,1)+1,SEARCH("мм",F78,1)-SEARCH(" ",F78,1)-2),1))))/1000000*3.2)*((VALUE(LEFT(MID(F78,SEARCH(" ",F78,1)+1,SEARCH("мм",F78,1)-SEARCH(" ",F78,1)-2),SEARCH("х",MID(F78,SEARCH(" ",F78,1)+1,SEARCH("мм",F78,1)-SEARCH(" ",F78,1)-2),1)-1))+VALUE(RIGHT(MID(F78,SEARCH(" ",F78,1)+1,SEARCH("мм",F78,1)-SEARCH(" ",F78,1)-2),LEN(MID(F78,SEARCH(" ",F78,1)+1,SEARCH("мм",F78,1)-SEARCH(" ",F78,1)-2))-SEARCH("х",MID(F78,SEARCH(" ",F78,1)+1,SEARCH("мм",F78,1)-SEARCH(" ",F78,1)-2),1))))/1000*2*3.2),IF(MID(F78,1,4)="Балк",M78/((VALUE(LEFT(MID(F78,SEARCH(" ",F78,1)+1,SEARCH("мм",F78,1)-SEARCH(" ",F78,1)-5),SEARCH("х",MID(F78,SEARCH(" ",F78,1)+1,SEARCH("мм",F78,1)-SEARCH(" ",F78,1)-5),1)-1))*VALUE(RIGHT(MID(F78,SEARCH(" ",F78,1)+1,SEARCH("мм",F78,1)-SEARCH(" ",F78,1)-5),LEN(MID(F78,SEARCH(" ",F78,1)+1,SEARCH("мм",F78,1)-SEARCH(" ",F78,1)-5))-SEARCH("х",MID(F78,SEARCH(" ",F78,1)+1,SEARCH("мм",F78,1)-SEARCH(" ",F78,1)-5),1))))/1000000*1)*((2*VALUE(LEFT(MID(F78,SEARCH(" ",F78,1)+1,SEARCH("мм",F78,1)-SEARCH(" ",F78,1)-5),SEARCH("х",MID(F78,SEARCH(" ",F78,1)+1,SEARCH("мм",F78,1)-SEARCH(" ",F78,1)-5),1)-1))+VALUE(RIGHT(MID(F78,SEARCH(" ",F78,1)+1,SEARCH("мм",F78,1)-SEARCH(" ",F78,1)-5),LEN(MID(F78,SEARCH(" ",F78,1)+1,SEARCH("мм",F78,1)-SEARCH(" ",F78,1)-5))-SEARCH("х",MID(F78,SEARCH(" ",F78,1)+1,SEARCH("мм",F78,1)-SEARCH(" ",F78,1)-5),1))))/1000*1),IF(MID(F78,1,4)="Капи",M78/(2.8*3.6*0.4)*((2.8+3.6)*2*0.4),"")))))))))) -> 151.58661 | R78: =IF(SUM($J78:$L78)*INDEX('Таблица 6 (типы арм.)'!$F$6:$U$49,MATCH($D78,'Таблица 6 (типы арм.)'!$D$6:$D$49,0),MATCH((IF(COLUMN(R$5)>COLUMN($X$5),CONCATENATE(R$5,"А500С"),IF(COLUMN(R$5)>COLUMN($S$5),CONCATENATE(R$5,"А240"),CONCATENATE(R$5,"Вр-1")))),'Таблица 6 (типы арм.)'!$F$54:$U$54,0))=0,"",ROUND(SUM($J78:$L78)*INDEX('Таблица 6 (типы арм.)'!$F$6:$U$49,MATCH($D78,'Таблица 6 (типы арм.)'!$D$6:$D$49,0),MATCH((IF(COLUMN(R$5)>COLUMN($X$5),CONCATENATE(R$5,"А500С"),IF(COLUMN(R$5)>COLUMN($S$5),CONCATENATE(R$5,"А240"),CONCATENATE(R$5,"Вр-1")))),'Таблица 6 (типы арм.)'!$F$54:$U$54,0)),0)) | S78: =IF((IF(R78="",0,R78))=0,"",(IF(R78="",0,R78))) | T78: =IF(SUM($J78:$L78)*INDEX('Таблица 6 (типы арм.)'!$F$6:$U$49,MATCH($D78,'Таблица 6 (типы арм.)'!$D$6:$D$49,0),MATCH((IF(COLUMN(T$5)>COLUMN($X$5),CONCATENATE(T$5,"А500С"),IF(COLUMN(T$5)>COLUMN($S$5),CONCATENATE(T$5,"А240"),CONCATENATE(T$5,"Вр-1")))),'Таблица 6 (типы арм.)'!$F$54:$U$54,0))=0,"",ROUND(SUM($J78:$L78)*INDEX('Таблица 6 (типы арм.)'!$F$6:$U$49,MATCH($D78,'Таблица 6 (типы арм.)'!$D$6:$D$49,0),MATCH((IF(COLUMN(T$5)>COLUMN($X$5),CONCATENATE(T$5,"А500С"),IF(COLUMN(T$5)>COLUMN($S$5),CONCATENATE(T$5,"А240"),CONCATENATE(T$5,"Вр-1")))),'Таблица 6 (типы арм.)'!$F$54:$U$54,0)),0)) | U78: =IF(SUM($J78:$L78)*INDEX('Таблица 6 (типы арм.)'!$F$6:$U$49,MATCH($D78,'Таблица 6 (типы арм.)'!$D$6:$D$49,0),MATCH((IF(COLUMN(U$5)>COLUMN($X$5),CONCATENATE(U$5,"А500С"),IF(COLUMN(U$5)>COLUMN($S$5),CONCATENATE(U$5,"А240"),CONCATENATE(U$5,"Вр-1")))),'Таблица 6 (типы арм.)'!$F$54:$U$54,0))=0,"",ROUND(SUM($J78:$L78)*INDEX('Таблица 6 (типы арм.)'!$F$6:$U$49,MATCH($D78,'Таблица 6 (типы арм.)'!$D$6:$D$49,0),MATCH((IF(COLUMN(U$5)>COLUMN($X$5),CONCATENATE(U$5,"А500С"),IF(COLUMN(U$5)>COLUMN($S$5),CONCATENATE(U$5,"А240"),CONCATENATE(U$5,"Вр-1")))),'Таблица 6 (типы арм.)'!$F$54:$U$54,0)),0)) | V78: =IF(SUM($J78:$L78)*INDEX('Таблица 6 (типы арм.)'!$F$6:$U$49,MATCH($D78,'Таблица 6 (типы арм.)'!$D$6:$D$49,0),MATCH((IF(COLUMN(V$5)>COLUMN($X$5),CONCATENATE(V$5,"А500С"),IF(COLUMN(V$5)>COLUMN($S$5),CONCATENATE(V$5,"А240"),CONCATENATE(V$5,"Вр-1")))),'Таблица 6 (типы арм.)'!$F$54:$U$54,0))=0,"",ROUND(SUM($J78:$L78)*INDEX('Таблица 6 (типы арм.)'!$F$6:$U$49,MATCH($D78,'Таблица 6 (типы арм.)'!$D$6:$D$49,0),MATCH((IF(COLUMN(V$5)>COLUMN($X$5),CONCATENATE(V$5,"А500С"),IF(COLUMN(V$5)>COLUMN($S$5),CONCATENATE(V$5,"А240"),CONCATENATE(V$5,"Вр-1")))),'Таблица 6 (типы арм.)'!$F$54:$U$54,0)),0)) | W78: =IF(SUM($J78:$L78)*INDEX('Таблица 6 (типы арм.)'!$F$6:$U$49,MATCH($D78,'Таблица 6 (типы арм.)'!$D$6:$D$49,0),MATCH((IF(COLUMN(W$5)>COLUMN($X$5),CONCATENATE(W$5,"А500С"),IF(COLUMN(W$5)>COLUMN($S$5),CONCATENATE(W$5,"А240"),CONCATENATE(W$5,"Вр-1")))),'Таблица 6 (типы арм.)'!$F$54:$U$54,0))=0,"",ROUND(SUM($J78:$L78)*INDEX('Таблица 6 (типы арм.)'!$F$6:$U$49,MATCH($D78,'Таблица 6 (типы арм.)'!$D$6:$D$49,0),MATCH((IF(COLUMN(W$5)>COLUMN($X$5),CONCATENATE(W$5,"А500С"),IF(COLUMN(W$5)>COLUMN($S$5),CONCATENATE(W$5,"А240"),CONCATENATE(W$5,"Вр-1")))),'Таблица 6 (типы арм.)'!$F$54:$U$54,0)),0)) | X78: =IF((IF(T78="",0,T78)+IF(U78="",0,U78)+IF(V78="",0,V78)+IF(W78="",0,W78))=0,"",(IF(T78="",0,T78)+IF(U78="",0,U78)+IF(V78="",0,V78)+IF(W78="",0,W78))) | Y78: =IF(SUM($J78:$L78)*INDEX('Таблица 6 (типы арм.)'!$F$6:$U$49,MATCH($D78,'Таблица 6 (типы арм.)'!$D$6:$D$49,0),MATCH((IF(COLUMN(Y$5)>COLUMN($X$5),CONCATENATE(Y$5,"А500С"),IF(COLUMN(Y$5)>COLUMN($S$5),CONCATENATE(Y$5,"А240"),CONCATENATE(Y$5,"Вр-1")))),'Таблица 6 (типы арм.)'!$F$54:$U$54,0))=0,"",ROUND(SUM($J78:$L78)*INDEX('Таблица 6 (типы арм.)'!$F$6:$U$49,MATCH($D78,'Таблица 6 (типы арм.)'!$D$6:$D$49,0),MATCH((IF(COLUMN(Y$5)>COLUMN($X$5),CONCATENATE(Y$5,"А500С"),IF(COLUMN(Y$5)>COLUMN($S$5),CONCATENATE(Y$5,"А240"),CONCATENATE(Y$5,"Вр-1")))),'Таблица 6 (типы арм.)'!$F$54:$U$54,0)),0)) -> 2281 | Z78: =IF(SUM($J78:$L78)*INDEX('Таблица 6 (типы арм.)'!$F$6:$U$49,MATCH($D78,'Таблица 6 (типы арм.)'!$D$6:$D$49,0),MATCH((IF(COLUMN(Z$5)>COLUMN($X$5),CONCATENATE(Z$5,"А500С"),IF(COLUMN(Z$5)>COLUMN($S$5),CONCATENATE(Z$5,"А240"),CONCATENATE(Z$5,"Вр-1")))),'Таблица 6 (типы арм.)'!$F$54:$U$54,0))=0,"",ROUND(SUM($J78:$L78)*INDEX('Таблица 6 (типы арм.)'!$F$6:$U$49,MATCH($D78,'Таблица 6 (типы арм.)'!$D$6:$D$49,0),MATCH((IF(COLUMN(Z$5)>COLUMN($X$5),CONCATENATE(Z$5,"А500С"),IF(COLUMN(Z$5)>COLUMN($S$5),CONCATENATE(Z$5,"А240"),CONCATENATE(Z$5,"Вр-1")))),'Таблица 6 (типы арм.)'!$F$54:$U$54,0)),0)) -> 2757 | AA78: =IF(SUM($J78:$L78)*INDEX('Таблица 6 (типы арм.)'!$F$6:$U$49,MATCH($D78,'Таблица 6 (типы арм.)'!$D$6:$D$49,0),MATCH((IF(COLUMN(AA$5)>COLUMN($X$5),CONCATENATE(AA$5,"А500С"),IF(COLUMN(AA$5)>COLUMN($S$5),CONCATENATE(AA$5,"А240"),CONCATENATE(AA$5,"Вр-1")))),'Таблица 6 (типы арм.)'!$F$54:$U$54,0))=0,"",ROUND(SUM($J78:$L78)*INDEX('Таблица 6 (типы арм.)'!$F$6:$U$49,MATCH($D78,'Таблица 6 (типы арм.)'!$D$6:$D$49,0),MATCH((IF(COLUMN(AA$5)>COLUMN($X$5),CONCATENATE(AA$5,"А500С"),IF(COLUMN(AA$5)>COLUMN($S$5),CONCATENATE(AA$5,"А240"),CONCATENATE(AA$5,"Вр-1")))),'Таблица 6 (типы арм.)'!$F$54:$U$54,0)),0)) -> 10076 | AB78: =IF(SUM($J78:$L78)*INDEX('Таблица 6 (типы арм.)'!$F$6:$U$49,MATCH($D78,'Таблица 6 (типы арм.)'!$D$6:$D$49,0),MATCH((IF(COLUMN(AB$5)>COLUMN($X$5),CONCATENATE(AB$5,"А500С"),IF(COLUMN(AB$5)>COLUMN($S$5),CONCATENATE(AB$5,"А240"),CONCATENATE(AB$5,"Вр-1")))),'Таблица 6 (типы арм.)'!$F$54:$U$54,0))=0,"",ROUND(SUM($J78:$L78)*INDEX('Таблица 6 (типы арм.)'!$F$6:$U$49,MATCH($D78,'Таблица 6 (типы арм.)'!$D$6:$D$49,0),MATCH((IF(COLUMN(AB$5)>COLUMN($X$5),CONCATENATE(AB$5,"А500С"),IF(COLUMN(AB$5)>COLUMN($S$5),CONCATENATE(AB$5,"А240"),CONCATENATE(AB$5,"Вр-1")))),'Таблица 6 (типы арм.)'!$F$54:$U$54,0)),0)) | AC78: =IF(SUM($J78:$L78)*INDEX('Таблица 6 (типы арм.)'!$F$6:$U$49,MATCH($D78,'Таблица 6 (типы арм.)'!$D$6:$D$49,0),MATCH((IF(COLUMN(AC$5)>COLUMN($X$5),CONCATENATE(AC$5,"А500С"),IF(COLUMN(AC$5)>COLUMN($S$5),CONCATENATE(AC$5,"А240"),CONCATENATE(AC$5,"Вр-1")))),'Таблица 6 (типы арм.)'!$F$54:$U$54,0))=0,"",ROUND(SUM($J78:$L78)*INDEX('Таблица 6 (типы арм.)'!$F$6:$U$49,MATCH($D78,'Таблица 6 (типы арм.)'!$D$6:$D$49,0),MATCH((IF(COLUMN(AC$5)>COLUMN($X$5),CONCATENATE(AC$5,"А500С"),IF(COLUMN(AC$5)>COLUMN($S$5),CONCATENATE(AC$5,"А240"),CONCATENATE(AC$5,"Вр-1")))),'Таблица 6 (типы арм.)'!$F$54:$U$54,0)),0)) -> 80991 | AD78: =IF(SUM($J78:$L78)*INDEX('Таблица 6 (типы арм.)'!$F$6:$U$49,MATCH($D78,'Таблица 6 (типы арм.)'!$D$6:$D$49,0),MATCH((IF(COLUMN(AD$5)>COLUMN($X$5),CONCATENATE(AD$5,"А500С"),IF(COLUMN(AD$5)>COLUMN($S$5),CONCATENATE(AD$5,"А240"),CONCATENATE(AD$5,"Вр-1")))),'Таблица 6 (типы арм.)'!$F$54:$U$54,0))=0,"",ROUND(SUM($J78:$L78)*INDEX('Таблица 6 (типы арм.)'!$F$6:$U$49,MATCH($D78,'Таблица 6 (типы арм.)'!$D$6:$D$49,0),MATCH((IF(COLUMN(AD$5)>COLUMN($X$5),CONCATENATE(AD$5,"А500С"),IF(COLUMN(AD$5)>COLUMN($S$5),CONCATENATE(AD$5,"А240"),CONCATENATE(AD$5,"Вр-1")))),'Таблица 6 (типы арм.)'!$F$54:$U$54,0)),0)) | AE78: =IF(SUM($J78:$L78)*INDEX('Таблица 6 (типы арм.)'!$F$6:$U$49,MATCH($D78,'Таблица 6 (типы арм.)'!$D$6:$D$49,0),MATCH((IF(COLUMN(AE$5)>COLUMN($X$5),CONCATENATE(AE$5,"А500С"),IF(COLUMN(AE$5)>COLUMN($S$5),CONCATENATE(AE$5,"А240"),CONCATENATE(AE$5,"Вр-1")))),'Таблица 6 (типы арм.)'!$F$54:$U$54,0))=0,"",ROUND(SUM($J78:$L78)*INDEX('Таблица 6 (типы арм.)'!$F$6:$U$49,MATCH($D78,'Таблица 6 (типы арм.)'!$D$6:$D$49,0),MATCH((IF(COLUMN(AE$5)>COLUMN($X$5),CONCATENATE(AE$5,"А500С"),IF(COLUMN(AE$5)>COLUMN($S$5),CONCATENATE(AE$5,"А240"),CONCATENATE(AE$5,"Вр-1")))),'Таблица 6 (типы арм.)'!$F$54:$U$54,0)),0)) -> 9126 | AF78: =IF(SUM($J78:$L78)*INDEX('Таблица 6 (типы арм.)'!$F$6:$U$49,MATCH($D78,'Таблица 6 (типы арм.)'!$D$6:$D$49,0),MATCH((IF(COLUMN(AF$5)>COLUMN($X$5),CONCATENATE(AF$5,"А500С"),IF(COLUMN(AF$5)>COLUMN($S$5),CONCATENATE(AF$5,"А240"),CONCATENATE(AF$5,"Вр-1")))),'Таблица 6 (типы арм.)'!$F$54:$U$54,0))=0,"",ROUND(SUM($J78:$L78)*INDEX('Таблица 6 (типы арм.)'!$F$6:$U$49,MATCH($D78,'Таблица 6 (типы арм.)'!$D$6:$D$49,0),MATCH((IF(COLUMN(AF$5)>COLUMN($X$5),CONCATENATE(AF$5,"А500С"),IF(COLUMN(AF$5)>COLUMN($S$5),CONCATENATE(AF$5,"А240"),CONCATENATE(AF$5,"Вр-1")))),'Таблица 6 (типы арм.)'!$F$54:$U$54,0)),0)) | ... AI78: =IF(SUM($J78:$L78)*INDEX('Таблица 6 (типы арм.)'!$F$6:$U$49,MATCH($D78,'Таблица 6 (типы арм.)'!$D$6:$D$49,0),MATCH((IF(COLUMN(AI$5)>COLUMN($X$5),CONCATENATE(AI$5,"А500С"),IF(COLUMN(AI$5)>COLUMN($S$5),CONCATENATE(AI$5,"А240"),CONCATENATE(AI$5,"Вр-1")))),'Таблица 6 (типы арм.)'!$F$54:$U$54,0))=0,"",ROUND(SUM($J78:$L78)*INDEX('Таблица 6 (типы арм.)'!$F$6:$U$49,MATCH($D78,'Таблица 6 (типы арм.)'!$D$6:$D$49,0),MATCH((IF(COLUMN(AI$5)>COLUMN($X$5),CONCATENATE(AI$5,"А500С"),IF(COLUMN(AI$5)>COLUMN($S$5),CONCATENATE(AI$5,"А240"),CONCATENATE(AI$5,"Вр-1")))),'Таблица 6 (типы арм.)'!$F$54:$U$54,0)),0)) -> 70724 | AJ78: =IF((IF(Y78="",0,Y78)+IF(Z78="",0,Z78)+IF(AA78="",0,AA78)+IF(AB78="",0,AB78)+IF(AC78="",0,AC78)+IF(AD78="",0,AD78)+IF(AE78="",0,AE78)+IF(AF78="",0,AF78)+IF(AG78="",0,AG78)+IF(AH78="",0,AH78)+IF(AI78="",0,AI78))=0,"",(IF(Y78="",0,Y78)+IF(Z78="",0,Z78)+IF(AA78="",0,AA78)+IF(AB78="",0,AB78)+IF(AC78="",0,AC78)+IF(AD78="",0,AD78)+IF(AE78="",0,AE78)+IF(AF78="",0,AF78)+IF(AG78="",0,AG78)+IF(AH78="",0,AH78)+IF(AI78="",0,AI78))) -> 245158 | AK78: =IF((IF(AJ78="",0,AJ78)+IF(X78="",0,X78)+IF(S78="",0,S78))=0,"",(IF(AJ78="",0,AJ78)+IF(X78="",0,X78)+IF(S78="",0,S78))) -> 245158 | AL78: 464
C79: к данной строке относится расход на фундаментную плиту под башенный кран, которая входит в состав фундаментной плиты подземной автостоянки; в случае, если башенный кран опирается на отдельностоящую фундаментную плиту, расход на данную плиту в ВОР не учитывать; толщину фундаментной плиты 1500-2000 мм - уточнить при адресном проектировании | D79: 2 | E79: =CONCATENATE($E$77,".",(ROW(G79)-ROW($G$77))) -> 51.2 | F79: Плита фундаментная 2000 мм (ФП под башенный кран в составе основной ФП) | G79: куб.м | K79: 192.1 | M79: =IF((IF(H79="",0,H79)+IF(I79="",0,I79)+IF(J79="",0,J79)+IF(K79="",0,K79)+IF(L79="",0,L79))=0,"",(IF(H79="",0,H79)+IF(I79="",0,I79)+IF(J79="",0,J79)+IF(K79="",0,K79)+IF(L79="",0,L79))) -> 192.1 | N79: W6 | O79: F150 | P79: =IF(M79="","",IF(M79=0,"",IF(MID(F79,1,4)="Стен",M79/(VALUE(MID(F79,SEARCH(" ",F79,1)+1,SEARCH("мм",F79,1)-SEARCH(" ",F79,1)-2))/1000),IF(MID(F79,1,10)="Плита фунд",SQRT(M79/(VALUE(MID(F79,SEARCH(" ",F79,1)+14,SEARCH("мм",F79,1)-SEARCH(" ",F79,1)-15))/1000))*(4+1)*(VALUE(MID(F79,SEARCH(" ",F79,1)+14,SEARCH("мм",F79,1)-SEARCH(" ",F79,1)-15))/1000),IF(MID(F79,1,4)="Плит",M79/(VALUE(MID(F79,SEARCH(" ",F79,1)+1,SEARCH("мм",F79,1)-SEARCH(" ",F79,1)-2))/1000),IF(MID(F79,1,4)="Площ",M79/(VALUE(MID(F79,SEARCH(" ",F79,1)+12,SEARCH("мм",F79,1)-SEARCH(" ",F79,1)-13))/1000),IF(MID(F79,1,4)="Марш",M79/0.263,IF(MID(F79,1,4)="Коло",M79/((VALUE(LEFT(MID(F79,SEARCH(" ",F79,1)+1,SEARCH("мм",F79,1)-SEARCH(" ",F79,1)-2),SEARCH("х",MID(F79,SEARCH(" ",F79,1)+1,SEARCH("мм",F79,1)-SEARCH(" ",F79,1)-2),1)-1))*VALUE(RIGHT(MID(F79,SEARCH(" ",F79,1)+1,SEARCH("мм",F79,1)-SEARCH(" ",F79,1)-2),LEN(MID(F79,SEARCH(" ",F79,1)+1,SEARCH("мм",F79,1)-SEARCH(" ",F79,1)-2))-SEARCH("х",MID(F79,SEARCH(" ",F79,1)+1,SEARCH("мм",F79,1)-SEARCH(" ",F79,1)-2),1))))/1000000*3.2)*((VALUE(LEFT(MID(F79,SEARCH(" ",F79,1)+1,SEARCH("мм",F79,1)-SEARCH(" ",F79,1)-2),SEARCH("х",MID(F79,SEARCH(" ",F79,1)+1,SEARCH("мм",F79,1)-SEARCH(" ",F79,1)-2),1)-1))+VALUE(RIGHT(MID(F79,SEARCH(" ",F79,1)+1,SEARCH("мм",F79,1)-SEARCH(" ",F79,1)-2),LEN(MID(F79,SEARCH(" ",F79,1)+1,SEARCH("мм",F79,1)-SEARCH(" ",F79,1)-2))-SEARCH("х",MID(F79,SEARCH(" ",F79,1)+1,SEARCH("мм",F79,1)-SEARCH(" ",F79,1)-2),1))))/1000*2*3.2),IF(MID(F79,1,4)="Балк",M79/((VALUE(LEFT(MID(F79,SEARCH(" ",F79,1)+1,SEARCH("мм",F79,1)-SEARCH(" ",F79,1)-5),SEARCH("х",MID(F79,SEARCH(" ",F79,1)+1,SEARCH("мм",F79,1)-SEARCH(" ",F79,1)-5),1)-1))*VALUE(RIGHT(MID(F79,SEARCH(" ",F79,1)+1,SEARCH("мм",F79,1)-SEARCH(" ",F79,1)-5),LEN(MID(F79,SEARCH(" ",F79,1)+1,SEARCH("мм",F79,1)-SEARCH(" ",F79,1)-5))-SEARCH("х",MID(F79,SEARCH(" ",F79,1)+1,SEARCH("мм",F79,1)-SEARCH(" ",F79,1)-5),1))))/1000000*1)*((2*VALUE(LEFT(MID(F79,SEARCH(" ",F79,1)+1,SEARCH("мм",F79,1)-SEARCH(" ",F79,1)-5),SEARCH("х",MID(F79,SEARCH(" ",F79,1)+1,SEARCH("мм",F79,1)-SEARCH(" ",F79,1)-5),1)-1))+VALUE(RIGHT(MID(F79,SEARCH(" ",F79,1)+1,SEARCH("мм",F79,1)-SEARCH(" ",F79,1)-5),LEN(MID(F79,SEARCH(" ",F79,1)+1,SEARCH("мм",F79,1)-SEARCH(" ",F79,1)-5))-SEARCH("х",MID(F79,SEARCH(" ",F79,1)+1,SEARCH("мм",F79,1)-SEARCH(" ",F79,1)-5),1))))/1000*1),IF(MID(F79,1,4)="Капи",M79/(2.8*3.6*0.4)*((2.8+3.6)*2*0.4),"")))))))))) -> 98.005102 | R79: =IF(SUM($J79:$L79)*INDEX('Таблица 6 (типы арм.)'!$F$6:$U$49,MATCH($D79,'Таблица 6 (типы арм.)'!$D$6:$D$49,0),MATCH((IF(COLUMN(R$5)>COLUMN($X$5),CONCATENATE(R$5,"А500С"),IF(COLUMN(R$5)>COLUMN($S$5),CONCATENATE(R$5,"А240"),CONCATENATE(R$5,"Вр-1")))),'Таблица 6 (типы арм.)'!$F$54:$U$54,0))=0,"",ROUND(SUM($J79:$L79)*INDEX('Таблица 6 (типы арм.)'!$F$6:$U$49,MATCH($D79,'Таблица 6 (типы арм.)'!$D$6:$D$49,0),MATCH((IF(COLUMN(R$5)>COLUMN($X$5),CONCATENATE(R$5,"А500С"),IF(COLUMN(R$5)>COLUMN($S$5),CONCATENATE(R$5,"А240"),CONCATENATE(R$5,"Вр-1")))),'Таблица 6 (типы арм.)'!$F$54:$U$54,0)),0)) | S79: =IF((IF(R79="",0,R79))=0,"",(IF(R79="",0,R79))) | T79: =IF(SUM($J79:$L79)*INDEX('Таблица 6 (типы арм.)'!$F$6:$U$49,MATCH($D79,'Таблица 6 (типы арм.)'!$D$6:$D$49,0),MATCH((IF(COLUMN(T$5)>COLUMN($X$5),CONCATENATE(T$5,"А500С"),IF(COLUMN(T$5)>COLUMN($S$5),CONCATENATE(T$5,"А240"),CONCATENATE(T$5,"Вр-1")))),'Таблица 6 (типы арм.)'!$F$54:$U$54,0))=0,"",ROUND(SUM($J79:$L79)*INDEX('Таблица 6 (типы арм.)'!$F$6:$U$49,MATCH($D79,'Таблица 6 (типы арм.)'!$D$6:$D$49,0),MATCH((IF(COLUMN(T$5)>COLUMN($X$5),CONCATENATE(T$5,"А500С"),IF(COLUMN(T$5)>COLUMN($S$5),CONCATENATE(T$5,"А240"),CONCATENATE(T$5,"Вр-1")))),'Таблица 6 (типы арм.)'!$F$54:$U$54,0)),0)) | U79: =IF(SUM($J79:$L79)*INDEX('Таблица 6 (типы арм.)'!$F$6:$U$49,MATCH($D79,'Таблица 6 (типы арм.)'!$D$6:$D$49,0),MATCH((IF(COLUMN(U$5)>COLUMN($X$5),CONCATENATE(U$5,"А500С"),IF(COLUMN(U$5)>COLUMN($S$5),CONCATENATE(U$5,"А240"),CONCATENATE(U$5,"Вр-1")))),'Таблица 6 (типы арм.)'!$F$54:$U$54,0))=0,"",ROUND(SUM($J79:$L79)*INDEX('Таблица 6 (типы арм.)'!$F$6:$U$49,MATCH($D79,'Таблица 6 (типы арм.)'!$D$6:$D$49,0),MATCH((IF(COLUMN(U$5)>COLUMN($X$5),CONCATENATE(U$5,"А500С"),IF(COLUMN(U$5)>COLUMN($S$5),CONCATENATE(U$5,"А240"),CONCATENATE(U$5,"Вр-1")))),'Таблица 6 (типы арм.)'!$F$54:$U$54,0)),0)) | V79: =IF(SUM($J79:$L79)*INDEX('Таблица 6 (типы арм.)'!$F$6:$U$49,MATCH($D79,'Таблица 6 (типы арм.)'!$D$6:$D$49,0),MATCH((IF(COLUMN(V$5)>COLUMN($X$5),CONCATENATE(V$5,"А500С"),IF(COLUMN(V$5)>COLUMN($S$5),CONCATENATE(V$5,"А240"),CONCATENATE(V$5,"Вр-1")))),'Таблица 6 (типы арм.)'!$F$54:$U$54,0))=0,"",ROUND(SUM($J79:$L79)*INDEX('Таблица 6 (типы арм.)'!$F$6:$U$49,MATCH($D79,'Таблица 6 (типы арм.)'!$D$6:$D$49,0),MATCH((IF(COLUMN(V$5)>COLUMN($X$5),CONCATENATE(V$5,"А500С"),IF(COLUMN(V$5)>COLUMN($S$5),CONCATENATE(V$5,"А240"),CONCATENATE(V$5,"Вр-1")))),'Таблица 6 (типы арм.)'!$F$54:$U$54,0)),0)) | W79: =IF(SUM($J79:$L79)*INDEX('Таблица 6 (типы арм.)'!$F$6:$U$49,MATCH($D79,'Таблица 6 (типы арм.)'!$D$6:$D$49,0),MATCH((IF(COLUMN(W$5)>COLUMN($X$5),CONCATENATE(W$5,"А500С"),IF(COLUMN(W$5)>COLUMN($S$5),CONCATENATE(W$5,"А240"),CONCATENATE(W$5,"Вр-1")))),'Таблица 6 (типы арм.)'!$F$54:$U$54,0))=0,"",ROUND(SUM($J79:$L79)*INDEX('Таблица 6 (типы арм.)'!$F$6:$U$49,MATCH($D79,'Таблица 6 (типы арм.)'!$D$6:$D$49,0),MATCH((IF(COLUMN(W$5)>COLUMN($X$5),CONCATENATE(W$5,"А500С"),IF(COLUMN(W$5)>COLUMN($S$5),CONCATENATE(W$5,"А240"),CONCATENATE(W$5,"Вр-1")))),'Таблица 6 (типы арм.)'!$F$54:$U$54,0)),0)) | X79: =IF((IF(T79="",0,T79)+IF(U79="",0,U79)+IF(V79="",0,V79)+IF(W79="",0,W79))=0,"",(IF(T79="",0,T79)+IF(U79="",0,U79)+IF(V79="",0,V79)+IF(W79="",0,W79))) | Y79: =IF(SUM($J79:$L79)*INDEX('Таблица 6 (типы арм.)'!$F$6:$U$49,MATCH($D79,'Таблица 6 (типы арм.)'!$D$6:$D$49,0),MATCH((IF(COLUMN(Y$5)>COLUMN($X$5),CONCATENATE(Y$5,"А500С"),IF(COLUMN(Y$5)>COLUMN($S$5),CONCATENATE(Y$5,"А240"),CONCATENATE(Y$5,"Вр-1")))),'Таблица 6 (типы арм.)'!$F$54:$U$54,0))=0,"",ROUND(SUM($J79:$L79)*INDEX('Таблица 6 (типы арм.)'!$F$6:$U$49,MATCH($D79,'Таблица 6 (типы арм.)'!$D$6:$D$49,0),MATCH((IF(COLUMN(Y$5)>COLUMN($X$5),CONCATENATE(Y$5,"А500С"),IF(COLUMN(Y$5)>COLUMN($S$5),CONCATENATE(Y$5,"А240"),CONCATENATE(Y$5,"Вр-1")))),'Таблица 6 (типы арм.)'!$F$54:$U$54,0)),0)) -> 286 | Z79: =IF(SUM($J79:$L79)*INDEX('Таблица 6 (типы арм.)'!$F$6:$U$49,MATCH($D79,'Таблица 6 (типы арм.)'!$D$6:$D$49,0),MATCH((IF(COLUMN(Z$5)>COLUMN($X$5),CONCATENATE(Z$5,"А500С"),IF(COLUMN(Z$5)>COLUMN($S$5),CONCATENATE(Z$5,"А240"),CONCATENATE(Z$5,"Вр-1")))),'Таблица 6 (типы арм.)'!$F$54:$U$54,0))=0,"",ROUND(SUM($J79:$L79)*INDEX('Таблица 6 (типы арм.)'!$F$6:$U$49,MATCH($D79,'Таблица 6 (типы арм.)'!$D$6:$D$49,0),MATCH((IF(COLUMN(Z$5)>COLUMN($X$5),CONCATENATE(Z$5,"А500С"),IF(COLUMN(Z$5)>COLUMN($S$5),CONCATENATE(Z$5,"А240"),CONCATENATE(Z$5,"Вр-1")))),'Таблица 6 (типы арм.)'!$F$54:$U$54,0)),0)) -> 346 | AA79: =IF(SUM($J79:$L79)*INDEX('Таблица 6 (типы арм.)'!$F$6:$U$49,MATCH($D79,'Таблица 6 (типы арм.)'!$D$6:$D$49,0),MATCH((IF(COLUMN(AA$5)>COLUMN($X$5),CONCATENATE(AA$5,"А500С"),IF(COLUMN(AA$5)>COLUMN($S$5),CONCATENATE(AA$5,"А240"),CONCATENATE(AA$5,"Вр-1")))),'Таблица 6 (типы арм.)'!$F$54:$U$54,0))=0,"",ROUND(SUM($J79:$L79)*INDEX('Таблица 6 (типы арм.)'!$F$6:$U$49,MATCH($D79,'Таблица 6 (типы арм.)'!$D$6:$D$49,0),MATCH((IF(COLUMN(AA$5)>COLUMN($X$5),CONCATENATE(AA$5,"А500С"),IF(COLUMN(AA$5)>COLUMN($S$5),CONCATENATE(AA$5,"А240"),CONCATENATE(AA$5,"Вр-1")))),'Таблица 6 (типы арм.)'!$F$54:$U$54,0)),0)) -> 1264 | AB79: =IF(SUM($J79:$L79)*INDEX('Таблица 6 (типы арм.)'!$F$6:$U$49,MATCH($D79,'Таблица 6 (типы арм.)'!$D$6:$D$49,0),MATCH((IF(COLUMN(AB$5)>COLUMN($X$5),CONCATENATE(AB$5,"А500С"),IF(COLUMN(AB$5)>COLUMN($S$5),CONCATENATE(AB$5,"А240"),CONCATENATE(AB$5,"Вр-1")))),'Таблица 6 (типы арм.)'!$F$54:$U$54,0))=0,"",ROUND(SUM($J79:$L79)*INDEX('Таблица 6 (типы арм.)'!$F$6:$U$49,MATCH($D79,'Таблица 6 (типы арм.)'!$D$6:$D$49,0),MATCH((IF(COLUMN(AB$5)>COLUMN($X$5),CONCATENATE(AB$5,"А500С"),IF(COLUMN(AB$5)>COLUMN($S$5),CONCATENATE(AB$5,"А240"),CONCATENATE(AB$5,"Вр-1")))),'Таблица 6 (типы арм.)'!$F$54:$U$54,0)),0)) | AC79: =IF(SUM($J79:$L79)*INDEX('Таблица 6 (типы арм.)'!$F$6:$U$49,MATCH($D79,'Таблица 6 (типы арм.)'!$D$6:$D$49,0),MATCH((IF(COLUMN(AC$5)>COLUMN($X$5),CONCATENATE(AC$5,"А500С"),IF(COLUMN(AC$5)>COLUMN($S$5),CONCATENATE(AC$5,"А240"),CONCATENATE(AC$5,"Вр-1")))),'Таблица 6 (типы арм.)'!$F$54:$U$54,0))=0,"",ROUND(SUM($J79:$L79)*INDEX('Таблица 6 (типы арм.)'!$F$6:$U$49,MATCH($D79,'Таблица 6 (типы арм.)'!$D$6:$D$49,0),MATCH((IF(COLUMN(AC$5)>COLUMN($X$5),CONCATENATE(AC$5,"А500С"),IF(COLUMN(AC$5)>COLUMN($S$5),CONCATENATE(AC$5,"А240"),CONCATENATE(AC$5,"Вр-1")))),'Таблица 6 (типы арм.)'!$F$54:$U$54,0)),0)) -> 10156 | AD79: =IF(SUM($J79:$L79)*INDEX('Таблица 6 (типы арм.)'!$F$6:$U$49,MATCH($D79,'Таблица 6 (типы арм.)'!$D$6:$D$49,0),MATCH((IF(COLUMN(AD$5)>COLUMN($X$5),CONCATENATE(AD$5,"А500С"),IF(COLUMN(AD$5)>COLUMN($S$5),CONCATENATE(AD$5,"А240"),CONCATENATE(AD$5,"Вр-1")))),'Таблица 6 (типы арм.)'!$F$54:$U$54,0))=0,"",ROUND(SUM($J79:$L79)*INDEX('Таблица 6 (типы арм.)'!$F$6:$U$49,MATCH($D79,'Таблица 6 (типы арм.)'!$D$6:$D$49,0),MATCH((IF(COLUMN(AD$5)>COLUMN($X$5),CONCATENATE(AD$5,"А500С"),IF(COLUMN(AD$5)>COLUMN($S$5),CONCATENATE(AD$5,"А240"),CONCATENATE(AD$5,"Вр-1")))),'Таблица 6 (типы арм.)'!$F$54:$U$54,0)),0)) | AE79: =IF(SUM($J79:$L79)*INDEX('Таблица 6 (типы арм.)'!$F$6:$U$49,MATCH($D79,'Таблица 6 (типы арм.)'!$D$6:$D$49,0),MATCH((IF(COLUMN(AE$5)>COLUMN($X$5),CONCATENATE(AE$5,"А500С"),IF(COLUMN(AE$5)>COLUMN($S$5),CONCATENATE(AE$5,"А240"),CONCATENATE(AE$5,"Вр-1")))),'Таблица 6 (типы арм.)'!$F$54:$U$54,0))=0,"",ROUND(SUM($J79:$L79)*INDEX('Таблица 6 (типы арм.)'!$F$6:$U$49,MATCH($D79,'Таблица 6 (типы арм.)'!$D$6:$D$49,0),MATCH((IF(COLUMN(AE$5)>COLUMN($X$5),CONCATENATE(AE$5,"А500С"),IF(COLUMN(AE$5)>COLUMN($S$5),CONCATENATE(AE$5,"А240"),CONCATENATE(AE$5,"Вр-1")))),'Таблица 6 (типы арм.)'!$F$54:$U$54,0)),0)) -> 1144 | AF79: =IF(SUM($J79:$L79)*INDEX('Таблица 6 (типы арм.)'!$F$6:$U$49,MATCH($D79,'Таблица 6 (типы арм.)'!$D$6:$D$49,0),MATCH((IF(COLUMN(AF$5)>COLUMN($X$5),CONCATENATE(AF$5,"А500С"),IF(COLUMN(AF$5)>COLUMN($S$5),CONCATENATE(AF$5,"А240"),CONCATENATE(AF$5,"Вр-1")))),'Таблица 6 (типы арм.)'!$F$54:$U$54,0))=0,"",ROUND(SUM($J79:$L79)*INDEX('Таблица 6 (типы арм.)'!$F$6:$U$49,MATCH($D79,'Таблица 6 (типы арм.)'!$D$6:$D$49,0),MATCH((IF(COLUMN(AF$5)>COLUMN($X$5),CONCATENATE(AF$5,"А500С"),IF(COLUMN(AF$5)>COLUMN($S$5),CONCATENATE(AF$5,"А240"),CONCATENATE(AF$5,"Вр-1")))),'Таблица 6 (типы арм.)'!$F$54:$U$54,0)),0)) | ... AI79: =IF(SUM($J79:$L79)*INDEX('Таблица 6 (типы арм.)'!$F$6:$U$49,MATCH($D79,'Таблица 6 (типы арм.)'!$D$6:$D$49,0),MATCH((IF(COLUMN(AI$5)>COLUMN($X$5),CONCATENATE(AI$5,"А500С"),IF(COLUMN(AI$5)>COLUMN($S$5),CONCATENATE(AI$5,"А240"),CONCATENATE(AI$5,"Вр-1")))),'Таблица 6 (типы арм.)'!$F$54:$U$54,0))=0,"",ROUND(SUM($J79:$L79)*INDEX('Таблица 6 (типы арм.)'!$F$6:$U$49,MATCH($D79,'Таблица 6 (типы арм.)'!$D$6:$D$49,0),MATCH((IF(COLUMN(AI$5)>COLUMN($X$5),CONCATENATE(AI$5,"А500С"),IF(COLUMN(AI$5)>COLUMN($S$5),CONCATENATE(AI$5,"А240"),CONCATENATE(AI$5,"Вр-1")))),'Таблица 6 (типы арм.)'!$F$54:$U$54,0)),0)) -> 8869 | AJ79: =IF((IF(Y79="",0,Y79)+IF(Z79="",0,Z79)+IF(AA79="",0,AA79)+IF(AB79="",0,AB79)+IF(AC79="",0,AC79)+IF(AD79="",0,AD79)+IF(AE79="",0,AE79)+IF(AF79="",0,AF79)+IF(AG79="",0,AG79)+IF(AH79="",0,AH79)+IF(AI79="",0,AI79))=0,"",(IF(Y79="",0,Y79)+IF(Z79="",0,Z79)+IF(AA79="",0,AA79)+IF(AB79="",0,AB79)+IF(AC79="",0,AC79)+IF(AD79="",0,AD79)+IF(AE79="",0,AE79)+IF(AF79="",0,AF79)+IF(AG79="",0,AG79)+IF(AH79="",0,AH79)+IF(AI79="",0,AI79))) -> 30743 | AK79: =IF((IF(AJ79="",0,AJ79)+IF(X79="",0,X79)+IF(S79="",0,S79))=0,"",(IF(AJ79="",0,AJ79)+IF(X79="",0,X79)+IF(S79="",0,S79))) -> 30743
C80: к данным строкам относится расход на арматуру сварных каркасов в фундаментных плитах, см. примечания к таблице 5 и таблице 6; наличие пространственных каркасов уточнить при адресном проектировании, в случае необходимости соответствующую строку удалить | D80: 2.1 | E80: =E77+1 -> 52 | F80: Каркасы плоские арматурные в фундаментной плите | G80: кг | M80: =IF((IF(H80="",0,H80)+IF(I80="",0,I80)+IF(J80="",0,J80)+IF(K80="",0,K80)+IF(L80="",0,L80))=0,"",(IF(H80="",0,H80)+IF(I80="",0,I80)+IF(J80="",0,J80)+IF(K80="",0,K80)+IF(L80="",0,L80))) | R80: =IF(SUM($J77:$L77)*INDEX('Таблица 6 (типы арм.)'!$F$6:$U$49,MATCH($D80,'Таблица 6 (типы арм.)'!$D$6:$D$49,0),MATCH((IF(COLUMN(R$5)>COLUMN($X$5),CONCATENATE(R$5,"А500С"),IF(COLUMN(R$5)>COLUMN($S$5),CONCATENATE(R$5,"А240"),CONCATENATE(R$5,"Вр-1")))),'Таблица 6 (типы арм.)'!$F$54:$U$54,0))=0,"",ROUND(SUM($J77:$L77)*INDEX('Таблица 6 (типы арм.)'!$F$6:$U$49,MATCH($D80,'Таблица 6 (типы арм.)'!$D$6:$D$49,0),MATCH((IF(COLUMN(R$5)>COLUMN($X$5),CONCATENATE(R$5,"А500С"),IF(COLUMN(R$5)>COLUMN($S$5),CONCATENATE(R$5,"А240"),CONCATENATE(R$5,"Вр-1")))),'Таблица 6 (типы арм.)'!$F$54:$U$54,0)),0)) | S80: =IF((IF(R80="",0,R80))=0,"",(IF(R80="",0,R80))) | T80: =IF(SUM($J77:$L77)*INDEX('Таблица 6 (типы арм.)'!$F$6:$U$49,MATCH($D80,'Таблица 6 (типы арм.)'!$D$6:$D$49,0),MATCH((IF(COLUMN(T$5)>COLUMN($X$5),CONCATENATE(T$5,"А500С"),IF(COLUMN(T$5)>COLUMN($S$5),CONCATENATE(T$5,"А240"),CONCATENATE(T$5,"Вр-1")))),'Таблица 6 (типы арм.)'!$F$54:$U$54,0))=0,"",ROUND(SUM($J77:$L77)*INDEX('Таблица 6 (типы арм.)'!$F$6:$U$49,MATCH($D80,'Таблица 6 (типы арм.)'!$D$6:$D$49,0),MATCH((IF(COLUMN(T$5)>COLUMN($X$5),CONCATENATE(T$5,"А500С"),IF(COLUMN(T$5)>COLUMN($S$5),CONCATENATE(T$5,"А240"),CONCATENATE(T$5,"Вр-1")))),'Таблица 6 (типы арм.)'!$F$54:$U$54,0)),0)) | U80: =IF(SUM($J77:$L77)*INDEX('Таблица 6 (типы арм.)'!$F$6:$U$49,MATCH($D80,'Таблица 6 (типы арм.)'!$D$6:$D$49,0),MATCH((IF(COLUMN(U$5)>COLUMN($X$5),CONCATENATE(U$5,"А500С"),IF(COLUMN(U$5)>COLUMN($S$5),CONCATENATE(U$5,"А240"),CONCATENATE(U$5,"Вр-1")))),'Таблица 6 (типы арм.)'!$F$54:$U$54,0))=0,"",ROUND(SUM($J77:$L77)*INDEX('Таблица 6 (типы арм.)'!$F$6:$U$49,MATCH($D80,'Таблица 6 (типы арм.)'!$D$6:$D$49,0),MATCH((IF(COLUMN(U$5)>COLUMN($X$5),CONCATENATE(U$5,"А500С"),IF(COLUMN(U$5)>COLUMN($S$5),CONCATENATE(U$5,"А240"),CONCATENATE(U$5,"Вр-1")))),'Таблица 6 (типы арм.)'!$F$54:$U$54,0)),0)) | V80: =IF(SUM($J77:$L77)*INDEX('Таблица 6 (типы арм.)'!$F$6:$U$49,MATCH($D80,'Таблица 6 (типы арм.)'!$D$6:$D$49,0),MATCH((IF(COLUMN(V$5)>COLUMN($X$5),CONCATENATE(V$5,"А500С"),IF(COLUMN(V$5)>COLUMN($S$5),CONCATENATE(V$5,"А240"),CONCATENATE(V$5,"Вр-1")))),'Таблица 6 (типы арм.)'!$F$54:$U$54,0))=0,"",ROUND(SUM($J77:$L77)*INDEX('Таблица 6 (типы арм.)'!$F$6:$U$49,MATCH($D80,'Таблица 6 (типы арм.)'!$D$6:$D$49,0),MATCH((IF(COLUMN(V$5)>COLUMN($X$5),CONCATENATE(V$5,"А500С"),IF(COLUMN(V$5)>COLUMN($S$5),CONCATENATE(V$5,"А240"),CONCATENATE(V$5,"Вр-1")))),'Таблица 6 (типы арм.)'!$F$54:$U$54,0)),0)) | W80: =IF(SUM($J77:$L77)*INDEX('Таблица 6 (типы арм.)'!$F$6:$U$49,MATCH($D80,'Таблица 6 (типы арм.)'!$D$6:$D$49,0),MATCH((IF(COLUMN(W$5)>COLUMN($X$5),CONCATENATE(W$5,"А500С"),IF(COLUMN(W$5)>COLUMN($S$5),CONCATENATE(W$5,"А240"),CONCATENATE(W$5,"Вр-1")))),'Таблица 6 (типы арм.)'!$F$54:$U$54,0))=0,"",ROUND(SUM($J77:$L77)*INDEX('Таблица 6 (типы арм.)'!$F$6:$U$49,MATCH($D80,'Таблица 6 (типы арм.)'!$D$6:$D$49,0),MATCH((IF(COLUMN(W$5)>COLUMN($X$5),CONCATENATE(W$5,"А500С"),IF(COLUMN(W$5)>COLUMN($S$5),CONCATENATE(W$5,"А240"),CONCATENATE(W$5,"Вр-1")))),'Таблица 6 (типы арм.)'!$F$54:$U$54,0)),0)) | X80: =IF((IF(T80="",0,T80)+IF(U80="",0,U80)+IF(V80="",0,V80)+IF(W80="",0,W80))=0,"",(IF(T80="",0,T80)+IF(U80="",0,U80)+IF(V80="",0,V80)+IF(W80="",0,W80))) | Y80: =IF(SUM($J77:$L77)*INDEX('Таблица 6 (типы арм.)'!$F$6:$U$49,MATCH($D80,'Таблица 6 (типы арм.)'!$D$6:$D$49,0),MATCH((IF(COLUMN(Y$5)>COLUMN($X$5),CONCATENATE(Y$5,"А500С"),IF(COLUMN(Y$5)>COLUMN($S$5),CONCATENATE(Y$5,"А240"),CONCATENATE(Y$5,"Вр-1")))),'Таблица 6 (типы арм.)'!$F$54:$U$54,0))=0,"",ROUND(SUM($J77:$L77)*INDEX('Таблица 6 (типы арм.)'!$F$6:$U$49,MATCH($D80,'Таблица 6 (типы арм.)'!$D$6:$D$49,0),MATCH((IF(COLUMN(Y$5)>COLUMN($X$5),CONCATENATE(Y$5,"А500С"),IF(COLUMN(Y$5)>COLUMN($S$5),CONCATENATE(Y$5,"А240"),CONCATENATE(Y$5,"Вр-1")))),'Таблица 6 (типы арм.)'!$F$54:$U$54,0)),0)) | Z80: =IF(SUM($J77:$L77)*INDEX('Таблица 6 (типы арм.)'!$F$6:$U$49,MATCH($D80,'Таблица 6 (типы арм.)'!$D$6:$D$49,0),MATCH((IF(COLUMN(Z$5)>COLUMN($X$5),CONCATENATE(Z$5,"А500С"),IF(COLUMN(Z$5)>COLUMN($S$5),CONCATENATE(Z$5,"А240"),CONCATENATE(Z$5,"Вр-1")))),'Таблица 6 (типы арм.)'!$F$54:$U$54,0))=0,"",ROUND(SUM($J77:$L77)*INDEX('Таблица 6 (типы арм.)'!$F$6:$U$49,MATCH($D80,'Таблица 6 (типы арм.)'!$D$6:$D$49,0),MATCH((IF(COLUMN(Z$5)>COLUMN($X$5),CONCATENATE(Z$5,"А500С"),IF(COLUMN(Z$5)>COLUMN($S$5),CONCATENATE(Z$5,"А240"),CONCATENATE(Z$5,"Вр-1")))),'Таблица 6 (типы арм.)'!$F$54:$U$54,0)),0)) | AA80: =IF(SUM($J77:$L77)*INDEX('Таблица 6 (типы арм.)'!$F$6:$U$49,MATCH($D80,'Таблица 6 (типы арм.)'!$D$6:$D$49,0),MATCH((IF(COLUMN(AA$5)>COLUMN($X$5),CONCATENATE(AA$5,"А500С"),IF(COLUMN(AA$5)>COLUMN($S$5),CONCATENATE(AA$5,"А240"),CONCATENATE(AA$5,"Вр-1")))),'Таблица 6 (типы арм.)'!$F$54:$U$54,0))=0,"",ROUND(SUM($J77:$L77)*INDEX('Таблица 6 (типы арм.)'!$F$6:$U$49,MATCH($D80,'Таблица 6 (типы арм.)'!$D$6:$D$49,0),MATCH((IF(COLUMN(AA$5)>COLUMN($X$5),CONCATENATE(AA$5,"А500С"),IF(COLUMN(AA$5)>COLUMN($S$5),CONCATENATE(AA$5,"А240"),CONCATENATE(AA$5,"Вр-1")))),'Таблица 6 (типы арм.)'!$F$54:$U$54,0)),0)) | AB80: =IF(SUM($J77:$L77)*INDEX('Таблица 6 (типы арм.)'!$F$6:$U$49,MATCH($D80,'Таблица 6 (типы арм.)'!$D$6:$D$49,0),MATCH((IF(COLUMN(AB$5)>COLUMN($X$5),CONCATENATE(AB$5,"А500С"),IF(COLUMN(AB$5)>COLUMN($S$5),CONCATENATE(AB$5,"А240"),CONCATENATE(AB$5,"Вр-1")))),'Таблица 6 (типы арм.)'!$F$54:$U$54,0))=0,"",ROUND(SUM($J77:$L77)*INDEX('Таблица 6 (типы арм.)'!$F$6:$U$49,MATCH($D80,'Таблица 6 (типы арм.)'!$D$6:$D$49,0),MATCH((IF(COLUMN(AB$5)>COLUMN($X$5),CONCATENATE(AB$5,"А500С"),IF(COLUMN(AB$5)>COLUMN($S$5),CONCATENATE(AB$5,"А240"),CONCATENATE(AB$5,"Вр-1")))),'Таблица 6 (типы арм.)'!$F$54:$U$54,0)),0)) | AC80: =IF(SUM($J77:$L77)*INDEX('Таблица 6 (типы арм.)'!$F$6:$U$49,MATCH($D80,'Таблица 6 (типы арм.)'!$D$6:$D$49,0),MATCH((IF(COLUMN(AC$5)>COLUMN($X$5),CONCATENATE(AC$5,"А500С"),IF(COLUMN(AC$5)>COLUMN($S$5),CONCATENATE(AC$5,"А240"),CONCATENATE(AC$5,"Вр-1")))),'Таблица 6 (типы арм.)'!$F$54:$U$54,0))=0,"",ROUND(SUM($J77:$L77)*INDEX('Таблица 6 (типы арм.)'!$F$6:$U$49,MATCH($D80,'Таблица 6 (типы арм.)'!$D$6:$D$49,0),MATCH((IF(COLUMN(AC$5)>COLUMN($X$5),CONCATENATE(AC$5,"А500С"),IF(COLUMN(AC$5)>COLUMN($S$5),CONCATENATE(AC$5,"А240"),CONCATENATE(AC$5,"Вр-1")))),'Таблица 6 (типы арм.)'!$F$54:$U$54,0)),0)) -> 8558 | AD80: =IF(SUM($J77:$L77)*INDEX('Таблица 6 (типы арм.)'!$F$6:$U$49,MATCH($D80,'Таблица 6 (типы арм.)'!$D$6:$D$49,0),MATCH((IF(COLUMN(AD$5)>COLUMN($X$5),CONCATENATE(AD$5,"А500С"),IF(COLUMN(AD$5)>COLUMN($S$5),CONCATENATE(AD$5,"А240"),CONCATENATE(AD$5,"Вр-1")))),'Таблица 6 (типы арм.)'!$F$54:$U$54,0))=0,"",ROUND(SUM($J77:$L77)*INDEX('Таблица 6 (типы арм.)'!$F$6:$U$49,MATCH($D80,'Таблица 6 (типы арм.)'!$D$6:$D$49,0),MATCH((IF(COLUMN(AD$5)>COLUMN($X$5),CONCATENATE(AD$5,"А500С"),IF(COLUMN(AD$5)>COLUMN($S$5),CONCATENATE(AD$5,"А240"),CONCATENATE(AD$5,"Вр-1")))),'Таблица 6 (типы арм.)'!$F$54:$U$54,0)),0)) | AE80: =IF(SUM($J77:$L77)*INDEX('Таблица 6 (типы арм.)'!$F$6:$U$49,MATCH($D80,'Таблица 6 (типы арм.)'!$D$6:$D$49,0),MATCH((IF(COLUMN(AE$5)>COLUMN($X$5),CONCATENATE(AE$5,"А500С"),IF(COLUMN(AE$5)>COLUMN($S$5),CONCATENATE(AE$5,"А240"),CONCATENATE(AE$5,"Вр-1")))),'Таблица 6 (типы арм.)'!$F$54:$U$54,0))=0,"",ROUND(SUM($J77:$L77)*INDEX('Таблица 6 (типы арм.)'!$F$6:$U$49,MATCH($D80,'Таблица 6 (типы арм.)'!$D$6:$D$49,0),MATCH((IF(COLUMN(AE$5)>COLUMN($X$5),CONCATENATE(AE$5,"А500С"),IF(COLUMN(AE$5)>COLUMN($S$5),CONCATENATE(AE$5,"А240"),CONCATENATE(AE$5,"Вр-1")))),'Таблица 6 (типы арм.)'!$F$54:$U$54,0)),0)) | AF80: =IF(SUM($J77:$L77)*INDEX('Таблица 6 (типы арм.)'!$F$6:$U$49,MATCH($D80,'Таблица 6 (типы арм.)'!$D$6:$D$49,0),MATCH((IF(COLUMN(AF$5)>COLUMN($X$5),CONCATENATE(AF$5,"А500С"),IF(COLUMN(AF$5)>COLUMN($S$5),CONCATENATE(AF$5,"А240"),CONCATENATE(AF$5,"Вр-1")))),'Таблица 6 (типы арм.)'!$F$54:$U$54,0))=0,"",ROUND(SUM($J77:$L77)*INDEX('Таблица 6 (типы арм.)'!$F$6:$U$49,MATCH($D80,'Таблица 6 (типы арм.)'!$D$6:$D$49,0),MATCH((IF(COLUMN(AF$5)>COLUMN($X$5),CONCATENATE(AF$5,"А500С"),IF(COLUMN(AF$5)>COLUMN($S$5),CONCATENATE(AF$5,"А240"),CONCATENATE(AF$5,"Вр-1")))),'Таблица 6 (типы арм.)'!$F$54:$U$54,0)),0)) | ... AI80: =IF(SUM($J77:$L77)*INDEX('Таблица 6 (типы арм.)'!$F$6:$U$49,MATCH($D80,'Таблица 6 (типы арм.)'!$D$6:$D$49,0),MATCH((IF(COLUMN(AI$5)>COLUMN($X$5),CONCATENATE(AI$5,"А500С"),IF(COLUMN(AI$5)>COLUMN($S$5),CONCATENATE(AI$5,"А240"),CONCATENATE(AI$5,"Вр-1")))),'Таблица 6 (типы арм.)'!$F$54:$U$54,0))=0,"",ROUND(SUM($J77:$L77)*INDEX('Таблица 6 (типы арм.)'!$F$6:$U$49,MATCH($D80,'Таблица 6 (типы арм.)'!$D$6:$D$49,0),MATCH((IF(COLUMN(AI$5)>COLUMN($X$5),CONCATENATE(AI$5,"А500С"),IF(COLUMN(AI$5)>COLUMN($S$5),CONCATENATE(AI$5,"А240"),CONCATENATE(AI$5,"Вр-1")))),'Таблица 6 (типы арм.)'!$F$54:$U$54,0)),0)) | AJ80: =IF((IF(Y80="",0,Y80)+IF(Z80="",0,Z80)+IF(AA80="",0,AA80)+IF(AB80="",0,AB80)+IF(AC80="",0,AC80)+IF(AD80="",0,AD80)+IF(AE80="",0,AE80)+IF(AF80="",0,AF80)+IF(AG80="",0,AG80)+IF(AH80="",0,AH80)+IF(AI80="",0,AI80))=0,"",(IF(Y80="",0,Y80)+IF(Z80="",0,Z80)+IF(AA80="",0,AA80)+IF(AB80="",0,AB80)+IF(AC80="",0,AC80)+IF(AD80="",0,AD80)+IF(AE80="",0,AE80)+IF(AF80="",0,AF80)+IF(AG80="",0,AG80)+IF(AH80="",0,AH80)+IF(AI80="",0,AI80))) -> 8558 | AK80: =IF((IF(AJ80="",0,AJ80)+IF(X80="",0,X80)+IF(S80="",0,S80))=0,"",(IF(AJ80="",0,AJ80)+IF(X80="",0,X80)+IF(S80="",0,S80))) -> 8558
