Workbook

Sheet Инструкция
A3: Для корректной работы таблицы необходимо заполнить следующие поля:
A4: 1. На вкладке "Исходные данные" запоняются ячейки помеченные цветом;
A5: 2. На вкладке "Свод" заполняется столбец "количество квартир", указывается количество однотипных квартир в жилом доме в соответствии с квартирографией и вкладкой "Исходные данные";
A6: 3. Данные из таблицы "Для копирования в спецификацию" на вкладке "Свод" переносятся в спецификацию.

Sheet Исходные данные
A1: Для подсчета провода в квартирах необходимо заполнить все красные ячейки.
C2: - ячейка для заполнения
A3: Таблица заполняется на каждую секцию дома
A4: В таблице приведено максимальное количество квартир на секцию(башню)
A5: В случае, если в секции(башне) квартир меньше, чем в таблице, необходимо заполнить необходимые квартиры, все остальные квартиры оставить без заполнения
A7: Квартира МГН1 | B7: Розетки в комнатах одинарные, шт | C7: Розетки в комнатах двойные, шт | D7: Розетка с/у бытовая, шт | E7: Розетка с/у под эл.полотенцесуш., шт | F7: Выключатель одноклавишный, шт | G7: Выключатель двуклавишный, шт | H7: Переключатель проходной, шт | I7: Кол-во светильников в холле, шт | J7: Кол-во люстр пятирожковых, шт | K7: Кол-во светильников в с/у, шт | L7: Длина провода в перекрытии гр.1, мм | M7: Длина провода в стяжке пола гр.2, мм | N7: Длина провода в стяжке пола гр.3, мм | O7: Длина провода в стяжке пола гр.4, мм | P7: Длина провода в перекрытии гр.5, мм | Q7: Длина провода в перекрытии гр.6, мм | R7: Кол-во установок ОВ, шт | S7: Провод от ЩК к КУП, мм
A8: Кол-во уст. изд/ Длина кабеля, мм
A10: Квартира МГН2 | B10: Розетки в комнатах одинарные, шт | C10: Розетки в комнатах двойные, шт | D10: Розетка с/у бытовая, шт | E10: Розетка с/у под эл.полотенцесуш., шт | F10: Выключатель одноклавишный, шт | G10: Выключатель двуклавишный, шт | H10: Переключатель проходной, шт | I10: Кол-во светильников в холле, шт | J10: Кол-во люстр пятирожковых, шт | K10: Кол-во светильников в с/у, шт | L10: Длина провода в перекрытии гр.1, мм | M10: Длина провода в стяжке пола гр.2, мм | N10: Длина провода в стяжке пола гр.3, мм | O10: Длина провода в стяжке пола гр.4, мм | P10: Длина провода в перекрытии гр.5, мм | Q10: Длина провода в перекрытии гр.6, мм | R10: Кол-во установок ОВ, шт | S10: Провод от ЩК к КУП, мм
A11: Кол-во уст. изд/ Длина кабеля, мм
A13: Квартира МГН3 | B13: Розетки в комнатах одинарные, шт | C13: Розетки в комнатах двойные, шт | D13: Розетка с/у бытовая, шт | E13: Розетка с/у под эл.полотенцесуш., шт | F13: Выключатель одноклавишный, шт | G13: Выключатель двуклавишный, шт | H13: Переключатель проходной, шт | I13: Кол-во светильников в холле, шт | J13: Кол-во люстр пятирожковых, шт | K13: Кол-во светильников в с/у, шт | L13: Длина провода в перекрытии гр.1, мм | M13: Длина провода в стяжке пола гр.2, мм | N13: Длина провода в стяжке пола гр.3, мм | O13: Длина провода в стяжке пола гр.4, мм | P13: Длина провода в перекрытии гр.5, мм | Q13: Длина провода в перекрытии гр.6, мм | R13: Кол-во установок ОВ, шт | S13: Провод от ЩК к КУП, мм
A14: Кол-во уст. изд/ Длина кабеля, мм
A16: Квартира МГН4 | B16: Розетки в комнатах одинарные, шт | C16: Розетки в комнатах двойные, шт | D16: Розетка с/у бытовая, шт | E16: Розетка с/у под эл.полотенцесуш., шт | F16: Выключатель одноклавишный, шт | G16: Выключатель двуклавишный, шт | H16: Переключатель проходной, шт | I16: Кол-во светильников в холле, шт | J16: Кол-во люстр пятирожковых, шт | K16: Кол-во светильников в с/у, шт | L16: Длина провода в перекрытии гр.1, мм | M16: Длина провода в стяжке пола гр.2, мм | N16: Длина провода в стяжке пола гр.3, мм | O16: Длина провода в стяжке пола гр.4, мм | P16: Длина провода в перекрытии гр.5, мм | Q16: Длина провода в перекрытии гр.6, мм | R16: Кол-во установок ОВ, шт | S16: Провод от ЩК к КУП, мм
A17: Кол-во уст. изд/ Длина кабеля, мм
A19: Квартира 1 | B19: Розетки в комнатах одинарные, шт | C19: Розетки в комнатах двойные, шт | D19: Розетка с/у бытовая, шт | E19: Розетка с/у под эл.полотенцесуш., шт | F19: Выключатель одноклавишный, шт | G19: Выключатель двуклавишный, шт | H19: Переключатель проходной, шт | I19: Кол-во светильников в холле, шт | J19: Кол-во люстр пятирожковых, шт | K19: Кол-во светильников в с/у, шт | L19: Длина провода в перекрытии гр.1, мм | M19: Длина провода в стяжке пола гр.2, мм | N19: Длина провода в стяжке пола гр.3, мм | O19: Длина провода в стяжке пола гр.4, мм | P19: Длина провода в перекрытии гр.5, мм | Q19: Длина провода в перекрытии гр.6, мм | R19: Кол-во установок ОВ, шт | S19: Провод от ЩК к КУП, мм
A20: Кол-во уст. изд/ Длина кабеля, мм
A22: Квартира 2 | B22: Розетки в комнатах одинарные, шт | C22: Розетки в комнатах двойные, шт | D22: Розетка с/у бытовая, шт | E22: Розетка с/у под эл.полотенцесуш., шт | F22: Выключатель одноклавишный, шт | G22: Выключатель двуклавишный, шт | H22: Переключатель проходной, шт | I22: Кол-во светильников в холле, шт | J22: Кол-во люстр пятирожковых, шт | K22: Кол-во светильников в с/у, шт | L22: Длина провода в перекрытии гр.1, м | M22: Длина провода в стяжке пола гр.2, м | N22: Длина провода в стяжке пола гр.3, м | O22: Длина провода в стяжке пола гр.4, м | P22: Длина провода в перекрытии гр.5, м | Q22: Длина провода в перекрытии гр.6, м | R22: Кол-во установок ОВ, шт | S22: Провод от ЩК к КУП, м
A23: Кол-во уст. изд/ Длина кабеля, мм
A25: Квартира 3 | B25: Розетки в комнатах одинарные, шт | C25: Розетки в комнатах двойные, шт | D25: Розетка с/у бытовая, шт | E25: Розетка с/у под эл.полотенцесуш., шт | F25: Выключатель одноклавишный, шт | G25: Выключатель двуклавишный, шт | H25: Переключатель проходной, шт | I25: Кол-во светильников в холле, шт | J25: Кол-во люстр пятирожковых, шт | K25: Кол-во светильников в с/у, шт | L25: Длина провода в перекрытии гр.1, мм | M25: Длина провода в стяжке пола гр.2, мм | N25: Длина провода в стяжке пола гр.3, мм | O25: Длина провода в стяжке пола гр.4, мм | P25: Длина провода в перекрытии гр.5, мм | Q25: Длина провода в перекрытии гр.6, мм | R25: Кол-во установок ОВ, шт | S25: Провод от ЩК к КУП, мм
A26: Кол-во уст. изд/ Длина кабеля, мм
A28: Квартира 4 | B28: Розетки в комнатах одинарные, шт | C28: Розетки в комнатах двойные, шт | D28: Розетка с/у бытовая, шт | E28: Розетка с/у под эл.полотенцесуш., шт | F28: Выключатель одноклавишный, шт | G28: Выключатель двуклавишный, шт | H28: Переключатель проходной, шт | I28: Кол-во светильников в холле, шт | J28: Кол-во люстр пятирожковых, шт | K28: Кол-во светильников в с/у, шт | L28: Длина провода в перекрытии гр.1, мм | M28: Длина провода в стяжке пола гр.2, мм | N28: Длина провода в стяжке пола гр.3, мм | O28: Длина провода в стяжке пола гр.4, мм | P28: Длина провода в перекрытии гр.5, мм | Q28: Длина провода в перекрытии гр.6, мм | R28: Кол-во установок ОВ, шт | S28: Провод от ЩК к КУП, мм
A29: Кол-во уст. изд/ Длина кабеля, мм
A31: Квартира 5 | B31: Розетки в комнатах одинарные, шт | C31: Розетки в комнатах двойные, шт | D31: Розетка с/у бытовая, шт | E31: Розетка с/у под эл.полотенцесуш., шт | F31: Выключатель одноклавишный, шт | G31: Выключатель двуклавишный, шт | H31: Переключатель проходной, шт | I31: Кол-во светильников в холле, шт | J31: Кол-во люстр пятирожковых, шт | K31: Кол-во светильников в с/у, шт | L31: Длина провода в перекрытии гр.1, мм | M31: Длина провода в стяжке пола гр.2, мм | N31: Длина провода в стяжке пола гр.3, мм | O31: Длина провода в стяжке пола гр.4, мм | P31: Длина провода в перекрытии гр.5, мм | Q31: Длина провода в перекрытии гр.6, мм | R31: Кол-во установок ОВ, шт | S31: Провод от ЩК к КУП, мм
A32: Кол-во уст. изд/ Длина кабеля, мм
A34: Квартира 6 | B34: Розетки в комнатах одинарные, шт | C34: Розетки в комнатах двойные, шт | D34: Розетка с/у бытовая, шт | E34: Розетка с/у под эл.полотенцесуш., шт | F34: Выключатель одноклавишный, шт | G34: Выключатель двуклавишный, шт | H34: Переключатель проходной, шт | I34: Кол-во светильников в холле, шт | J34: Кол-во люстр пятирожковых, шт | K34: Кол-во светильников в с/у, шт | L34: Длина провода в перекрытии гр.1, мм | M34: Длина провода в стяжке пола гр.2, мм | N34: Длина провода в стяжке пола гр.3, мм | O34: Длина провода в стяжке пола гр.4, мм | P34: Длина провода в перекрытии гр.5, мм | Q34: Длина провода в перекрытии гр.6, мм | R34: Кол-во установок ОВ, шт | S34: Провод от ЩК к КУП, мм
A35: Кол-во уст. изд/ Длина кабеля, мм
A37: Квартира 7 | B37: Розетки в комнатах одинарные, шт | C37: Розетки в комнатах двойные, шт | D37: Розетка с/у бытовая, шт | E37: Розетка с/у под эл.полотенцесуш., шт | F37: Выключатель одноклавишный, шт | G37: Выключатель двуклавишный, шт | H37: Переключатель проходной, шт | I37: Кол-во светильников в холле, шт | J37: Кол-во люстр пятирожковых, шт | K37: Кол-во светильников в с/у, шт | L37: Длина провода в перекрытии гр.1, мм | M37: Длина провода в стяжке пола гр.2, мм | N37: Длина провода в стяжке пола гр.3, мм | O37: Длина провода в стяжке пола гр.4, мм | P37: Длина провода в перекрытии гр.5, мм | Q37: Длина провода в перекрытии гр.6, мм | R37: Кол-во установок ОВ, шт | S37: Провод от ЩК к КУП, мм
A38: Кол-во уст. изд/ Длина кабеля, мм
A40: Квартира 8 | B40: Розетки в комнатах одинарные, шт | C40: Розетки в комнатах двойные, шт | D40: Розетка с/у бытовая, шт | E40: Розетка с/у под эл.полотенцесуш., шт | F40: Выключатель одноклавишный, шт | G40: Выключатель двуклавишный, шт | H40: Переключатель проходной, шт | I40: Кол-во светильников в холле, шт | J40: Кол-во люстр пятирожковых, шт | K40: Кол-во светильников в с/у, шт | L40: Длина провода в перекрытии гр.1, мм | M40: Длина провода в стяжке пола гр.2, мм | N40: Длина провода в стяжке пола гр.3, мм | O40: Длина провода в стяжке пола гр.4, мм | P40: Длина провода в перекрытии гр.5, мм | Q40: Длина провода в перекрытии гр.6, мм | R40: Кол-во установок ОВ, шт | S40: Провод от ЩК к КУП, мм
A41: Кол-во уст. изд/ Длина кабеля, мм
A43: Квартира 9 | B43: Розетки в комнатах одинарные, шт | C43: Розетки в комнатах двойные, шт | D43: Розетка с/у бытовая, шт | E43: Розетка с/у под эл.полотенцесуш., шт | F43: Выключатель одноклавишный, шт | G43: Выключатель двуклавишный, шт | H43: Переключатель проходной, шт | I43: Кол-во светильников в холле, шт | J43: Кол-во люстр пятирожковых, шт | K43: Кол-во светильников в с/у, шт | L43: Длина провода в перекрытии гр.1, мм | M43: Длина провода в стяжке пола гр.2, мм | N43: Длина провода в стяжке пола гр.3, мм | O43: Длина провода в стяжке пола гр.4, мм | P43: Длина провода в перекрытии гр.5, мм | Q43: Длина провода в перекрытии гр.6, мм | R43: Кол-во установок ОВ, шт | S43: Провод от ЩК к КУП, мм
A44: Кол-во уст. изд/ Длина кабеля, мм
A46: Квартира 10 | B46: Розетки в комнатах одинарные, шт | C46: Розетки в комнатах двойные, шт | D46: Розетка с/у бытовая, шт | E46: Розетка с/у под эл.полотенцесуш., шт | F46: Выключатель одноклавишный, шт | G46: Выключатель двуклавишный, шт | H46: Переключатель проходной, шт | I46: Кол-во светильников в холле, шт | J46: Кол-во люстр пятирожковых, шт | K46: Кол-во светильников в с/у, шт | L46: Длина провода в перекрытии гр.1, мм | M46: Длина провода в стяжке пола гр.2, мм | N46: Длина провода в стяжке пола гр.3, мм | O46: Длина провода в стяжке пола гр.4, мм | P46: Длина провода в перекрытии гр.5, мм | Q46: Длина провода в перекрытии гр.6, мм | R46: Кол-во установок ОВ, шт | S46: Провод от ЩК к КУП, мм
A47: Кол-во уст. изд/ Длина кабеля, мм

Sheet Свод
C2: - ячейка для заполнения
A3: Суммарное значение провода на дом
A4: Наименование группы | B4: Наличие вентиляции | C4: Кол-во квартир | D4: Провод белый, м | E4: Провод синий, м | F4: Провод ж/з, м | G4: Провод ж/з, м | H4: Провод белый, м | I4: Провод синий, м | J4: Провод ж/з, м | K4: Провод белый, м | L4: Провод синий, м | M4: Провод ж/з, м
A5: Сеч. провода | D5: 6 | E5: 6 | F5: 6 | G5: 4 | H5: 2.5 | I5: 2.5 | J5: 2.5 | K5: 1.5 | L5: 1.5 | M5: 1.5
A6: ='Исходные данные'!A7 -> Квартира МГН1 | B6: Без вентиляции | C6: 1 | D6: =SUMIF('Квартира МГН1'!$C$40:$C$45,6,'Квартира МГН1'!D$40:D$45)*$C6 -> 2.475 | E6: =SUMIF('Квартира МГН1'!$C$40:$C$45,6,'Квартира МГН1'!E$40:E$45)*$C6 -> 2.475 | F6: =SUMIF('Квартира МГН1'!$C$40:$C$45,6,'Квартира МГН1'!F$40:F$45)*$C6 -> 2.475 | G6: =SUMIF('Квартира МГН1'!$C$40:$C$45,4,'Квартира МГН1'!F$40:F$45)*$C6 -> 6.6 | H6: =SUMIF('Квартира МГН1'!$C$40:$C$45,2.5,'Квартира МГН1'!D$40:D$45)*$C6 -> 35.09 | I6: =SUMIF('Квартира МГН1'!$C$40:$C$45,2.5,'Квартира МГН1'!E$40:E$45)*$C6 -> 35.09 | J6: =SUMIF('Квартира МГН1'!$C$40:$C$45,2.5,'Квартира МГН1'!F$40:F$45)*$C6 -> 51.15 | K6: =SUMIF('Квартира МГН1'!$C$40:$C$45,1.5,'Квартира МГН1'!D$40:D$45)*$C6 -> 3.465 | L6: =SUMIF('Квартира МГН1'!$C$40:$C$45,1.5,'Квартира МГН1'!E$40:E$45)*$C6 -> 3.465 | M6: =SUMIF('Квартира МГН1'!$C$40:$C$45,1.5,'Квартира МГН1'!F$40:F$45)*$C6 -> 3.465
A7: ='Исходные данные'!A10 -> Квартира МГН2 | B7: Без вентиляции | D7: =SUMIF('Квартира МГН2'!$C$40:$C$45,6,'Квартира МГН2'!D$40:D$45)*$C7 -> 0 | E7: =SUMIF('Квартира МГН2'!$C$40:$C$45,6,'Квартира МГН2'!E$40:E$45)*$C7 -> 0 | F7: =SUMIF('Квартира МГН2'!$C$40:$C$45,6,'Квартира МГН2'!F$40:F$45)*$C7 -> 0 | G7: =SUMIF('Квартира МГН2'!$C$40:$C$45,4,'Квартира МГН2'!F$40:F$45)*$C7 -> 0 | H7: =SUMIF('Квартира МГН2'!$C$40:$C$45,2.5,'Квартира МГН2'!D$40:D$45)*$C7 -> 0 | I7: =SUMIF('Квартира МГН2'!$C$40:$C$45,2.5,'Квартира МГН2'!E$40:E$45)*$C7 -> 0 | J7: =SUMIF('Квартира МГН2'!$C$40:$C$45,2.5,'Квартира МГН2'!F$40:F$45)*$C7 -> 0 | K7: =SUMIF('Квартира МГН2'!$C$40:$C$45,1.5,'Квартира МГН2'!D$40:D$45)*$C7 -> 0 | L7: =SUMIF('Квартира МГН2'!$C$40:$C$45,1.5,'Квартира МГН2'!E$40:E$45)*$C7 -> 0 | M7: =SUMIF('Квартира МГН2'!$C$40:$C$45,1.5,'Квартира МГН2'!F$40:F$45)*$C7 -> 0
A8: ='Исходные данные'!A13 -> Квартира МГН3 | B8: Без вентиляции | D8: =SUMIF('Квартира МГН3'!$C$40:$C$45,6,'Квартира МГН3'!D$40:D$45)*$C8 -> 0 | E8: =SUMIF('Квартира МГН3'!$C$40:$C$45,6,'Квартира МГН3'!E$40:E$45)*$C8 -> 0 | F8: =SUMIF('Квартира МГН3'!$C$40:$C$45,6,'Квартира МГН3'!F$40:F$45)*$C8 -> 0 | G8: =SUMIF('Квартира МГН3'!$C$40:$C$45,4,'Квартира МГН3'!F$40:F$45)*$C8 -> 0 | H8: =SUMIF('Квартира МГН3'!$C$40:$C$45,2.5,'Квартира МГН3'!D$40:D$45)*$C8 -> 0 | I8: =SUMIF('Квартира МГН3'!$C$40:$C$45,2.5,'Квартира МГН3'!E$40:E$45)*$C8 -> 0 | J8: =SUMIF('Квартира МГН3'!$C$40:$C$45,2.5,'Квартира МГН3'!F$40:F$45)*$C8 -> 0 | K8: =SUMIF('Квартира МГН3'!$C$40:$C$45,1.5,'Квартира МГН3'!D$40:D$45)*$C8 -> 0 | L8: =SUMIF('Квартира МГН3'!$C$40:$C$45,1.5,'Квартира МГН3'!E$40:E$45)*$C8 -> 0 | M8: =SUMIF('Квартира МГН3'!$C$40:$C$45,1.5,'Квартира МГН3'!F$40:F$45)*$C8 -> 0
A9: ='Исходные данные'!A16 -> Квартира МГН4 | B9: Без вентиляции | D9: =SUMIF('Квартира МГН4'!$C$40:$C$45,6,'Квартира МГН4'!D$40:D$45)*$C9 -> 0 | E9: =SUMIF('Квартира МГН4'!$C$40:$C$45,6,'Квартира МГН4'!E$40:E$45)*$C9 -> 0 | F9: =SUMIF('Квартира МГН4'!$C$40:$C$45,6,'Квартира МГН4'!F$40:F$45)*$C9 -> 0 | G9: =SUMIF('Квартира МГН4'!$C$40:$C$45,4,'Квартира МГН4'!F$40:F$45)*$C9 -> 0 | H9: =SUMIF('Квартира МГН4'!$C$40:$C$45,2.5,'Квартира МГН4'!D$40:D$45)*$C9 -> 0 | I9: =SUMIF('Квартира МГН4'!$C$40:$C$45,2.5,'Квартира МГН4'!E$40:E$45)*$C9 -> 0 | J9: =SUMIF('Квартира МГН4'!$C$40:$C$45,2.5,'Квартира МГН4'!F$40:F$45)*$C9 -> 0 | K9: =SUMIF('Квартира МГН4'!$C$40:$C$45,1.5,'Квартира МГН4'!D$40:D$45)*$C9 -> 0 | L9: =SUMIF('Квартира МГН4'!$C$40:$C$45,1.5,'Квартира МГН4'!E$40:E$45)*$C9 -> 0 | M9: =SUMIF('Квартира МГН4'!$C$40:$C$45,1.5,'Квартира МГН4'!F$40:F$45)*$C9 -> 0
A10: ='Исходные данные'!A19 -> Квартира 1 | B10: Без вентиляции | D10: =SUMIF('Квартира 1'!$C$40:$C$45,6,'Квартира 1'!D$40:D$45)*$C10 -> 0 | E10: =SUMIF('Квартира 1'!$C$40:$C$45,6,'Квартира 1'!E$40:E$45)*$C10 -> 0 | F10: =SUMIF('Квартира 1'!$C$40:$C$45,6,'Квартира 1'!F$40:F$45)*$C10 -> 0 | G10: =SUMIF('Квартира 1'!$C$40:$C$45,4,'Квартира 1'!F$40:F$45)*$C10 -> 0 | H10: =SUMIF('Квартира 1'!$C$40:$C$45,2.5,'Квартира 1'!D$40:D$45)*$C10 -> 0 | I10: =SUMIF('Квартира 1'!$C$40:$C$45,2.5,'Квартира 1'!E$40:E$45)*$C10 -> 0 | J10: =SUMIF('Квартира 1'!$C$40:$C$45,2.5,'Квартира 1'!F$40:F$45)*$C10 -> 0 | K10: =SUMIF('Квартира 1'!$C$40:$C$45,1.5,'Квартира 1'!D$40:D$45)*$C10 -> 0 | L10: =SUMIF('Квартира 1'!$C$40:$C$45,1.5,'Квартира 1'!E$40:E$45)*$C10 -> 0 | M10: =SUMIF('Квартира 1'!$C$40:$C$45,1.5,'Квартира 1'!F$40:F$45)*$C10 -> 0
A11: =A10 -> Квартира 1 | B11: С вентиляцией | D11: =SUMIF('Квартира 1'!$C$49:$C$55,6,'Квартира 1'!D$49:D$55)*$C11 -> 0 | E11: =SUMIF('Квартира 1'!$C$49:$C$55,6,'Квартира 1'!E$49:E$55)*$C11 -> 0 | F11: =SUMIF('Квартира 1'!$C$49:$C$55,6,'Квартира 1'!F$49:F$55)*$C11 -> 0 | G11: =SUMIF('Квартира 1'!$C$49:$C$55,4,'Квартира 1'!F$49:F$55)*$C11 -> 0 | H11: =SUMIF('Квартира 1'!$C$49:$C$55,2.5,'Квартира 1'!D$49:D$55)*$C11 -> 0 | I11: =SUMIF('Квартира 1'!$C$49:$C$55,2.5,'Квартира 1'!E$49:E$55)*$C11 -> 0 | J11: =SUMIF('Квартира 1'!$C$49:$C$55,2.5,'Квартира 1'!F$49:F$55)*$C11 -> 0 | K11: =SUMIF('Квартира 1'!$C$49:$C$55,1.5,'Квартира 1'!D$49:D$55)*$C11 -> 0 | L11: =SUMIF('Квартира 1'!$C$49:$C$55,1.5,'Квартира 1'!E$49:E$55)*$C11 -> 0 | M11: =SUMIF('Квартира 1'!$C$49:$C$55,1.5,'Квартира 1'!F$49:F$55)*$C11 -> 0
A12: ='Исходные данные'!A22 -> Квартира 2 | B12: Без вентиляции | D12: =SUMIF('Квартира 2'!$C$40:$C$45,6,'Квартира 2'!D$40:D$45)*$C12 -> 0 | E12: =SUMIF('Квартира 2'!$C$40:$C$45,6,'Квартира 2'!E$40:E$45)*$C12 -> 0 | F12: =SUMIF('Квартира 2'!$C$40:$C$45,6,'Квартира 2'!F$40:F$45)*$C12 -> 0 | G12: =SUMIF('Квартира 2'!$C$40:$C$45,4,'Квартира 2'!F$40:F$45)*$C12 -> 0 | H12: =SUMIF('Квартира 2'!$C$40:$C$45,2.5,'Квартира 2'!D$40:D$45)*$C12 -> 0 | I12: =SUMIF('Квартира 2'!$C$40:$C$45,2.5,'Квартира 2'!E$40:E$45)*$C12 -> 0 | J12: =SUMIF('Квартира 2'!$C$40:$C$45,2.5,'Квартира 2'!F$40:F$45)*$C12 -> 0 | K12: =SUMIF('Квартира 2'!$C$40:$C$45,1.5,'Квартира 2'!D$40:D$45)*$C12 -> 0 | L12: =SUMIF('Квартира 2'!$C$40:$C$45,1.5,'Квартира 2'!E$40:E$45)*$C12 -> 0 | M12: =SUMIF('Квартира 2'!$C$40:$C$45,1.5,'Квартира 2'!F$40:F$45)*$C12 -> 0
A13: =A12 -> Квартира 2 | B13: С вентиляцией | D13: =SUMIF('Квартира 2'!$C$49:$C$55,6,'Квартира 2'!D$49:D$55)*$C13 -> 0 | E13: =SUMIF('Квартира 2'!$C$49:$C$55,6,'Квартира 2'!E$49:E$55)*$C13 -> 0 | F13: =SUMIF('Квартира 2'!$C$49:$C$55,6,'Квартира 2'!F$49:F$55)*$C13 -> 0 | G13: =SUMIF('Квартира 2'!$C$49:$C$55,4,'Квартира 2'!F$49:F$55)*$C13 -> 0 | H13: =SUMIF('Квартира 2'!$C$49:$C$55,2.5,'Квартира 2'!D$49:D$55)*$C13 -> 0 | I13: =SUMIF('Квартира 2'!$C$49:$C$55,2.5,'Квартира 2'!E$49:E$55)*$C13 -> 0 | J13: =SUMIF('Квартира 2'!$C$49:$C$55,2.5,'Квартира 2'!F$49:F$55)*$C13 -> 0 | K13: =SUMIF('Квартира 2'!$C$49:$C$55,1.5,'Квартира 2'!D$49:D$55)*$C13 -> 0 | L13: =SUMIF('Квартира 2'!$C$49:$C$55,1.5,'Квартира 2'!E$49:E$55)*$C13 -> 0 | M13: =SUMIF('Квартира 2'!$C$49:$C$55,1.5,'Квартира 2'!F$49:F$55)*$C13 -> 0
A14: ='Исходные данные'!A25 -> Квартира 3 | B14: Без вентиляции | D14: =SUMIF('Квартира 3'!$C$40:$C$45,6,'Квартира 3'!D$40:D$45)*$C14 -> 0 | E14: =SUMIF('Квартира 3'!$C$40:$C$45,6,'Квартира 3'!E$40:E$45)*$C14 -> 0 | F14: =SUMIF('Квартира 3'!$C$40:$C$45,6,'Квартира 3'!F$40:F$45)*$C14 -> 0 | G14: =SUMIF('Квартира 3'!$C$40:$C$45,4,'Квартира 3'!F$40:F$45)*$C14 -> 0 | H14: =SUMIF('Квартира 3'!$C$40:$C$45,2.5,'Квартира 3'!D$40:D$45)*$C14 -> 0 | I14: =SUMIF('Квартира 3'!$C$40:$C$45,2.5,'Квартира 3'!E$40:E$45)*$C14 -> 0 | J14: =SUMIF('Квартира 3'!$C$40:$C$45,2.5,'Квартира 3'!F$40:F$45)*$C14 -> 0 | K14: =SUMIF('Квартира 3'!$C$40:$C$45,1.5,'Квартира 3'!D$40:D$45)*$C14 -> 0 | L14: =SUMIF('Квартира 3'!$C$40:$C$45,1.5,'Квартира 3'!E$40:E$45)*$C14 -> 0 | M14: =SUMIF('Квартира 3'!$C$40:$C$45,1.5,'Квартира 3'!F$40:F$45)*$C14 -> 0
A15: =A14 -> Квартира 3 | B15: С вентиляцией | D15: =SUMIF('Квартира 3'!$C$49:$C$55,6,'Квартира 3'!D$49:D$55)*$C15 -> 0 | E15: =SUMIF('Квартира 3'!$C$49:$C$55,6,'Квартира 3'!E$49:E$55)*$C15 -> 0 | F15: =SUMIF('Квартира 3'!$C$49:$C$55,6,'Квартира 3'!F$49:F$55)*$C15 -> 0 | G15: =SUMIF('Квартира 3'!$C$49:$C$55,4,'Квартира 3'!F$49:F$55)*$C15 -> 0 | H15: =SUMIF('Квартира 3'!$C$49:$C$55,2.5,'Квартира 3'!D$49:D$55)*$C15 -> 0 | I15: =SUMIF('Квартира 3'!$C$49:$C$55,2.5,'Квартира 3'!E$49:E$55)*$C15 -> 0 | J15: =SUMIF('Квартира 3'!$C$49:$C$55,2.5,'Квартира 3'!F$49:F$55)*$C15 -> 0 | K15: =SUMIF('Квартира 3'!$C$49:$C$55,1.5,'Квартира 3'!D$49:D$55)*$C15 -> 0 | L15: =SUMIF('Квартира 3'!$C$49:$C$55,1.5,'Квартира 3'!E$49:E$55)*$C15 -> 0 | M15: =SUMIF('Квартира 3'!$C$49:$C$55,1.5,'Квартира 3'!F$49:F$55)*$C15 -> 0
A16: ='Исходные данные'!A28 -> Квартира 4 | B16: Без вентиляции | D16: =SUMIF('Квартира 4'!$C$40:$C$45,6,'Квартира 4'!D$40:D$45)*$C16 -> 0 | E16: =SUMIF('Квартира 4'!$C$40:$C$45,6,'Квартира 4'!E$40:E$45)*$C16 -> 0 | F16: =SUMIF('Квартира 4'!$C$40:$C$45,6,'Квартира 4'!F$40:F$45)*$C16 -> 0 | G16: =SUMIF('Квартира 4'!$C$40:$C$45,4,'Квартира 4'!F$40:F$45)*$C16 -> 0 | H16: =SUMIF('Квартира 4'!$C$40:$C$45,2.5,'Квартира 4'!D$40:D$45)*$C16 -> 0 | I16: =SUMIF('Квартира 4'!$C$40:$C$45,2.5,'Квартира 4'!E$40:E$45)*$C16 -> 0 | J16: =SUMIF('Квартира 4'!$C$40:$C$45,2.5,'Квартира 4'!F$40:F$45)*$C16 -> 0 | K16: =SUMIF('Квартира 4'!$C$40:$C$45,1.5,'Квартира 4'!D$40:D$45)*$C16 -> 0 | L16: =SUMIF('Квартира 4'!$C$40:$C$45,1.5,'Квартира 4'!E$40:E$45)*$C16 -> 0 | M16: =SUMIF('Квартира 4'!$C$40:$C$45,1.5,'Квартира 4'!F$40:F$45)*$C16 -> 0
A17: =A16 -> Квартира 4 | B17: С вентиляцией | D17: =SUMIF('Квартира 4'!$C$49:$C$55,6,'Квартира 4'!D$49:D$55)*$C17 -> 0 | E17: =SUMIF('Квартира 4'!$C$49:$C$55,6,'Квартира 4'!E$49:E$55)*$C17 -> 0 | F17: =SUMIF('Квартира 4'!$C$49:$C$55,6,'Квартира 4'!F$49:F$55)*$C17 -> 0 | G17: =SUMIF('Квартира 4'!$C$49:$C$55,4,'Квартира 4'!F$49:F$55)*$C17 -> 0 | H17: =SUMIF('Квартира 4'!$C$49:$C$55,2.5,'Квартира 4'!D$49:D$55)*$C17 -> 0 | I17: =SUMIF('Квартира 4'!$C$49:$C$55,2.5,'Квартира 4'!E$49:E$55)*$C17 -> 0 | J17: =SUMIF('Квартира 4'!$C$49:$C$55,2.5,'Квартира 4'!F$49:F$55)*$C17 -> 0 | K17: =SUMIF('Квартира 4'!$C$49:$C$55,1.5,'Квартира 4'!D$49:D$55)*$C17 -> 0 | L17: =SUMIF('Квартира 4'!$C$49:$C$55,1.5,'Квартира 4'!E$49:E$55)*$C17 -> 0 | M17: =SUMIF('Квартира 4'!$C$49:$C$55,1.5,'Квартира 4'!F$49:F$55)*$C17 -> 0
A18: ='Исходные данные'!A31 -> Квартира 5 | B18: Без вентиляции | D18: =SUMIF('Квартира 5'!$C$40:$C$45,6,'Квартира 5'!D$40:D$45)*$C18 -> 0 | E18: =SUMIF('Квартира 5'!$C$40:$C$45,6,'Квартира 5'!E$40:E$45)*$C18 -> 0 | F18: =SUMIF('Квартира 5'!$C$40:$C$45,6,'Квартира 5'!F$40:F$45)*$C18 -> 0 | G18: =SUMIF('Квартира 5'!$C$40:$C$45,4,'Квартира 5'!F$40:F$45)*$C18 -> 0 | H18: =SUMIF('Квартира 5'!$C$40:$C$45,2.5,'Квартира 5'!D$40:D$45)*$C18 -> 0 | I18: =SUMIF('Квартира 5'!$C$40:$C$45,2.5,'Квартира 5'!E$40:E$45)*$C18 -> 0 | J18: =SUMIF('Квартира 5'!$C$40:$C$45,2.5,'Квартира 5'!F$40:F$45)*$C18 -> 0 | K18: =SUMIF('Квартира 5'!$C$40:$C$45,1.5,'Квартира 5'!D$40:D$45)*$C18 -> 0 | L18: =SUMIF('Квартира 5'!$C$40:$C$45,1.5,'Квартира 5'!E$40:E$45)*$C18 -> 0 | M18: =SUMIF('Квартира 5'!$C$40:$C$45,1.5,'Квартира 5'!F$40:F$45)*$C18 -> 0
A19: =A18 -> Квартира 5 | B19: С вентиляцией | D19: =SUMIF('Квартира 5'!$C$49:$C$55,6,'Квартира 5'!D$49:D$55)*$C19 -> 0 | E19: =SUMIF('Квартира 5'!$C$49:$C$55,6,'Квартира 5'!E$49:E$55)*$C19 -> 0 | F19: =SUMIF('Квартира 5'!$C$49:$C$55,6,'Квартира 5'!F$49:F$55)*$C19 -> 0 | G19: =SUMIF('Квартира 5'!$C$49:$C$55,4,'Квартира 5'!F$49:F$55)*$C19 -> 0 | H19: =SUMIF('Квартира 5'!$C$49:$C$55,2.5,'Квартира 5'!D$49:D$55)*$C19 -> 0 | I19: =SUMIF('Квартира 5'!$C$49:$C$55,2.5,'Квартира 5'!E$49:E$55)*$C19 -> 0 | J19: =SUMIF('Квартира 5'!$C$49:$C$55,2.5,'Квартира 5'!F$49:F$55)*$C19 -> 0 | K19: =SUMIF('Квартира 5'!$C$49:$C$55,1.5,'Квартира 5'!D$49:D$55)*$C19 -> 0 | L19: =SUMIF('Квартира 5'!$C$49:$C$55,1.5,'Квартира 5'!E$49:E$55)*$C19 -> 0 | M19: =SUMIF('Квартира 5'!$C$49:$C$55,1.5,'Квартира 5'!F$49:F$55)*$C19 -> 0
A20: ='Исходные данные'!A34 -> Квартира 6 | B20: Без вентиляции | D20: =SUMIF('Квартира 6'!$C$40:$C$45,6,'Квартира 6'!D$40:D$45)*$C20 -> 0 | E20: =SUMIF('Квартира 6'!$C$40:$C$45,6,'Квартира 6'!E$40:E$45)*$C20 -> 0 | F20: =SUMIF('Квартира 6'!$C$40:$C$45,6,'Квартира 6'!F$40:F$45)*$C20 -> 0 | G20: =SUMIF('Квартира 6'!$C$40:$C$45,4,'Квартира 6'!F$40:F$45)*$C20 -> 0 | H20: =SUMIF('Квартира 6'!$C$40:$C$45,2.5,'Квартира 6'!D$40:D$45)*$C20 -> 0 | I20: =SUMIF('Квартира 6'!$C$40:$C$45,2.5,'Квартира 6'!E$40:E$45)*$C20 -> 0 | J20: =SUMIF('Квартира 6'!$C$40:$C$45,2.5,'Квартира 6'!F$40:F$45)*$C20 -> 0 | K20: =SUMIF('Квартира 6'!$C$40:$C$45,1.5,'Квартира 6'!D$40:D$45)*$C20 -> 0 | L20: =SUMIF('Квартира 6'!$C$40:$C$45,1.5,'Квартира 6'!E$40:E$45)*$C20 -> 0 | M20: =SUMIF('Квартира 6'!$C$40:$C$45,1.5,'Квартира 6'!F$40:F$45)*$C20 -> 0
A21: =A20 -> Квартира 6 | B21: С вентиляцией | D21: =SUMIF('Квартира 6'!$C$49:$C$55,6,'Квартира 6'!D$49:D$55)*$C21 -> 0 | E21: =SUMIF('Квартира 6'!$C$49:$C$55,6,'Квартира 6'!E$49:E$55)*$C21 -> 0 | F21: =SUMIF('Квартира 6'!$C$49:$C$55,6,'Квартира 6'!F$49:F$55)*$C21 -> 0 | G21: =SUMIF('Квартира 6'!$C$49:$C$55,4,'Квартира 6'!F$49:F$55)*$C21 -> 0 | H21: =SUMIF('Квартира 6'!$C$49:$C$55,2.5,'Квартира 6'!D$49:D$55)*$C21 -> 0 | I21: =SUMIF('Квартира 6'!$C$49:$C$55,2.5,'Квартира 6'!E$49:E$55)*$C21 -> 0 | J21: =SUMIF('Квартира 6'!$C$49:$C$55,2.5,'Квартира 6'!F$49:F$55)*$C21 -> 0 | K21: =SUMIF('Квартира 6'!$C$49:$C$55,1.5,'Квартира 6'!D$49:D$55)*$C21 -> 0 | L21: =SUMIF('Квартира 6'!$C$49:$C$55,1.5,'Квартира 6'!E$49:E$55)*$C21 -> 0 | M21: =SUMIF('Квартира 6'!$C$49:$C$55,1.5,'Квартира 6'!F$49:F$55)*$C21 -> 0
A22: ='Исходные данные'!A37 -> Квартира 7 | B22: Без вентиляции | D22: =SUMIF('Квартира 7'!$C$40:$C$45,6,'Квартира 7'!D$40:D$45)*$C22 -> 0 | E22: =SUMIF('Квартира 7'!$C$40:$C$45,6,'Квартира 7'!E$40:E$45)*$C22 -> 0 | F22: =SUMIF('Квартира 7'!$C$40:$C$45,6,'Квартира 7'!F$40:F$45)*$C22 -> 0 | G22: =SUMIF('Квартира 7'!$C$40:$C$45,4,'Квартира 7'!F$40:F$45)*$C22 -> 0 | H22: =SUMIF('Квартира 7'!$C$40:$C$45,2.5,'Квартира 7'!D$40:D$45)*$C22 -> 0 | I22: =SUMIF('Квартира 7'!$C$40:$C$45,2.5,'Квартира 7'!E$40:E$45)*$C22 -> 0 | J22: =SUMIF('Квартира 7'!$C$40:$C$45,2.5,'Квартира 7'!F$40:F$45)*$C22 -> 0 | K22: =SUMIF('Квартира 7'!$C$40:$C$45,1.5,'Квартира 7'!D$40:D$45)*$C22 -> 0 | L22: =SUMIF('Квартира 7'!$C$40:$C$45,1.5,'Квартира 7'!E$40:E$45)*$C22 -> 0 | M22: =SUMIF('Квартира 7'!$C$40:$C$45,1.5,'Квартира 7'!F$40:F$45)*$C22 -> 0
A23: =A22 -> Квартира 7 | B23: С вентиляцией | D23: =SUMIF('Квартира 7'!$C$49:$C$55,6,'Квартира 7'!D$49:D$55)*$C23 -> 0 | E23: =SUMIF('Квартира 7'!$C$49:$C$55,6,'Квартира 7'!E$49:E$55)*$C23 -> 0 | F23: =SUMIF('Квартира 7'!$C$49:$C$55,6,'Квартира 7'!F$49:F$55)*$C23 -> 0 | G23: =SUMIF('Квартира 7'!$C$49:$C$55,4,'Квартира 7'!F$49:F$55)*$C23 -> 0 | H23: =SUMIF('Квартира 7'!$C$49:$C$55,2.5,'Квартира 7'!D$49:D$55)*$C23 -> 0 | I23: =SUMIF('Квартира 7'!$C$49:$C$55,2.5,'Квартира 7'!E$49:E$55)*$C23 -> 0 | J23: =SUMIF('Квартира 7'!$C$49:$C$55,2.5,'Квартира 7'!F$49:F$55)*$C23 -> 0 | K23: =SUMIF('Квартира 7'!$C$49:$C$55,1.5,'Квартира 7'!D$49:D$55)*$C23 -> 0 | L23: =SUMIF('Квартира 7'!$C$49:$C$55,1.5,'Квартира 7'!E$49:E$55)*$C23 -> 0 | M23: =SUMIF('Квартира 7'!$C$49:$C$55,1.5,'Квартира 7'!F$49:F$55)*$C23 -> 0
A24: ='Исходные данные'!A40 -> Квартира 8 | B24: Без вентиляции | D24: =SUMIF('Квартира 8'!$C$40:$C$45,6,'Квартира 8'!D$40:D$45)*$C24 -> 0 | E24: =SUMIF('Квартира 8'!$C$40:$C$45,6,'Квартира 8'!E$40:E$45)*$C24 -> 0 | F24: =SUMIF('Квартира 8'!$C$40:$C$45,6,'Квартира 8'!F$40:F$45)*$C24 -> 0 | G24: =SUMIF('Квартира 8'!$C$40:$C$45,4,'Квартира 8'!F$40:F$45)*$C24 -> 0 | H24: =SUMIF('Квартира 8'!$C$40:$C$45,2.5,'Квартира 8'!D$40:D$45)*$C24 -> 0 | I24: =SUMIF('Квартира 8'!$C$40:$C$45,2.5,'Квартира 8'!E$40:E$45)*$C24 -> 0 | J24: =SUMIF('Квартира 8'!$C$40:$C$45,2.5,'Квартира 8'!F$40:F$45)*$C24 -> 0 | K24: =SUMIF('Квартира 8'!$C$40:$C$45,1.5,'Квартира 8'!D$40:D$45)*$C24 -> 0 | L24: =SUMIF('Квартира 8'!$C$40:$C$45,1.5,'Квартира 8'!E$40:E$45)*$C24 -> 0 | M24: =SUMIF('Квартира 8'!$C$40:$C$45,1.5,'Квартира 8'!F$40:F$45)*$C24 -> 0
A25: =A24 -> Квартира 8 | B25: С вентиляцией | D25: =SUMIF('Квартира 8'!$C$49:$C$55,6,'Квартира 8'!D$49:D$55)*$C25 -> 0 | E25: =SUMIF('Квартира 8'!$C$49:$C$55,6,'Квартира 8'!E$49:E$55)*$C25 -> 0 | F25: =SUMIF('Квартира 8'!$C$49:$C$55,6,'Квартира 8'!F$49:F$55)*$C25 -> 0 | G25: =SUMIF('Квартира 8'!$C$49:$C$55,4,'Квартира 8'!F$49:F$55)*$C25 -> 0 | H25: =SUMIF('Квартира 8'!$C$49:$C$55,2.5,'Квартира 8'!D$49:D$55)*$C25 -> 0 | I25: =SUMIF('Квартира 8'!$C$49:$C$55,2.5,'Квартира 8'!E$49:E$55)*$C25 -> 0 | J25: =SUMIF('Квартира 8'!$C$49:$C$55,2.5,'Квартира 8'!F$49:F$55)*$C25 -> 0 | K25: =SUMIF('Квартира 8'!$C$49:$C$55,1.5,'Квартира 8'!D$49:D$55)*$C25 -> 0 | L25: =SUMIF('Квартира 8'!$C$49:$C$55,1.5,'Квартира 8'!E$49:E$55)*$C25 -> 0 | M25: =SUMIF('Квартира 8'!$C$49:$C$55,1.5,'Квартира 8'!F$49:F$55)*$C25 -> 0
A26: ='Исходные данные'!A43 -> Квартира 9 | B26: Без вентиляции | D26: =SUMIF('Квартира 9'!$C$40:$C$45,6,'Квартира 9'!D$40:D$45)*$C26 -> 0 | E26: =SUMIF('Квартира 9'!$C$40:$C$45,6,'Квартира 9'!E$40:E$45)*$C26 -> 0 | F26: =SUMIF('Квартира 9'!$C$40:$C$45,6,'Квартира 9'!F$40:F$45)*$C26 -> 0 | G26: =SUMIF('Квартира 9'!$C$40:$C$45,4,'Квартира 9'!F$40:F$45)*$C26 -> 0 | H26: =SUMIF('Квартира 9'!$C$40:$C$45,2.5,'Квартира 9'!D$40:D$45)*$C26 -> 0 | I26: =SUMIF('Квартира 9'!$C$40:$C$45,2.5,'Квартира 9'!E$40:E$45)*$C26 -> 0 | J26: =SUMIF('Квартира 9'!$C$40:$C$45,2.5,'Квартира 9'!F$40:F$45)*$C26 -> 0 | K26: =SUMIF('Квартира 9'!$C$40:$C$45,1.5,'Квартира 9'!D$40:D$45)*$C26 -> 0 | L26: =SUMIF('Квартира 9'!$C$40:$C$45,1.5,'Квартира 9'!E$40:E$45)*$C26 -> 0 | M26: =SUMIF('Квартира 9'!$C$40:$C$45,1.5,'Квартира 9'!F$40:F$45)*$C26 -> 0
A27: =A26 -> Квартира 9 | B27: С вентиляцией | D27: =SUMIF('Квартира 9'!$C$49:$C$55,6,'Квартира 9'!D$49:D$55)*$C27 -> 0 | E27: =SUMIF('Квартира 9'!$C$49:$C$55,6,'Квартира 9'!E$49:E$55)*$C27 -> 0 | F27: =SUMIF('Квартира 9'!$C$49:$C$55,6,'Квартира 9'!F$49:F$55)*$C27 -> 0 | G27: =SUMIF('Квартира 9'!$C$49:$C$55,4,'Квартира 9'!F$49:F$55)*$C27 -> 0 | H27: =SUMIF('Квартира 9'!$C$49:$C$55,2.5,'Квартира 9'!D$49:D$55)*$C27 -> 0 | I27: =SUMIF('Квартира 9'!$C$49:$C$55,2.5,'Квартира 9'!E$49:E$55)*$C27 -> 0 | J27: =SUMIF('Квартира 9'!$C$49:$C$55,2.5,'Квартира 9'!F$49:F$55)*$C27 -> 0 | K27: =SUMIF('Квартира 9'!$C$49:$C$55,1.5,'Квартира 9'!D$49:D$55)*$C27 -> 0 | L27: =SUMIF('Квартира 9'!$C$49:$C$55,1.5,'Квартира 9'!E$49:E$55)*$C27 -> 0 | M27: =SUMIF('Квартира 9'!$C$49:$C$55,1.5,'Квартира 9'!F$49:F$55)*$C27 -> 0
A28: ='Исходные данные'!A46 -> Квартира 10 | B28: Без вентиляции | D28: =SUMIF('Квартира 10'!$C$40:$C$45,6,'Квартира 10'!D$40:D$45)*$C28 -> 0 | E28: =SUMIF('Квартира 10'!$C$40:$C$45,6,'Квартира 10'!E$40:E$45)*$C28 -> 0 | F28: =SUMIF('Квартира 10'!$C$40:$C$45,6,'Квартира 10'!F$40:F$45)*$C28 -> 0 | G28: =SUMIF('Квартира 10'!$C$40:$C$45,4,'Квартира 10'!F$40:F$45)*$C28 -> 0 | H28: =SUMIF('Квартира 10'!$C$40:$C$45,2.5,'Квартира 10'!D$40:D$45)*$C28 -> 0 | I28: =SUMIF('Квартира 10'!$C$40:$C$45,2.5,'Квартира 10'!E$40:E$45)*$C28 -> 0 | J28: =SUMIF('Квартира 10'!$C$40:$C$45,2.5,'Квартира 10'!F$40:F$45)*$C28 -> 0 | K28: =SUMIF('Квартира 10'!$C$40:$C$45,1.5,'Квартира 10'!D$40:D$45)*$C28 -> 0 | L28: =SUMIF('Квартира 10'!$C$40:$C$45,1.5,'Квартира 10'!E$40:E$45)*$C28 -> 0 | M28: =SUMIF('Квартира 10'!$C$40:$C$45,1.5,'Квартира 10'!F$40:F$45)*$C28 -> 0
A29: =A28 -> Квартира 10 | B29: С вентиляцией | D29: =SUMIF('Квартира 10'!$C$49:$C$55,6,'Квартира 10'!D$49:D$55)*$C29 -> 0 | E29: =SUMIF('Квартира 10'!$C$49:$C$55,6,'Квартира 10'!E$49:E$55)*$C29 -> 0 | F29: =SUMIF('Квартира 10'!$C$49:$C$55,6,'Квартира 10'!F$49:F$55)*$C29 -> 0 | G29: =SUMIF('Квартира 10'!$C$49:$C$55,4,'Квартира 10'!F$49:F$55)*$C29 -> 0 | H29: =SUMIF('Квартира 10'!$C$49:$C$55,2.5,'Квартира 10'!D$49:D$55)*$C29 -> 0 | I29: =SUMIF('Квартира 10'!$C$49:$C$55,2.5,'Квартира 10'!E$49:E$55)*$C29 -> 0 | J29: =SUMIF('Квартира 10'!$C$49:$C$55,2.5,'Квартира 10'!F$49:F$55)*$C29 -> 0 | K29: =SUMIF('Квартира 10'!$C$49:$C$55,1.5,'Квартира 10'!D$49:D$55)*$C29 -> 0 | L29: =SUMIF('Квартира 10'!$C$49:$C$55,1.5,'Квартира 10'!E$49:E$55)*$C29 -> 0 | M29: =SUMIF('Квартира 10'!$C$49:$C$55,1.5,'Квартира 10'!F$49:F$55)*$C29 -> 0
A30: Квартира Н
A32: СУММА | C32: =SUM(C6:C30) -> 1 | D32: =SUM(D6:D30) -> 2.475 | E32: =SUM(E6:E30) -> 2.475 | F32: =SUM(F6:F30) -> 2.475 | G32: =SUM(G6:G30) -> 6.6 | H32: =SUM(H6:H30) -> 35.09 | I32: =SUM(I6:I30) -> 35.09 | J32: =SUM(J6:J30) -> 51.15 | ... M32: =SUM(M6:M30) -> 3.465
A35: Для копирования в спецификацию
A36: Провод одножильный с медной жилой в ПВХ изоляции не распространяющий горение с низким дымо и газовыделением, белого цвета, сечением: | D36: Марка | E36: Ед. изм | F36: Кол-во
A37: 1х1,5 | D37: ПуВнг( А)-LS | E37: м | F37: =K32 -> 3.465
A38: 1х2,5 | D38: ПуВнг( А)-LS | E38: м | F38: =H32 -> 35.09
A39: 1х6 | D39: ПуВнг( А)-LS | E39: м | F39: =D32 -> 2.475
A41: Провод одножильный с медной жилой в ПВХ изоляции не распространяющий горение с низким дымо и газовыделением, синего цвета, сечением: | D41: Марка | E41: Ед. изм | F41: Кол-во
A42: 1х1,5 | D42: ПуВнг( А)-LS | E42: м | F42: =L32 -> 3.465
A43: 1х2,5 | D43: ПуВнг( А)-LS | E43: м | F43: =I32 -> 35.09
A44: 1х6 | D44: ПуВнг( А)-LS | E44: м | F44: =E32 -> 2.475
A46: Провод одножильный с медной жилой в ПВХ изоляции не распространяющий горение с низким дымо и газовыделением, желто-зеленого цвета, сечением: | D46: Марка | E46: Ед. изм | F46: Кол-во
A47: 1х1,5 | D47: ПуВнг( А)-LS | E47: м | F47: =M32 -> 3.465
A48: 1х2,5 | D48: ПуВнг( А)-LS | E48: м | F48: =J32 -> 51.15
A49: 1х4 | D49: ПуВнг( А)-LS | E49: м | F49: =G32 -> 6.6
A50: 1х6 | D50: ПуВнг( А)-LS | E50: м | F50: =F32 -> 2.475

Sheet Квартира МГН1
A1: ='Исходные данные'!A7 -> Квартира МГН1 | B1: ДАННЫЕ В ТАБЛИЦЕ НЕ МЕНЯТЬ!
A2: Наименование потребителя | B2: № группы подк | C2: Сеч. провода | D2: Кол-во уст. изд/ Длина кабеля, мм | E2: Выпуск для подкл, мм | F2: Опуск провода, верт, мм | G2: Стяжка пола, мм | H2: Подъем провода верт, мм | I2: Запас провода | J2: Подкл. к ЩК, мм | K2: Итого длина провода бел, мм | L2: Итого длина провода син, мм | M2: Итого длина провода ж/з, мм
A3: Розетки холла | B3: 4 | C3: 2.5 | D3: 2 | E3: 150 | F3: 800 | G3: 200 | H3: 800 | I3: 1.1 | J3: 1600 | K3: =(($H3+$E3+$F3+$G3)*$D3+$J3)*$I3 -> 6050 | L3: =(($H3+$E3+$F3+$G3)*$D3+$J3)*$I3 -> 6050 | M3: =(($H3+$E3+$F3+$G3)*$D3+E3+$J3)*$I3 -> 6215 | N3: учтен дополнительный выпуск на двойные розетки
A4: Розетки в шкафу СС | B4: 4 | C4: 2.5 | D4: 2 | E4: 400 | I4: 1.1 | J4: 1200 | K4: =(($H4+$E4+$F4+$G4)*$D4+$J4)*$I4 -> 2200 | L4: =(($H4+$E4+$F4+$G4)*$D4+$J4)*$I4 -> 2200 | M4: =(($H4+$E4+$F4+$G4)*$D4+$J4)*$I4 -> 2200 | N4: перемычка для розеток внутри щита 400 мм
A5: Розетки двойные на фартуке кухни | B5: 4 | C5: 2.5 | D5: 2 | E5: 400 | F5: 1050 | G5: 200 | H5: 1050 | I5: 1.1 | K5: =(($H5+$E5+$F5+$G5)*$D5+$J5)*$I5 -> 5940 | L5: =(($H5+$E5+$F5+$G5)*$D5+$J5)*$I5 -> 5940 | M5: =(($H5+$E5+$F5+$G5)*$D5+E5+$J5)*$I5 -> 6380 | N5: учтен дополнительный выпуск на двойные розетки
A6: Розетка кухни под плиту | B6: 2 | C6: 6 | D6: 1 | E6: 150 | G6: 100 | H6: 400 | I6: 1.1 | J6: 1600 | K6: =(($H6+$E6+$F6+$G6)*$D6+$J6)*$I6 -> 2475 | L6: =(($H6+$E6+$F6+$G6)*$D6+$J6)*$I6 -> 2475 | M6: =(($H6+$E6+$F6+$G6)*$D6+$J6)*$I6 -> 2475
A7: Розетка кухни под вытяжку | B7: 4 | C7: 2.5 | D7: 1 | E7: 150 | F7: 2550 | G7: 100 | H7: 2550 | I7: 1.1 | K7: =(($H7+$E7+$F7+$G7)*$D7+$J7)*$I7 -> 5885 | L7: =(($H7+$E7+$F7+$G7)*$D7+$J7)*$I7 -> 5885 | M7: =(($H7+$E7+$F7+$G7)*$D7+$J7)*$I7 -> 5885
A8: Розетка кухни под ТВ | B8: 4 | C8: 2.5 | D8: 1 | E8: 400 | G8: 100 | H8: 800 | I8: 1.1 | K8: =(($H8+$E8+$F8+$G8)*$D8+$J8)*$I8 -> 1430 | L8: =(($H8+$E8+$F8+$G8)*$D8+$J8)*$I8 -> 1430 | M8: =(($H8+$E8+$F8+$G8)*$D8+$J8)*$I8 -> 1430
A9: Розетка кухни под холодильник | B9: 4 | C9: 2.5 | D9: 1 | E9: 150 | F9: 800 | G9: 100 | H9: 800 | I9: 1.1 | K9: =(($H9+$E9+$F9+$G9)*$D9+$J9)*$I9 -> 2035 | L9: =(($H9+$E9+$F9+$G9)*$D9+$J9)*$I9 -> 2035 | M9: =(($H9+$E9+$F9+$G9)*$D9+$J9)*$I9 -> 2035
A10: Розетка кухни около стола | B10: 4 | C10: 2.5 | D10: 1 | E10: 400 | F10: 800 | G10: 100 | H10: 800 | I10: 1.1 | K10: =(($H10+$E10+$F10+$G10)*$D10+$J10)*$I10 -> 2310 | L10: =(($H10+$E10+$F10+$G10)*$D10+$J10)*$I10 -> 2310 | M10: =(($H10+$E10+$F10+$G10)*$D10+$J10)*$I10 -> 2310
A11: Розетки в комнатах одинарные | B11: 3 | C11: 2.5 | D11: ='Исходные данные'!B8 -> 0 | E11: 150 | F11: 800 | G11: 200 | H11: 800 | I11: 1.1 | J11: 1600 | K11: =(($H11+$E11+$F11+$G11)*$D11+$J11)*$I11 -> 1760 | L11: =(($H11+$E11+$F11+$G11)*$D11+$J11)*$I11 -> 1760 | M11: =(($H11+$E11+$F11+$G11)*$D11+E11+$J11)*$I11 -> 1925 | N11: учтен дополнительный выпуск на двойные розетки
A12: Розетки в комнатах двойные | B12: 3 | C12: 2.5 | D12: ='Исходные данные'!C8 -> 0 | E12: 400 | F12: 800 | G12: 200 | H12: 800 | I12: 1.1 | K12: =(($H12+$E12+$F12+$G12)*$D12+$J12)*$I12 -> 0 | L12: =(($H12+$E12+$F12+$G12)*$D12+$J12)*$I12 -> 0 | M12: =(($H12+$E12+$F12+$G12)*$D12+E12+$J12)*$I12 -> 440 | N12: учтен дополнительный выпуск на двойные розетки
A13: Розетка с/у под стир. машину | B13: 5 | C13: 2.5 | D13: 1 | E13: 150 | F13: 1900 | G13: 100 | H13: 1900 | I13: 1.1 | J13: 1900 | K13: =(($H13+$E13+$F13+$G13)*$D13+$J13)*$I13 -> 6545 | L13: =(($H13+$E13+$F13+$G13)*$D13+$J13)*$I13 -> 6545 | M13: =(($H13+$E13+$F13+$G13)*$D13+$J13)*$I13 -> 6545
A14: Розетка с/у бытовая | B14: 5 | C14: 2.5 | D14: ='Исходные данные'!D8 -> 0 | E14: 150 | G14: 100 | H14: 1900 | I14: 1.1 | K14: =(($H14+$E14+$F14+$G14)*$D14+$J14)*$I14 -> 0 | L14: =(($H14+$E14+$F14+$G14)*$D14+$J14)*$I14 -> 0 | M14: =(($H14+$E14+$F14+$G14)*$D14+$J14)*$I14 -> 0
A15: Розетка с/у под эл.полотенцесуш. | B15: 5 | C15: 2.5 | D15: ='Исходные данные'!E8 -> 0 | E15: 150 | F15: 1900 | G15: 100 | H15: 1900 | I15: 1.1 | K15: =(($H15+$E15+$F15+$G15)*$D15+$J15)*$I15 -> 0 | L15: =(($H15+$E15+$F15+$G15)*$D15+$J15)*$I15 -> 0 | M15: =(($H15+$E15+$F15+$G15)*$D15+$J15)*$I15 -> 0
A16: Выключатель одноклавишный | B16: 1 | C16: 1.5 | D16: ='Исходные данные'!F8 -> 0 | E16: 150 | H16: 1900 | I16: 1.1 | J16: 1900 | K16: =IF(D16=0,0,IF(D16>0,((H16+E16+F16)*D16)*2)+J16)*I16 -> 0
A17: Выключатель двуклавишный | B17: 1 | C17: 1.5 | D17: ='Исходные данные'!G8 -> 0 | E17: 150 | H17: 1900 | I17: 1.1 | K17: =((((H17+E17+F17)*D17)*3)+J17)*I17 -> 0
A18: Переключатель проходной | B18: 1 | C18: 1.5 | D18: ='Исходные данные'!H8 -> 0 | E18: 150 | H18: 1900 | I18: 1.1 | K18: =((((H18+E18+F18)*D18)*3)+J18)*I18 -> 0 | N18: добавлены проходные переключатели
A19: Кол-во светильников в холле | B19: 1 | C19: 1.5 | D19: ='Исходные данные'!I8 -> 0 | E19: 350 | I19: 1.1 | K19: =((H19+E19+F19)*D19+J19)*I19 -> 0 | L19: =(($H19+$E19+$F19)*$D19+$J19)*$I19 -> 0 | M19: =(($H19+$E19+$F19)*$D19+$J19)*$I19 -> 0 | N19: выпуск к светильнику 200 мм + выпуск на распаечную коробку 150 мм
A20: Кол-во люстр трехрожковых | B20: 1 | C20: 1.5 | D20: 1 | E20: 350 | I20: 1.1 | K20: =((H20+E20+F20)*D20+J20)*I20 -> 385 | L20: =(($H20+$E20+$F20)*$D20+$J20)*$I20 -> 385 | M20: =(($H20+$E20+$F20)*$D20+$J20)*$I20 -> 385 | N20: выпуск к светильнику 200 мм + выпуск на распаечную коробку 150 мм
A21: Кол-во люстр пятирожковых | B21: 1 | C21: 1.5 | D21: ='Исходные данные'!J8 -> 0 | E21: 350 | I21: 1.1 | K21: =((H21+E21+F21)*D21+J21)*I21 -> 0 | L21: =(($H21+$E21+$F21)*$D21+$J21)*$I21 -> 0 | M21: =(($H21+$E21+$F21)*$D21+$J21)*$I21 -> 0 | N21: выпуск к светильнику 200 мм + выпуск на распаечную коробку 150 мм
A22: Кол-во светильников в с/у | B22: 5 | C22: 2.5 | D22: ='Исходные данные'!K8 -> 0 | E22: 350 | I22: 1.1 | K22: =((H22+E22+F22)*D22+J22)*I22 -> 0 | L22: =(($H22+$E22+$F22)*$D22+$J22)*$I22 -> 0 | M22: =(($H22+$E22+$F22)*$D22+$J22)*$I22 -> 0 | N22: выпуск к светильнику 200 мм + выпуск на распаечную коробку 150 мм
A23: Кол-во бра в с/у | B23: 5 | C23: 2.5 | D23: 1 | E23: 350 | H23: 500 | I23: 1.1 | K23: =((H23+E23+F23)*D23+J23)*I23 -> 935 | L23: =(($H23+$E23+$F23)*$D23+$J23)*$I23 -> 935 | M23: =(($H23+$E23+$F23)*$D23+$J23)*$I23 -> 935 | N23: выпуск к светильнику 200 мм + выпуск на распаечную коробку 150 мм
A24: Длина провода в перекрытии гр.1 | B24: 1 | C24: 1.5 | D24: ='Исходные данные'!L8 -> 0 | I24: 1.1 | K24: =$D24*$I24 -> 0 | L24: =$D24*$I24 -> 0 | M24: =$D24*$I24 -> 0
A25: Длина провода в стяжке пола гр.2 | B25: 2 | C25: 6 | D25: ='Исходные данные'!M8 -> 0 | I25: 1.1 | K25: =$D25*$I25 -> 0 | L25: =$D25*$I25 -> 0 | M25: =$D25*$I25 -> 0
A26: Длина провода в стяжке пола гр.3 | B26: 3 | C26: 2.5 | D26: ='Исходные данные'!N8 -> 0 | I26: 1.1 | K26: =$D26*$I26 -> 0 | L26: =$D26*$I26 -> 0 | M26: =$D26*$I26 -> 0
A27: Длина провода в стяжке пола гр.4 | B27: 4 | C27: 2.5 | D27: ='Исходные данные'!O8 -> 0 | I27: 1.1 | K27: =$D27*$I27 -> 0 | L27: =$D27*$I27 -> 0 | M27: =$D27*$I27 -> 0
A28: Длина провода в перекрытии гр.5 | B28: 5 | C28: 2.5 | D28: ='Исходные данные'!P8 -> 0 | I28: 1.1 | K28: =$D28*$I28 -> 0 | L28: =$D28*$I28 -> 0 | M28: =$D28*$I28 -> 0
A29: Длина провода в перекрытии гр.6 | B29: 6 | C29: 2.5 | D29: ='Исходные данные'!Q8 -> 0 | I29: 1.1 | K29: =$D29*$I29 -> 0 | L29: =$D29*$I29 -> 0 | M29: =$D29*$I29 -> 0
A30: Провод на звонок | B30: 1 | C30: 1.5 | D30: 1 | E30: 100 | H30: 1300 | I30: 1.1 | K30: =((H30+E30+F30)*D30+J30)*I30 -> 1540 | L30: =(($H30+$E30+$F30)*$D30+$J30)*$I30 -> 1540 | M30: =(($H30+$E30+$F30)*$D30+$J30)*$I30 -> 1540
A31: Кнопка звонка | B31: 1 | C31: 1.5 | D31: 1 | E31: 100 | H31: 1300 | I31: 1.1 | K31: =((H31+E31+F31)*D31+J31)*I31 -> 1540 | L31: =(($H31+$E31+$F31)*$D31+$J31)*$I31 -> 1540 | M31: =(($H31+$E31+$F31)*$D31+$J31)*$I31 -> 1540
A32: Кол-во вентиляторов ОВ | B32: 6 | C32: 2.5 | D32: ='Исходные данные'!R8 -> 0 | E32: 150 | H32: 600 | I32: 1.1 | J32: 1900 | K32: =IF($D32=0,0,IF($D32>0,(($H32+$E32+$F32)*$D32+$J32)*$I32)) -> 0 | L32: =IF($D32=0,0,IF($D32>0,(($H32+$E32+$F32)*$D32+$J32)*$I32)) -> 0 | M32: =IF($D32=0,0,IF($D32>0,(($H32+$E32+$F32)*$D32+$J32)*$I32)) -> 0
A33: Выключатель для вытяжки | B33: 6 | C33: 2.5 | D33: =D32 -> 0 | E33: 150 | H33: 1800 | I33: 1.1 | K33: =((((H33+E33+F33)*D33)*3)+J33)*I33 -> 0
A34: Провод от КУП до ванны и труб | B34: 5 | C34: 4 | D34: 6000 | I34: 1.1 | M34: =D34*I34 -> 6600
A35: Провод к КУП и от КУП до розетки | B35: 5 | C35: 2.5 | D35: ='Исходные данные'!S8 -> 0 | E35: 100 | F35: 10000 | H35: 1500 | I35: 1.1 | J35: 1900 | M35: =(D35+E35+H35+J35+F35)*I35 -> 14850
A38: Квартира 1. Без принудительной вентиляцией. Суммарное значение провода
A39: Наименование группы | B39: № группы подк | C39: Сеч. провода | D39: Провод белый, м | E39: Провод синий, м | F39: Провод ж/з, м
A40: Группа освещения | B40: 1 | C40: 1.5 | D40: =SUMIFS(K$3:K$35,$B$3:$B$35,1,$C$3:$C$35,1.5)*0.001 -> 3.465 | E40: =SUMIFS(L$3:L$35,$B$3:$B$35,1,$C$3:$C$35,1.5)*0.001 -> 3.465 | F40: =SUMIFS(M$3:M$35,$B$3:$B$35,1,$C$3:$C$35,1.5)*0.001 -> 3.465
A41: Группа плиты | B41: 2 | C41: 6 | D41: =SUMIFS(K$3:K$35,$B$3:$B$35,2,$C$3:$C$35,6)*0.001 -> 2.475 | E41: =SUMIFS(L$3:L$35,$B$3:$B$35,2,$C$3:$C$35,6)*0.001 -> 2.475 | F41: =SUMIFS(M$3:M$35,$B$3:$B$35,2,$C$3:$C$35,6)*0.001 -> 2.475
A42: Розеточная группа комнат | B42: 3 | C42: 2.5 | D42: =SUMIFS(K$3:K$35,$B$3:$B$35,3,$C$3:$C$35,2.5)*0.001 -> 1.76 | E42: =SUMIFS(L$3:L$35,$B$3:$B$35,3,$C$3:$C$35,2.5)*0.001 -> 1.76 | F42: =SUMIFS(M$3:M$35,$B$3:$B$35,3,$C$3:$C$35,2.5)*0.001 -> 2.365
A43: Розеточная группа кухни и коридора | B43: 4 | C43: 2.5 | D43: =SUMIFS(K$3:K$35,$B$3:$B$35,4,$C$3:$C$35,2.5)*0.001 -> 25.85 | E43: =SUMIFS(L$3:L$35,$B$3:$B$35,4,$C$3:$C$35,2.5)*0.001 -> 25.85 | F43: =SUMIFS(M$3:M$35,$B$3:$B$35,4,$C$3:$C$35,2.5)*0.001 -> 26.455
A44: Электрооборудование СУ | B44: 5 | C44: 2.5 | D44: =SUMIFS(K$3:K$35,$B$3:$B$35,5,$C$3:$C$35,2.5)*0.001 -> 7.48 | E44: =SUMIFS(L$3:L$35,$B$3:$B$35,5,$C$3:$C$35,2.5)*0.001 -> 7.48 | F44: =SUMIFS(M$3:M$35,$B$3:$B$35,5,$C$3:$C$35,2.5)*0.001 -> 22.33
C45: 4 | F45: =SUMIFS(M$3:M$35,$B$3:$B$35,5,$C$3:$C$35,4)*0.001 -> 6.6
A47: Квартира 1. С принудительной вентиляцией. Суммарное значение провода
A48: Наименование группы | B48: № группы подк | C48: Сеч. провода | D48: Провод белый, м | E48: Провод синий, м | F48: Провод ж/з, м
A49: Группа освещения | B49: 1 | C49: 1.5 | D49: =SUMIFS(K$3:K$35,$B$3:$B$35,1,$C$3:$C$35,1.5)*0.001 -> 3.465 | E49: =SUMIFS(L$3:L$35,$B$3:$B$35,1,$C$3:$C$35,1.5)*0.001 -> 3.465 | F49: =SUMIFS(M$3:M$35,$B$3:$B$35,1,$C$3:$C$35,1.5)*0.001 -> 3.465
A50: Группа плиты | B50: 2 | C50: 6 | D50: =SUMIFS(K$3:K$35,$B$3:$B$35,2,$C$3:$C$35,6)*0.001 -> 2.475 | E50: =SUMIFS(L$3:L$35,$B$3:$B$35,2,$C$3:$C$35,6)*0.001 -> 2.475 | F50: =SUMIFS(M$3:M$35,$B$3:$B$35,2,$C$3:$C$35,6)*0.001 -> 2.475
A51: Розеточная группа комнат | B51: 3 | C51: 2.5 | D51: =SUMIFS(K$3:K$35,$B$3:$B$35,3,$C$3:$C$35,2.5)*0.001 -> 1.76 | E51: =SUMIFS(L$3:L$35,$B$3:$B$35,3,$C$3:$C$35,2.5)*0.001 -> 1.76 | F51: =SUMIFS(M$3:M$35,$B$3:$B$35,3,$C$3:$C$35,2.5)*0.001 -> 2.365
A52: Розеточная группа кухни и коридора | B52: 4 | C52: 2.5 | D52: =SUMIFS(K$3:K$35,$B$3:$B$35,4,$C$3:$C$35,2.5)*0.001 -> 25.85 | E52: =SUMIFS(L$3:L$35,$B$3:$B$35,4,$C$3:$C$35,2.5)*0.001 -> 25.85 | F52: =SUMIFS(M$3:M$35,$B$3:$B$35,4,$C$3:$C$35,2.5)*0.001 -> 26.455
A53: Электрооборудование СУ | B53: 5 | C53: 2.5 | D53: =SUMIFS(K$3:K$35,$B$3:$B$35,5,$C$3:$C$35,2.5)*0.001 -> 7.48 | E53: =SUMIFS(L$3:L$35,$B$3:$B$35,5,$C$3:$C$35,2.5)*0.001 -> 7.48 | F53: =SUMIFS(M$3:M$35,$B$3:$B$35,5,$C$3:$C$35,2.5)*0.001 -> 22.33
C54: 4 | F54: =SUMIFS(M$3:M$35,$B$3:$B$35,5,$C$3:$C$35,4)*0.001 -> 6.6
A55: Вентиляция | B55: 6 | C55: 2.5 | D55: =SUMIFS(K$3:K$35,$B$3:$B$35,6,$C$3:$C$35,2.5)*0.001 -> 0 | E55: =SUMIFS(L$3:L$35,$B$3:$B$35,6,$C$3:$C$35,2.5)*0.001 -> 0 | F55: =SUMIFS(M$3:M$35,$B$3:$B$35,6,$C$3:$C$35,2.5)*0.001 -> 0

Sheet Квартира МГН2
A1: ='Исходные данные'!A10 -> Квартира МГН2 | B1: ДАННЫЕ В ТАБЛИЦЕ НЕ МЕНЯТЬ!
A2: Наименование потребителя | B2: № группы подк | C2: Сеч. провода | D2: Кол-во уст. изд/ Длина кабеля, мм | E2: Выпуск для подкл, мм | F2: Опуск провода, верт, мм | G2: Стяжка пола, мм | H2: Подъем провода верт, мм | I2: Запас провода | J2: Подкл. к ЩК, мм | K2: Итого длина провода бел, мм | L2: Итого длина провода син, мм | M2: Итого длина провода ж/з, мм
A3: Розетки холла | B3: 4 | C3: 2.5 | D3: 2 | E3: 150 | F3: 800 | G3: 200 | H3: 800 | I3: 1.1 | J3: 1600 | K3: =(($H3+$E3+$F3+$G3)*$D3+$J3)*$I3 -> 6050 | L3: =(($H3+$E3+$F3+$G3)*$D3+$J3)*$I3 -> 6050 | M3: =(($H3+$E3+$F3+$G3)*$D3+E3+$J3)*$I3 -> 6215 | N3: учтен дополнительный выпуск на двойные розетки
A4: Розетки в шкафу СС | B4: 4 | C4: 2.5 | D4: 2 | E4: 400 | I4: 1.1 | J4: 1200 | K4: =(($H4+$E4+$F4+$G4)*$D4+$J4)*$I4 -> 2200 | L4: =(($H4+$E4+$F4+$G4)*$D4+$J4)*$I4 -> 2200 | M4: =(($H4+$E4+$F4+$G4)*$D4+$J4)*$I4 -> 2200 | N4: перемычка для розеток внутри щита 400 мм
A5: Розетки двойные на фартуке кухни | B5: 4 | C5: 2.5 | D5: 2 | E5: 400 | F5: 1050 | G5: 200 | H5: 1050 | I5: 1.1 | K5: =(($H5+$E5+$F5+$G5)*$D5+$J5)*$I5 -> 5940 | L5: =(($H5+$E5+$F5+$G5)*$D5+$J5)*$I5 -> 5940 | M5: =(($H5+$E5+$F5+$G5)*$D5+E5+$J5)*$I5 -> 6380 | N5: учтен дополнительный выпуск на двойные розетки
A6: Розетка кухни под плиту | B6: 2 | C6: 6 | D6: 1 | E6: 150 | G6: 100 | H6: 400 | I6: 1.1 | J6: 1600 | K6: =(($H6+$E6+$F6+$G6)*$D6+$J6)*$I6 -> 2475 | L6: =(($H6+$E6+$F6+$G6)*$D6+$J6)*$I6 -> 2475 | M6: =(($H6+$E6+$F6+$G6)*$D6+$J6)*$I6 -> 2475
A7: Розетка кухни под вытяжку | B7: 4 | C7: 2.5 | D7: 1 | E7: 150 | F7: 2550 | G7: 100 | H7: 2550 | I7: 1.1 | K7: =(($H7+$E7+$F7+$G7)*$D7+$J7)*$I7 -> 5885 | L7: =(($H7+$E7+$F7+$G7)*$D7+$J7)*$I7 -> 5885 | M7: =(($H7+$E7+$F7+$G7)*$D7+$J7)*$I7 -> 5885
A8: Розетка кухни под ТВ | B8: 4 | C8: 2.5 | D8: 1 | E8: 400 | G8: 100 | H8: 800 | I8: 1.1 | K8: =(($H8+$E8+$F8+$G8)*$D8+$J8)*$I8 -> 1430 | L8: =(($H8+$E8+$F8+$G8)*$D8+$J8)*$I8 -> 1430 | M8: =(($H8+$E8+$F8+$G8)*$D8+$J8)*$I8 -> 1430
A9: Розетка кухни под холодильник | B9: 4 | C9: 2.5 | D9: 1 | E9: 150 | F9: 800 | G9: 100 | H9: 800 | I9: 1.1 | K9: =(($H9+$E9+$F9+$G9)*$D9+$J9)*$I9 -> 2035 | L9: =(($H9+$E9+$F9+$G9)*$D9+$J9)*$I9 -> 2035 | M9: =(($H9+$E9+$F9+$G9)*$D9+$J9)*$I9 -> 2035
A10: Розетка кухни около стола | B10: 4 | C10: 2.5 | D10: 1 | E10: 400 | F10: 800 | G10: 100 | H10: 800 | I10: 1.1 | K10: =(($H10+$E10+$F10+$G10)*$D10+$J10)*$I10 -> 2310 | L10: =(($H10+$E10+$F10+$G10)*$D10+$J10)*$I10 -> 2310 | M10: =(($H10+$E10+$F10+$G10)*$D10+$J10)*$I10 -> 2310
A11: Розетки в комнатах одинарные | B11: 3 | C11: 2.5 | D11: ='Исходные данные'!B11 -> 0 | E11: 150 | F11: 800 | G11: 200 | H11: 800 | I11: 1.1 | J11: 1600 | K11: =(($H11+$E11+$F11+$G11)*$D11+$J11)*$I11 -> 1760 | L11: =(($H11+$E11+$F11+$G11)*$D11+$J11)*$I11 -> 1760 | M11: =(($H11+$E11+$F11+$G11)*$D11+E11+$J11)*$I11 -> 1925 | N11: учтен дополнительный выпуск на двойные розетки
A12: Розетки в комнатах двойные | B12: 3 | C12: 2.5 | D12: ='Исходные данные'!C11 -> 0 | E12: 400 | F12: 800 | G12: 200 | H12: 800 | I12: 1.1 | K12: =(($H12+$E12+$F12+$G12)*$D12+$J12)*$I12 -> 0 | L12: =(($H12+$E12+$F12+$G12)*$D12+$J12)*$I12 -> 0 | M12: =(($H12+$E12+$F12+$G12)*$D12+E12+$J12)*$I12 -> 440 | N12: учтен дополнительный выпуск на двойные розетки
A13: Розетка с/у под стир. машину | B13: 5 | C13: 2.5 | D13: 1 | E13: 150 | F13: 1900 | G13: 100 | H13: 1900 | I13: 1.1 | J13: 1900 | K13: =(($H13+$E13+$F13+$G13)*$D13+$J13)*$I13 -> 6545 | L13: =(($H13+$E13+$F13+$G13)*$D13+$J13)*$I13 -> 6545 | M13: =(($H13+$E13+$F13+$G13)*$D13+$J13)*$I13 -> 6545
A14: Розетка с/у бытовая | B14: 5 | C14: 2.5 | D14: ='Исходные данные'!D11 -> 0 | E14: 150 | G14: 100 | H14: 1900 | I14: 1.1 | K14: =(($H14+$E14+$F14+$G14)*$D14+$J14)*$I14 -> 0 | L14: =(($H14+$E14+$F14+$G14)*$D14+$J14)*$I14 -> 0 | M14: =(($H14+$E14+$F14+$G14)*$D14+$J14)*$I14 -> 0
A15: Розетка с/у под эл.полотенцесуш. | B15: 5 | C15: 2.5 | D15: ='Исходные данные'!E11 -> 0 | E15: 150 | F15: 1900 | G15: 100 | H15: 1900 | I15: 1.1 | K15: =(($H15+$E15+$F15+$G15)*$D15+$J15)*$I15 -> 0 | L15: =(($H15+$E15+$F15+$G15)*$D15+$J15)*$I15 -> 0 | M15: =(($H15+$E15+$F15+$G15)*$D15+$J15)*$I15 -> 0
A16: Выключатель одноклавишный | B16: 1 | C16: 1.5 | D16: ='Исходные данные'!F11 -> 0 | E16: 150 | H16: 1900 | I16: 1.1 | J16: 1900 | K16: =IF(D16=0,0,IF(D16>0,((H16+E16+F16)*D16)*2)+J16)*I16 -> 0
A17: Выключатель двуклавишный | B17: 1 | C17: 1.5 | D17: ='Исходные данные'!G11 -> 0 | E17: 150 | H17: 1900 | I17: 1.1 | K17: =((((H17+E17+F17)*D17)*3)+J17)*I17 -> 0
A18: Переключатель проходной | B18: 1 | C18: 1.5 | D18: ='Исходные данные'!H11 -> 0 | E18: 150 | H18: 1900 | I18: 1.1 | K18: =((((H18+E18+F18)*D18)*3)+J18)*I18 -> 0 | N18: добавлены проходные переключатели
A19: Кол-во светильников в холле | B19: 1 | C19: 1.5 | D19: ='Исходные данные'!I11 -> 0 | E19: 350 | I19: 1.1 | K19: =((H19+E19+F19)*D19+J19)*I19 -> 0 | L19: =(($H19+$E19+$F19)*$D19+$J19)*$I19 -> 0 | M19: =(($H19+$E19+$F19)*$D19+$J19)*$I19 -> 0 | N19: выпуск к светильнику 200 мм + выпуск на распаечную коробку 150 мм
A20: Кол-во люстр трехрожковых | B20: 1 | C20: 1.5 | D20: 1 | E20: 350 | I20: 1.1 | K20: =((H20+E20+F20)*D20+J20)*I20 -> 385 | L20: =(($H20+$E20+$F20)*$D20+$J20)*$I20 -> 385 | M20: =(($H20+$E20+$F20)*$D20+$J20)*$I20 -> 385 | N20: выпуск к светильнику 200 мм + выпуск на распаечную коробку 150 мм
A21: Кол-во люстр пятирожковых | B21: 1 | C21: 1.5 | D21: ='Исходные данные'!J11 -> 0 | E21: 350 | I21: 1.1 | K21: =((H21+E21+F21)*D21+J21)*I21 -> 0 | L21: =(($H21+$E21+$F21)*$D21+$J21)*$I21 -> 0 | M21: =(($H21+$E21+$F21)*$D21+$J21)*$I21 -> 0 | N21: выпуск к светильнику 200 мм + выпуск на распаечную коробку 150 мм
A22: Кол-во светильников в с/у | B22: 5 | C22: 2.5 | D22: ='Исходные данные'!K11 -> 0 | E22: 350 | I22: 1.1 | K22: =((H22+E22+F22)*D22+J22)*I22 -> 0 | L22: =(($H22+$E22+$F22)*$D22+$J22)*$I22 -> 0 | M22: =(($H22+$E22+$F22)*$D22+$J22)*$I22 -> 0 | N22: выпуск к светильнику 200 мм + выпуск на распаечную коробку 150 мм
A23: Кол-во бра в с/у | B23: 5 | C23: 2.5 | D23: 1 | E23: 350 | H23: 500 | I23: 1.1 | K23: =((H23+E23+F23)*D23+J23)*I23 -> 935 | L23: =(($H23+$E23+$F23)*$D23+$J23)*$I23 -> 935 | M23: =(($H23+$E23+$F23)*$D23+$J23)*$I23 -> 935 | N23: выпуск к светильнику 200 мм + выпуск на распаечную коробку 150 мм
A24: Длина провода в перекрытии гр.1 | B24: 1 | C24: 1.5 | D24: ='Исходные данные'!L11 -> 0 | I24: 1.1 | K24: =$D24*$I24 -> 0 | L24: =$D24*$I24 -> 0 | M24: =$D24*$I24 -> 0
A25: Длина провода в стяжке пола гр.2 | B25: 2 | C25: 6 | D25: ='Исходные данные'!M11 -> 0 | I25: 1.1 | K25: =$D25*$I25 -> 0 | L25: =$D25*$I25 -> 0 | M25: =$D25*$I25 -> 0
A26: Длина провода в стяжке пола гр.3 | B26: 3 | C26: 2.5 | D26: ='Исходные данные'!N11 -> 0 | I26: 1.1 | K26: =$D26*$I26 -> 0 | L26: =$D26*$I26 -> 0 | M26: =$D26*$I26 -> 0
A27: Длина провода в стяжке пола гр.4 | B27: 4 | C27: 2.5 | D27: ='Исходные данные'!O11 -> 0 | I27: 1.1 | K27: =$D27*$I27 -> 0 | L27: =$D27*$I27 -> 0 | M27: =$D27*$I27 -> 0
A28: Длина провода в перекрытии гр.5 | B28: 5 | C28: 2.5 | D28: ='Исходные данные'!P11 -> 0 | I28: 1.1 | K28: =$D28*$I28 -> 0 | L28: =$D28*$I28 -> 0 | M28: =$D28*$I28 -> 0
A29: Длина провода в перекрытии гр.6 | B29: 6 | C29: 2.5 | D29: ='Исходные данные'!Q11 -> 0 | I29: 1.1 | K29: =$D29*$I29 -> 0 | L29: =$D29*$I29 -> 0 | M29: =$D29*$I29 -> 0
A30: Провод на звонок | B30: 1 | C30: 1.5 | D30: 1 | E30: 100 | H30: 1300 | I30: 1.1 | K30: =((H30+E30+F30)*D30+J30)*I30 -> 1540 | L30: =(($H30+$E30+$F30)*$D30+$J30)*$I30 -> 1540 | M30: =(($H30+$E30+$F30)*$D30+$J30)*$I30 -> 1540
A31: Кнопка звонка | B31: 1 | C31: 1.5 | D31: 1 | E31: 100 | H31: 1300 | I31: 1.1 | K31: =((H31+E31+F31)*D31+J31)*I31 -> 1540 | L31: =(($H31+$E31+$F31)*$D31+$J31)*$I31 -> 1540 | M31: =(($H31+$E31+$F31)*$D31+$J31)*$I31 -> 1540
A32: Кол-во вентиляторов ОВ | B32: 6 | C32: 2.5 | D32: ='Исходные данные'!R11 -> 0 | E32: 150 | H32: 600 | I32: 1.1 | J32: 1900 | K32: =IF($D32=0,0,IF($D32>0,(($H32+$E32+$F32)*$D32+$J32)*$I32)) -> 0 | L32: =IF($D32=0,0,IF($D32>0,(($H32+$E32+$F32)*$D32+$J32)*$I32)) -> 0 | M32: =IF($D32=0,0,IF($D32>0,(($H32+$E32+$F32)*$D32+$J32)*$I32)) -> 0
A33: Выключатель для вытяжки | B33: 6 | C33: 2.5 | D33: =D32 -> 0 | E33: 150 | H33: 1800 | I33: 1.1 | K33: =((((H33+E33+F33)*D33)*3)+J33)*I33 -> 0
A34: Провод от КУП до ванны и труб | B34: 5 | C34: 4 | D34: 6000 | I34: 1.1 | M34: =D34*I34 -> 6600
A35: Провод к КУП и от КУП до розетки | B35: 5 | C35: 2.5 | D35: ='Исходные данные'!S11 -> 0 | E35: 100 | F35: 10000 | H35: 1500 | I35: 1.1 | J35: 1900 | M35: =(D35+E35+H35+J35+F35)*I35 -> 14850
A38: Квартира 1. Без принудительной вентиляцией. Суммарное значение провода
A39: Наименование группы | B39: № группы подк | C39: Сеч. провода | D39: Провод белый, м | E39: Провод синий, м | F39: Провод ж/з, м
A40: Группа освещения | B40: 1 | C40: 1.5 | D40: =SUMIFS(K$3:K$35,$B$3:$B$35,1,$C$3:$C$35,1.5)*0.001 -> 3.465 | E40: =SUMIFS(L$3:L$35,$B$3:$B$35,1,$C$3:$C$35,1.5)*0.001 -> 3.465 | F40: =SUMIFS(M$3:M$35,$B$3:$B$35,1,$C$3:$C$35,1.5)*0.001 -> 3.465
A41: Группа плиты | B41: 2 | C41: 6 | D41: =SUMIFS(K$3:K$35,$B$3:$B$35,2,$C$3:$C$35,6)*0.001 -> 2.475 | E41: =SUMIFS(L$3:L$35,$B$3:$B$35,2,$C$3:$C$35,6)*0.001 -> 2.475 | F41: =SUMIFS(M$3:M$35,$B$3:$B$35,2,$C$3:$C$35,6)*0.001 -> 2.475
A42: Розеточная группа комнат | B42: 3 | C42: 2.5 | D42: =SUMIFS(K$3:K$35,$B$3:$B$35,3,$C$3:$C$35,2.5)*0.001 -> 1.76 | E42: =SUMIFS(L$3:L$35,$B$3:$B$35,3,$C$3:$C$35,2.5)*0.001 -> 1.76 | F42: =SUMIFS(M$3:M$35,$B$3:$B$35,3,$C$3:$C$35,2.5)*0.001 -> 2.365
A43: Розеточная группа кухни и коридора | B43: 4 | C43: 2.5 | D43: =SUMIFS(K$3:K$35,$B$3:$B$35,4,$C$3:$C$35,2.5)*0.001 -> 25.85 | E43: =SUMIFS(L$3:L$35,$B$3:$B$35,4,$C$3:$C$35,2.5)*0.001 -> 25.85 | F43: =SUMIFS(M$3:M$35,$B$3:$B$35,4,$C$3:$C$35,2.5)*0.001 -> 26.455
A44: Электрооборудование СУ | B44: 5 | C44: 2.5 | D44: =SUMIFS(K$3:K$35,$B$3:$B$35,5,$C$3:$C$35,2.5)*0.001 -> 7.48 | E44: =SUMIFS(L$3:L$35,$B$3:$B$35,5,$C$3:$C$35,2.5)*0.001 -> 7.48 | F44: =SUMIFS(M$3:M$35,$B$3:$B$35,5,$C$3:$C$35,2.5)*0.001 -> 22.33
C45: 4 | F45: =SUMIFS(M$3:M$35,$B$3:$B$35,5,$C$3:$C$35,4)*0.001 -> 6.6
A47: Квартира 1. С принудительной вентиляцией. Суммарное значение провода
A48: Наименование группы | B48: № группы подк | C48: Сеч. провода | D48: Провод белый, м | E48: Провод синий, м | F48: Провод ж/з, м
A49: Группа освещения | B49: 1 | C49: 1.5 | D49: =SUMIFS(K$3:K$35,$B$3:$B$35,1,$C$3:$C$35,1.5)*0.001 -> 3.465 | E49: =SUMIFS(L$3:L$35,$B$3:$B$35,1,$C$3:$C$35,1.5)*0.001 -> 3.465 | F49: =SUMIFS(M$3:M$35,$B$3:$B$35,1,$C$3:$C$35,1.5)*0.001 -> 3.465
A50: Группа плиты | B50: 2 | C50: 6 | D50: =SUMIFS(K$3:K$35,$B$3:$B$35,2,$C$3:$C$35,6)*0.001 -> 2.475 | E50: =SUMIFS(L$3:L$35,$B$3:$B$35,2,$C$3:$C$35,6)*0.001 -> 2.475 | F50: =SUMIFS(M$3:M$35,$B$3:$B$35,2,$C$3:$C$35,6)*0.001 -> 2.475
A51: Розеточная группа комнат | B51: 3 | C51: 2.5 | D51: =SUMIFS(K$3:K$35,$B$3:$B$35,3,$C$3:$C$35,2.5)*0.001 -> 1.76 | E51: =SUMIFS(L$3:L$35,$B$3:$B$35,3,$C$3:$C$35,2.5)*0.001 -> 1.76 | F51: =SUMIFS(M$3:M$35,$B$3:$B$35,3,$C$3:$C$35,2.5)*0.001 -> 2.365
A52: Розеточная группа кухни и коридора | B52: 4 | C52: 2.5 | D52: =SUMIFS(K$3:K$35,$B$3:$B$35,4,$C$3:$C$35,2.5)*0.001 -> 25.85 | E52: =SUMIFS(L$3:L$35,$B$3:$B$35,4,$C$3:$C$35,2.5)*0.001 -> 25.85 | F52: =SUMIFS(M$3:M$35,$B$3:$B$35,4,$C$3:$C$35,2.5)*0.001 -> 26.455
A53: Электрооборудование СУ | B53: 5 | C53: 2.5 | D53: =SUMIFS(K$3:K$35,$B$3:$B$35,5,$C$3:$C$35,2.5)*0.001 -> 7.48 | E53: =SUMIFS(L$3:L$35,$B$3:$B$35,5,$C$3:$C$35,2.5)*0.001 -> 7.48 | F53: =SUMIFS(M$3:M$35,$B$3:$B$35,5,$C$3:$C$35,2.5)*0.001 -> 22.33
C54: 4 | F54: =SUMIFS(M$3:M$35,$B$3:$B$35,5,$C$3:$C$35,4)*0.001 -> 6.6
A55: Вентиляция | B55: 6 | C55: 2.5 | D55: =SUMIFS(K$3:K$35,$B$3:$B$35,6,$C$3:$C$35,2.5)*0.001 -> 0 | E55: =SUMIFS(L$3:L$35,$B$3:$B$35,6,$C$3:$C$35,2.5)*0.001 -> 0 | F55: =SUMIFS(M$3:M$35,$B$3:$B$35,6,$C$3:$C$35,2.5)*0.001 -> 0

Sheet Квартира МГН3
A1: ='Исходные данные'!A13 -> Квартира МГН3 | B1: ДАННЫЕ В ТАБЛИЦЕ НЕ МЕНЯТЬ!
A2: Наименование потребителя | B2: № группы подк | C2: Сеч. провода | D2: Кол-во уст. изд/ Длина кабеля, мм | E2: Выпуск для подкл, мм | F2: Опуск провода, верт, мм | G2: Стяжка пола, мм | H2: Подъем провода верт, мм | I2: Запас провода | J2: Подкл. к ЩК, мм | K2: Итого длина провода бел, мм | L2: Итого длина провода син, мм | M2: Итого длина провода ж/з, мм
A3: Розетки холла | B3: 4 | C3: 2.5 | D3: 2 | E3: 150 | F3: 800 | G3: 200 | H3: 800 | I3: 1.1 | J3: 1600 | K3: =(($H3+$E3+$F3+$G3)*$D3+$J3)*$I3 -> 6050 | L3: =(($H3+$E3+$F3+$G3)*$D3+$J3)*$I3 -> 6050 | M3: =(($H3+$E3+$F3+$G3)*$D3+E3+$J3)*$I3 -> 6215 | N3: учтен дополнительный выпуск на двойные розетки
A4: Розетки в шкафу СС | B4: 4 | C4: 2.5 | D4: 2 | E4: 400 | I4: 1.1 | J4: 1200 | K4: =(($H4+$E4+$F4+$G4)*$D4+$J4)*$I4 -> 2200 | L4: =(($H4+$E4+$F4+$G4)*$D4+$J4)*$I4 -> 2200 | M4: =(($H4+$E4+$F4+$G4)*$D4+$J4)*$I4 -> 2200 | N4: перемычка для розеток внутри щита 400 мм
A5: Розетки двойные на фартуке кухни | B5: 4 | C5: 2.5 | D5: 2 | E5: 400 | F5: 1050 | G5: 200 | H5: 1050 | I5: 1.1 | K5: =(($H5+$E5+$F5+$G5)*$D5+$J5)*$I5 -> 5940 | L5: =(($H5+$E5+$F5+$G5)*$D5+$J5)*$I5 -> 5940 | M5: =(($H5+$E5+$F5+$G5)*$D5+E5+$J5)*$I5 -> 6380 | N5: учтен дополнительный выпуск на двойные розетки
A6: Розетка кухни под плиту | B6: 2 | C6: 6 | D6: 1 | E6: 150 | G6: 100 | H6: 400 | I6: 1.1 | J6: 1600 | K6: =(($H6+$E6+$F6+$G6)*$D6+$J6)*$I6 -> 2475 | L6: =(($H6+$E6+$F6+$G6)*$D6+$J6)*$I6 -> 2475 | M6: =(($H6+$E6+$F6+$G6)*$D6+$J6)*$I6 -> 2475
A7: Розетка кухни под вытяжку | B7: 4 | C7: 2.5 | D7: 1 | E7: 150 | F7: 2550 | G7: 100 | H7: 2550 | I7: 1.1 | K7: =(($H7+$E7+$F7+$G7)*$D7+$J7)*$I7 -> 5885 | L7: =(($H7+$E7+$F7+$G7)*$D7+$J7)*$I7 -> 5885 | M7: =(($H7+$E7+$F7+$G7)*$D7+$J7)*$I7 -> 5885
A8: Розетка кухни под ТВ | B8: 4 | C8: 2.5 | D8: 1 | E8: 400 | G8: 100 | H8: 800 | I8: 1.1 | K8: =(($H8+$E8+$F8+$G8)*$D8+$J8)*$I8 -> 1430 | L8: =(($H8+$E8+$F8+$G8)*$D8+$J8)*$I8 -> 1430 | M8: =(($H8+$E8+$F8+$G8)*$D8+$J8)*$I8 -> 1430
A9: Розетка кухни под холодильник | B9: 4 | C9: 2.5 | D9: 1 | E9: 150 | F9: 800 | G9: 100 | H9: 800 | I9: 1.1 | K9: =(($H9+$E9+$F9+$G9)*$D9+$J9)*$I9 -> 2035 | L9: =(($H9+$E9+$F9+$G9)*$D9+$J9)*$I9 -> 2035 | M9: =(($H9+$E9+$F9+$G9)*$D9+$J9)*$I9 -> 2035
A10: Розетка кухни около стола | B10: 4 | C10: 2.5 | D10: 1 | E10: 400 | F10: 800 | G10: 100 | H10: 800 | I10: 1.1 | K10: =(($H10+$E10+$F10+$G10)*$D10+$J10)*$I10 -> 2310 | L10: =(($H10+$E10+$F10+$G10)*$D10+$J10)*$I10 -> 2310 | M10: =(($H10+$E10+$F10+$G10)*$D10+$J10)*$I10 -> 2310
A11: Розетки в комнатах одинарные | B11: 3 | C11: 2.5 | D11: ='Исходные данные'!B14 -> 0 | E11: 150 | F11: 800 | G11: 200 | H11: 800 | I11: 1.1 | J11: 1600 | K11: =(($H11+$E11+$F11+$G11)*$D11+$J11)*$I11 -> 1760 | L11: =(($H11+$E11+$F11+$G11)*$D11+$J11)*$I11 -> 1760 | M11: =(($H11+$E11+$F11+$G11)*$D11+E11+$J11)*$I11 -> 1925 | N11: учтен дополнительный выпуск на двойные розетки
A12: Розетки в комнатах двойные | B12: 3 | C12: 2.5 | D12: ='Исходные данные'!C14 -> 0 | E12: 400 | F12: 800 | G12: 200 | H12: 800 | I12: 1.1 | K12: =(($H12+$E12+$F12+$G12)*$D12+$J12)*$I12 -> 0 | L12: =(($H12+$E12+$F12+$G12)*$D12+$J12)*$I12 -> 0 | M12: =(($H12+$E12+$F12+$G12)*$D12+E12+$J12)*$I12 -> 440 | N12: учтен дополнительный выпуск на двойные розетки
A13: Розетка с/у под стир. машину | B13: 5 | C13: 2.5 | D13: 1 | E13: 150 | F13: 1900 | G13: 100 | H13: 1900 | I13: 1.1 | J13: 1900 | K13: =(($H13+$E13+$F13+$G13)*$D13+$J13)*$I13 -> 6545 | L13: =(($H13+$E13+$F13+$G13)*$D13+$J13)*$I13 -> 6545 | M13: =(($H13+$E13+$F13+$G13)*$D13+$J13)*$I13 -> 6545
A14: Розетка с/у бытовая | B14: 5 | C14: 2.5 | D14: ='Исходные данные'!D14 -> 0 | E14: 150 | G14: 100 | H14: 1900 | I14: 1.1 | K14: =(($H14+$E14+$F14+$G14)*$D14+$J14)*$I14 -> 0 | L14: =(($H14+$E14+$F14+$G14)*$D14+$J14)*$I14 -> 0 | M14: =(($H14+$E14+$F14+$G14)*$D14+$J14)*$I14 -> 0
A15: Розетка с/у под эл.полотенцесуш. | B15: 5 | C15: 2.5 | D15: ='Исходные данные'!E14 -> 0 | E15: 150 | F15: 1900 | G15: 100 | H15: 1900 | I15: 1.1 | K15: =(($H15+$E15+$F15+$G15)*$D15+$J15)*$I15 -> 0 | L15: =(($H15+$E15+$F15+$G15)*$D15+$J15)*$I15 -> 0 | M15: =(($H15+$E15+$F15+$G15)*$D15+$J15)*$I15 -> 0
A16: Выключатель одноклавишный | B16: 1 | C16: 1.5 | D16: ='Исходные данные'!F14 -> 0 | E16: 150 | H16: 1900 | I16: 1.1 | J16: 1900 | K16: =IF(D16=0,0,IF(D16>0,((H16+E16+F16)*D16)*2)+J16)*I16 -> 0
A17: Выключатель двуклавишный | B17: 1 | C17: 1.5 | D17: ='Исходные данные'!G14 -> 0 | E17: 150 | H17: 1900 | I17: 1.1 | K17: =((((H17+E17+F17)*D17)*3)+J17)*I17 -> 0
A18: Переключатель проходной | B18: 1 | C18: 1.5 | D18: ='Исходные данные'!H14 -> 0 | E18: 150 | H18: 1900 | I18: 1.1 | K18: =((((H18+E18+F18)*D18)*3)+J18)*I18 -> 0 | N18: добавлены проходные переключатели
A19: Кол-во светильников в холле | B19: 1 | C19: 1.5 | D19: ='Исходные данные'!I14 -> 0 | E19: 350 | I19: 1.1 | K19: =((H19+E19+F19)*D19+J19)*I19 -> 0 | L19: =(($H19+$E19+$F19)*$D19+$J19)*$I19 -> 0 | M19: =(($H19+$E19+$F19)*$D19+$J19)*$I19 -> 0 | N19: выпуск к светильнику 200 мм + выпуск на распаечную коробку 150 мм
A20: Кол-во люстр трехрожковых | B20: 1 | C20: 1.5 | D20: 1 | E20: 350 | I20: 1.1 | K20: =((H20+E20+F20)*D20+J20)*I20 -> 385 | L20: =(($H20+$E20+$F20)*$D20+$J20)*$I20 -> 385 | M20: =(($H20+$E20+$F20)*$D20+$J20)*$I20 -> 385 | N20: выпуск к светильнику 200 мм + выпуск на распаечную коробку 150 мм
A21: Кол-во люстр пятирожковых | B21: 1 | C21: 1.5 | D21: ='Исходные данные'!J14 -> 0 | E21: 350 | I21: 1.1 | K21: =((H21+E21+F21)*D21+J21)*I21 -> 0 | L21: =(($H21+$E21+$F21)*$D21+$J21)*$I21 -> 0 | M21: =(($H21+$E21+$F21)*$D21+$J21)*$I21 -> 0 | N21: выпуск к светильнику 200 мм + выпуск на распаечную коробку 150 мм
A22: Кол-во светильников в с/у | B22: 5 | C22: 2.5 | D22: ='Исходные данные'!K14 -> 0 | E22: 350 | I22: 1.1 | K22: =((H22+E22+F22)*D22+J22)*I22 -> 0 | L22: =(($H22+$E22+$F22)*$D22+$J22)*$I22 -> 0 | M22: =(($H22+$E22+$F22)*$D22+$J22)*$I22 -> 0 | N22: выпуск к светильнику 200 мм + выпуск на распаечную коробку 150 мм
A23: Кол-во бра в с/у | B23: 5 | C23: 2.5 | D23: 1 | E23: 350 | H23: 500 | I23: 1.1 | K23: =((H23+E23+F23)*D23+J23)*I23 -> 935 | L23: =(($H23+$E23+$F23)*$D23+$J23)*$I23 -> 935 | M23: =(($H23+$E23+$F23)*$D23+$J23)*$I23 -> 935 | N23: выпуск к светильнику 200 мм + выпуск на распаечную коробку 150 мм
A24: Длина провода в перекрытии гр.1 | B24: 1 | C24: 1.5 | D24: ='Исходные данные'!L14 -> 0 | I24: 1.1 | K24: =$D24*$I24 -> 0 | L24: =$D24*$I24 -> 0 | M24: =$D24*$I24 -> 0
A25: Длина провода в стяжке пола гр.2 | B25: 2 | C25: 6 | D25: ='Исходные данные'!M14 -> 0 | I25: 1.1 | K25: =$D25*$I25 -> 0 | L25: =$D25*$I25 -> 0 | M25: =$D25*$I25 -> 0
A26: Длина провода в стяжке пола гр.3 | B26: 3 | C26: 2.5 | D26: ='Исходные данные'!N14 -> 0 | I26: 1.1 | K26: =$D26*$I26 -> 0 | L26: =$D26*$I26 -> 0 | M26: =$D26*$I26 -> 0
A27: Длина провода в стяжке пола гр.4 | B27: 4 | C27: 2.5 | D27: ='Исходные данные'!O14 -> 0 | I27: 1.1 | K27: =$D27*$I27 -> 0 | L27: =$D27*$I27 -> 0 | M27: =$D27*$I27 -> 0
A28: Длина провода в перекрытии гр.5 | B28: 5 | C28: 2.5 | D28: ='Исходные данные'!P14 -> 0 | I28: 1.1 | K28: =$D28*$I28 -> 0 | L28: =$D28*$I28 -> 0 | M28: =$D28*$I28 -> 0
A29: Длина провода в перекрытии гр.6 | B29: 6 | C29: 2.5 | D29: ='Исходные данные'!Q14 -> 0 | I29: 1.1 | K29: =$D29*$I29 -> 0 | L29: =$D29*$I29 -> 0 | M29: =$D29*$I29 -> 0
A30: Провод на звонок | B30: 1 | C30: 1.5 | D30: 1 | E30: 100 | H30: 1300 | I30: 1.1 | K30: =((H30+E30+F30)*D30+J30)*I30 -> 1540 | L30: =(($H30+$E30+$F30)*$D30+$J30)*$I30 -> 1540 | M30: =(($H30+$E30+$F30)*$D30+$J30)*$I30 -> 1540
A31: Кнопка звонка | B31: 1 | C31: 1.5 | D31: 1 | E31: 100 | H31: 1300 | I31: 1.1 | K31: =((H31+E31+F31)*D31+J31)*I31 -> 1540 | L31: =(($H31+$E31+$F31)*$D31+$J31)*$I31 -> 1540 | M31: =(($H31+$E31+$F31)*$D31+$J31)*$I31 -> 1540
A32: Кол-во вентиляторов ОВ | B32: 6 | C32: 2.5 | D32: ='Исходные данные'!R14 -> 0 | E32: 150 | H32: 600 | I32: 1.1 | J32: 1900 | K32: =IF($D32=0,0,IF($D32>0,(($H32+$E32+$F32)*$D32+$J32)*$I32)) -> 0 | L32: =IF($D32=0,0,IF($D32>0,(($H32+$E32+$F32)*$D32+$J32)*$I32)) -> 0 | M32: =IF($D32=0,0,IF($D32>0,(($H32+$E32+$F32)*$D32+$J32)*$I32)) -> 0
A33: Выключатель для вытяжки | B33: 6 | C33: 2.5 | D33: =D32 -> 0 | E33: 150 | H33: 1800 | I33: 1.1 | K33: =((((H33+E33+F33)*D33)*3)+J33)*I33 -> 0
A34: Провод от КУП до ванны и труб | B34: 5 | C34: 4 | D34: 6000 | I34: 1.1 | M34: =D34*I34 -> 6600
A35: Провод к КУП и от КУП до розетки | B35: 5 | C35: 2.5 | D35: ='Исходные данные'!S14 -> 0 | E35: 100 | F35: 10000 | H35: 1500 | I35: 1.1 | J35: 1900 | M35: =(D35+E35+H35+J35+F35)*I35 -> 14850
A38: Квартира 1. Без принудительной вентиляцией. Суммарное значение провода
A39: Наименование группы | B39: № группы подк | C39: Сеч. провода | D39: Провод белый, м | E39: Провод синий, м | F39: Провод ж/з, м
A40: Группа освещения | B40: 1 | C40: 1.5 | D40: =SUMIFS(K$3:K$35,$B$3:$B$35,1,$C$3:$C$35,1.5)*0.001 -> 3.465 | E40: =SUMIFS(L$3:L$35,$B$3:$B$35,1,$C$3:$C$35,1.5)*0.001 -> 3.465 | F40: =SUMIFS(M$3:M$35,$B$3:$B$35,1,$C$3:$C$35,1.5)*0.001 -> 3.465
A41: Группа плиты | B41: 2 | C41: 6 | D41: =SUMIFS(K$3:K$35,$B$3:$B$35,2,$C$3:$C$35,6)*0.001 -> 2.475 | E41: =SUMIFS(L$3:L$35,$B$3:$B$35,2,$C$3:$C$35,6)*0.001 -> 2.475 | F41: =SUMIFS(M$3:M$35,$B$3:$B$35,2,$C$3:$C$35,6)*0.001 -> 2.475
A42: Розеточная группа комнат | B42: 3 | C42: 2.5 | D42: =SUMIFS(K$3:K$35,$B$3:$B$35,3,$C$3:$C$35,2.5)*0.001 -> 1.76 | E42: =SUMIFS(L$3:L$35,$B$3:$B$35,3,$C$3:$C$35,2.5)*0.001 -> 1.76 | F42: =SUMIFS(M$3:M$35,$B$3:$B$35,3,$C$3:$C$35,2.5)*0.001 -> 2.365
A43: Розеточная группа кухни и коридора | B43: 4 | C43: 2.5 | D43: =SUMIFS(K$3:K$35,$B$3:$B$35,4,$C$3:$C$35,2.5)*0.001 -> 25.85 | E43: =SUMIFS(L$3:L$35,$B$3:$B$35,4,$C$3:$C$35,2.5)*0.001 -> 25.85 | F43: =SUMIFS(M$3:M$35,$B$3:$B$35,4,$C$3:$C$35,2.5)*0.001 -> 26.455
A44: Электрооборудование СУ | B44: 5 | C44: 2.5 | D44: =SUMIFS(K$3:K$35,$B$3:$B$35,5,$C$3:$C$35,2.5)*0.001 -> 7.48 | E44: =SUMIFS(L$3:L$35,$B$3:$B$35,5,$C$3:$C$35,2.5)*0.001 -> 7.48 | F44: =SUMIFS(M$3:M$35,$B$3:$B$35,5,$C$3:$C$35,2.5)*0.001 -> 22.33
C45: 4 | F45: =SUMIFS(M$3:M$35,$B$3:$B$35,5,$C$3:$C$35,4)*0.001 -> 6.6
A47: Квартира 1. С принудительной вентиляцией. Суммарное значение провода
A48: Наименование группы | B48: № группы подк | C48: Сеч. провода | D48: Провод белый, м | E48: Провод синий, м | F48: Провод ж/з, м
A49: Группа освещения | B49: 1 | C49: 1.5 | D49: =SUMIFS(K$3:K$35,$B$3:$B$35,1,$C$3:$C$35,1.5)*0.001 -> 3.465 | E49: =SUMIFS(L$3:L$35,$B$3:$B$35,1,$C$3:$C$35,1.5)*0.001 -> 3.465 | F49: =SUMIFS(M$3:M$35,$B$3:$B$35,1,$C$3:$C$35,1.5)*0.001 -> 3.465
A50: Группа плиты | B50: 2 | C50: 6 | D50: =SUMIFS(K$3:K$35,$B$3:$B$35,2,$C$3:$C$35,6)*0.001 -> 2.475 | E50: =SUMIFS(L$3:L$35,$B$3:$B$35,2,$C$3:$C$35,6)*0.001 -> 2.475 | F50: =SUMIFS(M$3:M$35,$B$3:$B$35,2,$C$3:$C$35,6)*0.001 -> 2.475
A51: Розеточная группа комнат | B51: 3 | C51: 2.5 | D51: =SUMIFS(K$3:K$35,$B$3:$B$35,3,$C$3:$C$35,2.5)*0.001 -> 1.76 | E51: =SUMIFS(L$3:L$35,$B$3:$B$35,3,$C$3:$C$35,2.5)*0.001 -> 1.76 | F51: =SUMIFS(M$3:M$35,$B$3:$B$35,3,$C$3:$C$35,2.5)*0.001 -> 2.365
A52: Розеточная группа кухни и коридора | B52: 4 | C52: 2.5 | D52: =SUMIFS(K$3:K$35,$B$3:$B$35,4,$C$3:$C$35,2.5)*0.001 -> 25.85 | E52: =SUMIFS(L$3:L$35,$B$3:$B$35,4,$C$3:$C$35,2.5)*0.001 -> 25.85 | F52: =SUMIFS(M$3:M$35,$B$3:$B$35,4,$C$3:$C$35,2.5)*0.001 -> 26.455
A53: Электрооборудование СУ | B53: 5 | C53: 2.5 | D53: =SUMIFS(K$3:K$35,$B$3:$B$35,5,$C$3:$C$35,2.5)*0.001 -> 7.48 | E53: =SUMIFS(L$3:L$35,$B$3:$B$35,5,$C$3:$C$35,2.5)*0.001 -> 7.48 | F53: =SUMIFS(M$3:M$35,$B$3:$B$35,5,$C$3:$C$35,2.5)*0.001 -> 22.33
C54: 4 | F54: =SUMIFS(M$3:M$35,$B$3:$B$35,5,$C$3:$C$35,4)*0.001 -> 6.6
A55: Вентиляция | B55: 6 | C55: 2.5 | D55: =SUMIFS(K$3:K$35,$B$3:$B$35,6,$C$3:$C$35,2.5)*0.001 -> 0 | E55: =SUMIFS(L$3:L$35,$B$3:$B$35,6,$C$3:$C$35,2.5)*0.001 -> 0 | F55: =SUMIFS(M$3:M$35,$B$3:$B$35,6,$C$3:$C$35,2.5)*0.001 -> 0

Sheet Квартира МГН4
A1: ='Исходные данные'!A16 -> Квартира МГН4 | B1: ДАННЫЕ В ТАБЛИЦЕ НЕ МЕНЯТЬ!
A2: Наименование потребителя | B2: № группы подк | C2: Сеч. провода | D2: Кол-во уст. изд/ Длина кабеля, мм | E2: Выпуск для подкл, мм | F2: Опуск провода, верт, мм | G2: Стяжка пола, мм | H2: Подъем провода верт, мм | I2: Запас провода | J2: Подкл. к ЩК, мм | K2: Итого длина провода бел, мм | L2: Итого длина провода син, мм | M2: Итого длина провода ж/з, мм
A3: Розетки холла | B3: 4 | C3: 2.5 | D3: 2 | E3: 150 | F3: 800 | G3: 200 | H3: 800 | I3: 1.1 | J3: 1600 | K3: =(($H3+$E3+$F3+$G3)*$D3+$J3)*$I3 -> 6050 | L3: =(($H3+$E3+$F3+$G3)*$D3+$J3)*$I3 -> 6050 | M3: =(($H3+$E3+$F3+$G3)*$D3+E3+$J3)*$I3 -> 6215 | N3: учтен дополнительный выпуск на двойные розетки
A4: Розетки в шкафу СС | B4: 4 | C4: 2.5 | D4: 2 | E4: 400 | I4: 1.1 | J4: 1200 | K4: =(($H4+$E4+$F4+$G4)*$D4+$J4)*$I4 -> 2200 | L4: =(($H4+$E4+$F4+$G4)*$D4+$J4)*$I4 -> 2200 | M4: =(($H4+$E4+$F4+$G4)*$D4+$J4)*$I4 -> 2200 | N4: перемычка для розеток внутри щита 400 мм
A5: Розетки двойные на фартуке кухни | B5: 4 | C5: 2.5 | D5: 2 | E5: 400 | F5: 1050 | G5: 200 | H5: 1050 | I5: 1.1 | K5: =(($H5+$E5+$F5+$G5)*$D5+$J5)*$I5 -> 5940 | L5: =(($H5+$E5+$F5+$G5)*$D5+$J5)*$I5 -> 5940 | M5: =(($H5+$E5+$F5+$G5)*$D5+E5+$J5)*$I5 -> 6380 | N5: учтен дополнительный выпуск на двойные розетки
A6: Розетка кухни под плиту | B6: 2 | C6: 6 | D6: 1 | E6: 150 | G6: 100 | H6: 400 | I6: 1.1 | J6: 1600 | K6: =(($H6+$E6+$F6+$G6)*$D6+$J6)*$I6 -> 2475 | L6: =(($H6+$E6+$F6+$G6)*$D6+$J6)*$I6 -> 2475 | M6: =(($H6+$E6+$F6+$G6)*$D6+$J6)*$I6 -> 2475
A7: Розетка кухни под вытяжку | B7: 4 | C7: 2.5 | D7: 1 | E7: 150 | F7: 2550 | G7: 100 | H7: 2550 | I7: 1.1 | K7: =(($H7+$E7+$F7+$G7)*$D7+$J7)*$I7 -> 5885 | L7: =(($H7+$E7+$F7+$G7)*$D7+$J7)*$I7 -> 5885 | M7: =(($H7+$E7+$F7+$G7)*$D7+$J7)*$I7 -> 5885
A8: Розетка кухни под ТВ | B8: 4 | C8: 2.5 | D8: 1 | E8: 400 | G8: 100 | H8: 800 | I8: 1.1 | K8: =(($H8+$E8+$F8+$G8)*$D8+$J8)*$I8 -> 1430 | L8: =(($H8+$E8+$F8+$G8)*$D8+$J8)*$I8 -> 1430 | M8: =(($H8+$E8+$F8+$G8)*$D8+$J8)*$I8 -> 1430
A9: Розетка кухни под холодильник | B9: 4 | C9: 2.5 | D9: 1 | E9: 150 | F9: 800 | G9: 100 | H9: 800 | I9: 1.1 | K9: =(($H9+$E9+$F9+$G9)*$D9+$J9)*$I9 -> 2035 | L9: =(($H9+$E9+$F9+$G9)*$D9+$J9)*$I9 -> 2035 | M9: =(($H9+$E9+$F9+$G9)*$D9+$J9)*$I9 -> 2035
A10: Розетка кухни около стола | B10: 4 | C10: 2.5 | D10: 1 | E10: 400 | F10: 800 | G10: 100 | H10: 800 | I10: 1.1 | K10: =(($H10+$E10+$F10+$G10)*$D10+$J10)*$I10 -> 2310 | L10: =(($H10+$E10+$F10+$G10)*$D10+$J10)*$I10 -> 2310 | M10: =(($H10+$E10+$F10+$G10)*$D10+$J10)*$I10 -> 2310
A11: Розетки в комнатах одинарные | B11: 3 | C11: 2.5 | D11: ='Исходные данные'!B17 -> 0 | E11: 150 | F11: 800 | G11: 200 | H11: 800 | I11: 1.1 | J11: 1600 | K11: =(($H11+$E11+$F11+$G11)*$D11+$J11)*$I11 -> 1760 | L11: =(($H11+$E11+$F11+$G11)*$D11+$J11)*$I11 -> 1760 | M11: =(($H11+$E11+$F11+$G11)*$D11+E11+$J11)*$I11 -> 1925 | N11: учтен дополнительный выпуск на двойные розетки
A12: Розетки в комнатах двойные | B12: 3 | C12: 2.5 | D12: ='Исходные данные'!C17 -> 0 | E12: 400 | F12: 800 | G12: 200 | H12: 800 | I12: 1.1 | K12: =(($H12+$E12+$F12+$G12)*$D12+$J12)*$I12 -> 0 | L12: =(($H12+$E12+$F12+$G12)*$D12+$J12)*$I12 -> 0 | M12: =(($H12+$E12+$F12+$G12)*$D12+E12+$J12)*$I12 -> 440 | N12: учтен дополнительный выпуск на двойные розетки
A13: Розетка с/у под стир. машину | B13: 5 | C13: 2.5 | D13: 1 | E13: 150 | F13: 1900 | G13: 100 | H13: 1900 | I13: 1.1 | J13: 1900 | K13: =(($H13+$E13+$F13+$G13)*$D13+$J13)*$I13 -> 6545 | L13: =(($H13+$E13+$F13+$G13)*$D13+$J13)*$I13 -> 6545 | M13: =(($H13+$E13+$F13+$G13)*$D13+$J13)*$I13 -> 6545
A14: Розетка с/у бытовая | B14: 5 | C14: 2.5 | D14: ='Исходные данные'!D17 -> 0 | E14: 150 | G14: 100 | H14: 1900 | I14: 1.1 | K14: =(($H14+$E14+$F14+$G14)*$D14+$J14)*$I14 -> 0 | L14: =(($H14+$E14+$F14+$G14)*$D14+$J14)*$I14 -> 0 | M14: =(($H14+$E14+$F14+$G14)*$D14+$J14)*$I14 -> 0
A15: Розетка с/у под эл.полотенцесуш. | B15: 5 | C15: 2.5 | D15: ='Исходные данные'!E17 -> 0 | E15: 150 | F15: 1900 | G15: 100 | H15: 1900 | I15: 1.1 | K15: =(($H15+$E15+$F15+$G15)*$D15+$J15)*$I15 -> 0 | L15: =(($H15+$E15+$F15+$G15)*$D15+$J15)*$I15 -> 0 | M15: =(($H15+$E15+$F15+$G15)*$D15+$J15)*$I15 -> 0
A16: Выключатель одноклавишный | B16: 1 | C16: 1.5 | D16: ='Исходные данные'!F17 -> 0 | E16: 150 | H16: 1900 | I16: 1.1 | J16: 1900 | K16: =IF(D16=0,0,IF(D16>0,((H16+E16+F16)*D16)*2)+J16)*I16 -> 0
A17: Выключатель двуклавишный | B17: 1 | C17: 1.5 | D17: ='Исходные данные'!G17 -> 0 | E17: 150 | H17: 1900 | I17: 1.1 | K17: =((((H17+E17+F17)*D17)*3)+J17)*I17 -> 0
A18: Переключатель проходной | B18: 1 | C18: 1.5 | D18: ='Исходные данные'!H17 -> 0 | E18: 150 | H18: 1900 | I18: 1.1 | K18: =((((H18+E18+F18)*D18)*3)+J18)*I18 -> 0 | N18: добавлены проходные переключатели
A19: Кол-во светильников в холле | B19: 1 | C19: 1.5 | D19: ='Исходные данные'!I17 -> 0 | E19: 350 | I19: 1.1 | K19: =((H19+E19+F19)*D19+J19)*I19 -> 0 | L19: =(($H19+$E19+$F19)*$D19+$J19)*$I19 -> 0 | M19: =(($H19+$E19+$F19)*$D19+$J19)*$I19 -> 0 | N19: выпуск к светильнику 200 мм + выпуск на распаечную коробку 150 мм
A20: Кол-во люстр трехрожковых | B20: 1 | C20: 1.5 | D20: 1 | E20: 350 | I20: 1.1 | K20: =((H20+E20+F20)*D20+J20)*I20 -> 385 | L20: =(($H20+$E20+$F20)*$D20+$J20)*$I20 -> 385 | M20: =(($H20+$E20+$F20)*$D20+$J20)*$I20 -> 385 | N20: выпуск к светильнику 200 мм + выпуск на распаечную коробку 150 мм
A21: Кол-во люстр пятирожковых | B21: 1 | C21: 1.5 | D21: ='Исходные данные'!J17 -> 0 | E21: 350 | I21: 1.1 | K21: =((H21+E21+F21)*D21+J21)*I21 -> 0 | L21: =(($H21+$E21+$F21)*$D21+$J21)*$I21 -> 0 | M21: =(($H21+$E21+$F21)*$D21+$J21)*$I21 -> 0 | N21: выпуск к светильнику 200 мм + выпуск на распаечную коробку 150 мм
A22: Кол-во светильников в с/у | B22: 5 | C22: 2.5 | D22: ='Исходные данные'!K17 -> 0 | E22: 350 | I22: 1.1 | K22: =((H22+E22+F22)*D22+J22)*I22 -> 0 | L22: =(($H22+$E22+$F22)*$D22+$J22)*$I22 -> 0 | M22: =(($H22+$E22+$F22)*$D22+$J22)*$I22 -> 0 | N22: выпуск к светильнику 200 мм + выпуск на распаечную коробку 150 мм
A23: Кол-во бра в с/у | B23: 5 | C23: 2.5 | D23: 1 | E23: 350 | H23: 500 | I23: 1.1 | K23: =((H23+E23+F23)*D23+J23)*I23 -> 935 | L23: =(($H23+$E23+$F23)*$D23+$J23)*$I23 -> 935 | M23: =(($H23+$E23+$F23)*$D23+$J23)*$I23 -> 935 | N23: выпуск к светильнику 200 мм + выпуск на распаечную коробку 150 мм
A24: Длина провода в перекрытии гр.1 | B24: 1 | C24: 1.5 | D24: ='Исходные данные'!L17 -> 0 | I24: 1.1 | K24: =$D24*$I24 -> 0 | L24: =$D24*$I24 -> 0 | M24: =$D24*$I24 -> 0
A25: Длина провода в стяжке пола гр.2 | B25: 2 | C25: 6 | D25: ='Исходные данные'!M17 -> 0 | I25: 1.1 | K25: =$D25*$I25 -> 0 | L25: =$D25*$I25 -> 0 | M25: =$D25*$I25 -> 0
A26: Длина провода в стяжке пола гр.3 | B26: 3 | C26: 2.5 | D26: ='Исходные данные'!N17 -> 0 | I26: 1.1 | K26: =$D26*$I26 -> 0 | L26: =$D26*$I26 -> 0 | M26: =$D26*$I26 -> 0
A27: Длина провода в стяжке пола гр.4 | B27: 4 | C27: 2.5 | D27: ='Исходные данные'!O17 -> 0 | I27: 1.1 | K27: =$D27*$I27 -> 0 | L27: =$D27*$I27 -> 0 | M27: =$D27*$I27 -> 0
A28: Длина провода в перекрытии гр.5 | B28: 5 | C28: 2.5 | D28: ='Исходные данные'!P17 -> 0 | I28: 1.1 | K28: =$D28*$I28 -> 0 | L28: =$D28*$I28 -> 0 | M28: =$D28*$I28 -> 0
A29: Длина провода в перекрытии гр.6 | B29: 6 | C29: 2.5 | D29: ='Исходные данные'!Q17 -> 0 | I29: 1.1 | K29: =$D29*$I29 -> 0 | L29: =$D29*$I29 -> 0 | M29: =$D29*$I29 -> 0
A30: Провод на звонок | B30: 1 | C30: 1.5 | D30: 1 | E30: 100 | H30: 1300 | I30: 1.1 | K30: =((H30+E30+F30)*D30+J30)*I30 -> 1540 | L30: =(($H30+$E30+$F30)*$D30+$J30)*$I30 -> 1540 | M30: =(($H30+$E30+$F30)*$D30+$J30)*$I30 -> 1540
A31: Кнопка звонка | B31: 1 | C31: 1.5 | D31: 1 | E31: 100 | H31: 1300 | I31: 1.1 | K31: =((H31+E31+F31)*D31+J31)*I31 -> 1540 | L31: =(($H31+$E31+$F31)*$D31+$J31)*$I31 -> 1540 | M31: =(($H31+$E31+$F31)*$D31+$J31)*$I31 -> 1540
A32: Кол-во вентиляторов ОВ | B32: 6 | C32: 2.5 | D32: ='Исходные данные'!R17 -> 0 | E32: 150 | H32: 600 | I32: 1.1 | J32: 1900 | K32: =IF($D32=0,0,IF($D32>0,(($H32+$E32+$F32)*$D32+$J32)*$I32)) -> 0 | L32: =IF($D32=0,0,IF($D32>0,(($H32+$E32+$F32)*$D32+$J32)*$I32)) -> 0 | M32: =IF($D32=0,0,IF($D32>0,(($H32+$E32+$F32)*$D32+$J32)*$I32)) -> 0
A33: Выключатель для вытяжки | B33: 6 | C33: 2.5 | D33: =D32 -> 0 | E33: 150 | H33: 1800 | I33: 1.1 | K33: =((((H33+E33+F33)*D33)*3)+J33)*I33 -> 0
A34: Провод от КУП до ванны и труб | B34: 5 | C34: 4 | D34: 6000 | I34: 1.1 | M34: =D34*I34 -> 6600
A35: Провод к КУП и от КУП до розетки | B35: 5 | C35: 2.5 | D35: ='Исходные данные'!S17 -> 0 | E35: 100 | F35: 10000 | H35: 1500 | I35: 1.1 | J35: 1900 | M35: =(D35+E35+H35+J35+F35)*I35 -> 14850
A38: Квартира 1. Без принудительной вентиляцией. Суммарное значение провода
A39: Наименование группы | B39: № группы подк | C39: Сеч. провода | D39: Провод белый, м | E39: Провод синий, м | F39: Провод ж/з, м
A40: Группа освещения | B40: 1 | C40: 1.5 | D40: =SUMIFS(K$3:K$35,$B$3:$B$35,1,$C$3:$C$35,1.5)*0.001 -> 3.465 | E40: =SUMIFS(L$3:L$35,$B$3:$B$35,1,$C$3:$C$35,1.5)*0.001 -> 3.465 | F40: =SUMIFS(M$3:M$35,$B$3:$B$35,1,$C$3:$C$35,1.5)*0.001 -> 3.465
A41: Группа плиты | B41: 2 | C41: 6 | D41: =SUMIFS(K$3:K$35,$B$3:$B$35,2,$C$3:$C$35,6)*0.001 -> 2.475 | E41: =SUMIFS(L$3:L$35,$B$3:$B$35,2,$C$3:$C$35,6)*0.001 -> 2.475 | F41: =SUMIFS(M$3:M$35,$B$3:$B$35,2,$C$3:$C$35,6)*0.001 -> 2.475
A42: Розеточная группа комнат | B42: 3 | C42: 2.5 | D42: =SUMIFS(K$3:K$35,$B$3:$B$35,3,$C$3:$C$35,2.5)*0.001 -> 1.76 | E42: =SUMIFS(L$3:L$35,$B$3:$B$35,3,$C$3:$C$35,2.5)*0.001 -> 1.76 | F42: =SUMIFS(M$3:M$35,$B$3:$B$35,3,$C$3:$C$35,2.5)*0.001 -> 2.365
A43: Розеточная группа кухни и коридора | B43: 4 | C43: 2.5 | D43: =SUMIFS(K$3:K$35,$B$3:$B$35,4,$C$3:$C$35,2.5)*0.001 -> 25.85 | E43: =SUMIFS(L$3:L$35,$B$3:$B$35,4,$C$3:$C$35,2.5)*0.001 -> 25.85 | F43: =SUMIFS(M$3:M$35,$B$3:$B$35,4,$C$3:$C$35,2.5)*0.001 -> 26.455
A44: Электрооборудование СУ | B44: 5 | C44: 2.5 | D44: =SUMIFS(K$3:K$35,$B$3:$B$35,5,$C$3:$C$35,2.5)*0.001 -> 7.48 | E44: =SUMIFS(L$3:L$35,$B$3:$B$35,5,$C$3:$C$35,2.5)*0.001 -> 7.48 | F44: =SUMIFS(M$3:M$35,$B$3:$B$35,5,$C$3:$C$35,2.5)*0.001 -> 22.33
C45: 4 | F45: =SUMIFS(M$3:M$35,$B$3:$B$35,5,$C$3:$C$35,4)*0.001 -> 6.6
A47: Квартира 1. С принудительной вентиляцией. Суммарное значение провода
A48: Наименование группы | B48: № группы подк | C48: Сеч. провода | D48: Провод белый, м | E48: Провод синий, м | F48: Провод ж/з, м
A49: Группа освещения | B49: 1 | C49: 1.5 | D49: =SUMIFS(K$3:K$35,$B$3:$B$35,1,$C$3:$C$35,1.5)*0.001 -> 3.465 | E49: =SUMIFS(L$3:L$35,$B$3:$B$35,1,$C$3:$C$35,1.5)*0.001 -> 3.465 | F49: =SUMIFS(M$3:M$35,$B$3:$B$35,1,$C$3:$C$35,1.5)*0.001 -> 3.465
A50: Группа плиты | B50: 2 | C50: 6 | D50: =SUMIFS(K$3:K$35,$B$3:$B$35,2,$C$3:$C$35,6)*0.001 -> 2.475 | E50: =SUMIFS(L$3:L$35,$B$3:$B$35,2,$C$3:$C$35,6)*0.001 -> 2.475 | F50: =SUMIFS(M$3:M$35,$B$3:$B$35,2,$C$3:$C$35,6)*0.001 -> 2.475
A51: Розеточная группа комнат | B51: 3 | C51: 2.5 | D51: =SUMIFS(K$3:K$35,$B$3:$B$35,3,$C$3:$C$35,2.5)*0.001 -> 1.76 | E51: =SUMIFS(L$3:L$35,$B$3:$B$35,3,$C$3:$C$35,2.5)*0.001 -> 1.76 | F51: =SUMIFS(M$3:M$35,$B$3:$B$35,3,$C$3:$C$35,2.5)*0.001 -> 2.365
A52: Розеточная группа кухни и коридора | B52: 4 | C52: 2.5 | D52: =SUMIFS(K$3:K$35,$B$3:$B$35,4,$C$3:$C$35,2.5)*0.001 -> 25.85 | E52: =SUMIFS(L$3:L$35,$B$3:$B$35,4,$C$3:$C$35,2.5)*0.001 -> 25.85 | F52: =SUMIFS(M$3:M$35,$B$3:$B$35,4,$C$3:$C$35,2.5)*0.001 -> 26.455
A53: Электрооборудование СУ | B53: 5 | C53: 2.5 | D53: =SUMIFS(K$3:K$35,$B$3:$B$35,5,$C$3:$C$35,2.5)*0.001 -> 7.48 | E53: =SUMIFS(L$3:L$35,$B$3:$B$35,5,$C$3:$C$35,2.5)*0.001 -> 7.48 | F53: =SUMIFS(M$3:M$35,$B$3:$B$35,5,$C$3:$C$35,2.5)*0.001 -> 22.33
C54: 4 | F54: =SUMIFS(M$3:M$35,$B$3:$B$35,5,$C$3:$C$35,4)*0.001 -> 6.6
A55: Вентиляция | B55: 6 | C55: 2.5 | D55: =SUMIFS(K$3:K$35,$B$3:$B$35,6,$C$3:$C$35,2.5)*0.001 -> 0 | E55: =SUMIFS(L$3:L$35,$B$3:$B$35,6,$C$3:$C$35,2.5)*0.001 -> 0 | F55: =SUMIFS(M$3:M$35,$B$3:$B$35,6,$C$3:$C$35,2.5)*0.001 -> 0

Sheet Квартира 1
A1: ='Исходные данные'!A19 -> Квартира 1 | B1: ДАННЫЕ В ТАБЛИЦЕ НЕ МЕНЯТЬ!
A2: Наименование потребителя | B2: № группы подк | C2: Сеч. провода | D2: Кол-во уст. изд/ Длина кабеля, мм | E2: Выпуск для подкл, мм | F2: Опуск провода, верт, мм | G2: Стяжка пола, мм | H2: Подъем провода верт, мм | I2: Запас провода | J2: Подкл. к ЩК, мм | K2: Итого длина провода бел, мм | L2: Итого длина провода син, мм | M2: Итого длина провода ж/з, мм
A3: Розетки холла | B3: 4 | C3: 2.5 | D3: 2 | E3: 150 | F3: 300 | G3: 200 | H3: 300 | I3: 1.1 | J3: 2300 | K3: =(($H3+$E3+$F3+$G3)*$D3+$J3)*$I3 -> 4620 | L3: =(($H3+$E3+$F3+$G3)*$D3+$J3)*$I3 -> 4620 | M3: =(($H3+$E3+$F3+$G3)*$D3+E3+$J3)*$I3 -> 4785 | N3: учтен дополнительный выпуск на двойные розетки
A4: Розетки в шкафу СС | B4: 4 | C4: 2.5 | D4: 2 | E4: 400 | I4: 1.1 | J4: 1200 | K4: =(($H4+$E4+$F4+$G4)*$D4+$J4)*$I4 -> 2200 | L4: =(($H4+$E4+$F4+$G4)*$D4+$J4)*$I4 -> 2200 | M4: =(($H4+$E4+$F4+$G4)*$D4+$J4)*$I4 -> 2200 | N4: перемычка для розеток внутри щита 400 мм
A5: Розетки двойные на фартуке кухни | B5: 4 | C5: 2.5 | D5: 2 | E5: 400 | F5: 1050 | G5: 200 | H5: 1050 | I5: 1.1 | K5: =(($H5+$E5+$F5+$G5)*$D5+$J5)*$I5 -> 5940 | L5: =(($H5+$E5+$F5+$G5)*$D5+$J5)*$I5 -> 5940 | M5: =(($H5+$E5+$F5+$G5)*$D5+E5+$J5)*$I5 -> 6380 | N5: учтен дополнительный выпуск на двойные розетки
A6: Розетка кухни под плиту | B6: 2 | C6: 6 | D6: 1 | E6: 150 | G6: 100 | H6: 300 | I6: 1.1 | J6: 2300 | K6: =(($H6+$E6+$F6+$G6)*$D6+$J6)*$I6 -> 3135 | L6: =(($H6+$E6+$F6+$G6)*$D6+$J6)*$I6 -> 3135 | M6: =(($H6+$E6+$F6+$G6)*$D6+$J6)*$I6 -> 3135
A7: Розетка кухни под вытяжку | B7: 4 | C7: 2.5 | D7: 1 | E7: 150 | F7: 2550 | G7: 100 | H7: 2550 | I7: 1.1 | K7: =(($H7+$E7+$F7+$G7)*$D7+$J7)*$I7 -> 5885 | L7: =(($H7+$E7+$F7+$G7)*$D7+$J7)*$I7 -> 5885 | M7: =(($H7+$E7+$F7+$G7)*$D7+$J7)*$I7 -> 5885
A8: Розетка кухни под ТВ | B8: 4 | C8: 2.5 | D8: 1 | E8: 400 | G8: 100 | H8: 1500 | I8: 1.1 | K8: =(($H8+$E8+$F8+$G8)*$D8+$J8)*$I8 -> 2200 | L8: =(($H8+$E8+$F8+$G8)*$D8+$J8)*$I8 -> 2200 | M8: =(($H8+$E8+$F8+$G8)*$D8+$J8)*$I8 -> 2200
A9: Розетка кухни под холодильник | B9: 4 | C9: 2.5 | D9: 1 | E9: 150 | F9: 300 | G9: 100 | H9: 300 | I9: 1.1 | K9: =(($H9+$E9+$F9+$G9)*$D9+$J9)*$I9 -> 935 | L9: =(($H9+$E9+$F9+$G9)*$D9+$J9)*$I9 -> 935 | M9: =(($H9+$E9+$F9+$G9)*$D9+$J9)*$I9 -> 935
A10: Розетка кухни около стола | B10: 4 | C10: 2.5 | D10: 1 | E10: 400 | F10: 300 | G10: 100 | H10: 300 | I10: 1.1 | K10: =(($H10+$E10+$F10+$G10)*$D10+$J10)*$I10 -> 1210 | L10: =(($H10+$E10+$F10+$G10)*$D10+$J10)*$I10 -> 1210 | M10: =(($H10+$E10+$F10+$G10)*$D10+$J10)*$I10 -> 1210
A11: Розетки в комнатах одинарные | B11: 3 | C11: 2.5 | D11: ='Исходные данные'!B20 -> 0 | E11: 150 | F11: 300 | G11: 200 | H11: 300 | I11: 1.1 | J11: 2300 | K11: =(($H11+$E11+$F11+$G11)*$D11+$J11)*$I11 -> 2530 | L11: =(($H11+$E11+$F11+$G11)*$D11+$J11)*$I11 -> 2530 | M11: =(($H11+$E11+$F11+$G11)*$D11+E11+$J11)*$I11 -> 2695 | N11: учтен дополнительный выпуск на двойные розетки
A12: Розетки в комнатах двойные | B12: 3 | C12: 2.5 | D12: ='Исходные данные'!C20 -> 0 | E12: 400 | F12: 300 | G12: 200 | H12: 300 | I12: 1.1 | K12: =(($H12+$E12+$F12+$G12)*$D12+$J12)*$I12 -> 0 | L12: =(($H12+$E12+$F12+$G12)*$D12+$J12)*$I12 -> 0 | M12: =(($H12+$E12+$F12+$G12)*$D12+E12+$J12)*$I12 -> 440 | N12: учтен дополнительный выпуск на двойные розетки
A13: Розетка с/у под стир. машину | B13: 5 | C13: 2.5 | D13: 1 | E13: 150 | F13: 1600 | G13: 100 | H13: 1600 | I13: 1.1 | J13: 1300 | K13: =(($H13+$E13+$F13+$G13)*$D13+$J13)*$I13 -> 5225 | L13: =(($H13+$E13+$F13+$G13)*$D13+$J13)*$I13 -> 5225 | M13: =(($H13+$E13+$F13+$G13)*$D13+$J13)*$I13 -> 5225
A14: Розетка с/у бытовая | B14: 5 | C14: 2.5 | D14: ='Исходные данные'!D20 -> 0 | E14: 150 | F14: 1600 | G14: 100 | H14: 1600 | I14: 1.1 | K14: =(($H14+$E14+$F14+$G14)*$D14+$J14)*$I14 -> 0 | L14: =(($H14+$E14+$F14+$G14)*$D14+$J14)*$I14 -> 0 | M14: =(($H14+$E14+$F14+$G14)*$D14+$J14)*$I14 -> 0
A15: Розетка с/у под эл.полотенцесуш. | B15: 5 | C15: 2.5 | D15: ='Исходные данные'!E20 -> 0 | E15: 150 | F15: 1600 | G15: 100 | H15: 1600 | I15: 1.1 | K15: =(($H15+$E15+$F15+$G15)*$D15+$J15)*$I15 -> 0 | L15: =(($H15+$E15+$F15+$G15)*$D15+$J15)*$I15 -> 0 | M15: =(($H15+$E15+$F15+$G15)*$D15+$J15)*$I15 -> 0
A16: Выключатель одноклавишный | B16: 1 | C16: 1.5 | D16: ='Исходные данные'!F20 -> 0 | E16: 150 | H16: 1800 | I16: 1.1 | J16: 1300 | K16: =IF(D16=0,0,IF(D16>0,((H16+E16+F16)*D16)*2)+J16)*I16 -> 0
A17: Выключатель двуклавишный | B17: 1 | C17: 1.5 | D17: ='Исходные данные'!G20 -> 0 | E17: 150 | H17: 1800 | I17: 1.1 | K17: =((((H17+E17+F17)*D17)*3)+J17)*I17 -> 0
A18: Переключатель проходной | B18: 1 | C18: 1.5 | D18: ='Исходные данные'!H20 -> 0 | E18: 150 | H18: 1800 | I18: 1.1 | K18: =((((H18+E18+F18)*D18)*3)+J18)*I18 -> 0 | N18: добавлены проходные переключатели
A19: Кол-во светильников в холле | B19: 1 | C19: 1.5 | D19: ='Исходные данные'!I20 -> 0 | E19: 350 | I19: 1.1 | K19: =((H19+E19+F19)*D19+J19)*I19 -> 0 | L19: =(($H19+$E19+$F19)*$D19+$J19)*$I19 -> 0 | M19: =(($H19+$E19+$F19)*$D19+$J19)*$I19 -> 0 | N19: выпуск к светильнику 200 мм + выпуск на распаечную коробку 150 мм
A20: Кол-во люстр трехрожковых | B20: 1 | C20: 1.5 | D20: 1 | E20: 350 | I20: 1.1 | K20: =((H20+E20+F20)*D20+J20)*I20 -> 385 | L20: =(($H20+$E20+$F20)*$D20+$J20)*$I20 -> 385 | M20: =(($H20+$E20+$F20)*$D20+$J20)*$I20 -> 385 | N20: выпуск к светильнику 200 мм + выпуск на распаечную коробку 150 мм
A21: Кол-во люстр пятирожковых | B21: 1 | C21: 1.5 | D21: ='Исходные данные'!J20 -> 0 | E21: 350 | I21: 1.1 | K21: =((H21+E21+F21)*D21+J21)*I21 -> 0 | L21: =(($H21+$E21+$F21)*$D21+$J21)*$I21 -> 0 | M21: =(($H21+$E21+$F21)*$D21+$J21)*$I21 -> 0 | N21: выпуск к светильнику 200 мм + выпуск на распаечную коробку 150 мм
A22: Кол-во светильников в с/у | B22: 5 | C22: 2.5 | D22: ='Исходные данные'!K20 -> 0 | E22: 350 | I22: 1.1 | K22: =((H22+E22+F22)*D22+J22)*I22 -> 0 | L22: =(($H22+$E22+$F22)*$D22+$J22)*$I22 -> 0 | M22: =(($H22+$E22+$F22)*$D22+$J22)*$I22 -> 0 | N22: выпуск к светильнику 200 мм + выпуск на распаечную коробку 150 мм
A23: Кол-во бра в с/у | B23: 5 | C23: 2.5 | D23: 1 | E23: 350 | H23: 500 | I23: 1.1 | K23: =((H23+E23+F23)*D23+J23)*I23 -> 935 | L23: =(($H23+$E23+$F23)*$D23+$J23)*$I23 -> 935 | M23: =(($H23+$E23+$F23)*$D23+$J23)*$I23 -> 935 | N23: выпуск к светильнику 200 мм + выпуск на распаечную коробку 150 мм
A24: Длина провода в перекрытии гр.1 | B24: 1 | C24: 1.5 | D24: ='Исходные данные'!L20 -> 0 | I24: 1.1 | K24: =$D24*$I24 -> 0 | L24: =$D24*$I24 -> 0 | M24: =$D24*$I24 -> 0
A25: Длина провода в стяжке пола гр.2 | B25: 2 | C25: 6 | D25: ='Исходные данные'!M20 -> 0 | I25: 1.1 | K25: =$D25*$I25 -> 0 | L25: =$D25*$I25 -> 0 | M25: =$D25*$I25 -> 0
A26: Длина провода в стяжке пола гр.3 | B26: 3 | C26: 2.5 | D26: ='Исходные данные'!N20 -> 0 | I26: 1.1 | K26: =$D26*$I26 -> 0 | L26: =$D26*$I26 -> 0 | M26: =$D26*$I26 -> 0
A27: Длина провода в стяжке пола гр.4 | B27: 4 | C27: 2.5 | D27: ='Исходные данные'!O20 -> 0 | I27: 1.1 | K27: =$D27*$I27 -> 0 | L27: =$D27*$I27 -> 0 | M27: =$D27*$I27 -> 0
A28: Длина провода в перекрытии гр.5 | B28: 5 | C28: 2.5 | D28: ='Исходные данные'!P20 -> 0 | I28: 1.1 | K28: =$D28*$I28 -> 0 | L28: =$D28*$I28 -> 0 | M28: =$D28*$I28 -> 0
A29: Длина провода в перекрытии гр.6 | B29: 6 | C29: 2.5 | D29: ='Исходные данные'!Q20 -> 0 | I29: 1.1 | K29: =$D29*$I29 -> 0 | L29: =$D29*$I29 -> 0 | M29: =$D29*$I29 -> 0
A30: Провод на звонок | B30: 1 | C30: 1.5 | D30: 1 | E30: 100 | H30: 1300 | I30: 1.1 | K30: =((H30+E30+F30)*D30+J30)*I30 -> 1540 | L30: =(($H30+$E30+$F30)*$D30+$J30)*$I30 -> 1540 | M30: =(($H30+$E30+$F30)*$D30+$J30)*$I30 -> 1540
A31: Кнопка звонка | B31: 1 | C31: 1.5 | D31: 1 | E31: 100 | H31: 1300 | I31: 1.1 | K31: =((H31+E31+F31)*D31+J31)*I31 -> 1540 | L31: =(($H31+$E31+$F31)*$D31+$J31)*$I31 -> 1540 | M31: =(($H31+$E31+$F31)*$D31+$J31)*$I31 -> 1540
A32: Кол-во вентиляторов ОВ | B32: 6 | C32: 2.5 | D32: ='Исходные данные'!R20 -> 0 | E32: 150 | H32: 600 | I32: 1.1 | J32: 1300 | K32: =IF($D32=0,0,IF($D32>0,(($H32+$E32+$F32)*$D32+$J32)*$I32)) -> 0 | L32: =IF($D32=0,0,IF($D32>0,(($H32+$E32+$F32)*$D32+$J32)*$I32)) -> 0 | M32: =IF($D32=0,0,IF($D32>0,(($H32+$E32+$F32)*$D32+$J32)*$I32)) -> 0
A33: Выключатель для вытяжки | B33: 6 | C33: 2.5 | D33: =D32 -> 0 | E33: 150 | H33: 1800 | I33: 1.1 | K33: =((((H33+E33+F33)*D33)*3)+J33)*I33 -> 0
A34: Провод от КУП до ванны и труб | B34: 5 | C34: 4 | D34: 6000 | I34: 1.1 | M34: =D34 -> 6000
A35: Провод к КУП и от КУП до розетки | B35: 5 | C35: 2.5 | D35: ='Исходные данные'!S20 -> 0 | E35: 100 | F35: 10000 | H35: 1500 | I35: 1.1 | J35: 1300 | M35: =(D35+E35+H35+J35+F35)*I35 -> 14190
A38: Квартира 1. Без принудительной вентиляцией. Суммарное значение провода
A39: Наименование группы | B39: № группы подк | C39: Сеч. провода | D39: Провод белый, м | E39: Провод голубой, м | F39: Провод ж/з, м
A40: Группа освещения | B40: 1 | C40: 1.5 | D40: =SUMIFS(K$3:K$35,$B$3:$B$35,1,$C$3:$C$35,1.5)*0.001 -> 3.465 | E40: =SUMIFS(L$3:L$35,$B$3:$B$35,1,$C$3:$C$35,1.5)*0.001 -> 3.465 | F40: =SUMIFS(M$3:M$35,$B$3:$B$35,1,$C$3:$C$35,1.5)*0.001 -> 3.465
A41: Группа плиты | B41: 2 | C41: 6 | D41: =SUMIFS(K$3:K$35,$B$3:$B$35,2,$C$3:$C$35,6)*0.001 -> 3.135 | E41: =SUMIFS(L$3:L$35,$B$3:$B$35,2,$C$3:$C$35,6)*0.001 -> 3.135 | F41: =SUMIFS(M$3:M$35,$B$3:$B$35,2,$C$3:$C$35,6)*0.001 -> 3.135
A42: Розеточная группа комнат | B42: 3 | C42: 2.5 | D42: =SUMIFS(K$3:K$35,$B$3:$B$35,3,$C$3:$C$35,2.5)*0.001 -> 2.53 | E42: =SUMIFS(L$3:L$35,$B$3:$B$35,3,$C$3:$C$35,2.5)*0.001 -> 2.53 | F42: =SUMIFS(M$3:M$35,$B$3:$B$35,3,$C$3:$C$35,2.5)*0.001 -> 3.135
A43: Розеточная группа кухни и коридора | B43: 4 | C43: 2.5 | D43: =SUMIFS(K$3:K$35,$B$3:$B$35,4,$C$3:$C$35,2.5)*0.001 -> 22.99 | E43: =SUMIFS(L$3:L$35,$B$3:$B$35,4,$C$3:$C$35,2.5)*0.001 -> 22.99 | F43: =SUMIFS(M$3:M$35,$B$3:$B$35,4,$C$3:$C$35,2.5)*0.001 -> 23.595
A44: Электрооборудование СУ | B44: 5 | C44: 2.5 | D44: =SUMIFS(K$3:K$35,$B$3:$B$35,5,$C$3:$C$35,2.5)*0.001 -> 6.16 | E44: =SUMIFS(L$3:L$35,$B$3:$B$35,5,$C$3:$C$35,2.5)*0.001 -> 6.16 | F44: =SUMIFS(M$3:M$35,$B$3:$B$35,5,$C$3:$C$35,2.5)*0.001 -> 20.35
C45: 4 | F45: =SUMIFS(M$3:M$35,$B$3:$B$35,5,$C$3:$C$35,4)*0.001 -> 6
A47: Квартира 1. С принудительной вентиляцией. Суммарное значение провода
A48: Наименование группы | B48: № группы подк | C48: Сеч. провода | D48: Провод белый, м | E48: Провод голубой, м | F48: Провод ж/з, м
A49: Группа освещения | B49: 1 | C49: 1.5 | D49: =SUMIFS(K$3:K$35,$B$3:$B$35,1,$C$3:$C$35,1.5)*0.001 -> 3.465 | E49: =SUMIFS(L$3:L$35,$B$3:$B$35,1,$C$3:$C$35,1.5)*0.001 -> 3.465 | F49: =SUMIFS(M$3:M$35,$B$3:$B$35,1,$C$3:$C$35,1.5)*0.001 -> 3.465
A50: Группа плиты | B50: 2 | C50: 6 | D50: =SUMIFS(K$3:K$35,$B$3:$B$35,2,$C$3:$C$35,6)*0.001 -> 3.135 | E50: =SUMIFS(L$3:L$35,$B$3:$B$35,2,$C$3:$C$35,6)*0.001 -> 3.135 | F50: =SUMIFS(M$3:M$35,$B$3:$B$35,2,$C$3:$C$35,6)*0.001 -> 3.135
A51: Розеточная группа комнат | B51: 3 | C51: 2.5 | D51: =SUMIFS(K$3:K$35,$B$3:$B$35,3,$C$3:$C$35,2.5)*0.001 -> 2.53 | E51: =SUMIFS(L$3:L$35,$B$3:$B$35,3,$C$3:$C$35,2.5)*0.001 -> 2.53 | F51: =SUMIFS(M$3:M$35,$B$3:$B$35,3,$C$3:$C$35,2.5)*0.001 -> 3.135
A52: Розеточная группа кухни и коридора | B52: 4 | C52: 2.5 | D52: =SUMIFS(K$3:K$35,$B$3:$B$35,4,$C$3:$C$35,2.5)*0.001 -> 22.99 | E52: =SUMIFS(L$3:L$35,$B$3:$B$35,4,$C$3:$C$35,2.5)*0.001 -> 22.99 | F52: =SUMIFS(M$3:M$35,$B$3:$B$35,4,$C$3:$C$35,2.5)*0.001 -> 23.595
A53: Электрооборудование СУ | B53: 5 | C53: 2.5 | D53: =SUMIFS(K$3:K$35,$B$3:$B$35,5,$C$3:$C$35,2.5)*0.001 -> 6.16 | E53: =SUMIFS(L$3:L$35,$B$3:$B$35,5,$C$3:$C$35,2.5)*0.001 -> 6.16 | F53: =SUMIFS(M$3:M$35,$B$3:$B$35,5,$C$3:$C$35,2.5)*0.001 -> 20.35
C54: 4 | F54: =SUMIFS(M$3:M$35,$B$3:$B$35,5,$C$3:$C$35,4)*0.001 -> 6
A55: Вентиляция | B55: 6 | C55: 2.5 | D55: =SUMIFS(K$3:K$35,$B$3:$B$35,6,$C$3:$C$35,2.5)*0.001 -> 0 | E55: =SUMIFS(L$3:L$35,$B$3:$B$35,6,$C$3:$C$35,2.5)*0.001 -> 0 | F55: =SUMIFS(M$3:M$35,$B$3:$B$35,6,$C$3:$C$35,2.5)*0.001 -> 0

Sheet Квартира 2
A1: ='Исходные данные'!A22 -> Квартира 2 | B1: ДАННЫЕ В ТАБЛИЦЕ НЕ МЕНЯТЬ!
A2: Наименование потребителя | B2: № группы подк | C2: Сеч. провода | D2: Кол-во уст. изд/ Длина кабеля, мм | E2: Выпуск для подкл, мм | F2: Опуск провода, верт, мм | G2: Стяжка пола, мм | H2: Подъем провода верт, мм | I2: Запас провода | J2: Подкл. к ЩК, мм | K2: Итого длина провода бел, мм | L2: Итого длина провода син, мм | M2: Итого длина провода ж/з, мм
A3: Розетки холла | B3: 4 | C3: 2.5 | D3: 2 | E3: 150 | F3: 300 | G3: 200 | H3: 300 | I3: 1.1 | J3: 2300 | K3: =(($H3+$E3+$F3+$G3)*$D3+$J3)*$I3 -> 4620 | L3: =(($H3+$E3+$F3+$G3)*$D3+$J3)*$I3 -> 4620 | M3: =(($H3+$E3+$F3+$G3)*$D3+E3+$J3)*$I3 -> 4785 | N3: учтен дополнительный выпуск на двойные розетки
A4: Розетки в шкафу СС | B4: 4 | C4: 2.5 | D4: 2 | E4: 400 | I4: 1.1 | J4: 1200 | K4: =(($H4+$E4+$F4+$G4)*$D4+$J4)*$I4 -> 2200 | L4: =(($H4+$E4+$F4+$G4)*$D4+$J4)*$I4 -> 2200 | M4: =(($H4+$E4+$F4+$G4)*$D4+$J4)*$I4 -> 2200 | N4: перемычка для розеток внутри щита 400 мм
A5: Розетки двойные на фартуке кухни | B5: 4 | C5: 2.5 | D5: 2 | E5: 400 | F5: 1050 | G5: 200 | H5: 1050 | I5: 1.1 | K5: =(($H5+$E5+$F5+$G5)*$D5+$J5)*$I5 -> 5940 | L5: =(($H5+$E5+$F5+$G5)*$D5+$J5)*$I5 -> 5940 | M5: =(($H5+$E5+$F5+$G5)*$D5+E5+$J5)*$I5 -> 6380 | N5: учтен дополнительный выпуск на двойные розетки
A6: Розетка кухни под плиту | B6: 2 | C6: 6 | D6: 1 | E6: 150 | G6: 100 | H6: 300 | I6: 1.1 | J6: 2300 | K6: =(($H6+$E6+$F6+$G6)*$D6+$J6)*$I6 -> 3135 | L6: =(($H6+$E6+$F6+$G6)*$D6+$J6)*$I6 -> 3135 | M6: =(($H6+$E6+$F6+$G6)*$D6+$J6)*$I6 -> 3135
A7: Розетка кухни под вытяжку | B7: 4 | C7: 2.5 | D7: 1 | E7: 150 | F7: 2550 | G7: 100 | H7: 2550 | I7: 1.1 | K7: =(($H7+$E7+$F7+$G7)*$D7+$J7)*$I7 -> 5885 | L7: =(($H7+$E7+$F7+$G7)*$D7+$J7)*$I7 -> 5885 | M7: =(($H7+$E7+$F7+$G7)*$D7+$J7)*$I7 -> 5885
A8: Розетка кухни под ТВ | B8: 4 | C8: 2.5 | D8: 1 | E8: 400 | G8: 100 | H8: 1500 | I8: 1.1 | K8: =(($H8+$E8+$F8+$G8)*$D8+$J8)*$I8 -> 2200 | L8: =(($H8+$E8+$F8+$G8)*$D8+$J8)*$I8 -> 2200 | M8: =(($H8+$E8+$F8+$G8)*$D8+$J8)*$I8 -> 2200
A9: Розетка кухни под холодильник | B9: 4 | C9: 2.5 | D9: 1 | E9: 150 | F9: 300 | G9: 100 | H9: 300 | I9: 1.1 | K9: =(($H9+$E9+$F9+$G9)*$D9+$J9)*$I9 -> 935 | L9: =(($H9+$E9+$F9+$G9)*$D9+$J9)*$I9 -> 935 | M9: =(($H9+$E9+$F9+$G9)*$D9+$J9)*$I9 -> 935
A10: Розетка кухни около стола | B10: 4 | C10: 2.5 | D10: 1 | E10: 400 | F10: 300 | G10: 100 | H10: 300 | I10: 1.1 | K10: =(($H10+$E10+$F10+$G10)*$D10+$J10)*$I10 -> 1210 | L10: =(($H10+$E10+$F10+$G10)*$D10+$J10)*$I10 -> 1210 | M10: =(($H10+$E10+$F10+$G10)*$D10+$J10)*$I10 -> 1210
A11: Розетки в комнатах одинарные | B11: 3 | C11: 2.5 | D11: ='Исходные данные'!B23 -> 0 | E11: 150 | F11: 300 | G11: 200 | H11: 300 | I11: 1.1 | J11: 2300 | K11: =(($H11+$E11+$F11+$G11)*$D11+$J11)*$I11 -> 2530 | L11: =(($H11+$E11+$F11+$G11)*$D11+$J11)*$I11 -> 2530 | M11: =(($H11+$E11+$F11+$G11)*$D11+E11+$J11)*$I11 -> 2695 | N11: учтен дополнительный выпуск на двойные розетки
A12: Розетки в комнатах двойные | B12: 3 | C12: 2.5 | D12: ='Исходные данные'!C23 -> 0 | E12: 400 | F12: 300 | G12: 200 | H12: 300 | I12: 1.1 | K12: =(($H12+$E12+$F12+$G12)*$D12+$J12)*$I12 -> 0 | L12: =(($H12+$E12+$F12+$G12)*$D12+$J12)*$I12 -> 0 | M12: =(($H12+$E12+$F12+$G12)*$D12+E12+$J12)*$I12 -> 440 | N12: учтен дополнительный выпуск на двойные розетки
A13: Розетка с/у под стир. машину | B13: 5 | C13: 2.5 | D13: 1 | E13: 150 | F13: 1600 | G13: 100 | H13: 1600 | I13: 1.1 | J13: 1300 | K13: =(($H13+$E13+$F13+$G13)*$D13+$J13)*$I13 -> 5225 | L13: =(($H13+$E13+$F13+$G13)*$D13+$J13)*$I13 -> 5225 | M13: =(($H13+$E13+$F13+$G13)*$D13+$J13)*$I13 -> 5225
A14: Розетка с/у бытовая | B14: 5 | C14: 2.5 | D14: ='Исходные данные'!D23 -> 0 | E14: 150 | F14: 1600 | G14: 100 | H14: 1600 | I14: 1.1 | K14: =(($H14+$E14+$F14+$G14)*$D14+$J14)*$I14 -> 0 | L14: =(($H14+$E14+$F14+$G14)*$D14+$J14)*$I14 -> 0 | M14: =(($H14+$E14+$F14+$G14)*$D14+$J14)*$I14 -> 0
A15: Розетка с/у под эл.полотенцесуш. | B15: 5 | C15: 2.5 | D15: ='Исходные данные'!E23 -> 0 | E15: 150 | F15: 1600 | G15: 100 | H15: 1600 | I15: 1.1 | K15: =(($H15+$E15+$F15+$G15)*$D15+$J15)*$I15 -> 0 | L15: =(($H15+$E15+$F15+$G15)*$D15+$J15)*$I15 -> 0 | M15: =(($H15+$E15+$F15+$G15)*$D15+$J15)*$I15 -> 0
A16: Выключатель одноклавишный | B16: 1 | C16: 1.5 | D16: ='Исходные данные'!F23 -> 0 | E16: 150 | H16: 1800 | I16: 1.1 | J16: 1300 | K16: =IF(D16=0,0,IF(D16>0,((H16+E16+F16)*D16)*2)+J16)*I16 -> 0
A17: Выключатель двуклавишный | B17: 1 | C17: 1.5 | D17: ='Исходные данные'!G23 -> 0 | E17: 150 | H17: 1800 | I17: 1.1 | K17: =((((H17+E17+F17)*D17)*3)+J17)*I17 -> 0
A18: Переключатель проходной | B18: 1 | C18: 1.5 | D18: ='Исходные данные'!H23 -> 0 | E18: 150 | H18: 1800 | I18: 1.1 | K18: =((((H18+E18+F18)*D18)*3)+J18)*I18 -> 0 | N18: добавлены проходные переключатели
A19: Кол-во светильников в холле | B19: 1 | C19: 1.5 | D19: ='Исходные данные'!I23 -> 0 | E19: 350 | I19: 1.1 | K19: =((H19+E19+F19)*D19+J19)*I19 -> 0 | L19: =(($H19+$E19+$F19)*$D19+$J19)*$I19 -> 0 | M19: =(($H19+$E19+$F19)*$D19+$J19)*$I19 -> 0 | N19: выпуск к светильнику 200 мм + выпуск на распаечную коробку 150 мм
A20: Кол-во люстр трехрожковых | B20: 1 | C20: 1.5 | D20: 1 | E20: 350 | I20: 1.1 | K20: =((H20+E20+F20)*D20+J20)*I20 -> 385 | L20: =(($H20+$E20+$F20)*$D20+$J20)*$I20 -> 385 | M20: =(($H20+$E20+$F20)*$D20+$J20)*$I20 -> 385 | N20: выпуск к светильнику 200 мм + выпуск на распаечную коробку 150 мм
A21: Кол-во люстр пятирожковых | B21: 1 | C21: 1.5 | D21: ='Исходные данные'!J23 -> 0 | E21: 350 | I21: 1.1 | K21: =((H21+E21+F21)*D21+J21)*I21 -> 0 | L21: =(($H21+$E21+$F21)*$D21+$J21)*$I21 -> 0 | M21: =(($H21+$E21+$F21)*$D21+$J21)*$I21 -> 0 | N21: выпуск к светильнику 200 мм + выпуск на распаечную коробку 150 мм
A22: Кол-во светильников в с/у | B22: 5 | C22: 2.5 | D22: ='Исходные данные'!K23 -> 0 | E22: 350 | I22: 1.1 | K22: =((H22+E22+F22)*D22+J22)*I22 -> 0 | L22: =(($H22+$E22+$F22)*$D22+$J22)*$I22 -> 0 | M22: =(($H22+$E22+$F22)*$D22+$J22)*$I22 -> 0 | N22: выпуск к светильнику 200 мм + выпуск на распаечную коробку 150 мм
A23: Кол-во бра в с/у | B23: 5 | C23: 2.5 | D23: 1 | E23: 350 | H23: 500 | I23: 1.1 | K23: =((H23+E23+F23)*D23+J23)*I23 -> 935 | L23: =(($H23+$E23+$F23)*$D23+$J23)*$I23 -> 935 | M23: =(($H23+$E23+$F23)*$D23+$J23)*$I23 -> 935 | N23: выпуск к светильнику 200 мм + выпуск на распаечную коробку 150 мм
A24: Длина провода в перекрытии гр.1 | B24: 1 | C24: 1.5 | D24: ='Исходные данные'!L23 -> 0 | I24: 1.1 | K24: =$D24*$I24 -> 0 | L24: =$D24*$I24 -> 0 | M24: =$D24*$I24 -> 0
A25: Длина провода в стяжке пола гр.2 | B25: 2 | C25: 6 | D25: ='Исходные данные'!M23 -> 0 | I25: 1.1 | K25: =$D25*$I25 -> 0 | L25: =$D25*$I25 -> 0 | M25: =$D25*$I25 -> 0
A26: Длина провода в стяжке пола гр.3 | B26: 3 | C26: 2.5 | D26: ='Исходные данные'!N23 -> 0 | I26: 1.1 | K26: =$D26*$I26 -> 0 | L26: =$D26*$I26 -> 0 | M26: =$D26*$I26 -> 0
A27: Длина провода в стяжке пола гр.4 | B27: 4 | C27: 2.5 | D27: ='Исходные данные'!O23 -> 0 | I27: 1.1 | K27: =$D27*$I27 -> 0 | L27: =$D27*$I27 -> 0 | M27: =$D27*$I27 -> 0
A28: Длина провода в перекрытии гр.5 | B28: 5 | C28: 2.5 | D28: ='Исходные данные'!P23 -> 0 | I28: 1.1 | K28: =$D28*$I28 -> 0 | L28: =$D28*$I28 -> 0 | M28: =$D28*$I28 -> 0
A29: Длина провода в перекрытии гр.6 | B29: 6 | C29: 2.5 | D29: ='Исходные данные'!Q23 -> 0 | I29: 1.1 | K29: =$D29*$I29 -> 0 | L29: =$D29*$I29 -> 0 | M29: =$D29*$I29 -> 0
A30: Провод на звонок | B30: 1 | C30: 1.5 | D30: 1 | E30: 100 | H30: 1300 | I30: 1.1 | K30: =((H30+E30+F30)*D30+J30)*I30 -> 1540 | L30: =(($H30+$E30+$F30)*$D30+$J30)*$I30 -> 1540 | M30: =(($H30+$E30+$F30)*$D30+$J30)*$I30 -> 1540
A31: Кнопка звонка | B31: 1 | C31: 1.5 | D31: 1 | E31: 100 | H31: 1300 | I31: 1.1 | K31: =((H31+E31+F31)*D31+J31)*I31 -> 1540 | L31: =(($H31+$E31+$F31)*$D31+$J31)*$I31 -> 1540 | M31: =(($H31+$E31+$F31)*$D31+$J31)*$I31 -> 1540
A32: Кол-во вентиляторов ОВ | B32: 6 | C32: 2.5 | D32: ='Исходные данные'!R23 -> 0 | E32: 150 | H32: 600 | I32: 1.1 | J32: 1300 | K32: =IF($D32=0,0,IF($D32>0,(($H32+$E32+$F32)*$D32+$J32)*$I32)) -> 0 | L32: =IF($D32=0,0,IF($D32>0,(($H32+$E32+$F32)*$D32+$J32)*$I32)) -> 0 | M32: =IF($D32=0,0,IF($D32>0,(($H32+$E32+$F32)*$D32+$J32)*$I32)) -> 0
A33: Выключатель для вытяжки | B33: 6 | C33: 2.5 | D33: =D32 -> 0 | E33: 150 | H33: 1800 | I33: 1.1 | K33: =((((H33+E33+F33)*D33)*3)+J33)*I33 -> 0
A34: Провод от КУП до ванны и труб | B34: 5 | C34: 4 | D34: 6000 | I34: 1.1 | M34: =D34 -> 6000
A35: Провод к КУП и от КУП до розетки | B35: 5 | C35: 2.5 | D35: ='Исходные данные'!S23 -> 0 | E35: 100 | F35: 10000 | H35: 1500 | I35: 1.1 | J35: 1300 | M35: =(D35+E35+H35+J35+F35)*I35 -> 14190
A38: Квартира 1. Без принудительной вентиляцией. Суммарное значение провода
A39: Наименование группы | B39: № группы подк | C39: Сеч. провода | D39: Провод белый, м | E39: Провод синий, м | F39: Провод ж/з, м
A40: Группа освещения | B40: 1 | C40: 1.5 | D40: =SUMIFS(K$3:K$35,$B$3:$B$35,1,$C$3:$C$35,1.5)*0.001 -> 3.465 | E40: =SUMIFS(L$3:L$35,$B$3:$B$35,1,$C$3:$C$35,1.5)*0.001 -> 3.465 | F40: =SUMIFS(M$3:M$35,$B$3:$B$35,1,$C$3:$C$35,1.5)*0.001 -> 3.465
A41: Группа плиты | B41: 2 | C41: 6 | D41: =SUMIFS(K$3:K$35,$B$3:$B$35,2,$C$3:$C$35,6)*0.001 -> 3.135 | E41: =SUMIFS(L$3:L$35,$B$3:$B$35,2,$C$3:$C$35,6)*0.001 -> 3.135 | F41: =SUMIFS(M$3:M$35,$B$3:$B$35,2,$C$3:$C$35,6)*0.001 -> 3.135
A42: Розеточная группа комнат | B42: 3 | C42: 2.5 | D42: =SUMIFS(K$3:K$35,$B$3:$B$35,3,$C$3:$C$35,2.5)*0.001 -> 2.53 | E42: =SUMIFS(L$3:L$35,$B$3:$B$35,3,$C$3:$C$35,2.5)*0.001 -> 2.53 | F42: =SUMIFS(M$3:M$35,$B$3:$B$35,3,$C$3:$C$35,2.5)*0.001 -> 3.135
A43: Розеточная группа кухни и коридора | B43: 4 | C43: 2.5 | D43: =SUMIFS(K$3:K$35,$B$3:$B$35,4,$C$3:$C$35,2.5)*0.001 -> 22.99 | E43: =SUMIFS(L$3:L$35,$B$3:$B$35,4,$C$3:$C$35,2.5)*0.001 -> 22.99 | F43: =SUMIFS(M$3:M$35,$B$3:$B$35,4,$C$3:$C$35,2.5)*0.001 -> 23.595
A44: Электрооборудование СУ | B44: 5 | C44: 2.5 | D44: =SUMIFS(K$3:K$35,$B$3:$B$35,5,$C$3:$C$35,2.5)*0.001 -> 6.16 | E44: =SUMIFS(L$3:L$35,$B$3:$B$35,5,$C$3:$C$35,2.5)*0.001 -> 6.16 | F44: =SUMIFS(M$3:M$35,$B$3:$B$35,5,$C$3:$C$35,2.5)*0.001 -> 20.35
C45: 4 | F45: =SUMIFS(M$3:M$35,$B$3:$B$35,5,$C$3:$C$35,4)*0.001 -> 6
A47: Квартира 1. С принудительной вентиляцией. Суммарное значение провода
A48: Наименование группы | B48: № группы подк | C48: Сеч. провода | D48: Провод белый, м | E48: Провод синий, м | F48: Провод ж/з, м
A49: Группа освещения | B49: 1 | C49: 1.5 | D49: =SUMIFS(K$3:K$35,$B$3:$B$35,1,$C$3:$C$35,1.5)*0.001 -> 3.465 | E49: =SUMIFS(L$3:L$35,$B$3:$B$35,1,$C$3:$C$35,1.5)*0.001 -> 3.465 | F49: =SUMIFS(M$3:M$35,$B$3:$B$35,1,$C$3:$C$35,1.5)*0.001 -> 3.465
A50: Группа плиты | B50: 2 | C50: 6 | D50: =SUMIFS(K$3:K$35,$B$3:$B$35,2,$C$3:$C$35,6)*0.001 -> 3.135 | E50: =SUMIFS(L$3:L$35,$B$3:$B$35,2,$C$3:$C$35,6)*0.001 -> 3.135 | F50: =SUMIFS(M$3:M$35,$B$3:$B$35,2,$C$3:$C$35,6)*0.001 -> 3.135
A51: Розеточная группа комнат | B51: 3 | C51: 2.5 | D51: =SUMIFS(K$3:K$35,$B$3:$B$35,3,$C$3:$C$35,2.5)*0.001 -> 2.53 | E51: =SUMIFS(L$3:L$35,$B$3:$B$35,3,$C$3:$C$35,2.5)*0.001 -> 2.53 | F51: =SUMIFS(M$3:M$35,$B$3:$B$35,3,$C$3:$C$35,2.5)*0.001 -> 3.135
A52: Розеточная группа кухни и коридора | B52: 4 | C52: 2.5 | D52: =SUMIFS(K$3:K$35,$B$3:$B$35,4,$C$3:$C$35,2.5)*0.001 -> 22.99 | E52: =SUMIFS(L$3:L$35,$B$3:$B$35,4,$C$3:$C$35,2.5)*0.001 -> 22.99 | F52: =SUMIFS(M$3:M$35,$B$3:$B$35,4,$C$3:$C$35,2.5)*0.001 -> 23.595
A53: Электрооборудование СУ | B53: 5 | C53: 2.5 | D53: =SUMIFS(K$3:K$35,$B$3:$B$35,5,$C$3:$C$35,2.5)*0.001 -> 6.16 | E53: =SUMIFS(L$3:L$35,$B$3:$B$35,5,$C$3:$C$35,2.5)*0.001 -> 6.16 | F53: =SUMIFS(M$3:M$35,$B$3:$B$35,5,$C$3:$C$35,2.5)*0.001 -> 20.35
C54: 4 | F54: =SUMIFS(M$3:M$35,$B$3:$B$35,5,$C$3:$C$35,4)*0.001 -> 6
A55: Вентиляция | B55: 6 | C55: 2.5 | D55: =SUMIFS(K$3:K$35,$B$3:$B$35,6,$C$3:$C$35,2.5)*0.001 -> 0 | E55: =SUMIFS(L$3:L$35,$B$3:$B$35,6,$C$3:$C$35,2.5)*0.001 -> 0 | F55: =SUMIFS(M$3:M$35,$B$3:$B$35,6,$C$3:$C$35,2.5)*0.001 -> 0

Sheet Квартира 3
A1: ='Исходные данные'!A25 -> Квартира 3 | B1: ДАННЫЕ В ТАБЛИЦЕ НЕ МЕНЯТЬ!
A2: Наименование потребителя | B2: № группы подк | C2: Сеч. провода | D2: Кол-во уст. изд/ Длина кабеля, мм | E2: Выпуск для подкл, мм | F2: Опуск провода, верт, мм | G2: Стяжка пола, мм | H2: Подъем провода верт, мм | I2: Запас провода | J2: Подкл. к ЩК, мм | K2: Итого длина провода бел, мм | L2: Итого длина провода син, мм | M2: Итого длина провода ж/з, мм
A3: Розетки холла | B3: 4 | C3: 2.5 | D3: 2 | E3: 150 | F3: 300 | G3: 200 | H3: 300 | I3: 1.1 | J3: 2300 | K3: =(($H3+$E3+$F3+$G3)*$D3+$J3)*$I3 -> 4620 | L3: =(($H3+$E3+$F3+$G3)*$D3+$J3)*$I3 -> 4620 | M3: =(($H3+$E3+$F3+$G3)*$D3+E3+$J3)*$I3 -> 4785 | N3: учтен дополнительный выпуск на двойные розетки
A4: Розетки в шкафу СС | B4: 4 | C4: 2.5 | D4: 2 | E4: 400 | I4: 1.1 | J4: 1200 | K4: =(($H4+$E4+$F4+$G4)*$D4+$J4)*$I4 -> 2200 | L4: =(($H4+$E4+$F4+$G4)*$D4+$J4)*$I4 -> 2200 | M4: =(($H4+$E4+$F4+$G4)*$D4+$J4)*$I4 -> 2200 | N4: перемычка для розеток внутри щита 400 мм
A5: Розетки двойные на фартуке кухни | B5: 4 | C5: 2.5 | D5: 2 | E5: 400 | F5: 1050 | G5: 200 | H5: 1050 | I5: 1.1 | K5: =(($H5+$E5+$F5+$G5)*$D5+$J5)*$I5 -> 5940 | L5: =(($H5+$E5+$F5+$G5)*$D5+$J5)*$I5 -> 5940 | M5: =(($H5+$E5+$F5+$G5)*$D5+E5+$J5)*$I5 -> 6380 | N5: учтен дополнительный выпуск на двойные розетки
A6: Розетка кухни под плиту | B6: 2 | C6: 6 | D6: 1 | E6: 150 | G6: 100 | H6: 300 | I6: 1.1 | J6: 2300 | K6: =(($H6+$E6+$F6+$G6)*$D6+$J6)*$I6 -> 3135 | L6: =(($H6+$E6+$F6+$G6)*$D6+$J6)*$I6 -> 3135 | M6: =(($H6+$E6+$F6+$G6)*$D6+$J6)*$I6 -> 3135
A7: Розетка кухни под вытяжку | B7: 4 | C7: 2.5 | D7: 1 | E7: 150 | F7: 2550 | G7: 100 | H7: 2550 | I7: 1.1 | K7: =(($H7+$E7+$F7+$G7)*$D7+$J7)*$I7 -> 5885 | L7: =(($H7+$E7+$F7+$G7)*$D7+$J7)*$I7 -> 5885 | M7: =(($H7+$E7+$F7+$G7)*$D7+$J7)*$I7 -> 5885
A8: Розетка кухни под ТВ | B8: 4 | C8: 2.5 | D8: 1 | E8: 400 | G8: 100 | H8: 1500 | I8: 1.1 | K8: =(($H8+$E8+$F8+$G8)*$D8+$J8)*$I8 -> 2200 | L8: =(($H8+$E8+$F8+$G8)*$D8+$J8)*$I8 -> 2200 | M8: =(($H8+$E8+$F8+$G8)*$D8+$J8)*$I8 -> 2200
A9: Розетка кухни под холодильник | B9: 4 | C9: 2.5 | D9: 1 | E9: 150 | F9: 300 | G9: 100 | H9: 300 | I9: 1.1 | K9: =(($H9+$E9+$F9+$G9)*$D9+$J9)*$I9 -> 935 | L9: =(($H9+$E9+$F9+$G9)*$D9+$J9)*$I9 -> 935 | M9: =(($H9+$E9+$F9+$G9)*$D9+$J9)*$I9 -> 935
A10: Розетка кухни около стола | B10: 4 | C10: 2.5 | D10: 1 | E10: 400 | F10: 300 | G10: 100 | H10: 300 | I10: 1.1 | K10: =(($H10+$E10+$F10+$G10)*$D10+$J10)*$I10 -> 1210 | L10: =(($H10+$E10+$F10+$G10)*$D10+$J10)*$I10 -> 1210 | M10: =(($H10+$E10+$F10+$G10)*$D10+$J10)*$I10 -> 1210
A11: Розетки в комнатах одинарные | B11: 3 | C11: 2.5 | D11: ='Исходные данные'!B26 -> 0 | E11: 150 | F11: 300 | G11: 200 | H11: 300 | I11: 1.1 | J11: 2300 | K11: =(($H11+$E11+$F11+$G11)*$D11+$J11)*$I11 -> 2530 | L11: =(($H11+$E11+$F11+$G11)*$D11+$J11)*$I11 -> 2530 | M11: =(($H11+$E11+$F11+$G11)*$D11+E11+$J11)*$I11 -> 2695 | N11: учтен дополнительный выпуск на двойные розетки
A12: Розетки в комнатах двойные | B12: 3 | C12: 2.5 | D12: ='Исходные данные'!C26 -> 0 | E12: 400 | F12: 300 | G12: 200 | H12: 300 | I12: 1.1 | K12: =(($H12+$E12+$F12+$G12)*$D12+$J12)*$I12 -> 0 | L12: =(($H12+$E12+$F12+$G12)*$D12+$J12)*$I12 -> 0 | M12: =(($H12+$E12+$F12+$G12)*$D12+E12+$J12)*$I12 -> 440 | N12: учтен дополнительный выпуск на двойные розетки
A13: Розетка с/у под стир. машину | B13: 5 | C13: 2.5 | D13: 1 | E13: 150 | F13: 1600 | G13: 100 | H13: 1600 | I13: 1.1 | J13: 1300 | K13: =(($H13+$E13+$F13+$G13)*$D13+$J13)*$I13 -> 5225 | L13: =(($H13+$E13+$F13+$G13)*$D13+$J13)*$I13 -> 5225 | M13: =(($H13+$E13+$F13+$G13)*$D13+$J13)*$I13 -> 5225
A14: Розетка с/у бытовая | B14: 5 | C14: 2.5 | D14: ='Исходные данные'!D26 -> 0 | E14: 150 | F14: 1600 | G14: 100 | H14: 1600 | I14: 1.1 | K14: =(($H14+$E14+$F14+$G14)*$D14+$J14)*$I14 -> 0 | L14: =(($H14+$E14+$F14+$G14)*$D14+$J14)*$I14 -> 0 | M14: =(($H14+$E14+$F14+$G14)*$D14+$J14)*$I14 -> 0
A15: Розетка с/у под эл.полотенцесуш. | B15: 5 | C15: 2.5 | D15: ='Исходные данные'!E26 -> 0 | E15: 150 | F15: 1600 | G15: 100 | H15: 1600 | I15: 1.1 | K15: =(($H15+$E15+$F15+$G15)*$D15+$J15)*$I15 -> 0 | L15: =(($H15+$E15+$F15+$G15)*$D15+$J15)*$I15 -> 0 | M15: =(($H15+$E15+$F15+$G15)*$D15+$J15)*$I15 -> 0
A16: Выключатель одноклавишный | B16: 1 | C16: 1.5 | D16: ='Исходные данные'!F26 -> 0 | E16: 150 | H16: 1800 | I16: 1.1 | J16: 1300 | K16: =IF(D16=0,0,IF(D16>0,((H16+E16+F16)*D16)*2)+J16)*I16 -> 0
A17: Выключатель двуклавишный | B17: 1 | C17: 1.5 | D17: ='Исходные данные'!G26 -> 0 | E17: 150 | H17: 1800 | I17: 1.1 | K17: =((((H17+E17+F17)*D17)*3)+J17)*I17 -> 0
A18: Переключатель проходной | B18: 1 | C18: 1.5 | D18: ='Исходные данные'!H26 -> 0 | E18: 150 | H18: 1800 | I18: 1.1 | K18: =((((H18+E18+F18)*D18)*3)+J18)*I18 -> 0 | N18: добавлены проходные переключатели
A19: Кол-во светильников в холле | B19: 1 | C19: 1.5 | D19: ='Исходные данные'!I26 -> 0 | E19: 350 | I19: 1.1 | K19: =((H19+E19+F19)*D19+J19)*I19 -> 0 | L19: =(($H19+$E19+$F19)*$D19+$J19)*$I19 -> 0 | M19: =(($H19+$E19+$F19)*$D19+$J19)*$I19 -> 0 | N19: выпуск к светильнику 200 мм + выпуск на распаечную коробку 150 мм
A20: Кол-во люстр трехрожковых | B20: 1 | C20: 1.5 | D20: 1 | E20: 350 | I20: 1.1 | K20: =((H20+E20+F20)*D20+J20)*I20 -> 385 | L20: =(($H20+$E20+$F20)*$D20+$J20)*$I20 -> 385 | M20: =(($H20+$E20+$F20)*$D20+$J20)*$I20 -> 385 | N20: выпуск к светильнику 200 мм + выпуск на распаечную коробку 150 мм
A21: Кол-во люстр пятирожковых | B21: 1 | C21: 1.5 | D21: ='Исходные данные'!J26 -> 0 | E21: 350 | I21: 1.1 | K21: =((H21+E21+F21)*D21+J21)*I21 -> 0 | L21: =(($H21+$E21+$F21)*$D21+$J21)*$I21 -> 0 | M21: =(($H21+$E21+$F21)*$D21+$J21)*$I21 -> 0 | N21: выпуск к светильнику 200 мм + выпуск на распаечную коробку 150 мм
A22: Кол-во светильников в с/у | B22: 5 | C22: 2.5 | D22: ='Исходные данные'!K26 -> 0 | E22: 350 | I22: 1.1 | K22: =((H22+E22+F22)*D22+J22)*I22 -> 0 | L22: =(($H22+$E22+$F22)*$D22+$J22)*$I22 -> 0 | M22: =(($H22+$E22+$F22)*$D22+$J22)*$I22 -> 0 | N22: выпуск к светильнику 200 мм + выпуск на распаечную коробку 150 мм
A23: Кол-во бра в с/у | B23: 5 | C23: 2.5 | D23: 1 | E23: 350 | H23: 500 | I23: 1.1 | K23: =((H23+E23+F23)*D23+J23)*I23 -> 935 | L23: =(($H23+$E23+$F23)*$D23+$J23)*$I23 -> 935 | M23: =(($H23+$E23+$F23)*$D23+$J23)*$I23 -> 935 | N23: выпуск к светильнику 200 мм + выпуск на распаечную коробку 150 мм
A24: Длина провода в перекрытии гр.1 | B24: 1 | C24: 1.5 | D24: ='Исходные данные'!L26 -> 0 | I24: 1.1 | K24: =$D24*$I24 -> 0 | L24: =$D24*$I24 -> 0 | M24: =$D24*$I24 -> 0
A25: Длина провода в стяжке пола гр.2 | B25: 2 | C25: 6 | D25: ='Исходные данные'!M26 -> 0 | I25: 1.1 | K25: =$D25*$I25 -> 0 | L25: =$D25*$I25 -> 0 | M25: =$D25*$I25 -> 0
A26: Длина провода в стяжке пола гр.3 | B26: 3 | C26: 2.5 | D26: ='Исходные данные'!N26 -> 0 | I26: 1.1 | K26: =$D26*$I26 -> 0 | L26: =$D26*$I26 -> 0 | M26: =$D26*$I26 -> 0
A27: Длина провода в стяжке пола гр.4 | B27: 4 | C27: 2.5 | D27: ='Исходные данные'!O26 -> 0 | I27: 1.1 | K27: =$D27*$I27 -> 0 | L27: =$D27*$I27 -> 0 | M27: =$D27*$I27 -> 0
A28: Длина провода в перекрытии гр.5 | B28: 5 | C28: 2.5 | D28: ='Исходные данные'!P26 -> 0 | I28: 1.1 | K28: =$D28*$I28 -> 0 | L28: =$D28*$I28 -> 0 | M28: =$D28*$I28 -> 0
A29: Длина провода в перекрытии гр.6 | B29: 6 | C29: 2.5 | D29: ='Исходные данные'!Q26 -> 0 | I29: 1.1 | K29: =$D29*$I29 -> 0 | L29: =$D29*$I29 -> 0 | M29: =$D29*$I29 -> 0
A30: Провод на звонок | B30: 1 | C30: 1.5 | D30: 1 | E30: 100 | H30: 1300 | I30: 1.1 | K30: =((H30+E30+F30)*D30+J30)*I30 -> 1540 | L30: =(($H30+$E30+$F30)*$D30+$J30)*$I30 -> 1540 | M30: =(($H30+$E30+$F30)*$D30+$J30)*$I30 -> 1540
A31: Кнопка звонка | B31: 1 | C31: 1.5 | D31: 1 | E31: 100 | H31: 1300 | I31: 1.1 | K31: =((H31+E31+F31)*D31+J31)*I31 -> 1540 | L31: =(($H31+$E31+$F31)*$D31+$J31)*$I31 -> 1540 | M31: =(($H31+$E31+$F31)*$D31+$J31)*$I31 -> 1540
A32: Кол-во вентиляторов ОВ | B32: 6 | C32: 2.5 | D32: ='Исходные данные'!R26 -> 0 | E32: 150 | H32: 600 | I32: 1.1 | J32: 1300 | K32: =IF($D32=0,0,IF($D32>0,(($H32+$E32+$F32)*$D32+$J32)*$I32)) -> 0 | L32: =IF($D32=0,0,IF($D32>0,(($H32+$E32+$F32)*$D32+$J32)*$I32)) -> 0 | M32: =IF($D32=0,0,IF($D32>0,(($H32+$E32+$F32)*$D32+$J32)*$I32)) -> 0
A33: Выключатель для вытяжки | B33: 6 | C33: 2.5 | D33: =D32 -> 0 | E33: 150 | H33: 1800 | I33: 1.1 | K33: =((((H33+E33+F33)*D33)*3)+J33)*I33 -> 0
A34: Провод от КУП до ванны и труб | B34: 5 | C34: 4 | D34: 6000 | I34: 1.1 | M34: =D34 -> 6000
A35: Провод к КУП и от КУП до розетки | B35: 5 | C35: 2.5 | D35: ='Исходные данные'!S26 -> 0 | E35: 100 | F35: 10000 | H35: 1500 | I35: 1.1 | J35: 1300 | M35: =(D35+E35+H35+J35+F35)*I35 -> 14190
A38: Квартира 1. Без принудительной вентиляцией. Суммарное значение провода
A39: Наименование группы | B39: № группы подк | C39: Сеч. провода | D39: Провод белый, м | E39: Провод синий, м | F39: Провод ж/з, м
A40: Группа освещения | B40: 1 | C40: 1.5 | D40: =SUMIFS(K$3:K$35,$B$3:$B$35,1,$C$3:$C$35,1.5)*0.001 -> 3.465 | E40: =SUMIFS(L$3:L$35,$B$3:$B$35,1,$C$3:$C$35,1.5)*0.001 -> 3.465 | F40: =SUMIFS(M$3:M$35,$B$3:$B$35,1,$C$3:$C$35,1.5)*0.001 -> 3.465
A41: Группа плиты | B41: 2 | C41: 6 | D41: =SUMIFS(K$3:K$35,$B$3:$B$35,2,$C$3:$C$35,6)*0.001 -> 3.135 | E41: =SUMIFS(L$3:L$35,$B$3:$B$35,2,$C$3:$C$35,6)*0.001 -> 3.135 | F41: =SUMIFS(M$3:M$35,$B$3:$B$35,2,$C$3:$C$35,6)*0.001 -> 3.135
A42: Розеточная группа комнат | B42: 3 | C42: 2.5 | D42: =SUMIFS(K$3:K$35,$B$3:$B$35,3,$C$3:$C$35,2.5)*0.001 -> 2.53 | E42: =SUMIFS(L$3:L$35,$B$3:$B$35,3,$C$3:$C$35,2.5)*0.001 -> 2.53 | F42: =SUMIFS(M$3:M$35,$B$3:$B$35,3,$C$3:$C$35,2.5)*0.001 -> 3.135
A43: Розеточная группа кухни и коридора | B43: 4 | C43: 2.5 | D43: =SUMIFS(K$3:K$35,$B$3:$B$35,4,$C$3:$C$35,2.5)*0.001 -> 22.99 | E43: =SUMIFS(L$3:L$35,$B$3:$B$35,4,$C$3:$C$35,2.5)*0.001 -> 22.99 | F43: =SUMIFS(M$3:M$35,$B$3:$B$35,4,$C$3:$C$35,2.5)*0.001 -> 23.595
A44: Электрооборудование СУ | B44: 5 | C44: 2.5 | D44: =SUMIFS(K$3:K$35,$B$3:$B$35,5,$C$3:$C$35,2.5)*0.001 -> 6.16 | E44: =SUMIFS(L$3:L$35,$B$3:$B$35,5,$C$3:$C$35,2.5)*0.001 -> 6.16 | F44: =SUMIFS(M$3:M$35,$B$3:$B$35,5,$C$3:$C$35,2.5)*0.001 -> 20.35
C45: 4 | F45: =SUMIFS(M$3:M$35,$B$3:$B$35,5,$C$3:$C$35,4)*0.001 -> 6
A47: Квартира 1. С принудительной вентиляцией. Суммарное значение провода
A48: Наименование группы | B48: № группы подк | C48: Сеч. провода | D48: Провод белый, м | E48: Провод синий, м | F48: Провод ж/з, м
A49: Группа освещения | B49: 1 | C49: 1.5 | D49: =SUMIFS(K$3:K$35,$B$3:$B$35,1,$C$3:$C$35,1.5)*0.001 -> 3.465 | E49: =SUMIFS(L$3:L$35,$B$3:$B$35,1,$C$3:$C$35,1.5)*0.001 -> 3.465 | F49: =SUMIFS(M$3:M$35,$B$3:$B$35,1,$C$3:$C$35,1.5)*0.001 -> 3.465
A50: Группа плиты | B50: 2 | C50: 6 | D50: =SUMIFS(K$3:K$35,$B$3:$B$35,2,$C$3:$C$35,6)*0.001 -> 3.135 | E50: =SUMIFS(L$3:L$35,$B$3:$B$35,2,$C$3:$C$35,6)*0.001 -> 3.135 | F50: =SUMIFS(M$3:M$35,$B$3:$B$35,2,$C$3:$C$35,6)*0.001 -> 3.135
A51: Розеточная группа комнат | B51: 3 | C51: 2.5 | D51: =SUMIFS(K$3:K$35,$B$3:$B$35,3,$C$3:$C$35,2.5)*0.001 -> 2.53 | E51: =SUMIFS(L$3:L$35,$B$3:$B$35,3,$C$3:$C$35,2.5)*0.001 -> 2.53 | F51: =SUMIFS(M$3:M$35,$B$3:$B$35,3,$C$3:$C$35,2.5)*0.001 -> 3.135
A52: Розеточная группа кухни и коридора | B52: 4 | C52: 2.5 | D52: =SUMIFS(K$3:K$35,$B$3:$B$35,4,$C$3:$C$35,2.5)*0.001 -> 22.99 | E52: =SUMIFS(L$3:L$35,$B$3:$B$35,4,$C$3:$C$35,2.5)*0.001 -> 22.99 | F52: =SUMIFS(M$3:M$35,$B$3:$B$35,4,$C$3:$C$35,2.5)*0.001 -> 23.595
A53: Электрооборудование СУ | B53: 5 | C53: 2.5 | D53: =SUMIFS(K$3:K$35,$B$3:$B$35,5,$C$3:$C$35,2.5)*0.001 -> 6.16 | E53: =SUMIFS(L$3:L$35,$B$3:$B$35,5,$C$3:$C$35,2.5)*0.001 -> 6.16 | F53: =SUMIFS(M$3:M$35,$B$3:$B$35,5,$C$3:$C$35,2.5)*0.001 -> 20.35
C54: 4 | F54: =SUMIFS(M$3:M$35,$B$3:$B$35,5,$C$3:$C$35,4)*0.001 -> 6
A55: Вентиляция | B55: 6 | C55: 2.5 | D55: =SUMIFS(K$3:K$35,$B$3:$B$35,6,$C$3:$C$35,2.5)*0.001 -> 0 | E55: =SUMIFS(L$3:L$35,$B$3:$B$35,6,$C$3:$C$35,2.5)*0.001 -> 0 | F55: =SUMIFS(M$3:M$35,$B$3:$B$35,6,$C$3:$C$35,2.5)*0.001 -> 0

Sheet Квартира 4
A1: ='Исходные данные'!A28 -> Квартира 4 | B1: ДАННЫЕ В ТАБЛИЦЕ НЕ МЕНЯТЬ!
A2: Наименование потребителя | B2: № группы подк | C2: Сеч. провода | D2: Кол-во уст. изд/ Длина кабеля, мм | E2: Выпуск для подкл, мм | F2: Опуск провода, верт, мм | G2: Стяжка пола, мм | H2: Подъем провода верт, мм | I2: Запас провода | J2: Подкл. к ЩК, мм | K2: Итого длина провода бел, мм | L2: Итого длина провода син, мм | M2: Итого длина провода ж/з, мм
A3: Розетки холла | B3: 4 | C3: 2.5 | D3: 2 | E3: 150 | F3: 300 | G3: 200 | H3: 300 | I3: 1.1 | J3: 2300 | K3: =(($H3+$E3+$F3+$G3)*$D3+$J3)*$I3 -> 4620 | L3: =(($H3+$E3+$F3+$G3)*$D3+$J3)*$I3 -> 4620 | M3: =(($H3+$E3+$F3+$G3)*$D3+E3+$J3)*$I3 -> 4785 | N3: учтен дополнительный выпуск на двойные розетки
A4: Розетки в шкафу СС | B4: 4 | C4: 2.5 | D4: 2 | E4: 400 | I4: 1.1 | J4: 1200 | K4: =(($H4+$E4+$F4+$G4)*$D4+$J4)*$I4 -> 2200 | L4: =(($H4+$E4+$F4+$G4)*$D4+$J4)*$I4 -> 2200 | M4: =(($H4+$E4+$F4+$G4)*$D4+$J4)*$I4 -> 2200 | N4: перемычка для розеток внутри щита 400 мм
A5: Розетки двойные на фартуке кухни | B5: 4 | C5: 2.5 | D5: 2 | E5: 400 | F5: 1050 | G5: 200 | H5: 1050 | I5: 1.1 | K5: =(($H5+$E5+$F5+$G5)*$D5+$J5)*$I5 -> 5940 | L5: =(($H5+$E5+$F5+$G5)*$D5+$J5)*$I5 -> 5940 | M5: =(($H5+$E5+$F5+$G5)*$D5+E5+$J5)*$I5 -> 6380 | N5: учтен дополнительный выпуск на двойные розетки
A6: Розетка кухни под плиту | B6: 2 | C6: 6 | D6: 1 | E6: 150 | G6: 100 | H6: 300 | I6: 1.1 | J6: 2300 | K6: =(($H6+$E6+$F6+$G6)*$D6+$J6)*$I6 -> 3135 | L6: =(($H6+$E6+$F6+$G6)*$D6+$J6)*$I6 -> 3135 | M6: =(($H6+$E6+$F6+$G6)*$D6+$J6)*$I6 -> 3135
A7: Розетка кухни под вытяжку | B7: 4 | C7: 2.5 | D7: 1 | E7: 150 | F7: 2550 | G7: 100 | H7: 2550 | I7: 1.1 | K7: =(($H7+$E7+$F7+$G7)*$D7+$J7)*$I7 -> 5885 | L7: =(($H7+$E7+$F7+$G7)*$D7+$J7)*$I7 -> 5885 | M7: =(($H7+$E7+$F7+$G7)*$D7+$J7)*$I7 -> 5885
A8: Розетка кухни под ТВ | B8: 4 | C8: 2.5 | D8: 1 | E8: 400 | G8: 100 | H8: 1500 | I8: 1.1 | K8: =(($H8+$E8+$F8+$G8)*$D8+$J8)*$I8 -> 2200 | L8: =(($H8+$E8+$F8+$G8)*$D8+$J8)*$I8 -> 2200 | M8: =(($H8+$E8+$F8+$G8)*$D8+$J8)*$I8 -> 2200
A9: Розетка кухни под холодильник | B9: 4 | C9: 2.5 | D9: 1 | E9: 150 | F9: 300 | G9: 100 | H9: 300 | I9: 1.1 | K9: =(($H9+$E9+$F9+$G9)*$D9+$J9)*$I9 -> 935 | L9: =(($H9+$E9+$F9+$G9)*$D9+$J9)*$I9 -> 935 | M9: =(($H9+$E9+$F9+$G9)*$D9+$J9)*$I9 -> 935
A10: Розетка кухни около стола | B10: 4 | C10: 2.5 | D10: 1 | E10: 400 | F10: 300 | G10: 100 | H10: 300 | I10: 1.1 | K10: =(($H10+$E10+$F10+$G10)*$D10+$J10)*$I10 -> 1210 | L10: =(($H10+$E10+$F10+$G10)*$D10+$J10)*$I10 -> 1210 | M10: =(($H10+$E10+$F10+$G10)*$D10+$J10)*$I10 -> 1210
A11: Розетки в комнатах одинарные | B11: 3 | C11: 2.5 | D11: ='Исходные данные'!B29 -> 0 | E11: 150 | F11: 300 | G11: 200 | H11: 300 | I11: 1.1 | J11: 2300 | K11: =(($H11+$E11+$F11+$G11)*$D11+$J11)*$I11 -> 2530 | L11: =(($H11+$E11+$F11+$G11)*$D11+$J11)*$I11 -> 2530 | M11: =(($H11+$E11+$F11+$G11)*$D11+E11+$J11)*$I11 -> 2695 | N11: учтен дополнительный выпуск на двойные розетки
A12: Розетки в комнатах двойные | B12: 3 | C12: 2.5 | D12: ='Исходные данные'!C29 -> 0 | E12: 400 | F12: 300 | G12: 200 | H12: 300 | I12: 1.1 | K12: =(($H12+$E12+$F12+$G12)*$D12+$J12)*$I12 -> 0 | L12: =(($H12+$E12+$F12+$G12)*$D12+$J12)*$I12 -> 0 | M12: =(($H12+$E12+$F12+$G12)*$D12+E12+$J12)*$I12 -> 440 | N12: учтен дополнительный выпуск на двойные розетки
A13: Розетка с/у под стир. машину | B13: 5 | C13: 2.5 | D13: 1 | E13: 150 | F13: 1600 | G13: 100 | H13: 1600 | I13: 1.1 | J13: 1300 | K13: =(($H13+$E13+$F13+$G13)*$D13+$J13)*$I13 -> 5225 | L13: =(($H13+$E13+$F13+$G13)*$D13+$J13)*$I13 -> 5225 | M13: =(($H13+$E13+$F13+$G13)*$D13+$J13)*$I13 -> 5225
A14: Розетка с/у бытовая | B14: 5 | C14: 2.5 | D14: ='Исходные данные'!D29 -> 0 | E14: 150 | F14: 1600 | G14: 100 | H14: 1600 | I14: 1.1 | K14: =(($H14+$E14+$F14+$G14)*$D14+$J14)*$I14 -> 0 | L14: =(($H14+$E14+$F14+$G14)*$D14+$J14)*$I14 -> 0 | M14: =(($H14+$E14+$F14+$G14)*$D14+$J14)*$I14 -> 0
A15: Розетка с/у под эл.полотенцесуш. | B15: 5 | C15: 2.5 | D15: ='Исходные данные'!E29 -> 0 | E15: 150 | F15: 1600 | G15: 100 | H15: 1600 | I15: 1.1 | K15: =(($H15+$E15+$F15+$G15)*$D15+$J15)*$I15 -> 0 | L15: =(($H15+$E15+$F15+$G15)*$D15+$J15)*$I15 -> 0 | M15: =(($H15+$E15+$F15+$G15)*$D15+$J15)*$I15 -> 0
A16: Выключатель одноклавишный | B16: 1 | C16: 1.5 | D16: ='Исходные данные'!F29 -> 0 | E16: 150 | H16: 1800 | I16: 1.1 | J16: 1300 | K16: =IF(D16=0,0,IF(D16>0,((H16+E16+F16)*D16)*2)+J16)*I16 -> 0
A17: Выключатель двуклавишный | B17: 1 | C17: 1.5 | D17: ='Исходные данные'!G29 -> 0 | E17: 150 | H17: 1800 | I17: 1.1 | K17: =((((H17+E17+F17)*D17)*3)+J17)*I17 -> 0
A18: Переключатель проходной | B18: 1 | C18: 1.5 | D18: ='Исходные данные'!H29 -> 0 | E18: 150 | H18: 1800 | I18: 1.1 | K18: =((((H18+E18+F18)*D18)*3)+J18)*I18 -> 0 | N18: добавлены проходные переключатели
A19: Кол-во светильников в холле | B19: 1 | C19: 1.5 | D19: ='Исходные данные'!I29 -> 0 | E19: 350 | I19: 1.1 | K19: =((H19+E19+F19)*D19+J19)*I19 -> 0 | L19: =(($H19+$E19+$F19)*$D19+$J19)*$I19 -> 0 | M19: =(($H19+$E19+$F19)*$D19+$J19)*$I19 -> 0 | N19: выпуск к светильнику 200 мм + выпуск на распаечную коробку 150 мм
A20: Кол-во люстр трехрожковых | B20: 1 | C20: 1.5 | D20: 1 | E20: 350 | I20: 1.1 | K20: =((H20+E20+F20)*D20+J20)*I20 -> 385 | L20: =(($H20+$E20+$F20)*$D20+$J20)*$I20 -> 385 | M20: =(($H20+$E20+$F20)*$D20+$J20)*$I20 -> 385 | N20: выпуск к светильнику 200 мм + выпуск на распаечную коробку 150 мм
A21: Кол-во люстр пятирожковых | B21: 1 | C21: 1.5 | D21: ='Исходные данные'!J29 -> 0 | E21: 350 | I21: 1.1 | K21: =((H21+E21+F21)*D21+J21)*I21 -> 0 | L21: =(($H21+$E21+$F21)*$D21+$J21)*$I21 -> 0 | M21: =(($H21+$E21+$F21)*$D21+$J21)*$I21 -> 0 | N21: выпуск к светильнику 200 мм + выпуск на распаечную коробку 150 мм
A22: Кол-во светильников в с/у | B22: 5 | C22: 2.5 | D22: ='Исходные данные'!K29 -> 0 | E22: 350 | I22: 1.1 | K22: =((H22+E22+F22)*D22+J22)*I22 -> 0 | L22: =(($H22+$E22+$F22)*$D22+$J22)*$I22 -> 0 | M22: =(($H22+$E22+$F22)*$D22+$J22)*$I22 -> 0 | N22: выпуск к светильнику 200 мм + выпуск на распаечную коробку 150 мм
A23: Кол-во бра в с/у | B23: 5 | C23: 2.5 | D23: 1 | E23: 350 | H23: 500 | I23: 1.1 | K23: =((H23+E23+F23)*D23+J23)*I23 -> 935 | L23: =(($H23+$E23+$F23)*$D23+$J23)*$I23 -> 935 | M23: =(($H23+$E23+$F23)*$D23+$J23)*$I23 -> 935 | N23: выпуск к светильнику 200 мм + выпуск на распаечную коробку 150 мм
A24: Длина провода в перекрытии гр.1 | B24: 1 | C24: 1.5 | D24: ='Исходные данные'!L29 -> 0 | I24: 1.1 | K24: =$D24*$I24 -> 0 | L24: =$D24*$I24 -> 0 | M24: =$D24*$I24 -> 0
A25: Длина провода в стяжке пола гр.2 | B25: 2 | C25: 6 | D25: ='Исходные данные'!M29 -> 0 | I25: 1.1 | K25: =$D25*$I25 -> 0 | L25: =$D25*$I25 -> 0 | M25: =$D25*$I25 -> 0
A26: Длина провода в стяжке пола гр.3 | B26: 3 | C26: 2.5 | D26: ='Исходные данные'!N29 -> 0 | I26: 1.1 | K26: =$D26*$I26 -> 0 | L26: =$D26*$I26 -> 0 | M26: =$D26*$I26 -> 0
A27: Длина провода в стяжке пола гр.4 | B27: 4 | C27: 2.5 | D27: ='Исходные данные'!O29 -> 0 | I27: 1.1 | K27: =$D27*$I27 -> 0 | L27: =$D27*$I27 -> 0 | M27: =$D27*$I27 -> 0
A28: Длина провода в перекрытии гр.5 | B28: 5 | C28: 2.5 | D28: ='Исходные данные'!P29 -> 0 | I28: 1.1 | K28: =$D28*$I28 -> 0 | L28: =$D28*$I28 -> 0 | M28: =$D28*$I28 -> 0
A29: Длина провода в перекрытии гр.6 | B29: 6 | C29: 2.5 | D29: ='Исходные данные'!Q29 -> 0 | I29: 1.1 | K29: =$D29*$I29 -> 0 | L29: =$D29*$I29 -> 0 | M29: =$D29*$I29 -> 0
A30: Провод на звонок | B30: 1 | C30: 1.5 | D30: 1 | E30: 100 | H30: 1300 | I30: 1.1 | K30: =((H30+E30+F30)*D30+J30)*I30 -> 1540 | L30: =(($H30+$E30+$F30)*$D30+$J30)*$I30 -> 1540 | M30: =(($H30+$E30+$F30)*$D30+$J30)*$I30 -> 1540
A31: Кнопка звонка | B31: 1 | C31: 1.5 | D31: 1 | E31: 100 | H31: 1300 | I31: 1.1 | K31: =((H31+E31+F31)*D31+J31)*I31 -> 1540 | L31: =(($H31+$E31+$F31)*$D31+$J31)*$I31 -> 1540 | M31: =(($H31+$E31+$F31)*$D31+$J31)*$I31 -> 1540
A32: Кол-во вентиляторов ОВ | B32: 6 | C32: 2.5 | D32: ='Исходные данные'!R29 -> 0 | E32: 150 | H32: 600 | I32: 1.1 | J32: 1300 | K32: =IF($D32=0,0,IF($D32>0,(($H32+$E32+$F32)*$D32+$J32)*$I32)) -> 0 | L32: =IF($D32=0,0,IF($D32>0,(($H32+$E32+$F32)*$D32+$J32)*$I32)) -> 0 | M32: =IF($D32=0,0,IF($D32>0,(($H32+$E32+$F32)*$D32+$J32)*$I32)) -> 0
A33: Выключатель для вытяжки | B33: 6 | C33: 2.5 | D33: =D32 -> 0 | E33: 150 | H33: 1800 | I33: 1.1 | K33: =((((H33+E33+F33)*D33)*3)+J33)*I33 -> 0
A34: Провод от КУП до ванны и труб | B34: 5 | C34: 4 | D34: 6000 | I34: 1.1 | M34: =D34 -> 6000
A35: Провод к КУП и от КУП до розетки | B35: 5 | C35: 2.5 | D35: ='Исходные данные'!S29 -> 0 | E35: 100 | F35: 10000 | H35: 1500 | I35: 1.1 | J35: 1300 | M35: =(D35+E35+H35+J35+F35)*I35 -> 14190
A38: Квартира 1. Без принудительной вентиляцией. Суммарное значение провода
A39: Наименование группы | B39: № группы подк | C39: Сеч. провода | D39: Провод белый, м | E39: Провод синий, м | F39: Провод ж/з, м
A40: Группа освещения | B40: 1 | C40: 1.5 | D40: =SUMIFS(K$3:K$35,$B$3:$B$35,1,$C$3:$C$35,1.5)*0.001 -> 3.465 | E40: =SUMIFS(L$3:L$35,$B$3:$B$35,1,$C$3:$C$35,1.5)*0.001 -> 3.465 | F40: =SUMIFS(M$3:M$35,$B$3:$B$35,1,$C$3:$C$35,1.5)*0.001 -> 3.465
A41: Группа плиты | B41: 2 | C41: 6 | D41: =SUMIFS(K$3:K$35,$B$3:$B$35,2,$C$3:$C$35,6)*0.001 -> 3.135 | E41: =SUMIFS(L$3:L$35,$B$3:$B$35,2,$C$3:$C$35,6)*0.001 -> 3.135 | F41: =SUMIFS(M$3:M$35,$B$3:$B$35,2,$C$3:$C$35,6)*0.001 -> 3.135
A42: Розеточная группа комнат | B42: 3 | C42: 2.5 | D42: =SUMIFS(K$3:K$35,$B$3:$B$35,3,$C$3:$C$35,2.5)*0.001 -> 2.53 | E42: =SUMIFS(L$3:L$35,$B$3:$B$35,3,$C$3:$C$35,2.5)*0.001 -> 2.53 | F42: =SUMIFS(M$3:M$35,$B$3:$B$35,3,$C$3:$C$35,2.5)*0.001 -> 3.135
A43: Розеточная группа кухни и коридора | B43: 4 | C43: 2.5 | D43: =SUMIFS(K$3:K$35,$B$3:$B$35,4,$C$3:$C$35,2.5)*0.001 -> 22.99 | E43: =SUMIFS(L$3:L$35,$B$3:$B$35,4,$C$3:$C$35,2.5)*0.001 -> 22.99 | F43: =SUMIFS(M$3:M$35,$B$3:$B$35,4,$C$3:$C$35,2.5)*0.001 -> 23.595
A44: Электрооборудование СУ | B44: 5 | C44: 2.5 | D44: =SUMIFS(K$3:K$35,$B$3:$B$35,5,$C$3:$C$35,2.5)*0.001 -> 6.16 | E44: =SUMIFS(L$3:L$35,$B$3:$B$35,5,$C$3:$C$35,2.5)*0.001 -> 6.16 | F44: =SUMIFS(M$3:M$35,$B$3:$B$35,5,$C$3:$C$35,2.5)*0.001 -> 20.35
C45: 4 | F45: =SUMIFS(M$3:M$35,$B$3:$B$35,5,$C$3:$C$35,4)*0.001 -> 6
A47: Квартира 1. С принудительной вентиляцией. Суммарное значение провода
A48: Наименование группы | B48: № группы подк | C48: Сеч. провода | D48: Провод белый, м | E48: Провод синий, м | F48: Провод ж/з, м
A49: Группа освещения | B49: 1 | C49: 1.5 | D49: =SUMIFS(K$3:K$35,$B$3:$B$35,1,$C$3:$C$35,1.5)*0.001 -> 3.465 | E49: =SUMIFS(L$3:L$35,$B$3:$B$35,1,$C$3:$C$35,1.5)*0.001 -> 3.465 | F49: =SUMIFS(M$3:M$35,$B$3:$B$35,1,$C$3:$C$35,1.5)*0.001 -> 3.465
A50: Группа плиты | B50: 2 | C50: 6 | D50: =SUMIFS(K$3:K$35,$B$3:$B$35,2,$C$3:$C$35,6)*0.001 -> 3.135 | E50: =SUMIFS(L$3:L$35,$B$3:$B$35,2,$C$3:$C$35,6)*0.001 -> 3.135 | F50: =SUMIFS(M$3:M$35,$B$3:$B$35,2,$C$3:$C$35,6)*0.001 -> 3.135
A51: Розеточная группа комнат | B51: 3 | C51: 2.5 | D51: =SUMIFS(K$3:K$35,$B$3:$B$35,3,$C$3:$C$35,2.5)*0.001 -> 2.53 | E51: =SUMIFS(L$3:L$35,$B$3:$B$35,3,$C$3:$C$35,2.5)*0.001 -> 2.53 | F51: =SUMIFS(M$3:M$35,$B$3:$B$35,3,$C$3:$C$35,2.5)*0.001 -> 3.135
A52: Розеточная группа кухни и коридора | B52: 4 | C52: 2.5 | D52: =SUMIFS(K$3:K$35,$B$3:$B$35,4,$C$3:$C$35,2.5)*0.001 -> 22.99 | E52: =SUMIFS(L$3:L$35,$B$3:$B$35,4,$C$3:$C$35,2.5)*0.001 -> 22.99 | F52: =SUMIFS(M$3:M$35,$B$3:$B$35,4,$C$3:$C$35,2.5)*0.001 -> 23.595
A53: Электрооборудование СУ | B53: 5 | C53: 2.5 | D53: =SUMIFS(K$3:K$35,$B$3:$B$35,5,$C$3:$C$35,2.5)*0.001 -> 6.16 | E53: =SUMIFS(L$3:L$35,$B$3:$B$35,5,$C$3:$C$35,2.5)*0.001 -> 6.16 | F53: =SUMIFS(M$3:M$35,$B$3:$B$35,5,$C$3:$C$35,2.5)*0.001 -> 20.35
C54: 4 | F54: =SUMIFS(M$3:M$35,$B$3:$B$35,5,$C$3:$C$35,4)*0.001 -> 6
A55: Вентиляция | B55: 6 | C55: 2.5 | D55: =SUMIFS(K$3:K$35,$B$3:$B$35,6,$C$3:$C$35,2.5)*0.001 -> 0 | E55: =SUMIFS(L$3:L$35,$B$3:$B$35,6,$C$3:$C$35,2.5)*0.001 -> 0 | F55: =SUMIFS(M$3:M$35,$B$3:$B$35,6,$C$3:$C$35,2.5)*0.001 -> 0

Sheet Квартира 5
A1: ='Исходные данные'!A31 -> Квартира 5 | B1: ДАННЫЕ В ТАБЛИЦЕ НЕ МЕНЯТЬ!
A2: Наименование потребителя | B2: № группы подк | C2: Сеч. провода | D2: Кол-во уст. изд/ Длина кабеля, мм | E2: Выпуск для подкл, мм | F2: Опуск провода, верт, мм | G2: Стяжка пола, мм | H2: Подъем провода верт, мм | I2: Запас провода | J2: Подкл. к ЩК, мм | K2: Итого длина провода бел, мм | L2: Итого длина провода син, мм | M2: Итого длина провода ж/з, мм
A3: Розетки холла | B3: 4 | C3: 2.5 | D3: 2 | E3: 150 | F3: 300 | G3: 200 | H3: 300 | I3: 1.1 | J3: 2300 | K3: =(($H3+$E3+$F3+$G3)*$D3+$J3)*$I3 -> 4620 | L3: =(($H3+$E3+$F3+$G3)*$D3+$J3)*$I3 -> 4620 | M3: =(($H3+$E3+$F3+$G3)*$D3+E3+$J3)*$I3 -> 4785 | N3: учтен дополнительный выпуск на двойные розетки
A4: Розетки в шкафу СС | B4: 4 | C4: 2.5 | D4: 2 | E4: 400 | I4: 1.1 | J4: 1200 | K4: =(($H4+$E4+$F4+$G4)*$D4+$J4)*$I4 -> 2200 | L4: =(($H4+$E4+$F4+$G4)*$D4+$J4)*$I4 -> 2200 | M4: =(($H4+$E4+$F4+$G4)*$D4+$J4)*$I4 -> 2200 | N4: перемычка для розеток внутри щита 400 мм
A5: Розетки двойные на фартуке кухни | B5: 4 | C5: 2.5 | D5: 2 | E5: 400 | F5: 1050 | G5: 200 | H5: 1050 | I5: 1.1 | K5: =(($H5+$E5+$F5+$G5)*$D5+$J5)*$I5 -> 5940 | L5: =(($H5+$E5+$F5+$G5)*$D5+$J5)*$I5 -> 5940 | M5: =(($H5+$E5+$F5+$G5)*$D5+E5+$J5)*$I5 -> 6380 | N5: учтен дополнительный выпуск на двойные розетки
A6: Розетка кухни под плиту | B6: 2 | C6: 6 | D6: 1 | E6: 150 | G6: 100 | H6: 300 | I6: 1.1 | J6: 2300 | K6: =(($H6+$E6+$F6+$G6)*$D6+$J6)*$I6 -> 3135 | L6: =(($H6+$E6+$F6+$G6)*$D6+$J6)*$I6 -> 3135 | M6: =(($H6+$E6+$F6+$G6)*$D6+$J6)*$I6 -> 3135
A7: Розетка кухни под вытяжку | B7: 4 | C7: 2.5 | D7: 1 | E7: 150 | F7: 2550 | G7: 100 | H7: 2550 | I7: 1.1 | K7: =(($H7+$E7+$F7+$G7)*$D7+$J7)*$I7 -> 5885 | L7: =(($H7+$E7+$F7+$G7)*$D7+$J7)*$I7 -> 5885 | M7: =(($H7+$E7+$F7+$G7)*$D7+$J7)*$I7 -> 5885
A8: Розетка кухни под ТВ | B8: 4 | C8: 2.5 | D8: 1 | E8: 400 | G8: 100 | H8: 1500 | I8: 1.1 | K8: =(($H8+$E8+$F8+$G8)*$D8+$J8)*$I8 -> 2200 | L8: =(($H8+$E8+$F8+$G8)*$D8+$J8)*$I8 -> 2200 | M8: =(($H8+$E8+$F8+$G8)*$D8+$J8)*$I8 -> 2200
A9: Розетка кухни под холодильник | B9: 4 | C9: 2.5 | D9: 1 | E9: 150 | F9: 300 | G9: 100 | H9: 300 | I9: 1.1 | K9: =(($H9+$E9+$F9+$G9)*$D9+$J9)*$I9 -> 935 | L9: =(($H9+$E9+$F9+$G9)*$D9+$J9)*$I9 -> 935 | M9: =(($H9+$E9+$F9+$G9)*$D9+$J9)*$I9 -> 935
A10: Розетка кухни около стола | B10: 4 | C10: 2.5 | D10: 1 | E10: 400 | F10: 300 | G10: 100 | H10: 300 | I10: 1.1 | K10: =(($H10+$E10+$F10+$G10)*$D10+$J10)*$I10 -> 1210 | L10: =(($H10+$E10+$F10+$G10)*$D10+$J10)*$I10 -> 1210 | M10: =(($H10+$E10+$F10+$G10)*$D10+$J10)*$I10 -> 1210
A11: Розетки в комнатах одинарные | B11: 3 | C11: 2.5 | D11: ='Исходные данные'!B32 -> 0 | E11: 150 | F11: 300 | G11: 200 | H11: 300 | I11: 1.1 | J11: 2300 | K11: =(($H11+$E11+$F11+$G11)*$D11+$J11)*$I11 -> 2530 | L11: =(($H11+$E11+$F11+$G11)*$D11+$J11)*$I11 -> 2530 | M11: =(($H11+$E11+$F11+$G11)*$D11+E11+$J11)*$I11 -> 2695 | N11: учтен дополнительный выпуск на двойные розетки
A12: Розетки в комнатах двойные | B12: 3 | C12: 2.5 | D12: ='Исходные данные'!C32 -> 0 | E12: 400 | F12: 300 | G12: 200 | H12: 300 | I12: 1.1 | K12: =(($H12+$E12+$F12+$G12)*$D12+$J12)*$I12 -> 0 | L12: =(($H12+$E12+$F12+$G12)*$D12+$J12)*$I12 -> 0 | M12: =(($H12+$E12+$F12+$G12)*$D12+E12+$J12)*$I12 -> 440 | N12: учтен дополнительный выпуск на двойные розетки
A13: Розетка с/у под стир. машину | B13: 5 | C13: 2.5 | D13: 1 | E13: 150 | F13: 1600 | G13: 100 | H13: 1600 | I13: 1.1 | J13: 1300 | K13: =(($H13+$E13+$F13+$G13)*$D13+$J13)*$I13 -> 5225 | L13: =(($H13+$E13+$F13+$G13)*$D13+$J13)*$I13 -> 5225 | M13: =(($H13+$E13+$F13+$G13)*$D13+$J13)*$I13 -> 5225
A14: Розетка с/у бытовая | B14: 5 | C14: 2.5 | D14: ='Исходные данные'!D32 -> 0 | E14: 150 | F14: 1600 | G14: 100 | H14: 1600 | I14: 1.1 | K14: =(($H14+$E14+$F14+$G14)*$D14+$J14)*$I14 -> 0 | L14: =(($H14+$E14+$F14+$G14)*$D14+$J14)*$I14 -> 0 | M14: =(($H14+$E14+$F14+$G14)*$D14+$J14)*$I14 -> 0
A15: Розетка с/у под эл.полотенцесуш. | B15: 5 | C15: 2.5 | D15: ='Исходные данные'!E32 -> 0 | E15: 150 | F15: 1600 | G15: 100 | H15: 1600 | I15: 1.1 | K15: =(($H15+$E15+$F15+$G15)*$D15+$J15)*$I15 -> 0 | L15: =(($H15+$E15+$F15+$G15)*$D15+$J15)*$I15 -> 0 | M15: =(($H15+$E15+$F15+$G15)*$D15+$J15)*$I15 -> 0
A16: Выключатель одноклавишный | B16: 1 | C16: 1.5 | D16: ='Исходные данные'!F32 -> 0 | E16: 150 | H16: 1800 | I16: 1.1 | J16: 1300 | K16: =IF(D16=0,0,IF(D16>0,((H16+E16+F16)*D16)*2)+J16)*I16 -> 0
A17: Выключатель двуклавишный | B17: 1 | C17: 1.5 | D17: ='Исходные данные'!G32 -> 0 | E17: 150 | H17: 1800 | I17: 1.1 | K17: =((((H17+E17+F17)*D17)*3)+J17)*I17 -> 0
A18: Переключатель походной | B18: 1 | C18: 1.5 | D18: ='Исходные данные'!H32 -> 0 | E18: 150 | H18: 1800 | I18: 1.1 | K18: =((((H18+E18+F18)*D18)*3)+J18)*I18 -> 0 | N18: добавлены проходные переключатели
A19: Кол-во светильников в холле | B19: 1 | C19: 1.5 | D19: ='Исходные данные'!I32 -> 0 | E19: 350 | I19: 1.1 | K19: =((H19+E19+F19)*D19+J19)*I19 -> 0 | L19: =(($H19+$E19+$F19)*$D19+$J19)*$I19 -> 0 | M19: =(($H19+$E19+$F19)*$D19+$J19)*$I19 -> 0 | N19: выпуск к светильнику 200 мм + выпуск на распаечную коробку 150 мм
A20: Кол-во люстр трехрожковых | B20: 1 | C20: 1.5 | D20: 1 | E20: 350 | I20: 1.1 | K20: =((H20+E20+F20)*D20+J20)*I20 -> 385 | L20: =(($H20+$E20+$F20)*$D20+$J20)*$I20 -> 385 | M20: =(($H20+$E20+$F20)*$D20+$J20)*$I20 -> 385 | N20: выпуск к светильнику 200 мм + выпуск на распаечную коробку 150 мм
A21: Кол-во люстр пятирожковых | B21: 1 | C21: 1.5 | D21: ='Исходные данные'!J32 -> 0 | E21: 350 | I21: 1.1 | K21: =((H21+E21+F21)*D21+J21)*I21 -> 0 | L21: =(($H21+$E21+$F21)*$D21+$J21)*$I21 -> 0 | M21: =(($H21+$E21+$F21)*$D21+$J21)*$I21 -> 0 | N21: выпуск к светильнику 200 мм + выпуск на распаечную коробку 150 мм
A22: Кол-во светильников в с/у | B22: 5 | C22: 2.5 | D22: ='Исходные данные'!K32 -> 0 | E22: 350 | I22: 1.1 | K22: =((H22+E22+F22)*D22+J22)*I22 -> 0 | L22: =(($H22+$E22+$F22)*$D22+$J22)*$I22 -> 0 | M22: =(($H22+$E22+$F22)*$D22+$J22)*$I22 -> 0 | N22: выпуск к светильнику 200 мм + выпуск на распаечную коробку 150 мм
A23: Кол-во бра в с/у | B23: 5 | C23: 2.5 | D23: 1 | E23: 350 | H23: 500 | I23: 1.1 | K23: =((H23+E23+F23)*D23+J23)*I23 -> 935 | L23: =(($H23+$E23+$F23)*$D23+$J23)*$I23 -> 935 | M23: =(($H23+$E23+$F23)*$D23+$J23)*$I23 -> 935 | N23: выпуск к светильнику 200 мм + выпуск на распаечную коробку 150 мм
A24: Длина провода в перекрытии гр.1 | B24: 1 | C24: 1.5 | D24: ='Исходные данные'!L32 -> 0 | I24: 1.1 | K24: =$D24*$I24 -> 0 | L24: =$D24*$I24 -> 0 | M24: =$D24*$I24 -> 0
A25: Длина провода в стяжке пола гр.2 | B25: 2 | C25: 6 | D25: ='Исходные данные'!M32 -> 0 | I25: 1.1 | K25: =$D25*$I25 -> 0 | L25: =$D25*$I25 -> 0 | M25: =$D25*$I25 -> 0
A26: Длина провода в стяжке пола гр.3 | B26: 3 | C26: 2.5 | D26: ='Исходные данные'!N32 -> 0 | I26: 1.1 | K26: =$D26*$I26 -> 0 | L26: =$D26*$I26 -> 0 | M26: =$D26*$I26 -> 0
A27: Длина провода в стяжке пола гр.4 | B27: 4 | C27: 2.5 | D27: ='Исходные данные'!O32 -> 0 | I27: 1.1 | K27: =$D27*$I27 -> 0 | L27: =$D27*$I27 -> 0 | M27: =$D27*$I27 -> 0
A28: Длина провода в перекрытии гр.5 | B28: 5 | C28: 2.5 | D28: ='Исходные данные'!P32 -> 0 | I28: 1.1 | K28: =$D28*$I28 -> 0 | L28: =$D28*$I28 -> 0 | M28: =$D28*$I28 -> 0
A29: Длина провода в перекрытии гр.6 | B29: 6 | C29: 2.5 | D29: ='Исходные данные'!Q32 -> 0 | I29: 1.1 | K29: =$D29*$I29 -> 0 | L29: =$D29*$I29 -> 0 | M29: =$D29*$I29 -> 0
A30: Провод на звонок | B30: 1 | C30: 1.5 | D30: 1 | E30: 100 | H30: 1300 | I30: 1.1 | K30: =((H30+E30+F30)*D30+J30)*I30 -> 1540 | L30: =(($H30+$E30+$F30)*$D30+$J30)*$I30 -> 1540 | M30: =(($H30+$E30+$F30)*$D30+$J30)*$I30 -> 1540
A31: Кнопка звонка | B31: 1 | C31: 1.5 | D31: 1 | E31: 100 | H31: 1300 | I31: 1.1 | K31: =((H31+E31+F31)*D31+J31)*I31 -> 1540 | L31: =(($H31+$E31+$F31)*$D31+$J31)*$I31 -> 1540 | M31: =(($H31+$E31+$F31)*$D31+$J31)*$I31 -> 1540
A32: Кол-во вентиляторов ОВ | B32: 6 | C32: 2.5 | D32: ='Исходные данные'!R32 -> 0 | E32: 150 | H32: 600 | I32: 1.1 | J32: 1300 | K32: =IF($D32=0,0,IF($D32>0,(($H32+$E32+$F32)*$D32+$J32)*$I32)) -> 0 | L32: =IF($D32=0,0,IF($D32>0,(($H32+$E32+$F32)*$D32+$J32)*$I32)) -> 0 | M32: =IF($D32=0,0,IF($D32>0,(($H32+$E32+$F32)*$D32+$J32)*$I32)) -> 0
A33: Выключатель для вытяжки | B33: 6 | C33: 2.5 | D33: =D32 -> 0 | E33: 150 | H33: 1800 | I33: 1.1 | K33: =((((H33+E33+F33)*D33)*3)+J33)*I33 -> 0
A34: Провод от КУП до ванны и труб | B34: 5 | C34: 4 | D34: 6000 | I34: 1.1 | M34: =D34 -> 6000
A35: Провод к КУП и от КУП до розетки | B35: 5 | C35: 2.5 | D35: ='Исходные данные'!S32 -> 0 | E35: 100 | F35: 10000 | H35: 1500 | I35: 1.1 | J35: 1300 | M35: =(D35+E35+H35+J35+F35)*I35 -> 14190
A38: Квартира 1. Без принудительной вентиляцией. Суммарное значение провода
A39: Наименование группы | B39: № группы подк | C39: Сеч. провода | D39: Провод белый, м | E39: Провод синий, м | F39: Провод ж/з, м
A40: Группа освещения | B40: 1 | C40: 1.5 | D40: =SUMIFS(K$3:K$35,$B$3:$B$35,1,$C$3:$C$35,1.5)*0.001 -> 3.465 | E40: =SUMIFS(L$3:L$35,$B$3:$B$35,1,$C$3:$C$35,1.5)*0.001 -> 3.465 | F40: =SUMIFS(M$3:M$35,$B$3:$B$35,1,$C$3:$C$35,1.5)*0.001 -> 3.465
A41: Группа плиты | B41: 2 | C41: 6 | D41: =SUMIFS(K$3:K$35,$B$3:$B$35,2,$C$3:$C$35,6)*0.001 -> 3.135 | E41: =SUMIFS(L$3:L$35,$B$3:$B$35,2,$C$3:$C$35,6)*0.001 -> 3.135 | F41: =SUMIFS(M$3:M$35,$B$3:$B$35,2,$C$3:$C$35,6)*0.001 -> 3.135
A42: Розеточная группа комнат | B42: 3 | C42: 2.5 | D42: =SUMIFS(K$3:K$35,$B$3:$B$35,3,$C$3:$C$35,2.5)*0.001 -> 2.53 | E42: =SUMIFS(L$3:L$35,$B$3:$B$35,3,$C$3:$C$35,2.5)*0.001 -> 2.53 | F42: =SUMIFS(M$3:M$35,$B$3:$B$35,3,$C$3:$C$35,2.5)*0.001 -> 3.135
A43: Розеточная группа кухни и коридора | B43: 4 | C43: 2.5 | D43: =SUMIFS(K$3:K$35,$B$3:$B$35,4,$C$3:$C$35,2.5)*0.001 -> 22.99 | E43: =SUMIFS(L$3:L$35,$B$3:$B$35,4,$C$3:$C$35,2.5)*0.001 -> 22.99 | F43: =SUMIFS(M$3:M$35,$B$3:$B$35,4,$C$3:$C$35,2.5)*0.001 -> 23.595
A44: Электрооборудование СУ | B44: 5 | C44: 2.5 | D44: =SUMIFS(K$3:K$35,$B$3:$B$35,5,$C$3:$C$35,2.5)*0.001 -> 6.16 | E44: =SUMIFS(L$3:L$35,$B$3:$B$35,5,$C$3:$C$35,2.5)*0.001 -> 6.16 | F44: =SUMIFS(M$3:M$35,$B$3:$B$35,5,$C$3:$C$35,2.5)*0.001 -> 20.35
C45: 4 | F45: =SUMIFS(M$3:M$35,$B$3:$B$35,5,$C$3:$C$35,4)*0.001 -> 6
A47: Квартира 1. С принудительной вентиляцией. Суммарное значение провода
A48: Наименование группы | B48: № группы подк | C48: Сеч. провода | D48: Провод белый, м | E48: Провод синий, м | F48: Провод ж/з, м
A49: Группа освещения | B49: 1 | C49: 1.5 | D49: =SUMIFS(K$3:K$35,$B$3:$B$35,1,$C$3:$C$35,1.5)*0.001 -> 3.465 | E49: =SUMIFS(L$3:L$35,$B$3:$B$35,1,$C$3:$C$35,1.5)*0.001 -> 3.465 | F49: =SUMIFS(M$3:M$35,$B$3:$B$35,1,$C$3:$C$35,1.5)*0.001 -> 3.465
A50: Группа плиты | B50: 2 | C50: 6 | D50: =SUMIFS(K$3:K$35,$B$3:$B$35,2,$C$3:$C$35,6)*0.001 -> 3.135 | E50: =SUMIFS(L$3:L$35,$B$3:$B$35,2,$C$3:$C$35,6)*0.001 -> 3.135 | F50: =SUMIFS(M$3:M$35,$B$3:$B$35,2,$C$3:$C$35,6)*0.001 -> 3.135
A51: Розеточная группа комнат | B51: 3 | C51: 2.5 | D51: =SUMIFS(K$3:K$35,$B$3:$B$35,3,$C$3:$C$35,2.5)*0.001 -> 2.53 | E51: =SUMIFS(L$3:L$35,$B$3:$B$35,3,$C$3:$C$35,2.5)*0.001 -> 2.53 | F51: =SUMIFS(M$3:M$35,$B$3:$B$35,3,$C$3:$C$35,2.5)*0.001 -> 3.135
A52: Розеточная группа кухни и коридора | B52: 4 | C52: 2.5 | D52: =SUMIFS(K$3:K$35,$B$3:$B$35,4,$C$3:$C$35,2.5)*0.001 -> 22.99 | E52: =SUMIFS(L$3:L$35,$B$3:$B$35,4,$C$3:$C$35,2.5)*0.001 -> 22.99 | F52: =SUMIFS(M$3:M$35,$B$3:$B$35,4,$C$3:$C$35,2.5)*0.001 -> 23.595
A53: Электрооборудование СУ | B53: 5 | C53: 2.5 | D53: =SUMIFS(K$3:K$35,$B$3:$B$35,5,$C$3:$C$35,2.5)*0.001 -> 6.16 | E53: =SUMIFS(L$3:L$35,$B$3:$B$35,5,$C$3:$C$35,2.5)*0.001 -> 6.16 | F53: =SUMIFS(M$3:M$35,$B$3:$B$35,5,$C$3:$C$35,2.5)*0.001 -> 20.35
C54: 4 | F54: =SUMIFS(M$3:M$35,$B$3:$B$35,5,$C$3:$C$35,4)*0.001 -> 6
A55: Вентиляция | B55: 6 | C55: 2.5 | D55: =SUMIFS(K$3:K$35,$B$3:$B$35,6,$C$3:$C$35,2.5)*0.001 -> 0 | E55: =SUMIFS(L$3:L$35,$B$3:$B$35,6,$C$3:$C$35,2.5)*0.001 -> 0 | F55: =SUMIFS(M$3:M$35,$B$3:$B$35,6,$C$3:$C$35,2.5)*0.001 -> 0

Sheet Квартира 6
A1: ='Исходные данные'!A34 -> Квартира 6 | B1: ДАННЫЕ В ТАБЛИЦЕ НЕ МЕНЯТЬ!
A2: Наименование потребителя | B2: № группы подк | C2: Сеч. провода | D2: Кол-во уст. изд/ Длина кабеля, мм | E2: Выпуск для подкл, мм | F2: Опуск провода, верт, мм | G2: Стяжка пола, мм | H2: Подъем провода верт, мм | I2: Запас провода | J2: Подкл. к ЩК, мм | K2: Итого длина провода бел, мм | L2: Итого длина провода син, мм | M2: Итого длина провода ж/з, мм
A3: Розетки холла | B3: 4 | C3: 2.5 | D3: 2 | E3: 150 | F3: 300 | G3: 200 | H3: 300 | I3: 1.1 | J3: 2300 | K3: =(($H3+$E3+$F3+$G3)*$D3+$J3)*$I3 -> 4620 | L3: =(($H3+$E3+$F3+$G3)*$D3+$J3)*$I3 -> 4620 | M3: =(($H3+$E3+$F3+$G3)*$D3+E3+$J3)*$I3 -> 4785 | N3: учтен дополнительный выпуск на двойные розетки
A4: Розетки в шкафу СС | B4: 4 | C4: 2.5 | D4: 2 | E4: 400 | I4: 1.1 | J4: 1200 | K4: =(($H4+$E4+$F4+$G4)*$D4+$J4)*$I4 -> 2200 | L4: =(($H4+$E4+$F4+$G4)*$D4+$J4)*$I4 -> 2200 | M4: =(($H4+$E4+$F4+$G4)*$D4+$J4)*$I4 -> 2200 | N4: перемычка для розеток внутри щита 400 мм
A5: Розетки двойные на фартуке кухни | B5: 4 | C5: 2.5 | D5: 2 | E5: 400 | F5: 1050 | G5: 200 | H5: 1050 | I5: 1.1 | K5: =(($H5+$E5+$F5+$G5)*$D5+$J5)*$I5 -> 5940 | L5: =(($H5+$E5+$F5+$G5)*$D5+$J5)*$I5 -> 5940 | M5: =(($H5+$E5+$F5+$G5)*$D5+E5+$J5)*$I5 -> 6380 | N5: учтен дополнительный выпуск на двойные розетки
A6: Розетка кухни под плиту | B6: 2 | C6: 6 | D6: 1 | E6: 150 | G6: 100 | H6: 300 | I6: 1.1 | J6: 2300 | K6: =(($H6+$E6+$F6+$G6)*$D6+$J6)*$I6 -> 3135 | L6: =(($H6+$E6+$F6+$G6)*$D6+$J6)*$I6 -> 3135 | M6: =(($H6+$E6+$F6+$G6)*$D6+$J6)*$I6 -> 3135
A7: Розетка кухни под вытяжку | B7: 4 | C7: 2.5 | D7: 1 | E7: 150 | F7: 2550 | G7: 100 | H7: 2550 | I7: 1.1 | K7: =(($H7+$E7+$F7+$G7)*$D7+$J7)*$I7 -> 5885 | L7: =(($H7+$E7+$F7+$G7)*$D7+$J7)*$I7 -> 5885 | M7: =(($H7+$E7+$F7+$G7)*$D7+$J7)*$I7 -> 5885
A8: Розетка кухни под ТВ | B8: 4 | C8: 2.5 | D8: 1 | E8: 400 | G8: 100 | H8: 1500 | I8: 1.1 | K8: =(($H8+$E8+$F8+$G8)*$D8+$J8)*$I8 -> 2200 | L8: =(($H8+$E8+$F8+$G8)*$D8+$J8)*$I8 -> 2200 | M8: =(($H8+$E8+$F8+$G8)*$D8+$J8)*$I8 -> 2200
A9: Розетка кухни под холодильник | B9: 4 | C9: 2.5 | D9: 1 | E9: 150 | F9: 300 | G9: 100 | H9: 300 | I9: 1.1 | K9: =(($H9+$E9+$F9+$G9)*$D9+$J9)*$I9 -> 935 | L9: =(($H9+$E9+$F9+$G9)*$D9+$J9)*$I9 -> 935 | M9: =(($H9+$E9+$F9+$G9)*$D9+$J9)*$I9 -> 935
A10: Розетка кухни около стола | B10: 4 | C10: 2.5 | D10: 1 | E10: 400 | F10: 300 | G10: 100 | H10: 300 | I10: 1.1 | K10: =(($H10+$E10+$F10+$G10)*$D10+$J10)*$I10 -> 1210 | L10: =(($H10+$E10+$F10+$G10)*$D10+$J10)*$I10 -> 1210 | M10: =(($H10+$E10+$F10+$G10)*$D10+$J10)*$I10 -> 1210
A11: Розетки в комнатах одинарные | B11: 3 | C11: 2.5 | D11: ='Исходные данные'!B35 -> 0 | E11: 150 | F11: 300 | G11: 200 | H11: 300 | I11: 1.1 | J11: 2300 | K11: =(($H11+$E11+$F11+$G11)*$D11+$J11)*$I11 -> 2530 | L11: =(($H11+$E11+$F11+$G11)*$D11+$J11)*$I11 -> 2530 | M11: =(($H11+$E11+$F11+$G11)*$D11+E11+$J11)*$I11 -> 2695 | N11: учтен дополнительный выпуск на двойные розетки
A12: Розетки в комнатах двойные | B12: 3 | C12: 2.5 | D12: ='Исходные данные'!C35 -> 0 | E12: 400 | F12: 300 | G12: 200 | H12: 300 | I12: 1.1 | K12: =(($H12+$E12+$F12+$G12)*$D12+$J12)*$I12 -> 0 | L12: =(($H12+$E12+$F12+$G12)*$D12+$J12)*$I12 -> 0 | M12: =(($H12+$E12+$F12+$G12)*$D12+E12+$J12)*$I12 -> 440 | N12: учтен дополнительный выпуск на двойные розетки
A13: Розетка с/у под стир. машину | B13: 5 | C13: 2.5 | D13: 1 | E13: 150 | F13: 1600 | G13: 100 | H13: 1600 | I13: 1.1 | J13: 1300 | K13: =(($H13+$E13+$F13+$G13)*$D13+$J13)*$I13 -> 5225 | L13: =(($H13+$E13+$F13+$G13)*$D13+$J13)*$I13 -> 5225 | M13: =(($H13+$E13+$F13+$G13)*$D13+$J13)*$I13 -> 5225
A14: Розетка с/у бытовая | B14: 5 | C14: 2.5 | D14: ='Исходные данные'!D35 -> 0 | E14: 150 | F14: 1600 | G14: 100 | H14: 1600 | I14: 1.1 | K14: =(($H14+$E14+$F14+$G14)*$D14+$J14)*$I14 -> 0 | L14: =(($H14+$E14+$F14+$G14)*$D14+$J14)*$I14 -> 0 | M14: =(($H14+$E14+$F14+$G14)*$D14+$J14)*$I14 -> 0
A15: Розетка с/у под эл.полотенцесуш. | B15: 5 | C15: 2.5 | D15: ='Исходные данные'!E35 -> 0 | E15: 150 | F15: 1600 | G15: 100 | H15: 1600 | I15: 1.1 | K15: =(($H15+$E15+$F15+$G15)*$D15+$J15)*$I15 -> 0 | L15: =(($H15+$E15+$F15+$G15)*$D15+$J15)*$I15 -> 0 | M15: =(($H15+$E15+$F15+$G15)*$D15+$J15)*$I15 -> 0
A16: Выключатель одноклавишный | B16: 1 | C16: 1.5 | D16: ='Исходные данные'!F35 -> 0 | E16: 150 | H16: 1800 | I16: 1.1 | J16: 1300 | K16: =IF(D16=0,0,IF(D16>0,((H16+E16+F16)*D16)*2)+J16)*I16 -> 0
A17: Выключатель двуклавишный | B17: 1 | C17: 1.5 | D17: ='Исходные данные'!G35 -> 0 | E17: 150 | H17: 1800 | I17: 1.1 | K17: =((((H17+E17+F17)*D17)*3)+J17)*I17 -> 0
A18: Переключатель проходной | B18: 1 | C18: 1.5 | D18: ='Исходные данные'!H36 -> 0 | E18: 150 | H18: 1800 | I18: 1.1 | K18: =((((H18+E18+F18)*D18)*3)+J18)*I18 -> 0 | N18: добавлены проходные переключатели
A19: Кол-во светильников в холле | B19: 1 | C19: 1.5 | D19: ='Исходные данные'!I35 -> 0 | E19: 350 | I19: 1.1 | K19: =((H19+E19+F19)*D19+J19)*I19 -> 0 | L19: =(($H19+$E19+$F19)*$D19+$J19)*$I19 -> 0 | M19: =(($H19+$E19+$F19)*$D19+$J19)*$I19 -> 0 | N19: выпуск к светильнику 200 мм + выпуск на распаечную коробку 150 мм
A20: Кол-во люстр трехрожковых | B20: 1 | C20: 1.5 | D20: 1 | E20: 350 | I20: 1.1 | K20: =((H20+E20+F20)*D20+J20)*I20 -> 385 | L20: =(($H20+$E20+$F20)*$D20+$J20)*$I20 -> 385 | M20: =(($H20+$E20+$F20)*$D20+$J20)*$I20 -> 385 | N20: выпуск к светильнику 200 мм + выпуск на распаечную коробку 150 мм
A21: Кол-во люстр пятирожковых | B21: 1 | C21: 1.5 | D21: ='Исходные данные'!J35 -> 0 | E21: 350 | I21: 1.1 | K21: =((H21+E21+F21)*D21+J21)*I21 -> 0 | L21: =(($H21+$E21+$F21)*$D21+$J21)*$I21 -> 0 | M21: =(($H21+$E21+$F21)*$D21+$J21)*$I21 -> 0 | N21: выпуск к светильнику 200 мм + выпуск на распаечную коробку 150 мм
A22: Кол-во светильников в с/у | B22: 5 | C22: 2.5 | D22: ='Исходные данные'!K35 -> 0 | E22: 350 | I22: 1.1 | K22: =((H22+E22+F22)*D22+J22)*I22 -> 0 | L22: =(($H22+$E22+$F22)*$D22+$J22)*$I22 -> 0 | M22: =(($H22+$E22+$F22)*$D22+$J22)*$I22 -> 0 | N22: выпуск к светильнику 200 мм + выпуск на распаечную коробку 150 мм
A23: Кол-во бра в с/у | B23: 5 | C23: 2.5 | D23: 1 | E23: 350 | H23: 500 | I23: 1.1 | K23: =((H23+E23+F23)*D23+J23)*I23 -> 935 | L23: =(($H23+$E23+$F23)*$D23+$J23)*$I23 -> 935 | M23: =(($H23+$E23+$F23)*$D23+$J23)*$I23 -> 935 | N23: выпуск к светильнику 200 мм + выпуск на распаечную коробку 150 мм
A24: Длина провода в перекрытии гр.1 | B24: 1 | C24: 1.5 | D24: ='Исходные данные'!L35 -> 0 | I24: 1.1 | K24: =$D24*$I24 -> 0 | L24: =$D24*$I24 -> 0 | M24: =$D24*$I24 -> 0
A25: Длина провода в стяжке пола гр.2 | B25: 2 | C25: 6 | D25: ='Исходные данные'!M35 -> 0 | I25: 1.1 | K25: =$D25*$I25 -> 0 | L25: =$D25*$I25 -> 0 | M25: =$D25*$I25 -> 0
A26: Длина провода в стяжке пола гр.3 | B26: 3 | C26: 2.5 | D26: ='Исходные данные'!N35 -> 0 | I26: 1.1 | K26: =$D26*$I26 -> 0 | L26: =$D26*$I26 -> 0 | M26: =$D26*$I26 -> 0
A27: Длина провода в стяжке пола гр.4 | B27: 4 | C27: 2.5 | D27: ='Исходные данные'!O35 -> 0 | I27: 1.1 | K27: =$D27*$I27 -> 0 | L27: =$D27*$I27 -> 0 | M27: =$D27*$I27 -> 0
A28: Длина провода в перекрытии гр.5 | B28: 5 | C28: 2.5 | D28: ='Исходные данные'!P35 -> 0 | I28: 1.1 | K28: =$D28*$I28 -> 0 | L28: =$D28*$I28 -> 0 | M28: =$D28*$I28 -> 0
A29: Длина провода в перекрытии гр.6 | B29: 6 | C29: 2.5 | D29: ='Исходные данные'!Q35 -> 0 | I29: 1.1 | K29: =$D29*$I29 -> 0 | L29: =$D29*$I29 -> 0 | M29: =$D29*$I29 -> 0
A30: Провод на звонок | B30: 1 | C30: 1.5 | D30: 1 | E30: 100 | H30: 1300 | I30: 1.1 | K30: =((H30+E30+F30)*D30+J30)*I30 -> 1540 | L30: =(($H30+$E30+$F30)*$D30+$J30)*$I30 -> 1540 | M30: =(($H30+$E30+$F30)*$D30+$J30)*$I30 -> 1540
A31: Кнопка звонка | B31: 1 | C31: 1.5 | D31: 1 | E31: 100 | H31: 1300 | I31: 1.1 | K31: =((H31+E31+F31)*D31+J31)*I31 -> 1540 | L31: =(($H31+$E31+$F31)*$D31+$J31)*$I31 -> 1540 | M31: =(($H31+$E31+$F31)*$D31+$J31)*$I31 -> 1540
A32: Кол-во вентиляторов ОВ | B32: 6 | C32: 2.5 | D32: ='Исходные данные'!R35 -> 0 | E32: 150 | H32: 600 | I32: 1.1 | J32: 1300 | K32: =IF($D32=0,0,IF($D32>0,(($H32+$E32+$F32)*$D32+$J32)*$I32)) -> 0 | L32: =IF($D32=0,0,IF($D32>0,(($H32+$E32+$F32)*$D32+$J32)*$I32)) -> 0 | M32: =IF($D32=0,0,IF($D32>0,(($H32+$E32+$F32)*$D32+$J32)*$I32)) -> 0
A33: Выключатель для вытяжки | B33: 6 | C33: 2.5 | D33: =D32 -> 0 | E33: 150 | H33: 1800 | I33: 1.1 | K33: =((((H33+E33+F33)*D33)*3)+J33)*I33 -> 0
A34: Провод от КУП до ванны и труб | B34: 5 | C34: 4 | D34: 6000 | I34: 1.1 | M34: =D34 -> 6000
A35: Провод к КУП и от КУП до розетки | B35: 5 | C35: 2.5 | D35: ='Исходные данные'!S35 -> 0 | E35: 100 | F35: 10000 | H35: 1500 | I35: 1.1 | J35: 1300 | M35: =(D35+E35+H35+J35+F35)*I35 -> 14190
A38: Квартира 1. Без принудительной вентиляцией. Суммарное значение провода
A39: Наименование группы | B39: № группы подк | C39: Сеч. провода | D39: Провод белый, м | E39: Провод синий, м | F39: Провод ж/з, м
A40: Группа освещения | B40: 1 | C40: 1.5 | D40: =SUMIFS(K$3:K$35,$B$3:$B$35,1,$C$3:$C$35,1.5)*0.001 -> 3.465 | E40: =SUMIFS(L$3:L$35,$B$3:$B$35,1,$C$3:$C$35,1.5)*0.001 -> 3.465 | F40: =SUMIFS(M$3:M$35,$B$3:$B$35,1,$C$3:$C$35,1.5)*0.001 -> 3.465
A41: Группа плиты | B41: 2 | C41: 6 | D41: =SUMIFS(K$3:K$35,$B$3:$B$35,2,$C$3:$C$35,6)*0.001 -> 3.135 | E41: =SUMIFS(L$3:L$35,$B$3:$B$35,2,$C$3:$C$35,6)*0.001 -> 3.135 | F41: =SUMIFS(M$3:M$35,$B$3:$B$35,2,$C$3:$C$35,6)*0.001 -> 3.135
A42: Розеточная группа комнат | B42: 3 | C42: 2.5 | D42: =SUMIFS(K$3:K$35,$B$3:$B$35,3,$C$3:$C$35,2.5)*0.001 -> 2.53 | E42: =SUMIFS(L$3:L$35,$B$3:$B$35,3,$C$3:$C$35,2.5)*0.001 -> 2.53 | F42: =SUMIFS(M$3:M$35,$B$3:$B$35,3,$C$3:$C$35,2.5)*0.001 -> 3.135
A43: Розеточная группа кухни и коридора | B43: 4 | C43: 2.5 | D43: =SUMIFS(K$3:K$35,$B$3:$B$35,4,$C$3:$C$35,2.5)*0.001 -> 22.99 | E43: =SUMIFS(L$3:L$35,$B$3:$B$35,4,$C$3:$C$35,2.5)*0.001 -> 22.99 | F43: =SUMIFS(M$3:M$35,$B$3:$B$35,4,$C$3:$C$35,2.5)*0.001 -> 23.595
A44: Электрооборудование СУ | B44: 5 | C44: 2.5 | D44: =SUMIFS(K$3:K$35,$B$3:$B$35,5,$C$3:$C$35,2.5)*0.001 -> 6.16 | E44: =SUMIFS(L$3:L$35,$B$3:$B$35,5,$C$3:$C$35,2.5)*0.001 -> 6.16 | F44: =SUMIFS(M$3:M$35,$B$3:$B$35,5,$C$3:$C$35,2.5)*0.001 -> 20.35
C45: 4 | F45: =SUMIFS(M$3:M$35,$B$3:$B$35,5,$C$3:$C$35,4)*0.001 -> 6
A47: Квартира 1. С принудительной вентиляцией. Суммарное значение провода
A48: Наименование группы | B48: № группы подк | C48: Сеч. провода | D48: Провод белый, м | E48: Провод синий, м | F48: Провод ж/з, м
A49: Группа освещения | B49: 1 | C49: 1.5 | D49: =SUMIFS(K$3:K$35,$B$3:$B$35,1,$C$3:$C$35,1.5)*0.001 -> 3.465 | E49: =SUMIFS(L$3:L$35,$B$3:$B$35,1,$C$3:$C$35,1.5)*0.001 -> 3.465 | F49: =SUMIFS(M$3:M$35,$B$3:$B$35,1,$C$3:$C$35,1.5)*0.001 -> 3.465
A50: Группа плиты | B50: 2 | C50: 6 | D50: =SUMIFS(K$3:K$35,$B$3:$B$35,2,$C$3:$C$35,6)*0.001 -> 3.135 | E50: =SUMIFS(L$3:L$35,$B$3:$B$35,2,$C$3:$C$35,6)*0.001 -> 3.135 | F50: =SUMIFS(M$3:M$35,$B$3:$B$35,2,$C$3:$C$35,6)*0.001 -> 3.135
A51: Розеточная группа комнат | B51: 3 | C51: 2.5 | D51: =SUMIFS(K$3:K$35,$B$3:$B$35,3,$C$3:$C$35,2.5)*0.001 -> 2.53 | E51: =SUMIFS(L$3:L$35,$B$3:$B$35,3,$C$3:$C$35,2.5)*0.001 -> 2.53 | F51: =SUMIFS(M$3:M$35,$B$3:$B$35,3,$C$3:$C$35,2.5)*0.001 -> 3.135
A52: Розеточная группа кухни и коридора | B52: 4 | C52: 2.5 | D52: =SUMIFS(K$3:K$35,$B$3:$B$35,4,$C$3:$C$35,2.5)*0.001 -> 22.99 | E52: =SUMIFS(L$3:L$35,$B$3:$B$35,4,$C$3:$C$35,2.5)*0.001 -> 22.99 | F52: =SUMIFS(M$3:M$35,$B$3:$B$35,4,$C$3:$C$35,2.5)*0.001 -> 23.595
A53: Электрооборудование СУ | B53: 5 | C53: 2.5 | D53: =SUMIFS(K$3:K$35,$B$3:$B$35,5,$C$3:$C$35,2.5)*0.001 -> 6.16 | E53: =SUMIFS(L$3:L$35,$B$3:$B$35,5,$C$3:$C$35,2.5)*0.001 -> 6.16 | F53: =SUMIFS(M$3:M$35,$B$3:$B$35,5,$C$3:$C$35,2.5)*0.001 -> 20.35
C54: 4 | F54: =SUMIFS(M$3:M$35,$B$3:$B$35,5,$C$3:$C$35,4)*0.001 -> 6
A55: Вентиляция | B55: 6 | C55: 2.5 | D55: =SUMIFS(K$3:K$35,$B$3:$B$35,6,$C$3:$C$35,2.5)*0.001 -> 0 | E55: =SUMIFS(L$3:L$35,$B$3:$B$35,6,$C$3:$C$35,2.5)*0.001 -> 0 | F55: =SUMIFS(M$3:M$35,$B$3:$B$35,6,$C$3:$C$35,2.5)*0.001 -> 0

Sheet Квартира 7
A1: ='Исходные данные'!A37 -> Квартира 7 | B1: ДАННЫЕ В ТАБЛИЦЕ НЕ МЕНЯТЬ!
A2: Наименование потребителя | B2: № группы подк | C2: Сеч. провода | D2: Кол-во уст. изд/ Длина кабеля, мм | E2: Выпуск для подкл, мм | F2: Опуск провода, верт, мм | G2: Стяжка пола, мм | H2: Подъем провода верт, мм | I2: Запас провода | J2: Подкл. к ЩК, мм | K2: Итого длина провода бел, мм | L2: Итого длина провода син, мм | M2: Итого длина провода ж/з, мм
A3: Розетки холла | B3: 4 | C3: 2.5 | D3: 2 | E3: 150 | F3: 300 | G3: 200 | H3: 300 | I3: 1.1 | J3: 2300 | K3: =(($H3+$E3+$F3+$G3)*$D3+$J3)*$I3 -> 4620 | L3: =(($H3+$E3+$F3+$G3)*$D3+$J3)*$I3 -> 4620 | M3: =(($H3+$E3+$F3+$G3)*$D3+E3+$J3)*$I3 -> 4785 | N3: учтен дополнительный выпуск на двойные розетки
A4: Розетки в шкафу СС | B4: 4 | C4: 2.5 | D4: 2 | E4: 400 | I4: 1.1 | J4: 1200 | K4: =(($H4+$E4+$F4+$G4)*$D4+$J4)*$I4 -> 2200 | L4: =(($H4+$E4+$F4+$G4)*$D4+$J4)*$I4 -> 2200 | M4: =(($H4+$E4+$F4+$G4)*$D4+$J4)*$I4 -> 2200 | N4: перемычка для розеток внутри щита 400 мм
A5: Розетки двойные на фартуке кухни | B5: 4 | C5: 2.5 | D5: 2 | E5: 400 | F5: 1050 | G5: 200 | H5: 1050 | I5: 1.1 | K5: =(($H5+$E5+$F5+$G5)*$D5+$J5)*$I5 -> 5940 | L5: =(($H5+$E5+$F5+$G5)*$D5+$J5)*$I5 -> 5940 | M5: =(($H5+$E5+$F5+$G5)*$D5+E5+$J5)*$I5 -> 6380 | N5: учтен дополнительный выпуск на двойные розетки
A6: Розетка кухни под плиту | B6: 2 | C6: 6 | D6: 1 | E6: 150 | G6: 100 | H6: 300 | I6: 1.1 | J6: 2300 | K6: =(($H6+$E6+$F6+$G6)*$D6+$J6)*$I6 -> 3135 | L6: =(($H6+$E6+$F6+$G6)*$D6+$J6)*$I6 -> 3135 | M6: =(($H6+$E6+$F6+$G6)*$D6+$J6)*$I6 -> 3135
A7: Розетка кухни под вытяжку | B7: 4 | C7: 2.5 | D7: 1 | E7: 150 | F7: 2550 | G7: 100 | H7: 2550 | I7: 1.1 | K7: =(($H7+$E7+$F7+$G7)*$D7+$J7)*$I7 -> 5885 | L7: =(($H7+$E7+$F7+$G7)*$D7+$J7)*$I7 -> 5885 | M7: =(($H7+$E7+$F7+$G7)*$D7+$J7)*$I7 -> 5885
A8: Розетка кухни под ТВ | B8: 4 | C8: 2.5 | D8: 1 | E8: 400 | G8: 100 | H8: 1500 | I8: 1.1 | K8: =(($H8+$E8+$F8+$G8)*$D8+$J8)*$I8 -> 2200 | L8: =(($H8+$E8+$F8+$G8)*$D8+$J8)*$I8 -> 2200 | M8: =(($H8+$E8+$F8+$G8)*$D8+$J8)*$I8 -> 2200
A9: Розетка кухни под холодильник | B9: 4 | C9: 2.5 | D9: 1 | E9: 150 | F9: 300 | G9: 100 | H9: 300 | I9: 1.1 | K9: =(($H9+$E9+$F9+$G9)*$D9+$J9)*$I9 -> 935 | L9: =(($H9+$E9+$F9+$G9)*$D9+$J9)*$I9 -> 935 | M9: =(($H9+$E9+$F9+$G9)*$D9+$J9)*$I9 -> 935
A10: Розетка кухни около стола | B10: 4 | C10: 2.5 | D10: 1 | E10: 400 | F10: 300 | G10: 100 | H10: 300 | I10: 1.1 | K10: =(($H10+$E10+$F10+$G10)*$D10+$J10)*$I10 -> 1210 | L10: =(($H10+$E10+$F10+$G10)*$D10+$J10)*$I10 -> 1210 | M10: =(($H10+$E10+$F10+$G10)*$D10+$J10)*$I10 -> 1210
A11: Розетки в комнатах одинарные | B11: 3 | C11: 2.5 | D11: ='Исходные данные'!B38 -> 0 | E11: 150 | F11: 300 | G11: 200 | H11: 300 | I11: 1.1 | J11: 2300 | K11: =(($H11+$E11+$F11+$G11)*$D11+$J11)*$I11 -> 2530 | L11: =(($H11+$E11+$F11+$G11)*$D11+$J11)*$I11 -> 2530 | M11: =(($H11+$E11+$F11+$G11)*$D11+E11+$J11)*$I11 -> 2695 | N11: учтен дополнительный выпуск на двойные розетки
A12: Розетки в комнатах двойные | B12: 3 | C12: 2.5 | D12: ='Исходные данные'!C38 -> 0 | E12: 400 | F12: 300 | G12: 200 | H12: 300 | I12: 1.1 | K12: =(($H12+$E12+$F12+$G12)*$D12+$J12)*$I12 -> 0 | L12: =(($H12+$E12+$F12+$G12)*$D12+$J12)*$I12 -> 0 | M12: =(($H12+$E12+$F12+$G12)*$D12+E12+$J12)*$I12 -> 440 | N12: учтен дополнительный выпуск на двойные розетки
A13: Розетка с/у под стир. машину | B13: 5 | C13: 2.5 | D13: 1 | E13: 150 | F13: 1600 | G13: 100 | H13: 1600 | I13: 1.1 | J13: 1300 | K13: =(($H13+$E13+$F13+$G13)*$D13+$J13)*$I13 -> 5225 | L13: =(($H13+$E13+$F13+$G13)*$D13+$J13)*$I13 -> 5225 | M13: =(($H13+$E13+$F13+$G13)*$D13+$J13)*$I13 -> 5225
A14: Розетка с/у бытовая | B14: 5 | C14: 2.5 | D14: ='Исходные данные'!D38 -> 0 | E14: 150 | F14: 1600 | G14: 100 | H14: 1600 | I14: 1.1 | K14: =(($H14+$E14+$F14+$G14)*$D14+$J14)*$I14 -> 0 | L14: =(($H14+$E14+$F14+$G14)*$D14+$J14)*$I14 -> 0 | M14: =(($H14+$E14+$F14+$G14)*$D14+$J14)*$I14 -> 0
A15: Розетка с/у под эл.полотенцесуш. | B15: 5 | C15: 2.5 | D15: ='Исходные данные'!E38 -> 0 | E15: 150 | F15: 1600 | G15: 100 | H15: 1600 | I15: 1.1 | K15: =(($H15+$E15+$F15+$G15)*$D15+$J15)*$I15 -> 0 | L15: =(($H15+$E15+$F15+$G15)*$D15+$J15)*$I15 -> 0 | M15: =(($H15+$E15+$F15+$G15)*$D15+$J15)*$I15 -> 0
A16: Выключатель одноклавишный | B16: 1 | C16: 1.5 | D16: ='Исходные данные'!F38 -> 0 | E16: 150 | H16: 1800 | I16: 1.1 | J16: 1300 | K16: =IF(D16=0,0,IF(D16>0,((H16+E16+F16)*D16)*2)+J16)*I16 -> 0
A17: Выключатель двуклавишный | B17: 1 | C17: 1.5 | D17: ='Исходные данные'!G38 -> 0 | E17: 150 | H17: 1800 | I17: 1.1 | K17: =((((H17+E17+F17)*D17)*3)+J17)*I17 -> 0
A18: Переключатель проходной | B18: 1 | C18: 1.5 | D18: ='Исходные данные'!H38 -> 0 | E18: 150 | H18: 1800 | I18: 1.1 | K18: =((((H18+E18+F18)*D18)*3)+J18)*I18 -> 0 | N18: добавлены проходные переключатели
A19: Кол-во светильников в холле | B19: 1 | C19: 1.5 | D19: ='Исходные данные'!I38 -> 0 | E19: 350 | I19: 1.1 | K19: =((H19+E19+F19)*D19+J19)*I19 -> 0 | L19: =(($H19+$E19+$F19)*$D19+$J19)*$I19 -> 0 | M19: =(($H19+$E19+$F19)*$D19+$J19)*$I19 -> 0 | N19: выпуск к светильнику 200 мм + выпуск на распаечную коробку 150 мм
A20: Кол-во люстр трехрожковых | B20: 1 | C20: 1.5 | D20: 1 | E20: 350 | I20: 1.1 | K20: =((H20+E20+F20)*D20+J20)*I20 -> 385 | L20: =(($H20+$E20+$F20)*$D20+$J20)*$I20 -> 385 | M20: =(($H20+$E20+$F20)*$D20+$J20)*$I20 -> 385 | N20: выпуск к светильнику 200 мм + выпуск на распаечную коробку 150 мм
A21: Кол-во люстр пятирожковых | B21: 1 | C21: 1.5 | D21: ='Исходные данные'!J38 -> 0 | E21: 350 | I21: 1.1 | K21: =((H21+E21+F21)*D21+J21)*I21 -> 0 | L21: =(($H21+$E21+$F21)*$D21+$J21)*$I21 -> 0 | M21: =(($H21+$E21+$F21)*$D21+$J21)*$I21 -> 0 | N21: выпуск к светильнику 200 мм + выпуск на распаечную коробку 150 мм
A22: Кол-во светильников в с/у | B22: 5 | C22: 2.5 | D22: ='Исходные данные'!K38 -> 0 | E22: 350 | I22: 1.1 | K22: =((H22+E22+F22)*D22+J22)*I22 -> 0 | L22: =(($H22+$E22+$F22)*$D22+$J22)*$I22 -> 0 | M22: =(($H22+$E22+$F22)*$D22+$J22)*$I22 -> 0 | N22: выпуск к светильнику 200 мм + выпуск на распаечную коробку 150 мм
A23: Кол-во бра в с/у | B23: 5 | C23: 2.5 | D23: 1 | E23: 350 | H23: 500 | I23: 1.1 | K23: =((H23+E23+F23)*D23+J23)*I23 -> 935 | L23: =(($H23+$E23+$F23)*$D23+$J23)*$I23 -> 935 | M23: =(($H23+$E23+$F23)*$D23+$J23)*$I23 -> 935 | N23: выпуск к светильнику 200 мм + выпуск на распаечную коробку 150 мм
A24: Длина провода в перекрытии гр.1 | B24: 1 | C24: 1.5 | D24: ='Исходные данные'!L38 -> 0 | I24: 1.1 | K24: =$D24*$I24 -> 0 | L24: =$D24*$I24 -> 0 | M24: =$D24*$I24 -> 0
A25: Длина провода в стяжке пола гр.2 | B25: 2 | C25: 6 | D25: ='Исходные данные'!M38 -> 0 | I25: 1.1 | K25: =$D25*$I25 -> 0 | L25: =$D25*$I25 -> 0 | M25: =$D25*$I25 -> 0
A26: Длина провода в стяжке пола гр.3 | B26: 3 | C26: 2.5 | D26: ='Исходные данные'!N38 -> 0 | I26: 1.1 | K26: =$D26*$I26 -> 0 | L26: =$D26*$I26 -> 0 | M26: =$D26*$I26 -> 0
A27: Длина провода в стяжке пола гр.4 | B27: 4 | C27: 2.5 | D27: ='Исходные данные'!O38 -> 0 | I27: 1.1 | K27: =$D27*$I27 -> 0 | L27: =$D27*$I27 -> 0 | M27: =$D27*$I27 -> 0
A28: Длина провода в перекрытии гр.5 | B28: 5 | C28: 2.5 | D28: ='Исходные данные'!P38 -> 0 | I28: 1.1 | K28: =$D28*$I28 -> 0 | L28: =$D28*$I28 -> 0 | M28: =$D28*$I28 -> 0
A29: Длина провода в перекрытии гр.6 | B29: 6 | C29: 2.5 | D29: ='Исходные данные'!Q38 -> 0 | I29: 1.1 | K29: =$D29*$I29 -> 0 | L29: =$D29*$I29 -> 0 | M29: =$D29*$I29 -> 0
A30: Провод на звонок | B30: 1 | C30: 1.5 | D30: 1 | E30: 100 | H30: 1300 | I30: 1.1 | K30: =((H30+E30+F30)*D30+J30)*I30 -> 1540 | L30: =(($H30+$E30+$F30)*$D30+$J30)*$I30 -> 1540 | M30: =(($H30+$E30+$F30)*$D30+$J30)*$I30 -> 1540
A31: Кнопка звонка | B31: 1 | C31: 1.5 | D31: 1 | E31: 100 | H31: 1300 | I31: 1.1 | K31: =((H31+E31+F31)*D31+J31)*I31 -> 1540 | L31: =(($H31+$E31+$F31)*$D31+$J31)*$I31 -> 1540 | M31: =(($H31+$E31+$F31)*$D31+$J31)*$I31 -> 1540
A32: Кол-во вентиляторов ОВ | B32: 6 | C32: 2.5 | D32: ='Исходные данные'!R38 -> 0 | E32: 150 | H32: 600 | I32: 1.1 | J32: 1300 | K32: =IF($D32=0,0,IF($D32>0,(($H32+$E32+$F32)*$D32+$J32)*$I32)) -> 0 | L32: =IF($D32=0,0,IF($D32>0,(($H32+$E32+$F32)*$D32+$J32)*$I32)) -> 0 | M32: =IF($D32=0,0,IF($D32>0,(($H32+$E32+$F32)*$D32+$J32)*$I32)) -> 0
A33: Выключатель для вытяжки | B33: 6 | C33: 2.5 | D33: =D32 -> 0 | E33: 150 | H33: 1800 | I33: 1.1 | K33: =((((H33+E33+F33)*D33)*3)+J33)*I33 -> 0
A34: Провод от КУП до ванны и труб | B34: 5 | C34: 4 | D34: 6000 | I34: 1.1 | M34: =D34 -> 6000
A35: Провод к КУП и от КУП до розетки | B35: 5 | C35: 2.5 | D35: ='Исходные данные'!S38 -> 0 | E35: 100 | F35: 10000 | H35: 1500 | I35: 1.1 | J35: 1300 | M35: =(D35+E35+H35+J35+F35)*I35 -> 14190
A38: Квартира 1. Без принудительной вентиляцией. Суммарное значение провода
A39: Наименование группы | B39: № группы подк | C39: Сеч. провода | D39: Провод белый, м | E39: Провод синий, м | F39: Провод ж/з, м
A40: Группа освещения | B40: 1 | C40: 1.5 | D40: =SUMIFS(K$3:K$35,$B$3:$B$35,1,$C$3:$C$35,1.5)*0.001 -> 3.465 | E40: =SUMIFS(L$3:L$35,$B$3:$B$35,1,$C$3:$C$35,1.5)*0.001 -> 3.465 | F40: =SUMIFS(M$3:M$35,$B$3:$B$35,1,$C$3:$C$35,1.5)*0.001 -> 3.465
A41: Группа плиты | B41: 2 | C41: 6 | D41: =SUMIFS(K$3:K$35,$B$3:$B$35,2,$C$3:$C$35,6)*0.001 -> 3.135 | E41: =SUMIFS(L$3:L$35,$B$3:$B$35,2,$C$3:$C$35,6)*0.001 -> 3.135 | F41: =SUMIFS(M$3:M$35,$B$3:$B$35,2,$C$3:$C$35,6)*0.001 -> 3.135
A42: Розеточная группа комнат | B42: 3 | C42: 2.5 | D42: =SUMIFS(K$3:K$35,$B$3:$B$35,3,$C$3:$C$35,2.5)*0.001 -> 2.53 | E42: =SUMIFS(L$3:L$35,$B$3:$B$35,3,$C$3:$C$35,2.5)*0.001 -> 2.53 | F42: =SUMIFS(M$3:M$35,$B$3:$B$35,3,$C$3:$C$35,2.5)*0.001 -> 3.135
A43: Розеточная группа кухни и коридора | B43: 4 | C43: 2.5 | D43: =SUMIFS(K$3:K$35,$B$3:$B$35,4,$C$3:$C$35,2.5)*0.001 -> 22.99 | E43: =SUMIFS(L$3:L$35,$B$3:$B$35,4,$C$3:$C$35,2.5)*0.001 -> 22.99 | F43: =SUMIFS(M$3:M$35,$B$3:$B$35,4,$C$3:$C$35,2.5)*0.001 -> 23.595
A44: Электрооборудование СУ | B44: 5 | C44: 2.5 | D44: =SUMIFS(K$3:K$35,$B$3:$B$35,5,$C$3:$C$35,2.5)*0.001 -> 6.16 | E44: =SUMIFS(L$3:L$35,$B$3:$B$35,5,$C$3:$C$35,2.5)*0.001 -> 6.16 | F44: =SUMIFS(M$3:M$35,$B$3:$B$35,5,$C$3:$C$35,2.5)*0.001 -> 20.35
C45: 4 | F45: =SUMIFS(M$3:M$35,$B$3:$B$35,5,$C$3:$C$35,4)*0.001 -> 6
A47: Квартира 1. С принудительной вентиляцией. Суммарное значение провода
A48: Наименование группы | B48: № группы подк | C48: Сеч. провода | D48: Провод белый, м | E48: Провод синий, м | F48: Провод ж/з, м
A49: Группа освещения | B49: 1 | C49: 1.5 | D49: =SUMIFS(K$3:K$35,$B$3:$B$35,1,$C$3:$C$35,1.5)*0.001 -> 3.465 | E49: =SUMIFS(L$3:L$35,$B$3:$B$35,1,$C$3:$C$35,1.5)*0.001 -> 3.465 | F49: =SUMIFS(M$3:M$35,$B$3:$B$35,1,$C$3:$C$35,1.5)*0.001 -> 3.465
A50: Группа плиты | B50: 2 | C50: 6 | D50: =SUMIFS(K$3:K$35,$B$3:$B$35,2,$C$3:$C$35,6)*0.001 -> 3.135 | E50: =SUMIFS(L$3:L$35,$B$3:$B$35,2,$C$3:$C$35,6)*0.001 -> 3.135 | F50: =SUMIFS(M$3:M$35,$B$3:$B$35,2,$C$3:$C$35,6)*0.001 -> 3.135
A51: Розеточная группа комнат | B51: 3 | C51: 2.5 | D51: =SUMIFS(K$3:K$35,$B$3:$B$35,3,$C$3:$C$35,2.5)*0.001 -> 2.53 | E51: =SUMIFS(L$3:L$35,$B$3:$B$35,3,$C$3:$C$35,2.5)*0.001 -> 2.53 | F51: =SUMIFS(M$3:M$35,$B$3:$B$35,3,$C$3:$C$35,2.5)*0.001 -> 3.135
A52: Розеточная группа кухни и коридора | B52: 4 | C52: 2.5 | D52: =SUMIFS(K$3:K$35,$B$3:$B$35,4,$C$3:$C$35,2.5)*0.001 -> 22.99 | E52: =SUMIFS(L$3:L$35,$B$3:$B$35,4,$C$3:$C$35,2.5)*0.001 -> 22.99 | F52: =SUMIFS(M$3:M$35,$B$3:$B$35,4,$C$3:$C$35,2.5)*0.001 -> 23.595
A53: Электрооборудование СУ | B53: 5 | C53: 2.5 | D53: =SUMIFS(K$3:K$35,$B$3:$B$35,5,$C$3:$C$35,2.5)*0.001 -> 6.16 | E53: =SUMIFS(L$3:L$35,$B$3:$B$35,5,$C$3:$C$35,2.5)*0.001 -> 6.16 | F53: =SUMIFS(M$3:M$35,$B$3:$B$35,5,$C$3:$C$35,2.5)*0.001 -> 20.35
C54: 4 | F54: =SUMIFS(M$3:M$35,$B$3:$B$35,5,$C$3:$C$35,4)*0.001 -> 6
A55: Вентиляция | B55: 6 | C55: 2.5 | D55: =SUMIFS(K$3:K$35,$B$3:$B$35,6,$C$3:$C$35,2.5)*0.001 -> 0 | E55: =SUMIFS(L$3:L$35,$B$3:$B$35,6,$C$3:$C$35,2.5)*0.001 -> 0 | F55: =SUMIFS(M$3:M$35,$B$3:$B$35,6,$C$3:$C$35,2.5)*0.001 -> 0

Sheet Квартира 8
A1: ='Исходные данные'!A40 -> Квартира 8 | B1: ДАННЫЕ В ТАБЛИЦЕ НЕ МЕНЯТЬ!
A2: Наименование потребителя | B2: № группы подк | C2: Сеч. провода | D2: Кол-во уст. изд/ Длина кабеля, мм | E2: Выпуск для подкл, мм | F2: Опуск провода, верт, мм | G2: Стяжка пола, мм | H2: Подъем провода верт, мм | I2: Запас провода | J2: Подкл. к ЩК, мм | K2: Итого длина провода бел, мм | L2: Итого длина провода син, мм | M2: Итого длина провода ж/з, мм
A3: Розетки холла | B3: 4 | C3: 2.5 | D3: 2 | E3: 150 | F3: 300 | G3: 200 | H3: 300 | I3: 1.1 | J3: 2300 | K3: =(($H3+$E3+$F3+$G3)*$D3+$J3)*$I3 -> 4620 | L3: =(($H3+$E3+$F3+$G3)*$D3+$J3)*$I3 -> 4620 | M3: =(($H3+$E3+$F3+$G3)*$D3+E3+$J3)*$I3 -> 4785 | N3: учтен дополнительный выпуск на двойные розетки
A4: Розетки в шкафу СС | B4: 4 | C4: 2.5 | D4: 2 | E4: 400 | I4: 1.1 | J4: 1200 | K4: =(($H4+$E4+$F4+$G4)*$D4+$J4)*$I4 -> 2200 | L4: =(($H4+$E4+$F4+$G4)*$D4+$J4)*$I4 -> 2200 | M4: =(($H4+$E4+$F4+$G4)*$D4+$J4)*$I4 -> 2200 | N4: перемычка для розеток внутри щита 400 мм
A5: Розетки двойные на фартуке кухни | B5: 4 | C5: 2.5 | D5: 2 | E5: 400 | F5: 1050 | G5: 200 | H5: 1050 | I5: 1.1 | K5: =(($H5+$E5+$F5+$G5)*$D5+$J5)*$I5 -> 5940 | L5: =(($H5+$E5+$F5+$G5)*$D5+$J5)*$I5 -> 5940 | M5: =(($H5+$E5+$F5+$G5)*$D5+E5+$J5)*$I5 -> 6380 | N5: учтен дополнительный выпуск на двойные розетки
A6: Розетка кухни под плиту | B6: 2 | C6: 6 | D6: 1 | E6: 150 | G6: 100 | H6: 300 | I6: 1.1 | J6: 2300 | K6: =(($H6+$E6+$F6+$G6)*$D6+$J6)*$I6 -> 3135 | L6: =(($H6+$E6+$F6+$G6)*$D6+$J6)*$I6 -> 3135 | M6: =(($H6+$E6+$F6+$G6)*$D6+$J6)*$I6 -> 3135
A7: Розетка кухни под вытяжку | B7: 4 | C7: 2.5 | D7: 1 | E7: 150 | F7: 2550 | G7: 100 | H7: 2550 | I7: 1.1 | K7: =(($H7+$E7+$F7+$G7)*$D7+$J7)*$I7 -> 5885 | L7: =(($H7+$E7+$F7+$G7)*$D7+$J7)*$I7 -> 5885 | M7: =(($H7+$E7+$F7+$G7)*$D7+$J7)*$I7 -> 5885
A8: Розетка кухни под ТВ | B8: 4 | C8: 2.5 | D8: 1 | E8: 400 | G8: 100 | H8: 1500 | I8: 1.1 | K8: =(($H8+$E8+$F8+$G8)*$D8+$J8)*$I8 -> 2200 | L8: =(($H8+$E8+$F8+$G8)*$D8+$J8)*$I8 -> 2200 | M8: =(($H8+$E8+$F8+$G8)*$D8+$J8)*$I8 -> 2200
A9: Розетка кухни под холодильник | B9: 4 | C9: 2.5 | D9: 1 | E9: 150 | F9: 300 | G9: 100 | H9: 300 | I9: 1.1 | K9: =(($H9+$E9+$F9+$G9)*$D9+$J9)*$I9 -> 935 | L9: =(($H9+$E9+$F9+$G9)*$D9+$J9)*$I9 -> 935 | M9: =(($H9+$E9+$F9+$G9)*$D9+$J9)*$I9 -> 935
A10: Розетка кухни около стола | B10: 4 | C10: 2.5 | D10: 1 | E10: 400 | F10: 300 | G10: 100 | H10: 300 | I10: 1.1 | K10: =(($H10+$E10+$F10+$G10)*$D10+$J10)*$I10 -> 1210 | L10: =(($H10+$E10+$F10+$G10)*$D10+$J10)*$I10 -> 1210 | M10: =(($H10+$E10+$F10+$G10)*$D10+$J10)*$I10 -> 1210
A11: Розетки в комнатах одинарные | B11: 3 | C11: 2.5 | D11: ='Исходные данные'!B41 -> 0 | E11: 150 | F11: 300 | G11: 200 | H11: 300 | I11: 1.1 | J11: 2300 | K11: =(($H11+$E11+$F11+$G11)*$D11+$J11)*$I11 -> 2530 | L11: =(($H11+$E11+$F11+$G11)*$D11+$J11)*$I11 -> 2530 | M11: =(($H11+$E11+$F11+$G11)*$D11+E11+$J11)*$I11 -> 2695 | N11: учтен дополнительный выпуск на двойные розетки
A12: Розетки в комнатах двойные | B12: 3 | C12: 2.5 | D12: ='Исходные данные'!C41 -> 0 | E12: 400 | F12: 300 | G12: 200 | H12: 300 | I12: 1.1 | K12: =(($H12+$E12+$F12+$G12)*$D12+$J12)*$I12 -> 0 | L12: =(($H12+$E12+$F12+$G12)*$D12+$J12)*$I12 -> 0 | M12: =(($H12+$E12+$F12+$G12)*$D12+E12+$J12)*$I12 -> 440 | N12: учтен дополнительный выпуск на двойные розетки
A13: Розетка с/у под стир. машину | B13: 5 | C13: 2.5 | D13: 1 | E13: 150 | F13: 1600 | G13: 100 | H13: 1600 | I13: 1.1 | J13: 1300 | K13: =(($H13+$E13+$F13+$G13)*$D13+$J13)*$I13 -> 5225 | L13: =(($H13+$E13+$F13+$G13)*$D13+$J13)*$I13 -> 5225 | M13: =(($H13+$E13+$F13+$G13)*$D13+$J13)*$I13 -> 5225
A14: Розетка с/у бытовая | B14: 5 | C14: 2.5 | D14: ='Исходные данные'!D41 -> 0 | E14: 150 | F14: 1600 | G14: 100 | H14: 1600 | I14: 1.1 | K14: =(($H14+$E14+$F14+$G14)*$D14+$J14)*$I14 -> 0 | L14: =(($H14+$E14+$F14+$G14)*$D14+$J14)*$I14 -> 0 | M14: =(($H14+$E14+$F14+$G14)*$D14+$J14)*$I14 -> 0
A15: Розетка с/у под эл.полотенцесуш. | B15: 5 | C15: 2.5 | D15: ='Исходные данные'!E41 -> 0 | E15: 150 | F15: 1600 | G15: 100 | H15: 1600 | I15: 1.1 | K15: =(($H15+$E15+$F15+$G15)*$D15+$J15)*$I15 -> 0 | L15: =(($H15+$E15+$F15+$G15)*$D15+$J15)*$I15 -> 0 | M15: =(($H15+$E15+$F15+$G15)*$D15+$J15)*$I15 -> 0
A16: Выключатель одноклавишный | B16: 1 | C16: 1.5 | D16: ='Исходные данные'!F41 -> 0 | E16: 150 | H16: 1800 | I16: 1.1 | J16: 1300 | K16: =IF(D16=0,0,IF(D16>0,((H16+E16+F16)*D16)*2)+J16)*I16 -> 0
A17: Выключатель двуклавишный | B17: 1 | C17: 1.5 | D17: ='Исходные данные'!G41 -> 0 | E17: 150 | H17: 1800 | I17: 1.1 | K17: =((((H17+E17+F17)*D17)*3)+J17)*I17 -> 0
A18: Переключатель проходной | B18: 1 | C18: 1.5 | D18: ='Исходные данные'!H41 -> 0 | E18: 150 | H18: 1800 | I18: 1.1 | K18: =((((H18+E18+F18)*D18)*3)+J18)*I18 -> 0 | N18: добавлены проходные переключатели
A19: Кол-во светильников в холле | B19: 1 | C19: 1.5 | D19: ='Исходные данные'!I41 -> 0 | E19: 350 | I19: 1.1 | K19: =((H19+E19+F19)*D19+J19)*I19 -> 0 | L19: =(($H19+$E19+$F19)*$D19+$J19)*$I19 -> 0 | M19: =(($H19+$E19+$F19)*$D19+$J19)*$I19 -> 0 | N19: выпуск к светильнику 200 мм + выпуск на распаечную коробку 150 мм
A20: Кол-во люстр трехрожковых | B20: 1 | C20: 1.5 | D20: 1 | E20: 350 | I20: 1.1 | K20: =((H20+E20+F20)*D20+J20)*I20 -> 385 | L20: =(($H20+$E20+$F20)*$D20+$J20)*$I20 -> 385 | M20: =(($H20+$E20+$F20)*$D20+$J20)*$I20 -> 385 | N20: выпуск к светильнику 200 мм + выпуск на распаечную коробку 150 мм
A21: Кол-во люстр пятирожковых | B21: 1 | C21: 1.5 | D21: ='Исходные данные'!J41 -> 0 | E21: 350 | I21: 1.1 | K21: =((H21+E21+F21)*D21+J21)*I21 -> 0 | L21: =(($H21+$E21+$F21)*$D21+$J21)*$I21 -> 0 | M21: =(($H21+$E21+$F21)*$D21+$J21)*$I21 -> 0 | N21: выпуск к светильнику 200 мм + выпуск на распаечную коробку 150 мм
A22: Кол-во светильников в с/у | B22: 5 | C22: 2.5 | D22: ='Исходные данные'!K41 -> 0 | E22: 350 | I22: 1.1 | K22: =((H22+E22+F22)*D22+J22)*I22 -> 0 | L22: =(($H22+$E22+$F22)*$D22+$J22)*$I22 -> 0 | M22: =(($H22+$E22+$F22)*$D22+$J22)*$I22 -> 0 | N22: выпуск к светильнику 200 мм + выпуск на распаечную коробку 150 мм
A23: Кол-во бра в с/у | B23: 5 | C23: 2.5 | D23: 1 | E23: 350 | H23: 500 | I23: 1.1 | K23: =((H23+E23+F23)*D23+J23)*I23 -> 935 | L23: =(($H23+$E23+$F23)*$D23+$J23)*$I23 -> 935 | M23: =(($H23+$E23+$F23)*$D23+$J23)*$I23 -> 935 | N23: выпуск к светильнику 200 мм + выпуск на распаечную коробку 150 мм
A24: Длина провода в перекрытии гр.1 | B24: 1 | C24: 1.5 | D24: ='Исходные данные'!L41 -> 0 | I24: 1.1 | K24: =$D24*$I24 -> 0 | L24: =$D24*$I24 -> 0 | M24: =$D24*$I24 -> 0
A25: Длина провода в стяжке пола гр.2 | B25: 2 | C25: 6 | D25: ='Исходные данные'!M41 -> 0 | I25: 1.1 | K25: =$D25*$I25 -> 0 | L25: =$D25*$I25 -> 0 | M25: =$D25*$I25 -> 0
A26: Длина провода в стяжке пола гр.3 | B26: 3 | C26: 2.5 | D26: ='Исходные данные'!N41 -> 0 | I26: 1.1 | K26: =$D26*$I26 -> 0 | L26: =$D26*$I26 -> 0 | M26: =$D26*$I26 -> 0
A27: Длина провода в стяжке пола гр.4 | B27: 4 | C27: 2.5 | D27: ='Исходные данные'!O41 -> 0 | I27: 1.1 | K27: =$D27*$I27 -> 0 | L27: =$D27*$I27 -> 0 | M27: =$D27*$I27 -> 0
A28: Длина провода в перекрытии гр.5 | B28: 5 | C28: 2.5 | D28: ='Исходные данные'!P41 -> 0 | I28: 1.1 | K28: =$D28*$I28 -> 0 | L28: =$D28*$I28 -> 0 | M28: =$D28*$I28 -> 0
A29: Длина провода в перекрытии гр.6 | B29: 6 | C29: 2.5 | D29: ='Исходные данные'!Q41 -> 0 | I29: 1.1 | K29: =$D29*$I29 -> 0 | L29: =$D29*$I29 -> 0 | M29: =$D29*$I29 -> 0
A30: Провод на звонок | B30: 1 | C30: 1.5 | D30: 1 | E30: 100 | H30: 1300 | I30: 1.1 | K30: =((H30+E30+F30)*D30+J30)*I30 -> 1540 | L30: =(($H30+$E30+$F30)*$D30+$J30)*$I30 -> 1540 | M30: =(($H30+$E30+$F30)*$D30+$J30)*$I30 -> 1540
A31: Кнопка звонка | B31: 1 | C31: 1.5 | D31: 1 | E31: 100 | H31: 1300 | I31: 1.1 | K31: =((H31+E31+F31)*D31+J31)*I31 -> 1540 | L31: =(($H31+$E31+$F31)*$D31+$J31)*$I31 -> 1540 | M31: =(($H31+$E31+$F31)*$D31+$J31)*$I31 -> 1540
A32: Кол-во вентиляторов ОВ | B32: 6 | C32: 2.5 | D32: ='Исходные данные'!R41 -> 0 | E32: 150 | H32: 600 | I32: 1.1 | J32: 1300 | K32: =IF($D32=0,0,IF($D32>0,(($H32+$E32+$F32)*$D32+$J32)*$I32)) -> 0 | L32: =IF($D32=0,0,IF($D32>0,(($H32+$E32+$F32)*$D32+$J32)*$I32)) -> 0 | M32: =IF($D32=0,0,IF($D32>0,(($H32+$E32+$F32)*$D32+$J32)*$I32)) -> 0
A33: Выключатель для вытяжки | B33: 6 | C33: 2.5 | D33: =D32 -> 0 | E33: 150 | H33: 1800 | I33: 1.1 | K33: =((((H33+E33+F33)*D33)*3)+J33)*I33 -> 0
A34: Провод от КУП до ванны и труб | B34: 5 | C34: 4 | D34: 6000 | I34: 1.1 | M34: =D34 -> 6000
A35: Провод к КУП и от КУП до розетки | B35: 5 | C35: 2.5 | D35: ='Исходные данные'!S41 -> 0 | E35: 100 | F35: 10000 | H35: 1500 | I35: 1.1 | J35: 1300 | M35: =(D35+E35+H35+J35+F35)*I35 -> 14190
A38: Квартира 1. Без принудительной вентиляцией. Суммарное значение провода
A39: Наименование группы | B39: № группы подк | C39: Сеч. провода | D39: Провод белый, м | E39: Провод синий, м | F39: Провод ж/з, м
A40: Группа освещения | B40: 1 | C40: 1.5 | D40: =SUMIFS(K$3:K$35,$B$3:$B$35,1,$C$3:$C$35,1.5)*0.001 -> 3.465 | E40: =SUMIFS(L$3:L$35,$B$3:$B$35,1,$C$3:$C$35,1.5)*0.001 -> 3.465 | F40: =SUMIFS(M$3:M$35,$B$3:$B$35,1,$C$3:$C$35,1.5)*0.001 -> 3.465
A41: Группа плиты | B41: 2 | C41: 6 | D41: =SUMIFS(K$3:K$35,$B$3:$B$35,2,$C$3:$C$35,6)*0.001 -> 3.135 | E41: =SUMIFS(L$3:L$35,$B$3:$B$35,2,$C$3:$C$35,6)*0.001 -> 3.135 | F41: =SUMIFS(M$3:M$35,$B$3:$B$35,2,$C$3:$C$35,6)*0.001 -> 3.135
A42: Розеточная группа комнат | B42: 3 | C42: 2.5 | D42: =SUMIFS(K$3:K$35,$B$3:$B$35,3,$C$3:$C$35,2.5)*0.001 -> 2.53 | E42: =SUMIFS(L$3:L$35,$B$3:$B$35,3,$C$3:$C$35,2.5)*0.001 -> 2.53 | F42: =SUMIFS(M$3:M$35,$B$3:$B$35,3,$C$3:$C$35,2.5)*0.001 -> 3.135
A43: Розеточная группа кухни и коридора | B43: 4 | C43: 2.5 | D43: =SUMIFS(K$3:K$35,$B$3:$B$35,4,$C$3:$C$35,2.5)*0.001 -> 22.99 | E43: =SUMIFS(L$3:L$35,$B$3:$B$35,4,$C$3:$C$35,2.5)*0.001 -> 22.99 | F43: =SUMIFS(M$3:M$35,$B$3:$B$35,4,$C$3:$C$35,2.5)*0.001 -> 23.595
A44: Электрооборудование СУ | B44: 5 | C44: 2.5 | D44: =SUMIFS(K$3:K$35,$B$3:$B$35,5,$C$3:$C$35,2.5)*0.001 -> 6.16 | E44: =SUMIFS(L$3:L$35,$B$3:$B$35,5,$C$3:$C$35,2.5)*0.001 -> 6.16 | F44: =SUMIFS(M$3:M$35,$B$3:$B$35,5,$C$3:$C$35,2.5)*0.001 -> 20.35
C45: 4 | F45: =SUMIFS(M$3:M$35,$B$3:$B$35,5,$C$3:$C$35,4)*0.001 -> 6
A47: Квартира 1. С принудительной вентиляцией. Суммарное значение провода
A48: Наименование группы | B48: № группы подк | C48: Сеч. провода | D48: Провод белый, м | E48: Провод синий, м | F48: Провод ж/з, м
A49: Группа освещения | B49: 1 | C49: 1.5 | D49: =SUMIFS(K$3:K$35,$B$3:$B$35,1,$C$3:$C$35,1.5)*0.001 -> 3.465 | E49: =SUMIFS(L$3:L$35,$B$3:$B$35,1,$C$3:$C$35,1.5)*0.001 -> 3.465 | F49: =SUMIFS(M$3:M$35,$B$3:$B$35,1,$C$3:$C$35,1.5)*0.001 -> 3.465
A50: Группа плиты | B50: 2 | C50: 6 | D50: =SUMIFS(K$3:K$35,$B$3:$B$35,2,$C$3:$C$35,6)*0.001 -> 3.135 | E50: =SUMIFS(L$3:L$35,$B$3:$B$35,2,$C$3:$C$35,6)*0.001 -> 3.135 | F50: =SUMIFS(M$3:M$35,$B$3:$B$35,2,$C$3:$C$35,6)*0.001 -> 3.135
A51: Розеточная группа комнат | B51: 3 | C51: 2.5 | D51: =SUMIFS(K$3:K$35,$B$3:$B$35,3,$C$3:$C$35,2.5)*0.001 -> 2.53 | E51: =SUMIFS(L$3:L$35,$B$3:$B$35,3,$C$3:$C$35,2.5)*0.001 -> 2.53 | F51: =SUMIFS(M$3:M$35,$B$3:$B$35,3,$C$3:$C$35,2.5)*0.001 -> 3.135
A52: Розеточная группа кухни и коридора | B52: 4 | C52: 2.5 | D52: =SUMIFS(K$3:K$35,$B$3:$B$35,4,$C$3:$C$35,2.5)*0.001 -> 22.99 | E52: =SUMIFS(L$3:L$35,$B$3:$B$35,4,$C$3:$C$35,2.5)*0.001 -> 22.99 | F52: =SUMIFS(M$3:M$35,$B$3:$B$35,4,$C$3:$C$35,2.5)*0.001 -> 23.595
A53: Электрооборудование СУ | B53: 5 | C53: 2.5 | D53: =SUMIFS(K$3:K$35,$B$3:$B$35,5,$C$3:$C$35,2.5)*0.001 -> 6.16 | E53: =SUMIFS(L$3:L$35,$B$3:$B$35,5,$C$3:$C$35,2.5)*0.001 -> 6.16 | F53: =SUMIFS(M$3:M$35,$B$3:$B$35,5,$C$3:$C$35,2.5)*0.001 -> 20.35
C54: 4 | F54: =SUMIFS(M$3:M$35,$B$3:$B$35,5,$C$3:$C$35,4)*0.001 -> 6
A55: Вентиляция | B55: 6 | C55: 2.5 | D55: =SUMIFS(K$3:K$35,$B$3:$B$35,6,$C$3:$C$35,2.5)*0.001 -> 0 | E55: =SUMIFS(L$3:L$35,$B$3:$B$35,6,$C$3:$C$35,2.5)*0.001 -> 0 | F55: =SUMIFS(M$3:M$35,$B$3:$B$35,6,$C$3:$C$35,2.5)*0.001 -> 0

Sheet Квартира 9
A1: ='Исходные данные'!A43 -> Квартира 9 | B1: ДАННЫЕ В ТАБЛИЦЕ НЕ МЕНЯТЬ!
A2: Наименование потребителя | B2: № группы подк | C2: Сеч. провода | D2: Кол-во уст. изд/ Длина кабеля, мм | E2: Выпуск для подкл, мм | F2: Опуск провода, верт, мм | G2: Стяжка пола, мм | H2: Подъем провода верт, мм | I2: Запас провода | J2: Подкл. к ЩК, мм | K2: Итого длина провода бел, мм | L2: Итого длина провода син, мм | M2: Итого длина провода ж/з, мм
A3: Розетки холла | B3: 4 | C3: 2.5 | D3: 2 | E3: 150 | F3: 300 | G3: 200 | H3: 300 | I3: 1.1 | J3: 2300 | K3: =(($H3+$E3+$F3+$G3)*$D3+$J3)*$I3 -> 4620 | L3: =(($H3+$E3+$F3+$G3)*$D3+$J3)*$I3 -> 4620 | M3: =(($H3+$E3+$F3+$G3)*$D3+E3+$J3)*$I3 -> 4785 | N3: учтен дополнительный выпуск на двойные розетки
A4: Розетки в шкафу СС | B4: 4 | C4: 2.5 | D4: 2 | E4: 400 | I4: 1.1 | J4: 1200 | K4: =(($H4+$E4+$F4+$G4)*$D4+$J4)*$I4 -> 2200 | L4: =(($H4+$E4+$F4+$G4)*$D4+$J4)*$I4 -> 2200 | M4: =(($H4+$E4+$F4+$G4)*$D4+$J4)*$I4 -> 2200 | N4: перемычка для розеток внутри щита 400 мм
A5: Розетки двойные на фартуке кухни | B5: 4 | C5: 2.5 | D5: 2 | E5: 400 | F5: 1050 | G5: 200 | H5: 1050 | I5: 1.1 | K5: =(($H5+$E5+$F5+$G5)*$D5+$J5)*$I5 -> 5940 | L5: =(($H5+$E5+$F5+$G5)*$D5+$J5)*$I5 -> 5940 | M5: =(($H5+$E5+$F5+$G5)*$D5+E5+$J5)*$I5 -> 6380 | N5: учтен дополнительный выпуск на двойные розетки
A6: Розетка кухни под плиту | B6: 2 | C6: 6 | D6: 1 | E6: 150 | G6: 100 | H6: 300 | I6: 1.1 | J6: 2300 | K6: =(($H6+$E6+$F6+$G6)*$D6+$J6)*$I6 -> 3135 | L6: =(($H6+$E6+$F6+$G6)*$D6+$J6)*$I6 -> 3135 | M6: =(($H6+$E6+$F6+$G6)*$D6+$J6)*$I6 -> 3135
A7: Розетка кухни под вытяжку | B7: 4 | C7: 2.5 | D7: 1 | E7: 150 | F7: 2550 | G7: 100 | H7: 2550 | I7: 1.1 | K7: =(($H7+$E7+$F7+$G7)*$D7+$J7)*$I7 -> 5885 | L7: =(($H7+$E7+$F7+$G7)*$D7+$J7)*$I7 -> 5885 | M7: =(($H7+$E7+$F7+$G7)*$D7+$J7)*$I7 -> 5885
A8: Розетка кухни под ТВ | B8: 4 | C8: 2.5 | D8: 1 | E8: 400 | G8: 100 | H8: 1500 | I8: 1.1 | K8: =(($H8+$E8+$F8+$G8)*$D8+$J8)*$I8 -> 2200 | L8: =(($H8+$E8+$F8+$G8)*$D8+$J8)*$I8 -> 2200 | M8: =(($H8+$E8+$F8+$G8)*$D8+$J8)*$I8 -> 2200
A9: Розетка кухни под холодильник | B9: 4 | C9: 2.5 | D9: 1 | E9: 150 | F9: 300 | G9: 100 | H9: 300 | I9: 1.1 | K9: =(($H9+$E9+$F9+$G9)*$D9+$J9)*$I9 -> 935 | L9: =(($H9+$E9+$F9+$G9)*$D9+$J9)*$I9 -> 935 | M9: =(($H9+$E9+$F9+$G9)*$D9+$J9)*$I9 -> 935
A10: Розетка кухни около стола | B10: 4 | C10: 2.5 | D10: 1 | E10: 400 | F10: 300 | G10: 100 | H10: 300 | I10: 1.1 | K10: =(($H10+$E10+$F10+$G10)*$D10+$J10)*$I10 -> 1210 | L10: =(($H10+$E10+$F10+$G10)*$D10+$J10)*$I10 -> 1210 | M10: =(($H10+$E10+$F10+$G10)*$D10+$J10)*$I10 -> 1210
A11: Розетки в комнатах одинарные | B11: 3 | C11: 2.5 | D11: ='Исходные данные'!B44 -> 0 | E11: 150 | F11: 300 | G11: 200 | H11: 300 | I11: 1.1 | J11: 2300 | K11: =(($H11+$E11+$F11+$G11)*$D11+$J11)*$I11 -> 2530 | L11: =(($H11+$E11+$F11+$G11)*$D11+$J11)*$I11 -> 2530 | M11: =(($H11+$E11+$F11+$G11)*$D11+E11+$J11)*$I11 -> 2695 | N11: учтен дополнительный выпуск на двойные розетки
A12: Розетки в комнатах двойные | B12: 3 | C12: 2.5 | D12: ='Исходные данные'!C44 -> 0 | E12: 400 | F12: 300 | G12: 200 | H12: 300 | I12: 1.1 | K12: =(($H12+$E12+$F12+$G12)*$D12+$J12)*$I12 -> 0 | L12: =(($H12+$E12+$F12+$G12)*$D12+$J12)*$I12 -> 0 | M12: =(($H12+$E12+$F12+$G12)*$D12+E12+$J12)*$I12 -> 440 | N12: учтен дополнительный выпуск на двойные розетки
A13: Розетка с/у под стир. машину | B13: 5 | C13: 2.5 | D13: 1 | E13: 150 | F13: 1600 | G13: 100 | H13: 1600 | I13: 1.1 | J13: 1300 | K13: =(($H13+$E13+$F13+$G13)*$D13+$J13)*$I13 -> 5225 | L13: =(($H13+$E13+$F13+$G13)*$D13+$J13)*$I13 -> 5225 | M13: =(($H13+$E13+$F13+$G13)*$D13+$J13)*$I13 -> 5225
A14: Розетка с/у бытовая | B14: 5 | C14: 2.5 | D14: ='Исходные данные'!D44 -> 0 | E14: 150 | F14: 1600 | G14: 100 | H14: 1600 | I14: 1.1 | K14: =(($H14+$E14+$F14+$G14)*$D14+$J14)*$I14 -> 0 | L14: =(($H14+$E14+$F14+$G14)*$D14+$J14)*$I14 -> 0 | M14: =(($H14+$E14+$F14+$G14)*$D14+$J14)*$I14 -> 0
A15: Розетка с/у под эл.полотенцесуш. | B15: 5 | C15: 2.5 | D15: ='Исходные данные'!E44 -> 0 | E15: 150 | F15: 1600 | G15: 100 | H15: 1600 | I15: 1.1 | K15: =(($H15+$E15+$F15+$G15)*$D15+$J15)*$I15 -> 0 | L15: =(($H15+$E15+$F15+$G15)*$D15+$J15)*$I15 -> 0 | M15: =(($H15+$E15+$F15+$G15)*$D15+$J15)*$I15 -> 0
A16: Выключатель одноклавишный | B16: 1 | C16: 1.5 | D16: ='Исходные данные'!F44 -> 0 | E16: 150 | H16: 1800 | I16: 1.1 | J16: 1300 | K16: =IF(D16=0,0,IF(D16>0,((H16+E16+F16)*D16)*2)+J16)*I16 -> 0
A17: Выключатель двуклавишный | B17: 1 | C17: 1.5 | D17: ='Исходные данные'!G44 -> 0 | E17: 150 | H17: 1800 | I17: 1.1 | K17: =((((H17+E17+F17)*D17)*3)+J17)*I17 -> 0
A18: Переключатель проходной | B18: 1 | C18: 1.5 | D18: ='Исходные данные'!H44 -> 0 | E18: 150 | H18: 1800 | I18: 1.1 | K18: =((((H18+E18+F18)*D18)*3)+J18)*I18 -> 0 | N18: добавлены проходные переключатели
A19: Кол-во светильников в холле | B19: 1 | C19: 1.5 | D19: ='Исходные данные'!I44 -> 0 | E19: 350 | I19: 1.1 | K19: =((H19+E19+F19)*D19+J19)*I19 -> 0 | L19: =(($H19+$E19+$F19)*$D19+$J19)*$I19 -> 0 | M19: =(($H19+$E19+$F19)*$D19+$J19)*$I19 -> 0 | N19: выпуск к светильнику 200 мм + выпуск на распаечную коробку 150 мм
A20: Кол-во люстр трехрожковых | B20: 1 | C20: 1.5 | D20: 1 | E20: 350 | I20: 1.1 | K20: =((H20+E20+F20)*D20+J20)*I20 -> 385 | L20: =(($H20+$E20+$F20)*$D20+$J20)*$I20 -> 385 | M20: =(($H20+$E20+$F20)*$D20+$J20)*$I20 -> 385 | N20: выпуск к светильнику 200 мм + выпуск на распаечную коробку 150 мм
A21: Кол-во люстр пятирожковых | B21: 1 | C21: 1.5 | D21: ='Исходные данные'!J44 -> 0 | E21: 350 | I21: 1.1 | K21: =((H21+E21+F21)*D21+J21)*I21 -> 0 | L21: =(($H21+$E21+$F21)*$D21+$J21)*$I21 -> 0 | M21: =(($H21+$E21+$F21)*$D21+$J21)*$I21 -> 0 | N21: выпуск к светильнику 200 мм + выпуск на распаечную коробку 150 мм
A22: Кол-во светильников в с/у | B22: 5 | C22: 2.5 | D22: ='Исходные данные'!K44 -> 0 | E22: 350 | I22: 1.1 | K22: =((H22+E22+F22)*D22+J22)*I22 -> 0 | L22: =(($H22+$E22+$F22)*$D22+$J22)*$I22 -> 0 | M22: =(($H22+$E22+$F22)*$D22+$J22)*$I22 -> 0 | N22: выпуск к светильнику 200 мм + выпуск на распаечную коробку 150 мм
A23: Кол-во бра в с/у | B23: 5 | C23: 2.5 | D23: 1 | E23: 350 | H23: 500 | I23: 1.1 | K23: =((H23+E23+F23)*D23+J23)*I23 -> 935 | L23: =(($H23+$E23+$F23)*$D23+$J23)*$I23 -> 935 | M23: =(($H23+$E23+$F23)*$D23+$J23)*$I23 -> 935 | N23: выпуск к светильнику 200 мм + выпуск на распаечную коробку 150 мм
A24: Длина провода в перекрытии гр.1 | B24: 1 | C24: 1.5 | D24: ='Исходные данные'!L44 -> 0 | I24: 1.1 | K24: =$D24*$I24 -> 0 | L24: =$D24*$I24 -> 0 | M24: =$D24*$I24 -> 0
A25: Длина провода в стяжке пола гр.2 | B25: 2 | C25: 6 | D25: ='Исходные данные'!M44 -> 0 | I25: 1.1 | K25: =$D25*$I25 -> 0 | L25: =$D25*$I25 -> 0 | M25: =$D25*$I25 -> 0
A26: Длина провода в стяжке пола гр.3 | B26: 3 | C26: 2.5 | D26: ='Исходные данные'!N44 -> 0 | I26: 1.1 | K26: =$D26*$I26 -> 0 | L26: =$D26*$I26 -> 0 | M26: =$D26*$I26 -> 0
A27: Длина провода в стяжке пола гр.4 | B27: 4 | C27: 2.5 | D27: ='Исходные данные'!O44 -> 0 | I27: 1.1 | K27: =$D27*$I27 -> 0 | L27: =$D27*$I27 -> 0 | M27: =$D27*$I27 -> 0
A28: Длина провода в перекрытии гр.5 | B28: 5 | C28: 2.5 | D28: ='Исходные данные'!P44 -> 0 | I28: 1.1 | K28: =$D28*$I28 -> 0 | L28: =$D28*$I28 -> 0 | M28: =$D28*$I28 -> 0
A29: Длина провода в перекрытии гр.6 | B29: 6 | C29: 2.5 | D29: ='Исходные данные'!Q44 -> 0 | I29: 1.1 | K29: =$D29*$I29 -> 0 | L29: =$D29*$I29 -> 0 | M29: =$D29*$I29 -> 0
A30: Провод на звонок | B30: 1 | C30: 1.5 | D30: 1 | E30: 100 | H30: 1300 | I30: 1.1 | K30: =((H30+E30+F30)*D30+J30)*I30 -> 1540 | L30: =(($H30+$E30+$F30)*$D30+$J30)*$I30 -> 1540 | M30: =(($H30+$E30+$F30)*$D30+$J30)*$I30 -> 1540
A31: Кнопка звонка | B31: 1 | C31: 1.5 | D31: 1 | E31: 100 | H31: 1300 | I31: 1.1 | K31: =((H31+E31+F31)*D31+J31)*I31 -> 1540 | L31: =(($H31+$E31+$F31)*$D31+$J31)*$I31 -> 1540 | M31: =(($H31+$E31+$F31)*$D31+$J31)*$I31 -> 1540
A32: Кол-во вентиляторов ОВ | B32: 6 | C32: 2.5 | D32: ='Исходные данные'!R44 -> 0 | E32: 150 | H32: 600 | I32: 1.1 | J32: 1300 | K32: =IF($D32=0,0,IF($D32>0,(($H32+$E32+$F32)*$D32+$J32)*$I32)) -> 0 | L32: =IF($D32=0,0,IF($D32>0,(($H32+$E32+$F32)*$D32+$J32)*$I32)) -> 0 | M32: =IF($D32=0,0,IF($D32>0,(($H32+$E32+$F32)*$D32+$J32)*$I32)) -> 0
A33: Выключатель для вытяжки | B33: 6 | C33: 2.5 | D33: =D32 -> 0 | E33: 150 | H33: 1800 | I33: 1.1 | K33: =((((H33+E33+F33)*D33)*3)+J33)*I33 -> 0
A34: Провод от КУП до ванны и труб | B34: 5 | C34: 4 | D34: 6000 | I34: 1.1 | M34: =D34 -> 6000
A35: Провод к КУП и от КУП до розетки | B35: 5 | C35: 2.5 | D35: ='Исходные данные'!S44 -> 0 | E35: 100 | F35: 10000 | H35: 1500 | I35: 1.1 | J35: 1300 | M35: =(D35+E35+H35+J35+F35)*I35 -> 14190
A38: Квартира 1. Без принудительной вентиляцией. Суммарное значение провода
A39: Наименование группы | B39: № группы подк | C39: Сеч. провода | D39: Провод белый, м | E39: Провод синий, м | F39: Провод ж/з, м
A40: Группа освещения | B40: 1 | C40: 1.5 | D40: =SUMIFS(K$3:K$35,$B$3:$B$35,1,$C$3:$C$35,1.5)*0.001 -> 3.465 | E40: =SUMIFS(L$3:L$35,$B$3:$B$35,1,$C$3:$C$35,1.5)*0.001 -> 3.465 | F40: =SUMIFS(M$3:M$35,$B$3:$B$35,1,$C$3:$C$35,1.5)*0.001 -> 3.465
A41: Группа плиты | B41: 2 | C41: 6 | D41: =SUMIFS(K$3:K$35,$B$3:$B$35,2,$C$3:$C$35,6)*0.001 -> 3.135 | E41: =SUMIFS(L$3:L$35,$B$3:$B$35,2,$C$3:$C$35,6)*0.001 -> 3.135 | F41: =SUMIFS(M$3:M$35,$B$3:$B$35,2,$C$3:$C$35,6)*0.001 -> 3.135
A42: Розеточная группа комнат | B42: 3 | C42: 2.5 | D42: =SUMIFS(K$3:K$35,$B$3:$B$35,3,$C$3:$C$35,2.5)*0.001 -> 2.53 | E42: =SUMIFS(L$3:L$35,$B$3:$B$35,3,$C$3:$C$35,2.5)*0.001 -> 2.53 | F42: =SUMIFS(M$3:M$35,$B$3:$B$35,3,$C$3:$C$35,2.5)*0.001 -> 3.135
A43: Розеточная группа кухни и коридора | B43: 4 | C43: 2.5 | D43: =SUMIFS(K$3:K$35,$B$3:$B$35,4,$C$3:$C$35,2.5)*0.001 -> 22.99 | E43: =SUMIFS(L$3:L$35,$B$3:$B$35,4,$C$3:$C$35,2.5)*0.001 -> 22.99 | F43: =SUMIFS(M$3:M$35,$B$3:$B$35,4,$C$3:$C$35,2.5)*0.001 -> 23.595
A44: Электрооборудование СУ | B44: 5 | C44: 2.5 | D44: =SUMIFS(K$3:K$35,$B$3:$B$35,5,$C$3:$C$35,2.5)*0.001 -> 6.16 | E44: =SUMIFS(L$3:L$35,$B$3:$B$35,5,$C$3:$C$35,2.5)*0.001 -> 6.16 | F44: =SUMIFS(M$3:M$35,$B$3:$B$35,5,$C$3:$C$35,2.5)*0.001 -> 20.35
C45: 4 | F45: =SUMIFS(M$3:M$35,$B$3:$B$35,5,$C$3:$C$35,4)*0.001 -> 6
A47: Квартира 1. С принудительной вентиляцией. Суммарное значение провода
A48: Наименование группы | B48: № группы подк | C48: Сеч. провода | D48: Провод белый, м | E48: Провод синий, м | F48: Провод ж/з, м
A49: Группа освещения | B49: 1 | C49: 1.5 | D49: =SUMIFS(K$3:K$35,$B$3:$B$35,1,$C$3:$C$35,1.5)*0.001 -> 3.465 | E49: =SUMIFS(L$3:L$35,$B$3:$B$35,1,$C$3:$C$35,1.5)*0.001 -> 3.465 | F49: =SUMIFS(M$3:M$35,$B$3:$B$35,1,$C$3:$C$35,1.5)*0.001 -> 3.465
A50: Группа плиты | B50: 2 | C50: 6 | D50: =SUMIFS(K$3:K$35,$B$3:$B$35,2,$C$3:$C$35,6)*0.001 -> 3.135 | E50: =SUMIFS(L$3:L$35,$B$3:$B$35,2,$C$3:$C$35,6)*0.001 -> 3.135 | F50: =SUMIFS(M$3:M$35,$B$3:$B$35,2,$C$3:$C$35,6)*0.001 -> 3.135
A51: Розеточная группа комнат | B51: 3 | C51: 2.5 | D51: =SUMIFS(K$3:K$35,$B$3:$B$35,3,$C$3:$C$35,2.5)*0.001 -> 2.53 | E51: =SUMIFS(L$3:L$35,$B$3:$B$35,3,$C$3:$C$35,2.5)*0.001 -> 2.53 | F51: =SUMIFS(M$3:M$35,$B$3:$B$35,3,$C$3:$C$35,2.5)*0.001 -> 3.135
A52: Розеточная группа кухни и коридора | B52: 4 | C52: 2.5 | D52: =SUMIFS(K$3:K$35,$B$3:$B$35,4,$C$3:$C$35,2.5)*0.001 -> 22.99 | E52: =SUMIFS(L$3:L$35,$B$3:$B$35,4,$C$3:$C$35,2.5)*0.001 -> 22.99 | F52: =SUMIFS(M$3:M$35,$B$3:$B$35,4,$C$3:$C$35,2.5)*0.001 -> 23.595
A53: Электрооборудование СУ | B53: 5 | C53: 2.5 | D53: =SUMIFS(K$3:K$35,$B$3:$B$35,5,$C$3:$C$35,2.5)*0.001 -> 6.16 | E53: =SUMIFS(L$3:L$35,$B$3:$B$35,5,$C$3:$C$35,2.5)*0.001 -> 6.16 | F53: =SUMIFS(M$3:M$35,$B$3:$B$35,5,$C$3:$C$35,2.5)*0.001 -> 20.35
C54: 4 | F54: =SUMIFS(M$3:M$35,$B$3:$B$35,5,$C$3:$C$35,4)*0.001 -> 6
A55: Вентиляция | B55: 6 | C55: 2.5 | D55: =SUMIFS(K$3:K$35,$B$3:$B$35,6,$C$3:$C$35,2.5)*0.001 -> 0 | E55: =SUMIFS(L$3:L$35,$B$3:$B$35,6,$C$3:$C$35,2.5)*0.001 -> 0 | F55: =SUMIFS(M$3:M$35,$B$3:$B$35,6,$C$3:$C$35,2.5)*0.001 -> 0

Sheet Квартира 10
A1: ='Исходные данные'!A46 -> Квартира 10 | B1: ДАННЫЕ В ТАБЛИЦЕ НЕ МЕНЯТЬ!
A2: Наименование потребителя | B2: № группы подк | C2: Сеч. провода | D2: Кол-во уст. изд/ Длина кабеля, мм | E2: Выпуск для подкл, мм | F2: Опуск провода, верт, мм | G2: Стяжка пола, мм | H2: Подъем провода верт, мм | I2: Запас провода | J2: Подкл. к ЩК, мм | K2: Итого длина провода бел, мм | L2: Итого длина провода син, мм | M2: Итого длина провода ж/з, мм
A3: Розетки холла | B3: 4 | C3: 2.5 | D3: 2 | E3: 150 | F3: 300 | G3: 200 | H3: 300 | I3: 1.1 | J3: 2300 | K3: =(($H3+$E3+$F3+$G3)*$D3+$J3)*$I3 -> 4620 | L3: =(($H3+$E3+$F3+$G3)*$D3+$J3)*$I3 -> 4620 | M3: =(($H3+$E3+$F3+$G3)*$D3+E3+$J3)*$I3 -> 4785 | N3: учтен дополнительный выпуск на двойные розетки
A4: Розетки в шкафу СС | B4: 4 | C4: 2.5 | D4: 2 | E4: 400 | I4: 1.1 | J4: 1200 | K4: =(($H4+$E4+$F4+$G4)*$D4+$J4)*$I4 -> 2200 | L4: =(($H4+$E4+$F4+$G4)*$D4+$J4)*$I4 -> 2200 | M4: =(($H4+$E4+$F4+$G4)*$D4+$J4)*$I4 -> 2200 | N4: перемычка для розеток внутри щита 400 мм
A5: Розетки двойные на фартуке кухни | B5: 4 | C5: 2.5 | D5: 2 | E5: 400 | F5: 1050 | G5: 200 | H5: 1050 | I5: 1.1 | K5: =(($H5+$E5+$F5+$G5)*$D5+$J5)*$I5 -> 5940 | L5: =(($H5+$E5+$F5+$G5)*$D5+$J5)*$I5 -> 5940 | M5: =(($H5+$E5+$F5+$G5)*$D5+E5+$J5)*$I5 -> 6380 | N5: учтен дополнительный выпуск на двойные розетки
A6: Розетка кухни под плиту | B6: 2 | C6: 6 | D6: 1 | E6: 150 | G6: 100 | H6: 300 | I6: 1.1 | J6: 2300 | K6: =(($H6+$E6+$F6+$G6)*$D6+$J6)*$I6 -> 3135 | L6: =(($H6+$E6+$F6+$G6)*$D6+$J6)*$I6 -> 3135 | M6: =(($H6+$E6+$F6+$G6)*$D6+$J6)*$I6 -> 3135
A7: Розетка кухни под вытяжку | B7: 4 | C7: 2.5 | D7: 1 | E7: 150 | F7: 2550 | G7: 100 | H7: 2550 | I7: 1.1 | K7: =(($H7+$E7+$F7+$G7)*$D7+$J7)*$I7 -> 5885 | L7: =(($H7+$E7+$F7+$G7)*$D7+$J7)*$I7 -> 5885 | M7: =(($H7+$E7+$F7+$G7)*$D7+$J7)*$I7 -> 5885
A8: Розетка кухни под ТВ | B8: 4 | C8: 2.5 | D8: 1 | E8: 400 | G8: 100 | H8: 1500 | I8: 1.1 | K8: =(($H8+$E8+$F8+$G8)*$D8+$J8)*$I8 -> 2200 | L8: =(($H8+$E8+$F8+$G8)*$D8+$J8)*$I8 -> 2200 | M8: =(($H8+$E8+$F8+$G8)*$D8+$J8)*$I8 -> 2200
A9: Розетка кухни под холодильник | B9: 4 | C9: 2.5 | D9: 1 | E9: 150 | F9: 300 | G9: 100 | H9: 300 | I9: 1.1 | K9: =(($H9+$E9+$F9+$G9)*$D9+$J9)*$I9 -> 935 | L9: =(($H9+$E9+$F9+$G9)*$D9+$J9)*$I9 -> 935 | M9: =(($H9+$E9+$F9+$G9)*$D9+$J9)*$I9 -> 935
A10: Розетка кухни около стола | B10: 4 | C10: 2.5 | D10: 1 | E10: 400 | F10: 300 | G10: 100 | H10: 300 | I10: 1.1 | K10: =(($H10+$E10+$F10+$G10)*$D10+$J10)*$I10 -> 1210 | L10: =(($H10+$E10+$F10+$G10)*$D10+$J10)*$I10 -> 1210 | M10: =(($H10+$E10+$F10+$G10)*$D10+$J10)*$I10 -> 1210
A11: Розетки в комнатах одинарные | B11: 3 | C11: 2.5 | D11: ='Исходные данные'!B47 -> 0 | E11: 150 | F11: 300 | G11: 200 | H11: 300 | I11: 1.1 | J11: 2300 | K11: =(($H11+$E11+$F11+$G11)*$D11+$J11)*$I11 -> 2530 | L11: =(($H11+$E11+$F11+$G11)*$D11+$J11)*$I11 -> 2530 | M11: =(($H11+$E11+$F11+$G11)*$D11+E11+$J11)*$I11 -> 2695 | N11: учтен дополнительный выпуск на двойные розетки
A12: Розетки в комнатах двойные | B12: 3 | C12: 2.5 | D12: ='Исходные данные'!C47 -> 0 | E12: 400 | F12: 300 | G12: 200 | H12: 300 | I12: 1.1 | K12: =(($H12+$E12+$F12+$G12)*$D12+$J12)*$I12 -> 0 | L12: =(($H12+$E12+$F12+$G12)*$D12+$J12)*$I12 -> 0 | M12: =(($H12+$E12+$F12+$G12)*$D12+E12+$J12)*$I12 -> 440 | N12: учтен дополнительный выпуск на двойные розетки
A13: Розетка с/у под стир. машину | B13: 5 | C13: 2.5 | D13: 1 | E13: 150 | F13: 1600 | G13: 100 | H13: 1600 | I13: 1.1 | J13: 1300 | K13: =(($H13+$E13+$F13+$G13)*$D13+$J13)*$I13 -> 5225 | L13: =(($H13+$E13+$F13+$G13)*$D13+$J13)*$I13 -> 5225 | M13: =(($H13+$E13+$F13+$G13)*$D13+$J13)*$I13 -> 5225
A14: Розетка с/у бытовая | B14: 5 | C14: 2.5 | D14: ='Исходные данные'!D47 -> 0 | E14: 150 | F14: 1600 | G14: 100 | H14: 1600 | I14: 1.1 | K14: =(($H14+$E14+$F14+$G14)*$D14+$J14)*$I14 -> 0 | L14: =(($H14+$E14+$F14+$G14)*$D14+$J14)*$I14 -> 0 | M14: =(($H14+$E14+$F14+$G14)*$D14+$J14)*$I14 -> 0
A15: Розетка с/у под эл.полотенцесуш. | B15: 5 | C15: 2.5 | D15: ='Исходные данные'!E47 -> 0 | E15: 150 | F15: 1600 | G15: 100 | H15: 1600 | I15: 1.1 | K15: =(($H15+$E15+$F15+$G15)*$D15+$J15)*$I15 -> 0 | L15: =(($H15+$E15+$F15+$G15)*$D15+$J15)*$I15 -> 0 | M15: =(($H15+$E15+$F15+$G15)*$D15+$J15)*$I15 -> 0
A16: Выключатель одноклавишный | B16: 1 | C16: 1.5 | D16: ='Исходные данные'!F47 -> 0 | E16: 150 | H16: 1800 | I16: 1.1 | J16: 1300 | K16: =IF(D16=0,0,IF(D16>0,((H16+E16+F16)*D16)*2)+J16)*I16 -> 0
A17: Выключатель двуклавишный | B17: 1 | C17: 1.5 | D17: ='Исходные данные'!G47 -> 0 | E17: 150 | H17: 1800 | I17: 1.1 | K17: =((((H17+E17+F17)*D17)*3)+J17)*I17 -> 0
A18: Переключатель проходной | B18: 1 | C18: 1.5 | D18: ='Исходные данные'!H47 -> 0 | E18: 150 | H18: 1800 | I18: 1.1 | K18: =((((H18+E18+F18)*D18)*3)+J18)*I18 -> 0 | N18: добавлены проходные переключатели
A19: Кол-во светильников в холле | B19: 1 | C19: 1.5 | D19: ='Исходные данные'!I47 -> 0 | E19: 350 | I19: 1.1 | K19: =((H19+E19+F19)*D19+J19)*I19 -> 0 | L19: =(($H19+$E19+$F19)*$D19+$J19)*$I19 -> 0 | M19: =(($H19+$E19+$F19)*$D19+$J19)*$I19 -> 0 | N19: выпуск к светильнику 200 мм + выпуск на распаечную коробку 150 мм
A20: Кол-во люстр трехрожковых | B20: 1 | C20: 1.5 | D20: 1 | E20: 350 | I20: 1.1 | K20: =((H20+E20+F20)*D20+J20)*I20 -> 385 | L20: =(($H20+$E20+$F20)*$D20+$J20)*$I20 -> 385 | M20: =(($H20+$E20+$F20)*$D20+$J20)*$I20 -> 385 | N20: выпуск к светильнику 200 мм + выпуск на распаечную коробку 150 мм
A21: Кол-во люстр пятирожковых | B21: 1 | C21: 1.5 | D21: ='Исходные данные'!J47 -> 0 | E21: 350 | I21: 1.1 | K21: =((H21+E21+F21)*D21+J21)*I21 -> 0 | L21: =(($H21+$E21+$F21)*$D21+$J21)*$I21 -> 0 | M21: =(($H21+$E21+$F21)*$D21+$J21)*$I21 -> 0 | N21: выпуск к светильнику 200 мм + выпуск на распаечную коробку 150 мм
A22: Кол-во светильников в с/у | B22: 5 | C22: 2.5 | D22: ='Исходные данные'!K47 -> 0 | E22: 350 | I22: 1.1 | K22: =((H22+E22+F22)*D22+J22)*I22 -> 0 | L22: =(($H22+$E22+$F22)*$D22+$J22)*$I22 -> 0 | M22: =(($H22+$E22+$F22)*$D22+$J22)*$I22 -> 0 | N22: выпуск к светильнику 200 мм + выпуск на распаечную коробку 150 мм
A23: Кол-во бра в с/у | B23: 5 | C23: 2.5 | D23: 1 | E23: 350 | H23: 500 | I23: 1.1 | K23: =((H23+E23+F23)*D23+J23)*I23 -> 935 | L23: =(($H23+$E23+$F23)*$D23+$J23)*$I23 -> 935 | M23: =(($H23+$E23+$F23)*$D23+$J23)*$I23 -> 935 | N23: выпуск к светильнику 200 мм + выпуск на распаечную коробку 150 мм
A24: Длина провода в перекрытии гр.1 | B24: 1 | C24: 1.5 | D24: ='Исходные данные'!L47 -> 0 | I24: 1.1 | K24: =$D24*$I24 -> 0 | L24: =$D24*$I24 -> 0 | M24: =$D24*$I24 -> 0
A25: Длина провода в стяжке пола гр.2 | B25: 2 | C25: 6 | D25: ='Исходные данные'!M47 -> 0 | I25: 1.1 | K25: =$D25*$I25 -> 0 | L25: =$D25*$I25 -> 0 | M25: =$D25*$I25 -> 0
A26: Длина провода в стяжке пола гр.3 | B26: 3 | C26: 2.5 | D26: ='Исходные данные'!N47 -> 0 | I26: 1.1 | K26: =$D26*$I26 -> 0 | L26: =$D26*$I26 -> 0 | M26: =$D26*$I26 -> 0
A27: Длина провода в стяжке пола гр.4 | B27: 4 | C27: 2.5 | D27: ='Исходные данные'!O47 -> 0 | I27: 1.1 | K27: =$D27*$I27 -> 0 | L27: =$D27*$I27 -> 0 | M27: =$D27*$I27 -> 0
A28: Длина провода в перекрытии гр.5 | B28: 5 | C28: 2.5 | D28: ='Исходные данные'!P47 -> 0 | I28: 1.1 | K28: =$D28*$I28 -> 0 | L28: =$D28*$I28 -> 0 | M28: =$D28*$I28 -> 0
A29: Длина провода в перекрытии гр.6 | B29: 6 | C29: 2.5 | D29: ='Исходные данные'!Q47 -> 0 | I29: 1.1 | K29: =$D29*$I29 -> 0 | L29: =$D29*$I29 -> 0 | M29: =$D29*$I29 -> 0
A30: Провод на звонок | B30: 1 | C30: 1.5 | D30: 1 | E30: 100 | H30: 1300 | I30: 1.1 | K30: =((H30+E30+F30)*D30+J30)*I30 -> 1540 | L30: =(($H30+$E30+$F30)*$D30+$J30)*$I30 -> 1540 | M30: =(($H30+$E30+$F30)*$D30+$J30)*$I30 -> 1540
A31: Кнопка звонка | B31: 1 | C31: 1.5 | D31: 1 | E31: 100 | H31: 1300 | I31: 1.1 | K31: =((H31+E31+F31)*D31+J31)*I31 -> 1540 | L31: =(($H31+$E31+$F31)*$D31+$J31)*$I31 -> 1540 | M31: =(($H31+$E31+$F31)*$D31+$J31)*$I31 -> 1540
A32: Кол-во вентиляторов ОВ | B32: 6 | C32: 2.5 | D32: ='Исходные данные'!R47 -> 0 | E32: 150 | H32: 600 | I32: 1.1 | J32: 1300 | K32: =IF($D32=0,0,IF($D32>0,(($H32+$E32+$F32)*$D32+$J32)*$I32)) -> 0 | L32: =IF($D32=0,0,IF($D32>0,(($H32+$E32+$F32)*$D32+$J32)*$I32)) -> 0 | M32: =IF($D32=0,0,IF($D32>0,(($H32+$E32+$F32)*$D32+$J32)*$I32)) -> 0
A33: Выключатель для вытяжки | B33: 6 | C33: 2.5 | D33: =D32 -> 0 | E33: 150 | H33: 1800 | I33: 1.1 | K33: =((((H33+E33+F33)*D33)*3)+J33)*I33 -> 0
A34: Провод от КУП до ванны и труб | B34: 5 | C34: 4 | D34: 6000 | I34: 1.1 | M34: =D34 -> 6000
A35: Провод к КУП и от КУП до розетки | B35: 5 | C35: 2.5 | D35: ='Исходные данные'!S47 -> 0 | E35: 100 | F35: 10000 | H35: 1500 | I35: 1.1 | J35: 1300 | M35: =(D35+E35+H35+J35+F35)*I35 -> 14190
A38: Квартира 1. Без принудительной вентиляцией. Суммарное значение провода
A39: Наименование группы | B39: № группы подк | C39: Сеч. провода | D39: Провод белый, м | E39: Провод синий, м | F39: Провод ж/з, м
A40: Группа освещения | B40: 1 | C40: 1.5 | D40: =SUMIFS(K$3:K$35,$B$3:$B$35,1,$C$3:$C$35,1.5)*0.001 -> 3.465 | E40: =SUMIFS(L$3:L$35,$B$3:$B$35,1,$C$3:$C$35,1.5)*0.001 -> 3.465 | F40: =SUMIFS(M$3:M$35,$B$3:$B$35,1,$C$3:$C$35,1.5)*0.001 -> 3.465
A41: Группа плиты | B41: 2 | C41: 6 | D41: =SUMIFS(K$3:K$35,$B$3:$B$35,2,$C$3:$C$35,6)*0.001 -> 3.135 | E41: =SUMIFS(L$3:L$35,$B$3:$B$35,2,$C$3:$C$35,6)*0.001 -> 3.135 | F41: =SUMIFS(M$3:M$35,$B$3:$B$35,2,$C$3:$C$35,6)*0.001 -> 3.135
A42: Розеточная группа комнат | B42: 3 | C42: 2.5 | D42: =SUMIFS(K$3:K$35,$B$3:$B$35,3,$C$3:$C$35,2.5)*0.001 -> 2.53 | E42: =SUMIFS(L$3:L$35,$B$3:$B$35,3,$C$3:$C$35,2.5)*0.001 -> 2.53 | F42: =SUMIFS(M$3:M$35,$B$3:$B$35,3,$C$3:$C$35,2.5)*0.001 -> 3.135
A43: Розеточная группа кухни и коридора | B43: 4 | C43: 2.5 | D43: =SUMIFS(K$3:K$35,$B$3:$B$35,4,$C$3:$C$35,2.5)*0.001 -> 22.99 | E43: =SUMIFS(L$3:L$35,$B$3:$B$35,4,$C$3:$C$35,2.5)*0.001 -> 22.99 | F43: =SUMIFS(M$3:M$35,$B$3:$B$35,4,$C$3:$C$35,2.5)*0.001 -> 23.595
A44: Электрооборудование СУ | B44: 5 | C44: 2.5 | D44: =SUMIFS(K$3:K$35,$B$3:$B$35,5,$C$3:$C$35,2.5)*0.001 -> 6.16 | E44: =SUMIFS(L$3:L$35,$B$3:$B$35,5,$C$3:$C$35,2.5)*0.001 -> 6.16 | F44: =SUMIFS(M$3:M$35,$B$3:$B$35,5,$C$3:$C$35,2.5)*0.001 -> 20.35
C45: 4 | F45: =SUMIFS(M$3:M$35,$B$3:$B$35,5,$C$3:$C$35,4)*0.001 -> 6
A47: Квартира 1. С принудительной вентиляцией. Суммарное значение провода
A48: Наименование группы | B48: № группы подк | C48: Сеч. провода | D48: Провод белый, м | E48: Провод синий, м | F48: Провод ж/з, м
A49: Группа освещения | B49: 1 | C49: 1.5 | D49: =SUMIFS(K$3:K$35,$B$3:$B$35,1,$C$3:$C$35,1.5)*0.001 -> 3.465 | E49: =SUMIFS(L$3:L$35,$B$3:$B$35,1,$C$3:$C$35,1.5)*0.001 -> 3.465 | F49: =SUMIFS(M$3:M$35,$B$3:$B$35,1,$C$3:$C$35,1.5)*0.001 -> 3.465
A50: Группа плиты | B50: 2 | C50: 6 | D50: =SUMIFS(K$3:K$35,$B$3:$B$35,2,$C$3:$C$35,6)*0.001 -> 3.135 | E50: =SUMIFS(L$3:L$35,$B$3:$B$35,2,$C$3:$C$35,6)*0.001 -> 3.135 | F50: =SUMIFS(M$3:M$35,$B$3:$B$35,2,$C$3:$C$35,6)*0.001 -> 3.135
A51: Розеточная группа комнат | B51: 3 | C51: 2.5 | D51: =SUMIFS(K$3:K$35,$B$3:$B$35,3,$C$3:$C$35,2.5)*0.001 -> 2.53 | E51: =SUMIFS(L$3:L$35,$B$3:$B$35,3,$C$3:$C$35,2.5)*0.001 -> 2.53 | F51: =SUMIFS(M$3:M$35,$B$3:$B$35,3,$C$3:$C$35,2.5)*0.001 -> 3.135
A52: Розеточная группа кухни и коридора | B52: 4 | C52: 2.5 | D52: =SUMIFS(K$3:K$35,$B$3:$B$35,4,$C$3:$C$35,2.5)*0.001 -> 22.99 | E52: =SUMIFS(L$3:L$35,$B$3:$B$35,4,$C$3:$C$35,2.5)*0.001 -> 22.99 | F52: =SUMIFS(M$3:M$35,$B$3:$B$35,4,$C$3:$C$35,2.5)*0.001 -> 23.595
A53: Электрооборудование СУ | B53: 5 | C53: 2.5 | D53: =SUMIFS(K$3:K$35,$B$3:$B$35,5,$C$3:$C$35,2.5)*0.001 -> 6.16 | E53: =SUMIFS(L$3:L$35,$B$3:$B$35,5,$C$3:$C$35,2.5)*0.001 -> 6.16 | F53: =SUMIFS(M$3:M$35,$B$3:$B$35,5,$C$3:$C$35,2.5)*0.001 -> 20.35
C54: 4 | F54: =SUMIFS(M$3:M$35,$B$3:$B$35,5,$C$3:$C$35,4)*0.001 -> 6
A55: Вентиляция | B55: 6 | C55: 2.5 | D55: =SUMIFS(K$3:K$35,$B$3:$B$35,6,$C$3:$C$35,2.5)*0.001 -> 0 | E55: =SUMIFS(L$3:L$35,$B$3:$B$35,6,$C$3:$C$35,2.5)*0.001 -> 0 | F55: =SUMIFS(M$3:M$35,$B$3:$B$35,6,$C$3:$C$35,2.5)*0.001 -> 0
