Workbook
Name внутр.диаметры_рукав: #REF!
Name внутр.диаметры_гофр: #REF!
Name гофры: #REF!
Name кабели: Кабели!$B$3:$C$69
Name имена_рукав: #REF!
Name имена_гофр: #REF!

Sheet Стандарты_Подключений
A1: СИСТЕМА | B1: НАЗНАЧЕНИЕ | C1: КАБЕЛЬ | D1: ПРОИЗВОДИТЕЛЬ | E1: Dн КАБЕЛЯ | F1: ССЫЛКА НА САЙТ
A2: АСКУВТ | B2: Магистральная линия RS-485 | C2: СегментКИ-485-ПсЭВнг(А)-LS 1х2х0,78 | D2: СегментЭнерго | E2: 7.5 | F2: https://segmentenergo.ru/product/segmentki-485-psevnga-ls/
C3: СегментКИ-485-ПсЭнг(А)-HF 1x2x0,78 | D3: СегментЭнерго | E3: 7.5 | F3: https://segmentenergo.ru/product/segmentki-485-psenga-hf/
A4: АСКУВТ | B4: Магистральная линия питания счетчиков | C4: ПВСнг(А)-LS 2х1,5 | D4: Конкорд | E4: 7.4 | F4: https://nym.ru/catalog/PVSng%28A%29-LS/3581
C5: КГППнг(А)-HF 2х1,5 | D5: Кольчугино | E5: 9.2 | F5: https://www.holdcable.com/products/kgppng_a_hf/
A6: АСКУВТ | B6: Подключение квартирных ниш + БКТ | C6: СегментКИ-485-ПсЭВнг(А)-LS 2х2х0,78 | D6: СегментЭнерго | E6: 9 | F6: https://segmentenergo.ru/product/segmentki-485-psevnga-ls/
C7: СегментКИ-485-ПсЭнг(А)-HF 2x2x0,78 | D7: СегментЭнерго | E7: 9 | F7: https://segmentenergo.ru/product/segmentki-485-psenga-hf/
A8: АСКУВТ | B8: Подключение УСПД к оператору связи | C8: U/UTP Cat5e PVCнг(А)-LS 4х2х0,52 | D8: Фолан | E8: 5.2 | F8: https://www.folan.ru/product/folan-uutp-cat5e-pvc-4h2h052
A9: АСКУВТ | B9: Электропитание ШАСКУВТ | C9: ВВГнг(А)-LS 3х1,5 | D9: Конкорд | E9: 11 | F9: https://nym.ru/catalog/VVGng%28A%29-LS/593
A10: АСУПР | B10: Общедомовой учет воды | C10: СегментКИ-485-ПсЭВнг(А)-LS 1х2х0,78 | D10: СегментЭнерго | E10: 7.5 | F10: https://segmentenergo.ru/product/segmentki-485-psevnga-ls/
C11: СегментКИ-485-ПсЭнг(А)-HF 1x2x0,78 | D11: СегментЭнерго | E11: 7.5 | F11: https://segmentenergo.ru/product/segmentki-485-psenga-hf/
A12: АСУПР | B12: Общедомовой учет тепла | C12: СегментКИ-485-ПсЭВнг(А)-LS 2х2х0,78 | D12: СегментЭнерго | E12: 9 | F12: https://segmentenergo.ru/product/segmentki-485-psevnga-ls/
C13: СегментКИ-485-ПсЭнг(А)-HF 2x2x0,78 | D13: СегментЭнерго | E13: 9 | F13: https://segmentenergo.ru/product/segmentki-485-psenga-hf/
A14: АСУПР | B14: Подключение УСПД к оператору связи | C14: U/UTP Cat5e PVCнг(А)-LS 4х2х0,52 | D14: Фолан | E14: 5.2 | F14: https://www.folan.ru/product/folan-uutp-cat5e-pvc-4h2h052
C15: U/UTP Cat5e ZH нг(А)-HF 4х2х0,52 | D15: Фолан | E15: 5.2 | F15: https://www.folan.ru/product/folan-uutp-cat5e-zh-nga-hf-lszh-4h2h052
A16: АСУПР | B16: Электропитание ШАСУПР | C16: ВВГнг(А)-LS 3х1,5 | D16: Конкорд | E16: 11 | F16: https://nym.ru/catalog/VVGng%28A%29-LS/593
A17: АИИСКУЭ | B17: Обвязка счётчиков | C17: СегментКИ-485-ПсЭВнг(А)-LS 2х2х0,78 | D17: СегментЭнерго | E17: 9 | F17: https://segmentenergo.ru/product/segmentki-485-psevnga-ls/
C18: СегментКИ-485-ПсЭнг(А)-HF 2x2x0,78 | D18: СегментЭнерго | E18: 9 | F18: https://segmentenergo.ru/product/segmentki-485-psenga-hf/
A19: СВН | B19: Подключение видеокамер | C19: U/UTP Cat5e PVC нг(А)-LS 4х2х0,52 | D19: Фолан | E19: 5.2 | F19: https://www.folan.ru/product/folan-uutp-cat5e-pvc-4h2h052
C20: U/UTP Cat5e ZH нг(А)-HF 4х2х0,52 | D20: Фолан | E20: 5.2 | F20: https://www.folan.ru/product/folan-uutp-cat5e-zh-nga-hf-lszh-4h2h052
A21: СКУД | B21: Интерфейс точек доступа ЛК | C21: КПСВВнг(А)-LS 2х2х1,0 | D21: СегментЭнерго | E21: 8.86 | F21: https://segmentenergo.ru/product/kpsvv-ls/
C22: КПСППнг(А)-HF 2х2х1,0 | D22: СегментЭнерго | E22: 8.86 | F22: https://segmentenergo.ru/product/kpspp-hf/
A23: СКУД | B23: Питание точек доступа ЛК | C23: ПВСнг(А)-LS 2х1,5 | D23: Конкорд | E23: 7.4 | F23: https://nym.ru/catalog/PVSng%28A%29-LS/3581
C24: КГППнг(А)-HF 2х1,5 | D24: Кольчугино | E24: 9.2 | F24: https://www.holdcable.com/products/kgppng_a_hf/
A25: СКУД (СОВ) | B25: Герконы входных групп | C25: КПСВВнг(А)-LS 1х2х0,5 | D25: СегментЭнерго | E25: 5.12 | F25: https://segmentenergo.ru/product/kpsvv-ls/
A26: СКУД (СОВ) | B26: Питание входных групп | C26: ПВСнг(А)-LS 2х1,5 | D26: Конкорд | E26: 7.4 | F26: https://nym.ru/catalog/PVSng%28A%29-LS/3581
A27: СКУД (СОВ) | B27: Подключение первой вызывной панели | C27: КПСВЭВнг(А)-LS 4х2х0,5 + КПСВЭВнг(А)-LS 1х2х0,5 + РК75-3,7-319 нг(А)-HF | D27: СегментЭнерго СегментЭнерго Паритет | E27: 9,67 + 5,28 | F27: https://segmentenergo.ru/product/kpsvev-ls/
A28: СКУД (СОВ) | B28: Интерфейс между входными панелями | C28: КПСВЭВнг(А)-LS 1х2х0,5 | D28: СегментЭнерго | E28: 5.28 | F28: https://segmentenergo.ru/product/kpsvev-ls/
A29: СКУД (СОВ) | B29: Резервное UTP от входпанелей до ШТ | C29: U/UTP Cat5e PVC нг(А)-LS 4х2х0,52 | D29: Фолан | E29: 5.2 | F29: https://www.folan.ru/product/folan-uutp-cat5e-pvc-4h2h052
C30: U/UTP Cat5e ZH нг(А)-HF 4х2х0,52 | D30: Фолан | E30: 5.2 | F30: https://www.folan.ru/product/folan-uutp-cat5e-zh-nga-hf-lszh-4h2h052
A31: СКУД (СОВ) | B31: Подключение абонентских трубок | C31: КПСВВнг(А)-LS 1х2х0,5 | D31: СегментЭнерго | E31: 5.12 | F31: https://segmentenergo.ru/product/kpsvv-ls/
A32: СКУД (САВ) | B32: Пульт управления воротами | C32: КПСВВнг(А)-LS 2х2х0,5 | D32: СегментЭнерго | E32: 7.41 | F32: https://segmentenergo.ru/product/kpsvv-ls/
C33: КПСППнг(А)-HF 2х2х0,5 | D33: СегментЭнерго | E33: 7.41 | F33: https://segmentenergo.ru/product/kpspp-hf/
A34: СКУД (САВ) | B34: Питание считывателей Matrix | C34: ПВСнг(А)-LS 2х1,5 | D34: Конкорд | E34: 7.4 | F34: https://nym.ru/catalog/PVSng%28A%29-LS/3581
C35: КГППнг(А)-HF 2х1,5 | D35: Кольчугино | E35: 9.2 | F35: https://www.holdcable.com/products/kgppng_a_hf/
A36: СКУД (САВ) | B36: Интерфейс считывателей Matrix | C36: U/UTP Cat5e PVC нг(А)-LS 2х2х0,52 | D36: Фолан | E36: 4.9 | F36: https://www.folan.ru/product/folan-uutp-cat5e-pvc-nga-ls-2h2h052
C37: U/UTP Cat5e ZH нг(А)-HF 2х2х0,52 | D37: Фолан | E37: 4.9 | F37: https://www.folan.ru/product/folan-uutp-cat5e-zh-nga-hf-2h2h052
A38: СКУД (САВ) | B38: Подключение блока управления воротами | C38: КПСВВнг(А)-LS 2х2х0,5 | D38: СегментЭнерго | E38: 7.41 | F38: https://segmentenergo.ru/product/kpsvv-ls/
C39: КПСППнг(А)-HF 2х2х0,5 | D39: СегментЭнерго | E39: 7.41 | F39: https://segmentenergo.ru/product/kpspp-hf/
A40: СКУД (САВ) | B40: Подключение светофоров | C40: ВВГнг(А)-LS 3х1,5 | D40: Конкорд | E40: 11 | F40: https://nym.ru/catalog/VVGng%28A%29-LS/593
...

Sheet Кабели
A1: Для добавления пула кабелей необходимо на предпоследнем кабеле таблицы использовать ПКМ -> +вставить строки выше (для сохранения именного диапазона), формат наружного диаметра - числовой
A2: Наименование | B2: Марка | C2: Наружный диаметр, мм | D2: Производитель | E2: Линк для информации
A3: Кабель силовой | B3: ВВГнг(А)-LS 2х1,5 | C3: 10.5 | D3: Конкорд | E3: https://nym.ru/catalog/VVGng(A)-LS/589
A4: Кабель силовой, не распространяющий горение при групповой прокладке, с пониженным дымо- и газовыделением | B4: ВВГнг(А)-LS 2x1,5 | C4: 8.5 | D4: Россия
A5: Кабель силовой | B5: ВВГнг(А)-LS 3х1,5 | C5: 10 | D5: Кольчугино | E5: https://www.electro-mpo.ru/catalog/provod_i_kabel/p11_vvgng_a_ls_vvg_png_a_ls_kabel_nerasprostranyayu/p1170-kabel-silovoy-vvgng-a-ls-3kh1-5ok-n-pe-0-66-/
A6: Кабель силовой, не распространяющий горение | B6: ВВГнг(А)-LS 3x2,5 | C6: 11.8 | D6: Конкорд | E6: https://nym.ru/catalog/VVGng(A)-LS/594
A7: Кабель силовой огнестойкий не распространяющий горение | B7: ВВГнг(А)-FRLS 3х1,5 | C7: 13.1 | D7: Конкорд | E7: https://nym.ru/catalog/VVGng(A)-FRLS/715
A8: Кабель силовой, не распространяющий горение | B8: ВВГнг(А)-LS 4x1,5 | C8: 11.7 | D8: Конкорд | E8: https://nym.ru/catalog/VVGng(A)-LS/597
A9: Кабель оптический | B9: ДПО-нг(А)HF-16У-2,7кН | C9: 9.2
A10: Кабель для монтажа систем сигнализации, не распространяет горение при групповой прокладке | B10: КГВВнг(А)-LS 2x1,5 | C10: 9.2 | D10: Конкорд | E10: https://nym.ru/catalog/KGVVng(A)-LS/1661
A11: Кабель симметричный парной скрутки | B11: КИПвЭВнг(А)-LS 1х2х0,78 | C11: 7.6 | D11: Спецкабель | E11: https://spetskabel.ru/products/3/108/
A12: Кабель симметричный парной скрутки | B12: КИПвЭВнг(А)-LS 1,5x2x0,78 | C12: 7.7 | D12: Спецкабель | E12: https://spetskabel.ru/products/3/108/
A13: Кабель симметричный парной скрутки | B13: КИПвЭВнг(А)-LS 2х2х0,78 | C13: 10.9 | D13: Спецкабель | E13: https://spetskabel.ru/products/3/108/
A14: Кабель монтажный, не распространяющий горение | B14: КПСВВнг(А)-LS 1х2х0,5 | C14: 4.9 | D14: СПКБ Техно | E14: https://spkb.ru/catalog/Cables-communication-300V/kpsvvng-a-ls/
A15: Кабель с медными жилами | B15: КПСВВнг(А)-LS 1x2x1 | C15: 6.3 | D15: СПКБ Техно
A16: Кабель монтажный, не распространяющий горение | B16: КПСВВнг(А)-LS 2х2х0,5 | C16: 5.62 | D16: СПКБ Техно | E16: https://spkb.ru/catalog/Cables-communication-300V/kpsvvng-a-ls/
A17: Кабель с медными жилами | B17: КПСВВнг(А)-LS 2x2x1 | C17: 10.3 | D17: СПКБ Техно
A18: Кабель не распространяющий горение | B18: КПСВВнг(А)-LS 3х2х0,5 | C18: 8.37 | D18: СПКБ Техно | E18: https://spkb.ru/catalog/Cables-communication-300V/kpsvvng-a-ls/
A19: Кабель не распространяющий горение при групповой прокладке, с пониженным дымо- и газовыделением | B19: КПСВВнг(A)-LS 1x2x0,5 | C19: 4.9 | D19: СПКБ Техно | E19: https://spkb.ru/catalog/Cables-communication-300V/kpsvvng-a-ls/
A20: Кабель не распространяющий горение при групповой прокладке, с пониженным дымо- и газовыделением | B20: КПСВВнг(A)-LS 2x2x0,5 | C20: 8.8
A21: Кабель для монтажа систем сигнализации | B21: КПСВЭВнг(А)-LS 1х2х0,5 | C21: 5.4 | D21: Спецкабель | E21: https://spetskabel.ru/products/2/66/
A22: Кабель с медными жилами | B22: КПСВЭВнг(А)-LS 1x2x1
A23: Кабель симметричный для систем сигнализации | B23: КПСВЭВнг(А)-LS 1x2x1,0 | C23: 7 | D23: Спецкабель | E23: https://spetskabel.ru/products/2/66/
A24: Кабель для управления | B24: КПСВЭВнг(А)-LS 2х2х1,0 | C24: 11.5 | D24: Спецкабель
A25: Кабель с медными жилами | B25: КПСВЭВнг(А)-LS 2x2x1
A26: Кабель для монтажа систем сигнализации | B26: КПСВЭВнг(А)-LS 4х2х0,5 | C26: 11.6 | D26: Спецкабель | E26: https://spetskabel.ru/products/2/66/
A27: Кабель медный огнестойкий, не распространяющий горение | B27: КПСнг(А)-FRLS 1х2х0,5 | C27: 6.2 | D27: Спецкабель | E27: https://spetskabel.ru/products/1/10/
A28: Кабель медный огнестойкий, не распространяющий горение | B28: КПСнг(А)-FRLS 1х2х0,75 | C28: 6.6 | D28: Спецкабель | E28: https://spetskabel.ru/products/1/10/
A29: Кабель медный огнестойкий, не распространяющий горение | B29: КПСнг(А)-FRLS 1х2х1,5 | C29: 7.6 | D29: Спецкабель | E29: https://spetskabel.ru/products/1/10/
A30: Кабель медный огнестойкий, не распространяющий горение | B30: КПСнг(А)-FRLS 2х2х0,75 | C30: 10.9 | D30: Спецкабель | E30: https://spetskabel.ru/products/1/10/
A31: Кабель огнестойкий, не поддерживающий горения | B31: КПСнг(А)-FRLS 2x2x0,5 | C31: 10.2 | D31: Спецкабель | E31: https://spetskabel.ru/products/1/10/
A32: Кабель огнестойкий, не распространяющий горение | B32: КПСнг(А)-FRLS 3x2x0,5 | C32: 10.8 | D32: Спецкабель | E32: https://spetskabel.ru/products/1/10/
B33: КПСнг(А)-FRLS 4x2x0,5 | C33: 11.4 | D33: Спецкабель | E33: https://spetskabel.ru/products/1/10/
A34: Кабель огнестойкий, не распространяющий горение, экранированный | B34: КПСЭнг(А)-FRLS 1х2х0,75 | C34: 6.7 | D34: Спецкабель | E34: https://spetskabel.ru/products/1/12/
A35: Кабель огнестойкий, не распространяющий горение, экранированный | B35: КПСЭнг(А)-FRLS 2х2х0,75 | C35: 11.1 | D35: Спецкабель | E35: https://spetskabel.ru/products/1/12/
A36: Кабель огнестойкий, не распространяющий горение, экранированный | B36: КПСЭнг(А)-FRLS 2x2x0,5 | C36: 10.4 | D36: Спецкабель | E36: https://spetskabel.ru/products/1/12/
A37: Кабель не распространяющий горение, экранированный | B37: КПСЭнг(А)-LS 1x2x0,5 | C37: 5.5 | D37: ? | E37: Кабель с исполнение LS не найти, есть предложение заменить на FRLS
A38: Кабель не распространяющий горение, экранированный | B38: КПСЭнг(А)-LS 2x2x0,5 | C38: 9.7 | D38: ? | E38: Кабель с исполнение LS не найти, есть предложение заменить на FRLS
A39: Кабель сигнализации | B39: КСВВнг(А)-LS 1х2х0,97 | C39: 5 | D39: Паритет | E39: https://paritet.su/catalog/ksvv_ksvevng_a_ls/ksvvng_a_ls_1kh2kh0_97_mm/
A40: Кабель для монтажа систем сигнализации, не распространяет горение при групповой прокладке | B40: КСВВнг(А)-LS 2х0,5 | C40: 2.9 | D40: Паритет | E40: https://paritet.su/catalog/ksvv_ksvevng_a_ls/ksvvng_a_ls_2kh0_50_mm/
...
