Workbook
Name внутр.диаметры_рукав: #REF!
Name внутр.диаметры_гофр: #REF!
Name гофры: #REF!
Name кабели: Кабели!$B$3:$C$69
Name имена_рукав: #REF!
Name имена_гофр: #REF!

Sheet Стандарты_Подключений
A1: СИСТЕМА | B1: НАЗНАЧЕНИЕ | C1: КАБЕЛЬ | D1: ПРОИЗВОДИТЕЛЬ | E1: Dн КАБЕЛЯ | F1: ССЫЛКА НА САЙТ
A2: АСКУВТ | B2: Магистральная линия RS-485 | C2: СегментКИ-485-ПсЭВнг(А)-LS 1х2х0,78 | D2: СегментЭнерго | E2: 7.5 | F2: https://segmentenergo.ru/product/segmentki-485-psevnga-ls/
C3: СегментКИ-485-ПсЭнг(А)-HF 1x2x0,78 | D3: СегментЭнерго | E3: 7.5 | F3: https://segmentenergo.ru/product/segmentki-485-psenga-hf/
A4: АСКУВТ | B4: Магистральная линия питания счетчиков | C4: ПВСнг(А)-LS 2х1,5 | D4: Конкорд | E4: 7.4 | F4: https://nym.ru/catalog/PVSng%28A%29-LS/3581
C5: КГППнг(А)-HF 2х1,5 | D5: Кольчугино | E5: 9.2 | F5: https://www.holdcable.com/products/kgppng_a_hf/
A6: АСКУВТ | B6: Подключение квартирных ниш + БКТ | C6: СегментКИ-485-ПсЭВнг(А)-LS 2х2х0,78 | D6: СегментЭнерго | E6: 9 | F6: https://segmentenergo.ru/product/segmentki-485-psevnga-ls/
C7: СегментКИ-485-ПсЭнг(А)-HF 2x2x0,78 | D7: СегментЭнерго | E7: 9 | F7: https://segmentenergo.ru/product/segmentki-485-psenga-hf/
A8: АСКУВТ | B8: Подключение УСПД к оператору связи | C8: U/UTP Cat5e PVCнг(А)-LS 4х2х0,52 | D8: Фолан | E8: 5.2 | F8: https://www.folan.ru/product/folan-uutp-cat5e-pvc-4h2h052
A9: АСКУВТ | B9: Электропитание ШАСКУВТ | C9: ВВГнг(А)-LS 3х1,5 | D9: Конкорд | E9: 11 | F9: https://nym.ru/catalog/VVGng%28A%29-LS/593
A10: АСУПР | B10: Общедомовой учет воды | C10: СегментКИ-485-ПсЭВнг(А)-LS 1х2х0,78 | D10: СегментЭнерго | E10: 7.5 | F10: https://segmentenergo.ru/product/segmentki-485-psevnga-ls/
C11: СегментКИ-485-ПсЭнг(А)-HF 1x2x0,78 | D11: СегментЭнерго | E11: 7.5 | F11: https://segmentenergo.ru/product/segmentki-485-psenga-hf/
A12: АСУПР | B12: Общедомовой учет тепла | C12: СегментКИ-485-ПсЭВнг(А)-LS 2х2х0,78 | D12: СегментЭнерго | E12: 9 | F12: https://segmentenergo.ru/product/segmentki-485-psevnga-ls/
C13: СегментКИ-485-ПсЭнг(А)-HF 2x2x0,78 | D13: СегментЭнерго | E13: 9 | F13: https://segmentenergo.ru/product/segmentki-485-psenga-hf/
A14: АСУПР | B14: Подключение УСПД к оператору связи | C14: U/UTP Cat5e PVCнг(А)-LS 4х2х0,52 | D14: Фолан | E14: 5.2 | F14: https://www.folan.ru/product/folan-uutp-cat5e-pvc-4h2h052
C15: U/UTP Cat5e ZH нг(А)-HF 4х2х0,52 | D15: Фолан | E15: 5.2 | F15: https://www.folan.ru/product/folan-uutp-cat5e-zh-nga-hf-lszh-4h2h052
A16: АСУПР | B16: Электропитание ШАСУПР | C16: ВВГнг(А)-LS 3х1,5 | D16: Конкорд | E16: 11 | F16: https://nym.ru/catalog/VVGng%28A%29-LS/593
A17: АИИСКУЭ | B17: Обвязка счётчиков | C17: СегментКИ-485-ПсЭВнг(А)-LS 2х2х0,78 | D17: СегментЭнерго | E17: 9 | F17: https://segmentenergo.ru/product/segmentki-485-psevnga-ls/
C18: СегментКИ-485-ПсЭнг(А)-HF 2x2x0,78 | D18: СегментЭнерго | E18: 9 | F18: https://segmentenergo.ru/product/segmentki-485-psenga-hf/
A19: СВН | B19: Подключение видеокамер | C19: U/UTP Cat5e PVC нг(А)-LS 4х2х0,52 | D19: Фолан | E19: 5.2 | F19: https://www.folan.ru/product/folan-uutp-cat5e-pvc-4h2h052
C20: U/UTP Cat5e ZH нг(А)-HF 4х2х0,52 | D20: Фолан | E20: 5.2 | F20: https://www.folan.ru/product/folan-uutp-cat5e-zh-nga-hf-lszh-4h2h052
A21: СКУД | B21: Интерфейс точек доступа ЛК | C21: КПСВВнг(А)-LS 2х2х1,0 | D21: СегментЭнерго | E21: 8.86 | F21: https://segmentenergo.ru/product/kpsvv-ls/
C22: КПСППнг(А)-HF 2х2х1,0 | D22: СегментЭнерго | E22: 8.86 | F22: https://segmentenergo.ru/product/kpspp-hf/
A23: СКУД | B23: Питание точек доступа ЛК | C23: ПВСнг(А)-LS 2х1,5 | D23: Конкорд | E23: 7.4 | F23: https://nym.ru/catalog/PVSng%28A%29-LS/3581
C24: КГППнг(А)-HF 2х1,5 | D24: Кольчугино | E24: 9.2 | F24: https://www.holdcable.com/products/kgppng_a_hf/
A25: СКУД (СОВ) | B25: Герконы входных групп | C25: КПСВВнг(А)-LS 1х2х0,5 | D25: СегментЭнерго | E25: 5.12 | F25: https://segmentenergo.ru/product/kpsvv-ls/
A26: СКУД (СОВ) | B26: Питание входных групп | C26: ПВСнг(А)-LS 2х1,5 | D26: Конкорд | E26: 7.4 | F26: https://nym.ru/catalog/PVSng%28A%29-LS/3581
A27: СКУД (СОВ) | B27: Подключение первой вызывной панели | C27: КПСВЭВнг(А)-LS 4х2х0,5 + КПСВЭВнг(А)-LS 1х2х0,5 + РК75-3,7-319 нг(А)-HF | D27: СегментЭнерго СегментЭнерго Паритет | E27: 9,67 + 5,28 | F27: https://segmentenergo.ru/product/kpsvev-ls/
A28: СКУД (СОВ) | B28: Интерфейс между входными панелями | C28: КПСВЭВнг(А)-LS 1х2х0,5 | D28: СегментЭнерго | E28: 5.28 | F28: https://segmentenergo.ru/product/kpsvev-ls/
A29: СКУД (СОВ) | B29: Резервное UTP от входпанелей до ШТ | C29: U/UTP Cat5e PVC нг(А)-LS 4х2х0,52 | D29: Фолан | E29: 5.2 | F29: https://www.folan.ru/product/folan-uutp-cat5e-pvc-4h2h052
C30: U/UTP Cat5e ZH нг(А)-HF 4х2х0,52 | D30: Фолан | E30: 5.2 | F30: https://www.folan.ru/product/folan-uutp-cat5e-zh-nga-hf-lszh-4h2h052
A31: СКУД (СОВ) | B31: Подключение абонентских трубок | C31: КПСВВнг(А)-LS 1х2х0,5 | D31: СегментЭнерго | E31: 5.12 | F31: https://segmentenergo.ru/product/kpsvv-ls/
A32: СКУД (САВ) | B32: Пульт управления воротами | C32: КПСВВнг(А)-LS 2х2х0,5 | D32: СегментЭнерго | E32: 7.41 | F32: https://segmentenergo.ru/product/kpsvv-ls/
C33: КПСППнг(А)-HF 2х2х0,5 | D33: СегментЭнерго | E33: 7.41 | F33: https://segmentenergo.ru/product/kpspp-hf/
A34: СКУД (САВ) | B34: Питание считывателей Matrix | C34: ПВСнг(А)-LS 2х1,5 | D34: Конкорд | E34: 7.4 | F34: https://nym.ru/catalog/PVSng%28A%29-LS/3581
C35: КГППнг(А)-HF 2х1,5 | D35: Кольчугино | E35: 9.2 | F35: https://www.holdcable.com/products/kgppng_a_hf/
A36: СКУД (САВ) | B36: Интерфейс считывателей Matrix | C36: U/UTP Cat5e PVC нг(А)-LS 2х2х0,52 | D36: Фолан | E36: 4.9 | F36: https://www.folan.ru/product/folan-uutp-cat5e-pvc-nga-ls-2h2h052
C37: U/UTP Cat5e ZH нг(А)-HF 2х2х0,52 | D37: Фолан | E37: 4.9 | F37: https://www.folan.ru/product/folan-uutp-cat5e-zh-nga-hf-2h2h052
A38: СКУД (САВ) | B38: Подключение блока управления воротами | C38: КПСВВнг(А)-LS 2х2х0,5 | D38: СегментЭнерго | E38: 7.41 | F38: https://segmentenergo.ru/product/kpsvv-ls/
C39: КПСППнг(А)-HF 2х2х0,5 | D39: СегментЭнерго | E39: 7.41 | F39: https://segmentenergo.ru/product/kpspp-hf/
A40: СКУД (САВ) | B40: Подключение светофоров | C40: ВВГнг(А)-LS 3х1,5 | D40: Конкорд | E40: 11 | F40: https://nym.ru/catalog/VVGng%28A%29-LS/593
C41: ППГнг(А)-HF 3х1,5 | D41: Конкорд | E41: 11 | F41: https://nym.ru/catalog/PPGng%28A%29-HF/3994
A42: СКУД (САВ) | B42: Обвязка промежуточных реле | C42: КПСВВнг(А)-LS 1х2х0,5 | D42: СегментЭнерго | E42: 5.12 | F42: https://segmentenergo.ru/product/kpsvv-ls/
C43: КПСППнг(А)-HF 1х2х0,5 | D43: СегментЭнерго | E43: 5.12 | F43: https://segmentenergo.ru/product/kpspp-hf/
A44: СКУД (САВ) | B44: Обвязка датчиков проезда (без питания) | C44: КПСВВнг(А)-LS 1х2х0,5 | D44: СегментЭнерго | E44: 5.12 | F44: https://segmentenergo.ru/product/kpsvv-ls/
C45: КПСППнг(А)-HF 1х2х0,5 | D45: СегментЭнерго | E45: 5.12 | F45: https://segmentenergo.ru/product/kpspp-hf/
A46: СКУД (САВ) | B46: Обвязка датчиков проезда (с питанием) | C46: КПСВВнг(А)-LS 2х2х0,5 | D46: СегментЭнерго | E46: 7.41 | F46: https://segmentenergo.ru/product/kpsvv-ls/
C47: КПСППнг(А)-HF 2х2х0,5 | D47: СегментЭнерго | E47: 7.41 | F47: https://segmentenergo.ru/product/kpspp-hf/
A48: СКУД (САВ) | B48: Обвязка модулей GSM проезда | C48: КПСВВнг(А)-LS 2х2х0,5 | D48: СегментЭнерго | E48: 7.41 | F48: https://segmentenergo.ru/product/kpsvv-ls/
C49: КПСППнг(А)-HF 2х2х0,5 | D49: СегментЭнерго | E49: 7.41 | F49: https://segmentenergo.ru/product/kpspp-hf/
A50: ОЗДС | B50: Подключение блоков усиления | C50: ВВГнг(А)-LS 2х1,5 | D50: Конкорд | E50: 10.5 | F50: https://nym.ru/catalog/VVGng%28A%29-LS/589
C51: ППГнг(А)-HF 2х1,5 | D51: Конкорд | E51: 10.5 | F51: https://nym.ru/catalog/PPGng%28A%29-HF/4025
A52: ОЗДС | B52: Подключение барьеров | C52: ПВМТ-40 1х0,35 | D52: ОКБ КП | E52: =VLOOKUP(C52,кабели,2,FALSE) -> 4.2 | F52: http://www.okbkp.ru/product-catalog.html
A53: ШПД | B53: Подключение инф. розеток, квартирных шкафов | C53: U/UTP Cat5e PVC нг(А)-LS 4х2х0,52 | D53: Фолан | E53: 5.2 | F53: https://www.folan.ru/product/folan-uutp-cat5e-pvc-4h2h052
A54: ШПД | B54: Кабель распределительный (кабельная сборка) | C54: U/UTP Cat5e ZH нг(А)-HF 24(6x4)x2x0,52 | D54: Фолан | E54: - | F54: https://www.folan.ru/product/folan-uutp-cat-5e-zh-nga-hf-lszh-246x4x2x052
A55: ШПД | B55: Кабель распределительный (кабельная сборка) | C55: U/UTP Cat5e ZH нг(А)-HF 40(10x4)x2x0,52 | D55: Фолан | E55: - | F55: https://www.folan.ru/product/folan-uutp-cat-5e-zh-nga-hf-lszh-4010x4x2x052
A56: ШПД | B56: Кабель оптический (ШТ-ШТ) | C56: ДПО-нг(А)-HF-16У (4х4)-2,7кН | D56: Инкаб | E56: 9.9 | F56: https://www.ssd.ru/kabel-dpo-ng-a-hf-16u-2kh8-2-7kn/
A57: СКТВ | B57: Кабель распределительный | C57: Паракс РК 75-7-327нг(А)-HF | D57: Паритет | E57: 7.2 | F57: https://paritet.su/catalog/bronya_3/paraks_rk_75_7_327ng_a_hf/
A58: СКТВ | B58: Подключение ТВ розеток, квартирных шкафов | C58: Паракс РК 75-4,8-319нг(А)-HF | D58: =VLOOKUP(C58,Кабели!$B$3:$D$69,3,FALSE()) -> Паритет | E58: =VLOOKUP(C58,кабели,2,FALSE) -> 6.9 | F58: https://paritet.su/catalog/rk_75_4_rg_6/paraks_rk_75_4_319ng_a_hf/
A59: ПВ | B59: Кабель распределительный | C59: КСВЭВнг(А)-LS 1x2x1,38 | D59: Паритет | E59: 6.7 | F59: https://paritet.su/catalog/ksvv_ksvevng_a_ls/ksvevng_a_ls_1kh2kh1_38_mm/?sphrase_id=1005903
C60: КСПЭВПнг(А)-HF 1х2х1,38 | D60: Паритет | E60: 6.7 | F60: https://paritet.su/catalog/kspvp_kspevpng_a_hf/kspevpng_a_hf_1kh2kh1_38_mm/
A61: ПВ | B61: Подключение абонентских радиорозеток | C61: КСВЭВнг(А)-LS 1x2x1,13 | D61: =VLOOKUP(C61,Кабели!$B$3:$D$69,3,FALSE()) -> Паритет | E61: =VLOOKUP(C61,кабели,2,FALSE) -> 5.6 | F61: https://paritet.su/catalog/ksvv_ksvevng_a_ls/ksvevng_a_ls_1kh2kh1_13_mm/
C62: КСПЭВПнг(А)-HF 1х2х1,13 | D62: Паритет | E62: 5.6 | F62: https://paritet.su/catalog/kspvp_kspevpng_a_hf/kspevpng_a_hf_1kh2kh1_13_mm/
A63: ПВ | B63: Подключение конв. к коммутатору оператора | C63: U/UTP Cat5e PVC нг(А)-LS 4х2х0,52 | D63: Фолан | E63: 5.2 | F63: https://www.folan.ru/product/folan-uutp-cat5e-pvc-4h2h052
A64: ОСО | B64: Подключение ОСО к коммутатору оператора | C64: U/UTP Cat5e PVC нг(А)-LS 4х2х0,52 | D64: Фолан | E64: 5.2 | F64: https://www.folan.ru/product/folan-uutp-cat5e-pvc-4h2h052
A65: ОСО | B65: Линии оповещения, подключение ОСО - РСПИ | C65: КПСВЭВнг(А)-LS 1х2х1 | D65: СегментЭнерго | E65: 6.22 | F65: https://segmentenergo.ru/product/kpsvev-ls/
C66: КПСПЭПнг(А)-HF 1х2х1 | D66: СегментЭнерго | E66: 6.22 | F66: https://segmentenergo.ru/product/kpspep-hf/
A67: ОСО | B67: Подключение ОСО - СОУЭ | C67: КПСВЭВнг(А)-LS 2х2х1 | D67: СегментЭнерго | E67: 9.02 | F67: https://segmentenergo.ru/product/kpsvev-ls/
C68: КПСПЭПнг(А)-HF 2х2х1 | D68: СегментЭнерго | E68: 9.02 | F68: https://segmentenergo.ru/product/kpspep-hf/
A69: ОСО | B69: Подключение антенны | C69: РК 50-4,8-36нг(A)-HF | D69: =VLOOKUP(C69,Кабели!$B$3:$D$69,3,FALSE()) -> Спецкабель | E69: =VLOOKUP(C69,кабели,2,FALSE) -> 7.3 | F69: https://spetskabel.ru/products/8/340/
A70: ОСО | B70: Заземление грозоразрядника | C70: ПуВнг(А)-LS 1x4 | D70: БРЭКС | E70: =VLOOKUP(C70,кабели,2,FALSE) -> 4.2 | F70: http://www.klk.ru/prod029.htm
A71: АК | B71: Подключение конц.выкл.,термост.,реле | C71: КПСГВВнг(А)-LS 1x2х1,0 | D71: СегментЭнерго | E71: 7.7 | F71: https://segmentenergo.ru/product/kpsgvv-ls/
C72: КПСГППнг(А)-HF 1x2х1,0 | D72: СегментЭнерго | E72: 7.7 | F72: https://segmentenergo.ru/product/kpsgpp-hf/
A73: АК | B73: Подключение датч.температуры | C73: КПСГВЭВнг(А)-LS 1x2х1,0 | D73: СегментЭнерго | E73: 8.1 | F73: https://segmentenergo.ru/product/kpsgvev-ls/
C74: КПСГПЭПнг(А)-HF 1x2х1,0 | D74: СегментЭнерго | E74: 8.1 | F74: https://segmentenergo.ru/product/kpsgpep-hf/
A75: АК | B75: Управление заслонками и ВТЗ | C75: КПСГВЭВнг(А)-LS 2x2х1,0 | D75: СегментЭнерго | E75: 11.8 | F75: https://segmentenergo.ru/product/kpsgvev-ls/
C76: КПСГПЭПнг(А)-HF 2x2х1,0 | D76: СегментЭнерго | E76: 11.8 | F76: https://segmentenergo.ru/product/kpsgpep-hf/
A77: АК | B77: Сблокированная работа вентустановок (кабель интерфейса) | C77: СегментКИ-485-ПсЭВнг(А)-LS 1х2х0,78 | D77: СегментЭнерго | E77: 7.5 | F77: https://segmentenergo.ru/product/segmentki-485-psevnga-ls/
C78: СегментКИ-485-ПсЭнг(А)-HF 1x2x0,78 | D78: СегментЭнерго | E78: 7.5 | F78: https://segmentenergo.ru/product/segmentki-485-psenga-hf/
A79: АК | B79: Подключение блока кондиционера | C79: КПСВВнг(А)-LS 2х2х0,5 | D79: СегментЭнерго | E79: 7.41 | F79: https://segmentenergo.ru/product/kpsvv-ls/
C80: КПСППнг(А)-HF 2х2х0,5 | D80: СегментЭнерго | E80: 7.41 | F80: https://segmentenergo.ru/product/kpspp-hf/
A81: АК | B81: ВТЗ: Подключение завесы к пульту | C81: КСКВВнг(А)-LS 6х0,75 | D81: =VLOOKUP(C81,Кабели!$B$3:$D$69,3,FALSE()) -> СПКБ Техно | E81: =VLOOKUP(C81,кабели,2,FALSE) -> 9.6 | F81: https://spkb.ru/catalog/cables_increased_flexibility/kskvvng-a-ls/
C82: КСКППнг(А)-HF 6x0,75 | D82: СПКБ Техно | E82: 9.6 | F82: https://spkb.ru/catalog/cables_increased_flexibility/kskppng-a-hf/
A83: АК | B83: ВТЗ: Подключение завесы к узл. регулир. | C83: КСКВВнг(А)-LS 3х1,0 | D83: =VLOOKUP(C83,Кабели!$B$3:$D$69,3,FALSE()) -> СПКБ Техно | E83: =VLOOKUP(C83,кабели,2,FALSE) -> 7.8 | F83: https://spkb.ru/catalog/cables_increased_flexibility/kskvvng-a-ls/
C84: КСКППнг(А)-HF 3х1,0 | D84: СПКБ Техно | E84: 7.8 | F84: https://spkb.ru/catalog/cables_increased_flexibility/kskppng-a-hf/
A85: АК | B85: Подключение датчика ПДВ (Спрут-Т06) | C85: КПСнг(А)-FRLS 1х2х1,5 | D85: СегментЭнерго | E85: 6.56 | F85: https://segmentenergo.ru/product/kps-frls/
C86: КПСнг(А)-FRHF 1х2х1,5 | D86: СегментЭнерго | E86: 6.56 | F86: https://segmentenergo.ru/product/kps-frhf/
A87: АК (СКЗ) | B87: Подключение газосигнализаторов | C87: U/UTP Cat5e PVC нг(А)-LS 1х2х0,52 | D87: Фолан | E87: 2.9 | F87: https://www.folan.ru/product/folan-uutp-cat5e-pvc-nga-ls-1h2h052
C88: U/UTP Cat5e ZH нг(А)-HF 1х2х0,52 | D88: Фолан | E88: 2.9 | F88: https://www.folan.ru/product/folan-uutp-cat5e-zh-nga-hf-1h2h052
A89: АК (СКЗ) | B89: Подключение газосигнализаторов | C89: КПСВВнг(А)-LS 1x2x1 | D89: СегментЭнерго | E89: 6.06 | F89: https://segmentenergo.ru/product/kpsvv-ls/
C90: КПСППнг(А)-HF 1x2x1 | D90: СегментЭнерго | E90: 6.06 | F90: https://segmentenergo.ru/product/kpspp-hf/
A91: АК (СКЗ) | B91: Сигнал включения вентиляции | C91: ВВГнг(А)-LS 2х1,5 | D91: Конкорд | E91: =VLOOKUP(C91,кабели,2,FALSE) -> 10.5 | F91: https://nym.ru/catalog/VVGng%28A%29-LS/589
C92: ППГнг(А)-HF 2х1,5 | D92: Конкорд | E92: 10.5 | F92: https://nym.ru/catalog/PPGng%28A%29-HF/4025
A93: АСДКиУ | B93: Подключение ПГУ ПБЗ, к ШПС | C93: КПСнг(А)-FRLS 3х2х0,5 | D93: СегментЭнерго | E93: 10.54 | F93: https://segmentenergo.ru/product/kps-frls/
C94: КПСнг(А)-FRHF 3х2х0,5 | D94: СегментЭнерго | E94: 10.54 | F94: https://segmentenergo.ru/product/kps-frhf/
A95: АСДКиУ | B95: Подключение лифт. станции | C95: КПСнг(А)-FRLS 2x2x0,5 | D95: СегментЭнерго | E95: 4.71 | F95: https://segmentenergo.ru/product/kps-frls/
A96: АСДКиУ | B96: Интерфейс, подкл. ПУ лифт.станции | C96: КПСЭнг(А)-FRLS 2x2x0,5 | D96: СегментЭнерго | E96: 7.73 | F96: https://segmentenergo.ru/product/kpse-frls/
C97: КПСЭнг(А)-FRHF 2x2x0,5 | D97: СегментЭнерго | E97: 7.73 | F97: https://segmentenergo.ru/product/kpse-frhf/
A98: АСДКиУ | B98: Подключение КЦС | C98: КПСВЭВнг(А)-LS 1х2х0,5 | D98: СегментЭнерго | E98: 5.28 | F98: https://segmentenergo.ru/product/kpsvev-ls/
C99: КПСПЭПнг(А)-HF 1х2х0,5 | D99: СегментЭнерго | E99: 5.28 | F99: https://segmentenergo.ru/product/kpspep-hf/
A100: АСДКиУ | B100: Подключение МУП-RS, КУП-RS | C100: КПСВЭВнг(А)-LS 2х2х0,5 | D100: СегментЭнерго | E100: 7.57 | F100: https://segmentenergo.ru/product/kpsvev-ls/
...

Sheet Кабели
A1: Для добавления пула кабелей необходимо на предпоследнем кабеле таблицы использовать ПКМ -> +вставить строки выше (для сохранения именного диапазона), формат наружного диаметра - числовой
A2: Наименование | B2: Марка | C2: Наружный диаметр, мм | D2: Производитель | E2: Линк для информации
A3: Кабель силовой | B3: ВВГнг(А)-LS 2х1,5 | C3: 10.5 | D3: Конкорд | E3: https://nym.ru/catalog/VVGng(A)-LS/589
A4: Кабель силовой, не распространяющий горение при групповой прокладке, с пониженным дымо- и газовыделением | B4: ВВГнг(А)-LS 2x1,5 | C4: 8.5 | D4: Россия
A5: Кабель силовой | B5: ВВГнг(А)-LS 3х1,5 | C5: 10 | D5: Кольчугино | E5: https://www.electro-mpo.ru/catalog/provod_i_kabel/p11_vvgng_a_ls_vvg_png_a_ls_kabel_nerasprostranyayu/p1170-kabel-silovoy-vvgng-a-ls-3kh1-5ok-n-pe-0-66-/
A6: Кабель силовой, не распространяющий горение | B6: ВВГнг(А)-LS 3x2,5 | C6: 11.8 | D6: Конкорд | E6: https://nym.ru/catalog/VVGng(A)-LS/594
A7: Кабель силовой огнестойкий не распространяющий горение | B7: ВВГнг(А)-FRLS 3х1,5 | C7: 13.1 | D7: Конкорд | E7: https://nym.ru/catalog/VVGng(A)-FRLS/715
A8: Кабель силовой, не распространяющий горение | B8: ВВГнг(А)-LS 4x1,5 | C8: 11.7 | D8: Конкорд | E8: https://nym.ru/catalog/VVGng(A)-LS/597
A9: Кабель оптический | B9: ДПО-нг(А)HF-16У-2,7кН | C9: 9.2
A10: Кабель для монтажа систем сигнализации, не распространяет горение при групповой прокладке | B10: КГВВнг(А)-LS 2x1,5 | C10: 9.2 | D10: Конкорд | E10: https://nym.ru/catalog/KGVVng(A)-LS/1661
A11: Кабель симметричный парной скрутки | B11: КИПвЭВнг(А)-LS 1х2х0,78 | C11: 7.6 | D11: Спецкабель | E11: https://spetskabel.ru/products/3/108/
A12: Кабель симметричный парной скрутки | B12: КИПвЭВнг(А)-LS 1,5x2x0,78 | C12: 7.7 | D12: Спецкабель | E12: https://spetskabel.ru/products/3/108/
A13: Кабель симметричный парной скрутки | B13: КИПвЭВнг(А)-LS 2х2х0,78 | C13: 10.9 | D13: Спецкабель | E13: https://spetskabel.ru/products/3/108/
A14: Кабель монтажный, не распространяющий горение | B14: КПСВВнг(А)-LS 1х2х0,5 | C14: 4.9 | D14: СПКБ Техно | E14: https://spkb.ru/catalog/Cables-communication-300V/kpsvvng-a-ls/
A15: Кабель с медными жилами | B15: КПСВВнг(А)-LS 1x2x1 | C15: 6.3 | D15: СПКБ Техно
A16: Кабель монтажный, не распространяющий горение | B16: КПСВВнг(А)-LS 2х2х0,5 | C16: 5.62 | D16: СПКБ Техно | E16: https://spkb.ru/catalog/Cables-communication-300V/kpsvvng-a-ls/
A17: Кабель с медными жилами | B17: КПСВВнг(А)-LS 2x2x1 | C17: 10.3 | D17: СПКБ Техно
A18: Кабель не распространяющий горение | B18: КПСВВнг(А)-LS 3х2х0,5 | C18: 8.37 | D18: СПКБ Техно | E18: https://spkb.ru/catalog/Cables-communication-300V/kpsvvng-a-ls/
A19: Кабель не распространяющий горение при групповой прокладке, с пониженным дымо- и газовыделением | B19: КПСВВнг(A)-LS 1x2x0,5 | C19: 4.9 | D19: СПКБ Техно | E19: https://spkb.ru/catalog/Cables-communication-300V/kpsvvng-a-ls/
A20: Кабель не распространяющий горение при групповой прокладке, с пониженным дымо- и газовыделением | B20: КПСВВнг(A)-LS 2x2x0,5 | C20: 8.8
A21: Кабель для монтажа систем сигнализации | B21: КПСВЭВнг(А)-LS 1х2х0,5 | C21: 5.4 | D21: Спецкабель | E21: https://spetskabel.ru/products/2/66/
A22: Кабель с медными жилами | B22: КПСВЭВнг(А)-LS 1x2x1
A23: Кабель симметричный для систем сигнализации | B23: КПСВЭВнг(А)-LS 1x2x1,0 | C23: 7 | D23: Спецкабель | E23: https://spetskabel.ru/products/2/66/
A24: Кабель для управления | B24: КПСВЭВнг(А)-LS 2х2х1,0 | C24: 11.5 | D24: Спецкабель
A25: Кабель с медными жилами | B25: КПСВЭВнг(А)-LS 2x2x1
A26: Кабель для монтажа систем сигнализации | B26: КПСВЭВнг(А)-LS 4х2х0,5 | C26: 11.6 | D26: Спецкабель | E26: https://spetskabel.ru/products/2/66/
A27: Кабель медный огнестойкий, не распространяющий горение | B27: КПСнг(А)-FRLS 1х2х0,5 | C27: 6.2 | D27: Спецкабель | E27: https://spetskabel.ru/products/1/10/
A28: Кабель медный огнестойкий, не распространяющий горение | B28: КПСнг(А)-FRLS 1х2х0,75 | C28: 6.6 | D28: Спецкабель | E28: https://spetskabel.ru/products/1/10/
A29: Кабель медный огнестойкий, не распространяющий горение | B29: КПСнг(А)-FRLS 1х2х1,5 | C29: 7.6 | D29: Спецкабель | E29: https://spetskabel.ru/products/1/10/
A30: Кабель медный огнестойкий, не распространяющий горение | B30: КПСнг(А)-FRLS 2х2х0,75 | C30: 10.9 | D30: Спецкабель | E30: https://spetskabel.ru/products/1/10/
A31: Кабель огнестойкий, не поддерживающий горения | B31: КПСнг(А)-FRLS 2x2x0,5 | C31: 10.2 | D31: Спецкабель | E31: https://spetskabel.ru/products/1/10/
A32: Кабель огнестойкий, не распространяющий горение | B32: КПСнг(А)-FRLS 3x2x0,5 | C32: 10.8 | D32: Спецкабель | E32: https://spetskabel.ru/products/1/10/
B33: КПСнг(А)-FRLS 4x2x0,5 | C33: 11.4 | D33: Спецкабель | E33: https://spetskabel.ru/products/1/10/
A34: Кабель огнестойкий, не распространяющий горение, экранированный | B34: КПСЭнг(А)-FRLS 1х2х0,75 | C34: 6.7 | D34: Спецкабель | E34: https://spetskabel.ru/products/1/12/
A35: Кабель огнестойкий, не распространяющий горение, экранированный | B35: КПСЭнг(А)-FRLS 2х2х0,75 | C35: 11.1 | D35: Спецкабель | E35: https://spetskabel.ru/products/1/12/
A36: Кабель огнестойкий, не распространяющий горение, экранированный | B36: КПСЭнг(А)-FRLS 2x2x0,5 | C36: 10.4 | D36: Спецкабель | E36: https://spetskabel.ru/products/1/12/
A37: Кабель не распространяющий горение, экранированный | B37: КПСЭнг(А)-LS 1x2x0,5 | C37: 5.5 | D37: ? | E37: Кабель с исполнение LS не найти, есть предложение заменить на FRLS
A38: Кабель не распространяющий горение, экранированный | B38: КПСЭнг(А)-LS 2x2x0,5 | C38: 9.7 | D38: ? | E38: Кабель с исполнение LS не найти, есть предложение заменить на FRLS
A39: Кабель сигнализации | B39: КСВВнг(А)-LS 1х2х0,97 | C39: 5 | D39: Паритет | E39: https://paritet.su/catalog/ksvv_ksvevng_a_ls/ksvvng_a_ls_1kh2kh0_97_mm/
A40: Кабель для монтажа систем сигнализации, не распространяет горение при групповой прокладке | B40: КСВВнг(А)-LS 2х0,5 | C40: 2.9 | D40: Паритет | E40: https://paritet.su/catalog/ksvv_ksvevng_a_ls/ksvvng_a_ls_2kh0_50_mm/
A41: Кабель для монтажа систем сигнализации | B41: КСВВнг(А)-LS 2х2х0,97 | C41: 9 | D41: Паритет | E41: https://paritet.su/catalog/ksvv_ksvevng_a_ls/ksvvng_a_ls_2kh2kh0_97_mm/
A42: Кабель для монтажа систем сигнализации | B42: КСВВнг(А)-LS 4х0,5 | C42: 3.4 | D42: Паритет | E42: https://paritet.su/catalog/ksvv_ksvevng_a_ls/ksvvng_a_ls_4kh0_50_mm/
A43: Кабель медный типа витая пара, не распространяющий горение | B43: КСВВнг(А)-LS 4х0,5 | C43: 4.2
A44: Кабель для сигнализации | B44: КСВЭВнг(А)-LS 1x2x1,13 | C44: 5.6 | D44: Паритет | E44: https://paritet.su/catalog/ksvv_ksvevng_a_ls/ksvevng_a_ls_1kh2kh1_13_mm/
A45: Кабель медный, не распространяющий горение | B45: КСКВВнг(А)-LS 2х1,0 | C45: 7 | D45: СПКБ Техно | E45: https://spkb.ru/catalog/cables_increased_flexibility/kskvvng-a-ls/
A46: Кабель медный, не распространяющий горение | B46: КСКВВнг(А)-LS 3х1,0 | C46: 7.8 | D46: СПКБ Техно | E46: https://spkb.ru/catalog/cables_increased_flexibility/kskvvng-a-ls/
A47: Кабель монтажный, не распространяющий горение | B47: КСКВВнг(А)-LS 4х1,0 | C47: 8.5 | D47: СПКБ Техно | E47: https://spkb.ru/catalog/cables_increased_flexibility/kskvvng-a-ls/
A48: Кабель монтажный, не распространяющий горение | B48: КСКВВнг(А)-LS 6х0,75 | C48: 9.6 | D48: СПКБ Техно | E48: https://spkb.ru/catalog/cables_increased_flexibility/kskvvng-a-ls//
A49: Кабель медный, не распространяющий горение | B49: КСКВЭВнг(А)-LS 2х1,0 | C49: 8 | D49: СПКБ Техно | E49: https://spkb.ru/catalog/cables_increased_flexibility/kskvevng-a-ls/
A50: Кабель медный, не распространяющий горение | B50: КСКВЭВнг(А)-LS 4х1,0 | C50: 9 | D50: СПКБ Техно | E50: https://spkb.ru/catalog/cables_increased_flexibility/kskvevng-a-ls/
A51: Провод высоковольтный | B51: ПВМТ-40 1х0,35 | C51: 4.2 | D51: Россия
A52: Провод питания | B52: ПВСнг(А)-LS 2х1,5 | C52: 8.5 | D52: Кольчугино | E52: https://www.electro-mpo.ru/catalog/provod_i_kabel/p35_pvsng_a_ls_provod_gibkiy_nerasprostranyayushch/p2321-provod-pvsng-a-ls-2kh1-5-kv-mm-gost-malodymn/
A53: Кабель для заземления | B53: ПуВнг(А)-LS 1x2,5 | C53: 3.14 | D53: Кольчугино | E53: https://www.holdcable.com/ru/catalog/wires_and_cords/provoda_dlya_elektricheskikh_ustanovok/provoda_dlya_elektricheskikh_ustanovok_s_izolyatsiey_iz_pvkh_plastikata_ponizhennoy_pozharnoy_opasno/puvng_a_ls/
A54: Провод установочный | B54: ПуВнг(А)-LS 1x4 | C54: 4.2 | D54: Брэкс Брянск | E54: https://www.electro-mpo.ru/catalog/provod_i_kabel/p05_pugv_pugvng_a_ls_provod_mednyy_ustanovochnyy_g/p0599-provod-pugvng-a-ls-4-0-kv-mm-zhelto-zelenyy-/
A55: Кабель для заземления повышенной гибкости | B55: ПуГВнг(А)LS 1х2,5 | C55: 3.7 | D55: Кольчугино | E55: https://www.electro-mpo.ru/catalog/provod_i_kabel/p01_pugv_pugvng_a_ls_provod_mednyy_ustanovochnyy_g/p0199_provod_pugvng_a_ls_1kh2_5_kv_mm_zhelto_zelen/#
A56: Кабель коаксиальный радиочастотный | B56: РК 50-4,8-36нг(A)-HF | C56: 7.3 | D56: Спецкабель | E56: https://spetskabel.ru/products/8/340/
A57: Коаксиальный кабель для монтажа систем сигнализации | B57: РК 75-3,7-319 нг(А)-HF | C57: 6.1 | D57: Паритет | E57: https://paritet.su/catalog/bezgalogennye_ng_a_hf/paraks_rk_75_3_7_319ng_a_hf/
A58: Кабель коаксиальный радиочастотный | B58: РК 75-3,7-330фнг(A)-HF | C58: 6.4 | D58: Спецкабель | E58: https://spetskabel.ru/products/9/359/
A59: Радиочастотный магистральный кабель | B59: РК-75-7-327 нг(А)-HF | C59: 10.1 | D59: Паритет | E59: https://paritet.su/catalog/bronya_3/paraks_rk_75_7_327ng_a_hf/
A60: Кабель симметричный (витая пара), c пониженным дымо- и газовыделением, категория 5e, 1 пара | B60: СПЕЦЛАН U/UTP Cat 5e PVC LS нг(А)-LS 1x2x0,52 | C60: 4 | D60: Спецкабель | E60: https://spetskabel.ru/products/6/662/
A61: Кабель симметричный (витая пара), c пониженным дымо- и газовыделением, категория 5e, 2 пары | B61: СПЕЦЛАН U/UTP Cat 5e PVC LS нг(А)-LS 2x2x0,52 | C61: 6.8 | D61: Спецкабель | E61: https://spetskabel.ru/products/6/662/
A62: Кабель симметричный (витая пара), c пониженным дымо- и газовыделением, категория 5e, 4 пары | B62: СПЕЦЛАН U/UTP Cat5e PVC LSнг(А)-LS 4x2x0,52 | C62: 7.9 | D62: Спецкабель | E62: https://spetskabel.ru/products/6/662/
A63: Кабель с медными жилами, категории 5е | B63: F/UTP Cat 5e PVC LSнг(А)-LS 4х2х0,52 | C63: 8.1 | D63: Спецкабель | E63: https://spetskabel.ru/products/6/637/
A64: Кабель UTP категория 5е, UTP 4х2х0,52 | B64: ParLan U/UTP Cat5e PVCLSнг(А)-LS 4х2х0,52 | C64: 5.2 | D64: Паритет
A65: Кабель медный огнестойкий, не распространяющий горение | B65: КПСнг(А)-FRLS 1х2х1 | C65: 7.1 | D65: Спецкабель
A66: Кабель силовой огнестойкий не распространяющий горение | B66: ВВГнг(А)-FRLS 4x2,5 | C66: 14.1 | D66: Конкорд | E66: https://nym.ru/catalog/VVGng(A)-FRLS/753
A67: Безгалогенный кабель для СКС и IP-сетей | B67: Parlan U/UTP 4x2x0,52 ZH нг(А)-HF | C67: 5.4 | D67: Паритет | E67: https://paritet.su/catalog/cat5e_u_utp_1/parlan_u_utp_cat5e_zh_ng_a_hf_4kh2kh0_52_korobki/
A68: Безгалогенный кабель для передачи видео | B68: Паракс РК 75-4,8-319нг(А)-HF | C68: 6.9 | D68: Паритет | E68: https://paritet.su/catalog/bezgalogennye_ng_a_hf/paraks_rk_75_4_8_319ng_a_hf/
