Workbook

Sheet БЛ 11_версия
D2: № | E2: Этап | F2: Район | G2: Округ | H2: РП | I2: Адрес объекта строительства | J2: ПД/РД | K2: Начало ПИР | L2: Первая МГЭ (Выход)
D3: 75 | E3: 8 этап | F3: Измайлово | G3: ВАО | H3: Геккиев К.Р. | I3: г. Москва район Измайлово, 3-я Прядильная, вл.10 | J3: Не определен | K3: 44986 | L3: 45231
D4: 76 | E4: 8 этап | F4: Измайлово | G4: ВАО | H4: Геккиев К.Р. | I4: г. Москва район Измайлово, 3-я Прядильная, вл.14 | J4: Не определен | K4: 44986 | L4: 45231
D5: 77 | E5: 8 этап | F5: Северное Измайлово | G5: ВАО | H5: Геккиев К.Р. | I5: г. Москва район Северное Измайлово, 7-я Парковая, вл.19-21 | J5: ПИК-Проект | K5: 44470 | L5: 44957
D6: 78 | E6: 8 этап | F6: Измайлово | G6: ВАО | H6: Геккиев К.Р. | I6: г. Москва район Измайлово, 1-я Прядильная, вл.3 | J6: ПИК-Проект | K6: 44896 | L6: 45139
D7: 83 | E7: 9 этап | F7: Восточное Измайлово | G7: ВАО | H7: Конюхов Ю.В. | I7: г. Москва, район Восточное Измайлово, Сиреневый бульвар, вл, 4/4 | J7: АПЕКС | K7: 44299 | L7: 45016
D8: 94 - 95 | E8: П - 3 (Д) | F8: Гольяново | G8: ВАО | H8: Забашта В.Ю. | I8: г. Москва, район Гольяново, ул. Амурская, вл. 1, 2 оч. (Дом, зона 3.1, корп. 4; Дом, зона 3.2, корп. 5) 1 этап | J8: ПИК-Проект | K8: 44783 | L8: 45026
D9: 96 | E9: П - 3 (Д) | F9: Гольяново | G9: ВАО | H9: Забашта В.Ю. | I9: г. Москва, район Гольяново, ул. Амурская, вл. 1, 2 оч. (Дом, зона 3.4) 1 этап | J9: ПИК-Проект | K9: 44409 | L9: 45000
D10: 97 | E10: П - 3 (Д) | F10: Гольяново | G10: ВАО | H10: Забашта В.Ю. | I10: г. Москва, район Гольяново, ул. Амурская, вл. 1, 2 оч. (Дом, зона 3.5) 1 этап | J10: ПИК-Проект | K10: 44409 | L10: 44985
D11: 141 | E11: КВ - 3 (Д) | F11: Зюзино | G11: ЮЗАО | H11: Ланцова Анна Алексеевна | I11: г. Москва, район Зюзино, Кварталы 25, 26, 31, 35, 36А (Дом, Квартал 26-31, Зона 6.1) 1 этап | J11: А495 | K11: 44501 | L11: 44957
D12: 175 | E12: КВ - 4 (Д) | F12: Северное Измайлово | G12: ВАО | H12: Балинт Е.И. | I12: г. Москва, района Северное Измайлово, микрорайоны 41-42,43-45,44-46,47-48,49-50 (Дом, Зона 72.1, к.31) 1 этап | J12: Олимпроект | K12: 44317 | L12: 45291
D13: 187 | E13: КВ - 4 (Д) | F13: Северное Измайлово | G13: ВАО | H13: Балинт Е.И. | I13: г. Москва, района Северное Измайлово, микрорайоны 41-42,43-45,44-46,47-48,49-50 (Дом, Зона 25.4, к.15) 3 этап | J13: Не определен | K13: 44958 | L13: 45199
D14: 189 | E14: КВ - 4 (Д) | F14: Северное Измайлово | G14: ВАО | H14: Балинт Е.И. | I14: г. Москва, района Северное Измайлово, микрорайоны 41-42,43-45,44-46,47-48,49-50 (Дом, Зона 32.1, к.26, 27, 28) 4 этап | J14: Не определен | K14: 45017 | L14: 45260
D15: 222 | E15: КВ - 5 (Д) | F15: Восточное Измайлово | G15: ВАО | H15: Бурова Е.А. | I15: г. Москва, район Восточное Измайлово, микрорайоны 36-28 (в т.ч. ул. 16-я Парковая, вл. 29) (Дом, Мкр. 83, 16-я Парковая, вл. 29 ) 1 этап | J15: Не определен | K15: 44927 | L15: 45169
D16: 246 | E16: КВ - 7 (Д) | F16: Зюзино | G16: ЮЗАО | H16: Ланцова Анна Алексеевна | I16: г. Москва, район Зюзино, кварталы 7, 10, 14 (Дом, зона 7.5) 1 этап | J16: АПЕКС | K16: 44652 | L16: 44958
D17: 263 | E17: КВ - 8 (Д) | F17: Кузьминки | G17: ЮВАО | H17: Шестопалова Софья | I17: г. Москва, район Кузьминки, микрорайоны 117, 117а, 118, 118а, 119 (Дом, в т.ч. снос Волгоградский пр-т, д. 163, корп. 2) (1 этап) | J17: Олимпроект | K17: 44531 | L17: 45290
D18: 266 | E18: КВ - 8 (Д) | F18: Кузьминки | G18: ЮВАО | H18: Киричук Ксения | I18: г. Москва, район Кузьминки, микрорайоны 117, 117а, 118, 118а, 119 (Дом, зона 12.4) 2 этап | J18: Собственные силы | K18: 44866 | L18: 45138
D19: 267 | E19: КВ - 8 (Д) | F19: Кузьминки | G19: ЮВАО | H19: Федюшин Андрей | I19: г. Москва, район Кузьминки, микрорайоны 117, 117а, 118, 118а, 119 (Дом, зона 12.8) 2 этап | J19: Собственные силы | K19: 44866 | L19: 45138
D20: 268 | E20: КВ - 8 (Д) | F20: Кузьминки | G20: ЮВАО | H20: Федюшин Андрей | I20: г. Москва, район Кузьминки, микрорайоны 117, 117а, 118, 118а, 119 (Дом, зона 12.9) 2 этап | J20: Собственные силы | K20: 44866 | L20: 45138
... D25: 346 | E25: КВ - 9 (Д) | F25: Зюзино | G25: ЮЗАО | H25: Матюхин Александр | I25: г. Москва, район Зюзино, кварталы 40, 41, 42, Херсонская ул., 14, 1 этап | J25: ПиК(ссс) | K25: 44440 | L25: 45000
D26: 384 | E26: КВ - 10 (Д) | F26: Выхино-Жулебино | G26: ЮВАО | H26: =IFERROR(VLOOKUP($M$3:$M1000,'Импорт - распределение проектов реновации'!$H$5:$P1000,9,0),"") | I26: г. Москва, район Выхино-Жулебино, микрорайон 136 (Дом, зона 3.2) 2 этап | J26: ПИК-Проект | K26: 44713 | L26: 44985 | Q26: в 10
D27: 385 | E27: КВ - 10 (Д) | F27: Выхино-Жулебино | G27: ЮВАО | H27: =IFERROR(VLOOKUP($M$3:$M1001,'Импорт - распределение проектов реновации'!$H$5:$P1001,9,0),"") | I27: г. Москва, район Выхино-Жулебино, микрорайон 136 (Дом, зона 3.3) 2 этап | J27: ПИК-Проект | K27: 44713 | L27: 44985 | Q27: в 10
D28: 396 | E28: КВ - 11 (Д) | F28: Кузьминки | G28: ЮВАО | H28: Киричук Ксения | I28: г. Москва, внутригородское муниципальное образование Кузьминки, улица Зеленодольская, земельный участок 28/3 (зона 3.3) | J28: ПИК-Проект | K28: 44621 | L28: 44956
D29: 459 | E29: КВ - 13 (Д) | F29: Люблино | G29: ЮВАО | H29: Ворсин Михаил | I29: г. Москва, внутригородское муниципальное образование Люблино, улица Люблинская, земельный участок 111/2/1 (Люблинская ул., вл. 111, стр. 2), (Юго-Восточный административный округ) | J29: ПиК(ссс) | K29: 44378 | L29: 45000
D30: 460 | E30: КВ - 13 (Д) | F30: Люблино | G30: ЮВАО | H30: Ворсин Михаил | I30: г. Москва, район Люблино, микрорайоны А, Б, Г, Е пр-т 40-лет Октября, з/у 18/13 | J30: СОБ-Проект | K30: 44743 | L30: 44985
D31: 461 | E31: КВ - 13 (Д) | F31: Люблино | G31: ЮВАО | H31: Ворсин Михаил | I31: г. Москва, внутригородское муниципальное образование Люблино, Спортивный проезд, земельный участок 6А/6 | J31: СОП-проект | K31: 44378 | L31: 44985
D32: 462 | E32: КВ - 13 (Д) | F32: Люблино | G32: ЮВАО | H32: Ворсин Михаил | I32: г. Москва, внутригородское муниципальное образование Люблино, ул. Совхозная, земельный участок 55/2 (Юго-Восточный административный округ) | J32: ПиК(ссс) | K32: 44531 | L32: 44972
D33: 471 | E33: КВ - 13 (Д) | F33: Люблино | G33: ЮВАО | I33: г. Москва, район Люблино, микрорайоны А, Б, Г, Е (Дом, зона 2.4) 2 этап | J33: Не определен | K33: 45017 | L33: 45260
D34: 472 | E34: КВ - 13 (Д) | F34: Люблино | G34: ЮВАО | I34: г. Москва, район Люблино, микрорайоны А, Б, Г, Е (Дом, зона 2.5) 2 этап | J34: Не определен | K34: 45017 | L34: 45260
D35: 484 | E35: КВ - 13 (Д) | F35: Люблино | G35: ЮВАО | I35: г. Москва, район Люблино, микрорайоны А, Б, Г, Е (Дом, зона 20.1) 2 этап | J35: Не определен | K35: 45017 | L35: 45260
D36: 514 | E36: КВ - 14 (Д) | F36: Измайлово | G36: ВАО | H36: Конюхов Ю.В. | I36: г. Москва, район Измайлово, Сиреневый бульвар, земельный участок 4/5 | J36: Генпроект | K36: 44378 | L36: 45046
D37: 515 | E37: КВ - 14 (Д) | F37: Измайлово | G37: ВАО | H37: Конюхов Ю.В. | I37: г. Москва, район Измайлово, Сиреневый бульвар, земельный участок 4/4 | J37: Генпроект | K37: 44378 | L37: 45046
D38: 516 | E38: КВ - 14 (Д) | F38: Измайлово | G38: ВАО | H38: Конюхов Ю.В. | I38: г. Москва, район Измайлово, Сиреневый бульвар, земельный участок 4/9 (зона 6.1) | J38: Генпроект | K38: 44378 | L38: 45046
D39: 517 | E39: КВ - 14 (Д) | F39: Измайлово | G39: ВАО | H39: Конюхов Ю.В. | I39: г. Москва, район Измайлово, Сиреневый бульвар, земельный участок 4/9 (зона 6.2) | J39: Генпроект | K39: 44378 | L39: 45046
D40: 630 | E40: КВ - 17 (Д) | F40: Гольяново | G40: ВАО | H40: Ратушный Алексей | I40: г. Москва, район Гольяново, ул. Байкальская д.14,к.1- д.16 | J40: ПИК-Проект | K40: 44774 | L40: 45016
D41: 712 | E41: КВ - 19 (Д) | F41: Нагатино-Садовники | G41: ЮАО | I41: г. Москва, район Нагатино-Садовники, микрорайон 1А (в т.ч. ул. Нагатинская, вл. 1) (Дом, Нагатинская ул., вл. 1) 1 этап | J41: ПИК-Проект | K41: 44531 | L41: 45077
D42: 747 | E42: 9 этап | F42: Измайлово | G42: ВАО | H42: Геккиев К.Р. | I42: г. Москва, район Измайлово, Никитинская улица, владение 21, корпуса 1 и 3 | J42: Не определен | K42: 44896 | L42: 45139
D43: 750 | E43: КВ - 21 (Д) | F43: Покровское-Стрешнево | G43: СЗАО | H43: Носкова Алиса | I43: г. Москва, район Покровское-Стрешнево, микрорайоны 3, 16, 1, 2, 14, 15 (Дом, мкр. 16, зона 1.2 (1 оч.)) 1 этап | J43: Не определен | K43: 45047 | L43: 45291
D44: 779 | E44: 9 этап | F44: Измайлово | G44: ВАО | H44: Геккиев К.Р. | I44: г. Москва, район Измайлово, 3-я Парковая улица, вл. 39 | J44: Не определен | K44: 44896 | L44: 45138
D45: 810 | E45: 10 этап | F45: Котловка | G45: ЮЗАО | H45: Калюжная Виктория | I45: г. Москва, район Котловка, Нагорная ул., влд. 5А | J45: ПСК Созидатель | K45: 44617 | L45: 45015
...

Sheet БЛ 10_версия_итог (с 8 и ми вол
A1: № | B1: Этап | C1: Район | D1: Округ | E1: РП | F1: Адрес объекта строительства | G1: Волна до актуализации сроков | H1: ПД/РД | I1: Начало ПИР | J1: Первая МГЭ (Выход)
A2: 50 | B2: 6 этап | C2: Бескудниковский | D2: САО | E2: Голованов Илья | F2: г. Москва, район Бескудниковский, Дмитровское ш., 89 | G2: 6 волна | H2: ПИК-Проект | I2: 43847 | J2: 44852
A3: 64 | B3: 7 этап | C3: Ивановское | D3: ВАО | E3: Бурова Е.А. | F3: г. Москва, район Ивановское, Зелёный проспект, 101 | G3: 8 волна | H3: ПИК-Проект | I3: 44022 | J3: 44686
A4: 65 | B4: 7 этап | C4: Люблино | D4: ЮВАО | E4: Федюшин Андрей | F4: г. Москва район Люблино, Верхние Поля, вл.19 к 1 | G4: 8 волна | H4: ПИК-Проект | I4: 44105 | J4: 44823
A5: 66 | B5: 7 этап | C5: Хорошево-Мневники | D5: СЗАО | E5: Голованов Илья | F5: г. Москва район Хорошево-Мневники, Демьяна Бедного, вл.22, к.3 | G5: 8 волна | H5: ПИК-Проект | I5: 44105 | J5: 44819
A6: 68 | B6: 8 этап | C6: Измайлово | D6: ВАО | E6: Бурова Е.А. | F6: г. Москва район Измайлово, Измайловский б-р, 71/25 | G6: 10 волна | H6: ПИК-Проект | I6: 44117 | J6: 44864
A7: 71 | B7: 8 этап | C7: Хорошево-Мневники | D7: СЗАО | E7: Голованов Илья | F7: г. Москва район Хорошево-Мневники, Генерала Глаголева, вл. 9/1 | G7: 8 волна | H7: ПИК-Проект | I7: 44117 | J7: 44631
A8: 72 | B8: 8 этап | C8: Люблино | D8: ЮВАО | E8: Федюшин Андрей | F8: г. Москва район Люблино, Люблинская, 111/3 | G8: 9 волна | H8: Собственные силы | I8: 44141 | J8: 44825
A9: 74 | B9: 8 этап | C9: Люблино | D9: ЮВАО | E9: Федюшин Андрей | F9: г. Москва район Люблино, Люблинская, 113, к.3 | G9: 10 волна | H9: Стандартпроект | I9: 44145 | J9: 44848
A10: 77 | B10: 8 этап | C10: Северное Измайлово | D10: ВАО | E10: Геккиев К.Р. | F10: г. Москва район Северное Измайлово, 7-я Парковая, вл.19-21 | G10: 8 волна | H10: ПИК-Проект | I10: 44470 | J10: 44957
A11: 80 | B11: 9 этап | C11: Царицыно | D11: ЮАО | F11: г. Москва район Царицыно, Ереванская, вл.4 | G11: 10 волна | H11: ПИК-Проект | I11: 44562 | J11: 44775
A12: 81 | B12: 9 этап | C12: Царицыно | D12: ЮАО | F12: г. Москва район Царицыно, Ереванская, вл.6/2 | G12: 9 волна | H12: ПИК-Проект | I12: 44562 | J12: 44592
A13: 82 | B13: 9 этап | C13: Измайлово | D13: ВАО | E13: Геккиев К.Р. | F13: г. Москва район Измайлово, Никитинская ул., з.у. 5 | G13: 9 волна | H13: Проектоное бюро Р1 | I13: 44299 | J13: 44741
A14: 85 | B14: 9 этап | C14: Рязанский | D14: ЮВАО | E14: Ворсин Михаил | F14: г. Москва, район Рязанский, улица Михайлова, з/у 15, (корпуса 1, 2) | G14: 10 волна | H14: Бюро-22 | I14: 44342 | J14: 44771
A15: 86 | B15: 9 этап | C15: Рязанский | D15: ЮВАО | E15: Ворсин Михаил | F15: г. Москва, район Рязанский, Зарайская улица, з/у 46/1 | G15: 10 волна | H15: Бюро-22 | I15: 44342 | J15: 44880
A16: 87 | B16: 9 этап | C16: Перово | D16: ВАО | E16: Бурова Е.А. | F16: г. Москва, район Перово, Плеханова, владение 24А | G16: 10 волна | H16: Стандартпроект | I16: 44383 | J16: 44864
A17: 88 | B17: 9 этап | C17: Ростокино | D17: СВАО | E17: Иргалиев Александр | F17: г. Москва, район Ростокино, Проспект Мира, вл. 135А | G17: 10 волна | H17: Собственные силы | I17: 44418 | J17: 44844
A18: 90 | B18: П - 2 | C18: Филевский Парк | D18: ЗАО | E18: Иргалиев Александр | F18: г. Москва, район Филевский Парк, улица Барклая, земельный участок 6/32 | G18: 10 волна | H18: ПИК-Проект | I18: 44330 | J18: 44764
A19: 91 - 93 | B19: П - 3 (Д) | C19: Гольяново | D19: ВАО | E19: Забашта В.Ю. | F19: г. Москва, район Гольяново, ул. Амурская, вл. 1, 2 оч. (Дом, зона 1.1, корп. 1; Дом, зона 1.2, корп. 2; Дом, зона 1.5, корп. 3) 1 этап | G19: 10 волна | H19: ПИК-Проект | I19: 44676 | J19: 44920
A20: 96 | B20: П - 3 (Д) | C20: Гольяново | D20: ВАО | E20: Забашта В.Ю. | F20: г. Москва, район Гольяново, ул. Амурская, вл. 1, 2 оч. (Дом, зона 3.4) 1 этап | G20: 10 волна | H20: ПИК-Проект | I20: 44409 | J20: 45000
A21: 97 | B21: П - 3 (Д) | C21: Гольяново | D21: ВАО | E21: Забашта В.Ю. | F21: г. Москва, район Гольяново, ул. Амурская, вл. 1, 2 оч. (Дом, зона 3.5) 1 этап | G21: 10 волна | H21: ПИК-Проект | I21: 44409 | J21: 44985
A22: 107 | B22: П - 4 | C22: Очаково-Матвеевское | D22: ЗАО | E22: Васильев Сергей Николаевич | F22: г. Москва, район Очаково-Матвеевское, Очаковское шоссе, влд. 3А, 5А | G22: 10 волна | H22: АПЕКС | I22: 44407 | J22: 44795
A23: 108 | B23: КВ - 1 (Д) | C23: Люблино | D23: ЮВАО | E23: Ворсин Михаил | F23: г. Москва, район Люблино, кварталы 23, 29 (в т.ч. ул. Совхозная, вл. 10А) (Дом, ул. Совхозная, з/у 10А/1) 1 этап | G23: 9 волна | H23: ПИК-Проект | I23: 44347 | J23: 44663
A24: 115 | B24: КВ - 2 (Д) | C24: Северное Измайлово | D24: ВАО | E24: Геккиев К.Р. | F24: г. Москва, район Северное Измайлово, Микрорайон 80, 15-Парковая 46Б, 1 этап | G24: 10 волна | H24: ПИК-Проект | I24: 44287 | J24: 44864
A25: 116 | B25: КВ - 2 (Д) | C25: Северное Измайлово | D25: ВАО | E25: Геккиев К.Р. | F25: г. Москва, район Северное Измайлово, Микрорайон 80, 15-Парковая 42Б, 1 этап | G25: 10 волна | H25: ПИК-Проект | I25: 44287 | J25: 44921
A26: 173 | B26: КВ - 4 (Д) | C26: Северное Измайлово | D26: ВАО | E26: Балинт Е.И. | F26: г. Москва, внутригородское муниципальное образование Северное Измайлово, 11-я Парковая улица, земельный участок 55/1 (11-я Парковая ул., вл. 55) (зона 72.2) (к.38) | G26: 10 волна | H26: Олимпроект | I26: 44378 | J26: 44864
A27: 174 | B27: КВ - 4 (Д) | C27: Северное Измайлово | D27: ВАО | E27: Балинт Е.И. | F27: г. Москва, внутригородское муниципальное образование Северное Измайлово, 11-я Парковая улица, земельный участок 53 (11-я Парковая ул., вл. 53) (зона 72.3) (к.39) | G27: 10 волна | H27: Олимпроект | I27: 44317 | J27: 44864
A28: 259 | B28: КВ - 8 (Д) | C28: Кузьминки | D28: ЮВАО | E28: Шестопалова Софья | F28: г. Москва, район Кузьминки, микрорайоны 117, 117а, 118, 118а, 119, Волгоградский 161 к 2, 163 и нежилое здание Волгоградский 163 к.3, 1 этап | G28: 10 волна | H28: Олимпроект | I28: 44377 | J28: 44848
A29: 260 | B29: КВ - 8 (Д) | C29: Кузьминки | D29: ЮВАО | E29: Шестопалова Софья | F29: г. Москва, район Кузьминки, микрорайоны 117, 117а, 118, 118а, 119, Юных Ленинцев 97 к.4, Юных Ленинцев 101 к.3, 1 этап | G29: 10 волна | H29: Олимпроект | I29: 44409 | J29: 44895
A30: 262 | B30: КВ - 8 (Д) | C30: Кузьминки | D30: ЮВАО | E30: Шестопалова Софья | F30: г. Москва, район Кузьминки, микрорайоны 117, 117а, 118, 118а, 119, Академика Скрябина 40 к.1, 1 этап | G30: 10 волна | H30: Олимпроект | I30: 44470 | J30: 44910
A31: 381 | B31: КВ - 10 (Д) | C31: Выхино-Жулебино | D31: ЮВАО | F31: г. Москва, внутригородское муниципальное образование Выхино-Жулебино, улица Ташкентская, земельный участок 14/1 (улица Ташкентская, дом 14, корпус 1) (зона 3.1) | G31: 10 волна | H31: 2 Про | I31: 44377 | J31: 44748
A32: 384 | B32: КВ - 10 (Д) | C32: Выхино-Жулебино | D32: ЮВАО | F32: г. Москва, район Выхино-Жулебино, микрорайон 136 (Дом, зона 3.2) 2 этап | G32: 10 волна | H32: ПИК-Проект | I32: 44713 | J32: 44985
A33: 385 | B33: КВ - 10 (Д) | C33: Выхино-Жулебино | D33: ЮВАО | F33: г. Москва, район Выхино-Жулебино, микрорайон 136 (Дом, зона 3.3) 2 этап | G33: 10 волна | H33: ПИК-Проект | I33: 44713 | J33: 44985
A34: 396 | B34: КВ - 11 (Д) | C34: Кузьминки | D34: ЮВАО | E34: Киричук Ксения | F34: г. Москва, внутригородское муниципальное образование Кузьминки, улица Зеленодольская, земельный участок 28/3 (зона 3.3) | G34: 10 волна | H34: ПИК-Проект | I34: 44621 | J34: 44956
A35: 419 | B35: КВ - 12 (Д) | C35: Кузьминки | D35: ЮВАО | E35: Шестопалова Софья | F35: г. Москва, район Кузьминки, микрорайоны 113, 113А, 114 (Дом, Юных Ленинцев вл.40/3) 1 этап | G35: 10 волна | H35: Олимпроект | I35: 44407 | J35: 44921
A36: 420 | B36: КВ - 12 (Д) | C36: Кузьминки | D36: ЮВАО | E36: Шестопалова Софья | F36: г. Москва, район Кузьминки, микрорайоны 113, 113А, 114 (Дом, Юных Ленинцев вл.44/3) 1 этап | G36: 10 волна | H36: Олимпроект | I36: 44407 | J36: 44921
A37: 422 | B37: КВ - 12 (Д) | C37: Кузьминки | D37: ЮВАО | E37: Шестопалова Софья | F37: г. Москва, район Кузьминки, микрорайоны 113, 113А, 114 (Дом, ул. Маршала Чуйкова вл. 9/5/2) 1 этап | G37: 10 волна | H37: Олимпроект | I37: 44562 | J37: 44865
A38: 423 | B38: КВ - 12 (Д) | C38: Кузьминки | D38: ЮВАО | E38: Шестопалова Софья | F38: г. Москва, район Кузьминки, микрорайоны 113, 113А, 114 (Дом, ул. Маршала Чуйкова вл. 9/5/1) 1 этап | G38: 10 волна | H38: Олимпроект | I38: 44562 | J38: 44865
A39: 458 | B39: КВ - 13 (Д) | C39: Люблино | D39: ЮВАО | E39: Ворсин Михаил | F39: г. Москва, внутригородское муниципальное образование Люблино, улица Люблинская, земельный участок 52/1 (Юго-Восточный административный округ) | G39: 10 волна | H39: ПиК(ссс) | I39: 44378 | J39: 44887
A40: 567 | B40: КВ - 16 (Д) | C40: Кузьминки | D40: ЮВАО | E40: Шестопалова Софья | F40: г. Москва, район Кузьминки, микрорайоны 115, 116, 121 (Дом, ул. Жигулевская, з.у. 12/6; з.у. 12/6/1) 1 этап | G40: 10 волна | H40: Олимпроект | I40: 44409 | J40: 44848
...

Sheet БЛ 11_версия (ПИК-Проект)
D2: № | E2: Этап | F2: Район | G2: Округ | H2: РП | I2: Адрес объекта строительства | J2: ПД/РД | K2: Начало ПИР | L2: Первая МГЭ (Выход)
D3: 77 | E3: 8 этап | F3: Северное Измайлово | G3: ВАО | H3: Геккиев К.Р. | I3: г. Москва район Северное Измайлово, 7-я Парковая, вл.19-21 | J3: ПИК-Проект | K3: 44470 | L3: 44957
D4: 78 | E4: 8 этап | F4: Измайлово | G4: ВАО | H4: Геккиев К.Р. | I4: г. Москва район Измайлово, 1-я Прядильная, вл.3 | J4: ПИК-Проект | K4: 44896 | L4: 45139 | Q4: не начали ПИР
D5: 94 - 95 | E5: П - 3 (Д) | F5: Гольяново | G5: ВАО | H5: Забашта В.Ю. | I5: г. Москва, район Гольяново, ул. Амурская, вл. 1, 2 оч. (Дом, зона 3.1, корп. 4; Дом, зона 3.2, корп. 5) 1 этап | J5: ПИК-Проект | K5: 44783 | L5: 45026
D6: 96 | E6: П - 3 (Д) | F6: Гольяново | G6: ВАО | H6: Забашта В.Ю. | I6: г. Москва, район Гольяново, ул. Амурская, вл. 1, 2 оч. (Дом, зона 3.4) 1 этап | J6: ПИК-Проект | K6: 44409 | L6: 45000
D7: 97 | E7: П - 3 (Д) | F7: Гольяново | G7: ВАО | H7: Забашта В.Ю. | I7: г. Москва, район Гольяново, ул. Амурская, вл. 1, 2 оч. (Дом, зона 3.5) 1 этап | J7: ПИК-Проект | K7: 44409 | L7: 44985
D8: 396 | E8: КВ - 11 (Д) | F8: Кузьминки | G8: ЮВАО | H8: Киричук Ксения | I8: г. Москва, внутригородское муниципальное образование Кузьминки, улица Зеленодольская, земельный участок 28/3 (зона 3.3) | J8: ПИК-Проект | K8: 44621 | L8: 44956
D9: 630 | E9: КВ - 17 (Д) | F9: Гольяново | G9: ВАО | H9: Ратушный Алексей | I9: г. Москва, район Гольяново, ул. Байкальская д.14,к.1- д.16 | J9: ПИК-Проект | K9: 44774 | L9: 45016
D10: 712 | E10: КВ - 19 (Д) | F10: Нагатино-Садовники | G10: ЮАО | I10: г. Москва, район Нагатино-Садовники, микрорайон 1А (в т.ч. ул. Нагатинская, вл. 1) (Дом, Нагатинская ул., вл. 1) 1 этап | J10: ПИК-Проект | K10: 44531 | L10: 45077
D11: 814 | E11: П - 6 | F11: Южное Тушино | G11: СЗАО | H11: Голованов Илья | I11: г. Москва, район Южное Тушино, проезд Досфлота, вл. 2 | J11: ПИК-Проект | K11: 44712 | L11: 45000
D324: № | E324: Этап | F324: Район | G324: Округ | H324: РП | I324: Адрес объекта строительства | J324: ПД/РД | K324: Начало ПИР | L324: Первая МГЭ (Выход)
D325: 75 | E325: 8 этап | F325: Измайлово | G325: ВАО | H325: Геккиев К.Р. | I325: г. Москва район Измайлово, 3-я Прядильная, вл.10 | J325: Не определен | K325: 44986 | L325: 45231
D326: 76 | E326: 8 этап | F326: Измайлово | G326: ВАО | H326: Геккиев К.Р. | I326: г. Москва район Измайлово, 3-я Прядильная, вл.14 | J326: Не определен | K326: 44986 | L326: 45231
D327: 77 | E327: 8 этап | F327: Северное Измайлово | G327: ВАО | H327: Геккиев К.Р. | I327: г. Москва район Северное Измайлово, 7-я Парковая, вл.19-21 | J327: ПИК-Проект | K327: 44470 | L327: 44957
D328: 78 | E328: 8 этап | F328: Измайлово | G328: ВАО | H328: Геккиев К.Р. | I328: г. Москва район Измайлово, 1-я Прядильная, вл.3 | J328: ПИК-Проект | K328: 44896 | L328: 45139
D329: 83 | E329: 9 этап | F329: Восточное Измайлово | G329: ВАО | H329: Конюхов Ю.В. | I329: г. Москва, район Восточное Измайлово, Сиреневый бульвар, вл, 4/4 | J329: АПЕКС | K329: 44299 | L329: 45016
D330: 94 - 95 | E330: П - 3 (Д) | F330: Гольяново | G330: ВАО | H330: Забашта В.Ю. | I330: г. Москва, район Гольяново, ул. Амурская, вл. 1, 2 оч. (Дом, зона 3.1, корп. 4; Дом, зона 3.2, корп. 5) 1 этап | J330: ПИК-Проект | K330: 44783 | L330: 45026
D331: 96 | E331: П - 3 (Д) | F331: Гольяново | G331: ВАО | H331: Забашта В.Ю. | I331: г. Москва, район Гольяново, ул. Амурская, вл. 1, 2 оч. (Дом, зона 3.4) 1 этап | J331: ПИК-Проект | K331: 44409 | L331: 45000
D332: 97 | E332: П - 3 (Д) | F332: Гольяново | G332: ВАО | H332: Забашта В.Ю. | I332: г. Москва, район Гольяново, ул. Амурская, вл. 1, 2 оч. (Дом, зона 3.5) 1 этап | J332: ПИК-Проект | K332: 44409 | L332: 44985
D333: 141 | E333: КВ - 3 (Д) | F333: Зюзино | G333: ЮЗАО | H333: Ланцова Анна Алексеевна | I333: г. Москва, район Зюзино, Кварталы 25, 26, 31, 35, 36А (Дом, Квартал 26-31, Зона 6.1) 1 этап | J333: А495 | K333: 44501 | L333: 44957
D334: 175 | E334: КВ - 4 (Д) | F334: Северное Измайлово | G334: ВАО | H334: Балинт Е.И. | I334: г. Москва, района Северное Измайлово, микрорайоны 41-42,43-45,44-46,47-48,49-50 (Дом, Зона 72.1, к.31) 1 этап | J334: Олимпроект | K334: 44317 | L334: 45291
D335: 187 | E335: КВ - 4 (Д) | F335: Северное Измайлово | G335: ВАО | H335: Балинт Е.И. | I335: г. Москва, района Северное Измайлово, микрорайоны 41-42,43-45,44-46,47-48,49-50 (Дом, Зона 25.4, к.15) 3 этап | J335: Не определен | K335: 44958 | L335: 45199
D336: 189 | E336: КВ - 4 (Д) | F336: Северное Измайлово | G336: ВАО | H336: Балинт Е.И. | I336: г. Москва, района Северное Измайлово, микрорайоны 41-42,43-45,44-46,47-48,49-50 (Дом, Зона 32.1, к.26, 27, 28) 4 этап | J336: Не определен | K336: 45017 | L336: 45260
D337: 222 | E337: КВ - 5 (Д) | F337: Восточное Измайлово | G337: ВАО | H337: Бурова Е.А. | I337: г. Москва, район Восточное Измайлово, микрорайоны 36-28 (в т.ч. ул. 16-я Парковая, вл. 29) (Дом, Мкр. 83, 16-я Парковая, вл. 29 ) 1 этап | J337: Не определен | K337: 44927 | L337: 45169
D338: 246 | E338: КВ - 7 (Д) | F338: Зюзино | G338: ЮЗАО | H338: Ланцова Анна Алексеевна | I338: г. Москва, район Зюзино, кварталы 7, 10, 14 (Дом, зона 7.5) 1 этап | J338: АПЕКС | K338: 44652 | L338: 44958
D339: 263 | E339: КВ - 8 (Д) | F339: Кузьминки | G339: ЮВАО | H339: Шестопалова Софья | I339: г. Москва, район Кузьминки, микрорайоны 117, 117а, 118, 118а, 119 (Дом, в т.ч. снос Волгоградский пр-т, д. 163, корп. 2) (1 этап) | J339: Олимпроект | K339: 44531 | L339: 45290
D340: 266 | E340: КВ - 8 (Д) | F340: Кузьминки | G340: ЮВАО | H340: Киричук Ксения | I340: г. Москва, район Кузьминки, микрорайоны 117, 117а, 118, 118а, 119 (Дом, зона 12.4) 2 этап | J340: Собственные силы | K340: 44866 | L340: 45138
D341: 267 | E341: КВ - 8 (Д) | F341: Кузьминки | G341: ЮВАО | H341: Федюшин Андрей | I341: г. Москва, район Кузьминки, микрорайоны 117, 117а, 118, 118а, 119 (Дом, зона 12.8) 2 этап | J341: Собственные силы | K341: 44866 | L341: 45138
D342: 268 | E342: КВ - 8 (Д) | F342: Кузьминки | G342: ЮВАО | H342: Федюшин Андрей | I342: г. Москва, район Кузьминки, микрорайоны 117, 117а, 118, 118а, 119 (Дом, зона 12.9) 2 этап | J342: Собственные силы | K342: 44866 | L342: 45138
... D347: 346 | E347: КВ - 9 (Д) | F347: Зюзино | G347: ЮЗАО | H347: Матюхин Александр | I347: г. Москва, район Зюзино, кварталы 40, 41, 42, Херсонская ул., 14, 1 этап | J347: ПиК(ссс) | K347: 44440 | L347: 45000
D348: 384 | E348: КВ - 10 (Д) | F348: Выхино-Жулебино | G348: ЮВАО | H348: =IFERROR(VLOOKUP($M$3:$M965,'Импорт - распределение проектов реновации'!$H$5:$P965,9,0),"") | I348: г. Москва, район Выхино-Жулебино, микрорайон 136 (Дом, зона 3.2) 2 этап | J348: ПИК-Проект | K348: 44713 | L348: 44985
D349: 385 | E349: КВ - 10 (Д) | F349: Выхино-Жулебино | G349: ЮВАО | H349: =IFERROR(VLOOKUP($M$3:$M966,'Импорт - распределение проектов реновации'!$H$5:$P966,9,0),"") | I349: г. Москва, район Выхино-Жулебино, микрорайон 136 (Дом, зона 3.3) 2 этап | J349: ПИК-Проект | K349: 44713 | L349: 44985
D350: 396 | E350: КВ - 11 (Д) | F350: Кузьминки | G350: ЮВАО | H350: Киричук Ксения | I350: г. Москва, внутригородское муниципальное образование Кузьминки, улица Зеленодольская, земельный участок 28/3 (зона 3.3) | J350: ПИК-Проект | K350: 44621 | L350: 44956
D351: 459 | E351: КВ - 13 (Д) | F351: Люблино | G351: ЮВАО | H351: Ворсин Михаил | I351: г. Москва, внутригородское муниципальное образование Люблино, улица Люблинская, земельный участок 111/2/1 (Люблинская ул., вл. 111, стр. 2), (Юго-Восточный административный округ) | J351: ПиК(ссс) | K351: 44378 | L351: 45000
D352: 460 | E352: КВ - 13 (Д) | F352: Люблино | G352: ЮВАО | H352: Ворсин Михаил | I352: г. Москва, район Люблино, микрорайоны А, Б, Г, Е пр-т 40-лет Октября, з/у 18/13 | J352: СОБ-Проект | K352: 44743 | L352: 44985
D353: 461 | E353: КВ - 13 (Д) | F353: Люблино | G353: ЮВАО | H353: Ворсин Михаил | I353: г. Москва, внутригородское муниципальное образование Люблино, Спортивный проезд, земельный участок 6А/6 | J353: СОП-проект | K353: 44378 | L353: 44985
D354: 462 | E354: КВ - 13 (Д) | F354: Люблино | G354: ЮВАО | H354: Ворсин Михаил | I354: г. Москва, внутригородское муниципальное образование Люблино, ул. Совхозная, земельный участок 55/2 (Юго-Восточный административный округ) | J354: ПиК(ссс) | K354: 44531 | L354: 44972
D355: 471 | E355: КВ - 13 (Д) | F355: Люблино | G355: ЮВАО | I355: г. Москва, район Люблино, микрорайоны А, Б, Г, Е (Дом, зона 2.4) 2 этап | J355: Не определен | K355: 45017 | L355: 45260
D356: 472 | E356: КВ - 13 (Д) | F356: Люблино | G356: ЮВАО | I356: г. Москва, район Люблино, микрорайоны А, Б, Г, Е (Дом, зона 2.5) 2 этап | J356: Не определен | K356: 45017 | L356: 45260
D357: 484 | E357: КВ - 13 (Д) | F357: Люблино | G357: ЮВАО | I357: г. Москва, район Люблино, микрорайоны А, Б, Г, Е (Дом, зона 20.1) 2 этап | J357: Не определен | K357: 45017 | L357: 45260
...

Sheet Приложение_БЛ ВК 13 версия 1
A1: № | B1: GUID | C1: Адрес объекта строительства от ООПР | D1: ОРП, м2 | E1: ТРУБЫ | G1: Квартирные станции водоснабжения ХВС/ГВС | H1: НУ ХВС и ПТ | I1: НУ АУПТ | J1: Шаровые краны с электроприводом | K1: Цилиндры кашированные неармированной фольгой НГ | L1: Затворы, задвижки, ОК пожаротушение | M1: Грувлочные соединения
E2: PEXa EVOH ВК | F2: SML ВК
A3: 1 | B3: f894d288-f4f2-11eb-9141-0050568dfbb1 | C3: г. Москва, района Северное Измайлово, микрорайоны 41-42,43-45,44-46,47-48,49-50 (Дом, Зона 4.1, к.3) 2 этап | D3: 32767 | E3: РосТурПласт | F3: РОСтерм | G3: ООО НПП "ТЕПЛОВОДОХРАН" | H3: ВЕЗЕР | I3: Элита Центр | J3: Гидроресурс | K3: Isotec | L3: GROSS | M3: Смартекс
A4: 2 | B4: 0a75f5a9-f4f3-11eb-9141-0050568dfbb1 | C4: г. Москва, района Северное Измайлово, микрорайоны 41-42,43-45,44-46,47-48,49-50 (Дом, Зона 4.2, к.4) 2 этап | D4: 29896 | E4: Ростерм | F4: РОСтерм | G4: ООО НПП "ТЕПЛОВОДОХРАН" | H4: ВЕЗЕР | I4: Элита Центр | J4: Гидроресурс | K4: Isotec | L4: GROSS | M4: Смартекс
A5: 3 | B5: 609edc7b-f4f3-11eb-9141-0050568dfbb1 | C5: г. Москва, района Северное Измайлово, микрорайоны 41-42,43-45,44-46,47-48,49-50 (Дом, Зона 25.4, к.15) 3 этап | D5: 21979 | E5: Ростерм | F5: РОСтерм | G5: ООО НПП "ТЕПЛОВОДОХРАН" | H5: Элита Центр | I5: Элита Центр | J5: Гидроресурс | K5: Isotec | L5: GROSS | M5: Смартекс
A6: 4 | B6: 4ff5a59b-f4f4-11eb-9141-0050568dfbb1 | C6: г. Москва, района Северное Измайлово, микрорайоны 41-42,43-45,44-46,47-48,49-50 (Дом, Зона 25.3, к.14) 8 этап | D6: 15011.4 | E6: РосТурПласт | F6: РОСтерм | G6: ООО НПП "ТЕПЛОВОДОХРАН" | H6: Элита Центр | I6: Элита Центр | J6: Гидроресурс | K6: Isotec | L6: GROSS | M6: Смартекс
A7: 5 | B7: 3f941ff3-f526-11eb-9141-0050568dfbb1 | C7: г. Москва, район Выхино-Жулебино, микрорайон 136 (Дом, зона 4.1) 3 этап | D7: 9681 | E7: РосТурПласт | F7: РОСтерм | G7: ООО НПП "ТЕПЛОВОДОХРАН" | H7: ГС Групп (Hoobs) | I7: Элита Центр | J7: Гидроресурс | K7: Isotec | L7: GROSS | M7: Смартекс
A8: 6 | B8: 4c49fde2-f526-11eb-9141-0050568dfbb1 | C8: г. Москва, район Выхино-Жулебино, микрорайон 136 (Дом, зона 4.2) 3 этап | D8: 24730 | E8: РосТурПласт | F8: РОСтерм | G8: ООО НПП "ТЕПЛОВОДОХРАН" | H8: ГС Групп (Hoobs) | I8: Элита Центр | J8: Гидроресурс | K8: Isotec | L8: GROSS | M8: Смартекс
A9: 7 | B9: 61169c31-f526-11eb-9141-0050568dfbb1 | C9: г. Москва, район Выхино-Жулебино, микрорайон 136 (Дом, зона 4.3) 3 этап | D9: 25120 | E9: РосТурПласт | F9: РОСтерм | G9: ООО НПП "ТЕПЛОВОДОХРАН" | H9: ГС Групп (Hoobs) | I9: Элита Центр | J9: Гидроресурс | K9: Isotec | L9: GROSS | M9: Смартекс
A10: 8 | B10: d3272be9-f689-11eb-9141-0050568dfbb1 | C10: г. Москва, район Гольяново, микрорайоны 1-2 (Дом, зона 3.4) 4 этап | D10: 8077 | E10: Pradex | F10: РОСтерм | G10: ООО НПП "ТЕПЛОВОДОХРАН" | H10: МФМК (CNP) | I10: Элита Центр | J10: Гидроресурс | K10: Isotec | L10: GROSS | M10: Смартекс
A11: 9 | B11: e05e0baa-f689-11eb-9141-0050568dfbb1 | C11: г. Москва, район Гольяново, микрорайоны 1-2 (Дом, зона 4.1) 4 этап | D11: 31019 | E11: Pradex | F11: РОСтерм | G11: ООО «ПРАДЕКС ИНЖИНИРИНГ» | H11: ГС Групп (Hoobs) | I11: Элита Центр | J11: Гидроресурс | K11: Isotec | L11: GROSS | M11: Смартекс
A12: 10 | B12: eebcd618-f689-11eb-9141-0050568dfbb1 | C12: г. Москва, район Гольяново, микрорайоны 1-2 (Дом, зона 4.2) 4 этап | D12: 33755 | E12: Pradex | F12: Смартекс | G12: ООО "ТЭС" | H12: ГС Групп (Hoobs) | I12: Элита Центр | J12: Гидроресурс | K12: Isotec | L12: DINARM | M12: Смартекс
A13: 11 | B13: 0150f7a6-f68a-11eb-9141-0050568dfbb1 | C13: г. Москва, район Гольяново, микрорайоны 1-2 (Дом, зона 4.3) 4 этап | D13: 27706 | E13: Pradex | F13: Смартекс | G13: ООО НПП "ТЕПЛОВОДОХРАН" | H13: ГС Групп (Hoobs) | I13: Элита Центр | J13: Гидроресурс | K13: Isotec | L13: DINARM | M13: DINARM
A14: 12 | B14: 0e7c427d-f68a-11eb-9141-0050568dfbb1 | C14: г. Москва, район Гольяново, микрорайоны 1-2 (Дом, зона 4.4) 5 этап | D14: 33755 | E14: Pradex | F14: Смартекс | G14: ООО "ТЭС" | H14: Элита Центр | I14: ГС Групп (Hoobs) | J14: Гидроресурс | K14: Isotec | L14: DINARM | M14: DINARM
... A27: 25 | B27: 2cb7b16d-e53b-11eb-9141-0050568dfbb1 | C27: г. Москва, район Зюзино, кварталы 36, 37, 38 (Дом, квартал 38, зона 33.3) 1 этап | D27: 25186.6 | E27: Pradex | F27: РОСтерм | G27: ООО НПП "ТЕПЛОВОДОХРАН" | H27: Элита Центр | I27: Элита Центр | J27: Гидроресурс | K27: Isotec | L27: GROSS | M27: Смартекс
A28: 26 | B28: 379fcd85-8b05-11eb-913c-0050568dfbb1 | C28: г. Москва, район Восточное Измайлово, Сиреневый бульвар, вл, 4/4 | D28: 35783
B30: Перенос объекта с 12-ой волны
B31: Перенос объекта с 11-ой волны

Sheet Приложение_БЛ ОВ 13 версия 1
A1: № | B1: GUID | C1: Адрес объекта строительства от ООПР | D1: ОРП, м2 | E1: ОРП, м2 | F1: Квартирная станция | G1: Коллекторная группа | H1: Цилиндры Г1, НГ | I1: Приточные и вытяжные каркасно-панельные установки, смечительный узел | J1: Установки подпора воздуха для зоны МГН | K1: Клапана НЗ и НО, воздухораспределители, КИД | L1: Вытяжные и приточные вентиляторы ДУ | M1: ТРУБЫ PEXa EVOH | N1: Шаровые краны с электроприводом | O1: Огнезащита воздуховодов (двухкомпонентная система) | P1: Кран шаровой фланцевый. Фильтр сетчатый фланцевый.
A2: 1 | B2: f894d288-f4f2-11eb-9141-0050568dfbb1 | C2: г. Москва, района Северное Измайлово, микрорайоны 41-42,43-45,44-46,47-48,49-50 (Дом, Зона 4.1, к.3) 2 этап | D2: 32767 | E2: 17549 | F2: Ридан | G2: Сантехкомплект | H2: Isotec | I2: ВЕЗА | J2: Аэрдин | K2: Сигмавент | L2: Вентзащита | M2: РосТурПласт | N2: Гидроресурс | O2: ВЗТМ | P2: ADL
A3: 2 | B3: 0a75f5a9-f4f3-11eb-9141-0050568dfbb1 | C3: г. Москва, района Северное Измайлово, микрорайоны 41-42,43-45,44-46,47-48,49-50 (Дом, Зона 4.2, к.4) 2 этап | D3: 29896 | E3: 25187 | F3: Ридан | G3: Сантехкомплект | H3: Isotec | I3: ВЕЗА | J3: Аэрдин | K3: Сигмавент | L3: Вентзащита | M3: Ростерм | N3: Гидроресурс | O3: ВЗТМ | P3: ADL
A4: 3 | B4: 609edc7b-f4f3-11eb-9141-0050568dfbb1 | C4: г. Москва, района Северное Измайлово, микрорайоны 41-42,43-45,44-46,47-48,49-50 (Дом, Зона 25.4, к.15) 3 этап | D4: 21979 | E4: 23642 | F4: Ридан | G4: Сантехкомплект | H4: Isotec | I4: ВЕЗА | J4: Аэрдин | K4: Сигмавент | L4: Вентзащита | M4: Ростерм | N4: Гидроресурс | O4: ВЗТМ | P4: ADL
A5: 4 | B5: 4ff5a59b-f4f4-11eb-9141-0050568dfbb1 | C5: г. Москва, района Северное Измайлово, микрорайоны 41-42,43-45,44-46,47-48,49-50 (Дом, Зона 25.3, к.14) 8 этап | D5: 15011.4 | E5: 27170 | F5: Ридан | G5: Сантехкомплект | H5: Isotec | I5: ВЕЗА | J5: Аэрдин | K5: Сигмавент | L5: Вентзащита | M5: РосТурПласт | N5: Гидроресурс | O5: ВЗТМ | P5: ADL
A6: 5 | B6: 3f941ff3-f526-11eb-9141-0050568dfbb1 | C6: г. Москва, район Выхино-Жулебино, микрорайон 136 (Дом, зона 4.1) 3 этап | D6: 9681 | E6: 12001 | F6: Ридан | G6: Сантехкомплект | H6: Isotec | I6: ВЕЗА | J6: Аэрдин | K6: Сигмавент | L6: Вентзащита | M6: РосТурПласт | N6: Гидроресурс | O6: ВЗТМ | P6: ADL
A7: 6 | B7: 4c49fde2-f526-11eb-9141-0050568dfbb1 | C7: г. Москва, район Выхино-Жулебино, микрорайон 136 (Дом, зона 4.2) 3 этап | D7: 24730 | E7: 11672 | F7: Ридан | G7: Сантехкомплект | H7: Isotec | I7: ВЕЗА | J7: Аэрдин | K7: Сигмавент | L7: Вентзащита | M7: РосТурПласт | N7: Гидроресурс | O7: ВЗТМ | P7: ADL
A8: 7 | B8: 61169c31-f526-11eb-9141-0050568dfbb1 | C8: г. Москва, район Выхино-Жулебино, микрорайон 136 (Дом, зона 4.3) 3 этап | D8: 25120 | E8: 13508 | F8: Ридан | G8: Сантехкомплект | H8: Isotec | I8: ВЕЗА | J8: Аэрдин | K8: Сигмавент | L8: Вентзащита | M8: РосТурПласт | N8: Гидроресурс | O8: ВЗТМ | P8: ADL
A9: 8 | B9: d3272be9-f689-11eb-9141-0050568dfbb1 | C9: г. Москва, район Гольяново, микрорайоны 1-2 (Дом, зона 3.4) 4 этап | D9: 8077 | E9: 15987 | F9: Пульсар | G9: Бригель | H9: Isotec | I9: ВЕЗА | J9: Аэрдин | K9: Сигмавент | L9: Вентзащита | M9: Pradex | N9: Гидроресурс | O9: ВЗТМ | P9: ADL
A10: 9 | B10: e05e0baa-f689-11eb-9141-0050568dfbb1 | C10: г. Москва, район Гольяново, микрорайоны 1-2 (Дом, зона 4.1) 4 этап | D10: 31019 | E10: 25699 | F10: Pradex | G10: Бригель | H10: Isotec | I10: KORF | J10: KORF | K10: Сигмавент | L10: Вентзащита | M10: Pradex | N10: Гидроресурс | O10: ВЗТМ | P10: ADL
A11: 10 | B11: eebcd618-f689-11eb-9141-0050568dfbb1 | C11: г. Москва, район Гольяново, микрорайоны 1-2 (Дом, зона 4.2) 4 этап | D11: 33755 | E11: 16482 | F11: Пульсар | G11: Сантехкомплект | H11: Isotec | I11: ВЕЗА | J11: Аэрдин | K11: Сигмавент | L11: Вентзащита | M11: Pradex | N11: Гидроресурс | O11: ВЗТМ | P11: ADL
A12: 11 | B12: 0150f7a6-f68a-11eb-9141-0050568dfbb1 | C12: г. Москва, район Гольяново, микрорайоны 1-2 (Дом, зона 4.3) 4 этап | D12: 27706 | E12: 20390 | F12: Пульсар | G12: Бригель | H12: Isotec | I12: ВЕЗА | J12: Аэрдин | K12: Сигмавент | L12: Вентзащита | M12: Pradex | N12: Гидроресурс | O12: ВЗТМ | P12: ADL
A13: 12 | B13: 0e7c427d-f68a-11eb-9141-0050568dfbb1 | C13: г. Москва, район Гольяново, микрорайоны 1-2 (Дом, зона 4.4) 5 этап | D13: 33755 | E13: 8373 | F13: Пульсар | G13: Бригель | H13: Isotec | I13: ВЕЗА | J13: Аэрдин | K13: Сигмавент | L13: Аэрван | M13: Pradex | N13: Гидроресурс | O13: ВЗТМ | P13: GROSS
... A22: 21 | B22: 2a04ff12-21b8-11ec-9141-0050568dfbb1 | C22: г. Москва, район Покровское-Стрешнево, микрорайоны 3, 16, 1, 2, 14, 15 (Дом, мкр. 2 (со сносом - Сосновая аллея, д. 4)) 2 этап | D22: 6142 | E22: 8780 | F22: Pradex | G22: Бригель | H22: Isotec | I22: KORF | J22: KORF | K22: Виктория | L22: Аэрдин | M22: Pradex | N22: Ридан | O22: Техстронг | P22: GROSS
A23: 22 | B23: 048e4297-f5bc-11eb-9141-0050568dfbb1 | C23: г. Москва, район Зюзино, кварталы 36, 37, 38 (Дом, квартал 37, зона 22.3) 3 этап | D23: 13902.3 | F23: Pradex | G23: Сантехкомплект | H23: Isotec | I23: KORF | J23: KORF | K23: Виктория | L23: Аэрдин | M23: Pradex | N23: Гидроресурс | O23: ВЗТМ | P23: GROSS
A24: 23 | B24: d40aac76-f502-11eb-9141-0050568dfbb1 | C24: г. Москва, район Зюзино, кварталы 7, 10, 14 (Дом, зона 1.2) 2 этап | D24: 8373.3 | F24: Pradex | G24: Сантехкомплект | H24: Isotec | I24: KORF | J24: KORF | K24: Виктория | L24: Аэрдин | M24: Pradex | N24: Гидроресурс | O24: ВЗТМ | P24: GROSS
A25: 24 | B25: c83c08ee-f502-11eb-9141-0050568dfbb1 | C25: г. Москва, район Зюзино, кварталы 7, 10, 14 (Дом, зона 1.3) 2 этап | D25: 17549.3 | F25: Pradex | G25: Сантехкомплект | H25: Isotec | I25: KORF | J25: KORF | K25: Виктория | L25: Аэрдин | M25: Pradex | N25: Гидроресурс | O25: ВЗТМ | P25: GROSS
A26: 25 | B26: 2cb7b16d-e53b-11eb-9141-0050568dfbb1 | C26: г. Москва, район Зюзино, кварталы 36, 37, 38 (Дом, квартал 38, зона 33.3) 1 этап | D26: 25186.6 | F26: Pradex | G26: Сантехкомплект | H26: Isotec | I26: KORF | J26: KORF | K26: Виктория | L26: Аэрдин | M26: Pradex | N26: Гидроресурс | O26: ВЗТМ | P26: GROSS
A27: 26 | B27: 379fcd85-8b05-11eb-913c-0050568dfbb1 | C27: г. Москва, район Восточное Измайлово, Сиреневый бульвар, вл, 4/4 | D27: 35783
B29: Перенос объекта с 12-ой волны
B30: Перенос объекта с 11-ой волны

Sheet Приложение_БЛ ИТП 13 версия 1
A1: № | B1: GUID | C1: Адрес объекта строительства от ООПР | D1: ОРП, м2 | E1: БТП | F1: АУПД | G1: УУТ | H1: Регуляторы давления
A2: 1 | B2: f894d288-f4f2-11eb-9141-0050568dfbb1 | C2: г. Москва, района Северное Измайлово, микрорайоны 41-42,43-45,44-46,47-48,49-50 (Дом, Зона 4.1, к.3) 2 этап | D2: 32767 | E2: Ридан | F2: Элита-Центр | G2: ЗАО "Тепловизор" | H2: Теплосила
A3: 2 | B3: 0a75f5a9-f4f3-11eb-9141-0050568dfbb1 | C3: г. Москва, района Северное Измайлово, микрорайоны 41-42,43-45,44-46,47-48,49-50 (Дом, Зона 4.2, к.4) 2 этап | D3: 29896 | E3: SPL | F3: ГС Групп | G3: ЗАО "Тепловизор" | H3: Теплосила
A4: 3 | B4: 609edc7b-f4f3-11eb-9141-0050568dfbb1 | C4: г. Москва, района Северное Измайлово, микрорайоны 41-42,43-45,44-46,47-48,49-50 (Дом, Зона 25.4, к.15) 3 этап | D4: 21979 | E4: ГС Групп | F4: Элита-Центр | G4: ЗАО "Тепловизор" | H4: Ридан
A5: 4 | B5: 4ff5a59b-f4f4-11eb-9141-0050568dfbb1 | C5: г. Москва, района Северное Измайлово, микрорайоны 41-42,43-45,44-46,47-48,49-50 (Дом, Зона 25.3, к.14) 8 этап | D5: 15011.4 | E5: Этра | F5: Элита-Центр | G5: ЗАО "Тепловизор" | H5: Ридан
A6: 5 | B6: 3f941ff3-f526-11eb-9141-0050568dfbb1 | C6: г. Москва, район Выхино-Жулебино, микрорайон 136 (Дом, зона 4.1) 3 этап | D6: 9681 | E6: ГС Групп | F6: ГС Групп | G6: ЗАО "Тепловизор" | H6: Ридан
A7: 6 | B7: 4c49fde2-f526-11eb-9141-0050568dfbb1 | C7: г. Москва, район Выхино-Жулебино, микрорайон 136 (Дом, зона 4.2) 3 этап | D7: 24730 | E7: SPL | F7: Элита-Центр | G7: ЗАО "Тепловизор" | H7: Ридан
A8: 7 | B8: 61169c31-f526-11eb-9141-0050568dfbb1 | C8: г. Москва, район Выхино-Жулебино, микрорайон 136 (Дом, зона 4.3) 3 этап | D8: 25120 | E8: SPL | F8: Элита-Центр | G8: ЗАО "Тепловизор" | H8: Ридан
A9: 8 | B9: d3272be9-f689-11eb-9141-0050568dfbb1 | C9: г. Москва, район Гольяново, микрорайоны 1-2 (Дом, зона 3.4) 4 этап | D9: 8077 | E9: Этра | F9: SPL | G9: ЗАО "Тепловизор" | H9: Ридан
A10: 9 | B10: e05e0baa-f689-11eb-9141-0050568dfbb1 | C10: г. Москва, район Гольяново, микрорайоны 1-2 (Дом, зона 4.1) 4 этап | D10: 31019 | E10: Ридан | F10: ГС Групп | G10: ЗАО "Тепловизор" | H10: Ридан
A11: 10 | B11: eebcd618-f689-11eb-9141-0050568dfbb1 | C11: г. Москва, район Гольяново, микрорайоны 1-2 (Дом, зона 4.2) 4 этап | D11: 33755 | E11: Ридан | F11: ГС Групп | G11: ЗАО "Тепловизор" | H11: Ридан
A12: 11 | B12: 0150f7a6-f68a-11eb-9141-0050568dfbb1 | C12: г. Москва, район Гольяново, микрорайоны 1-2 (Дом, зона 4.3) 4 этап | D12: 27706 | E12: ПК Градус | F12: ГС Групп | G12: ЗАО "Тепловизор" | H12: Ридан
A13: 12 | B13: 0e7c427d-f68a-11eb-9141-0050568dfbb1 | C13: г. Москва, район Гольяново, микрорайоны 1-2 (Дом, зона 4.4) 5 этап | D13: 33755 | E13: Ридан | F13: ГС Групп | G13: ЗАО "Тепловизор" | H13: Ридан
... A27: 26 | B27: 379fcd85-8b05-11eb-913c-0050568dfbb1 | C27: г. Москва, район Восточное Измайлово, Сиреневый бульвар, вл, 4/4 | D27: 35783 | E27: Ридан | F27: ГС Групп | G27: ЗАО "Тепловизор" | H27: Ридан
B29: Перенос объекта с 12-ой волны
B30: Перенос объекта с 11-ой волны

Sheet МГЭ - график (14.09.2022)
A1: График заходов в МГЭ
A2: № | B2: #' | C2: Этап | D2: Район | E2: Округ | F2: РП | G2: Тип | H2: РТУ | I2: Адрес объекта строительства | J2: Заход МГЭ первый | K2: Заход МГЭ промеж. | L2: Заход МГЭ ЗОС | M2: Заход в МГЭ факт | N2: Объект в МГЭ | P2: Интервал захода в МГЭ | Q2: Вывод ОРП по домам | S2: Заход в МГЭ (14.09.2022) | T2: Дата изменения срока | U2: Выход из МГЭ | V2: Разница д. | W2: Доп.
B3: =IFERROR(__xludf.DUMMYFUNCTION("QUERY( IF(Q3=TRUE, filter('МГЭ график-данные'!$A$2:$M1000,'МГЭ график-данные'!$I$2:$I1000>=P3,'МГЭ график-данные'!$I$2:$I1000<=P4,'МГЭ график-данные'!$F$2:$F1000=""Д""), filter('МГЭ график-данные'!$A$2:$M1000,'МГЭ график-данные'!$I$2:$I1000>=P3,'МГЭ графи"&"к-данные'!$I$2:$I1000<=P4) ), ""Select Col1, Col2, Col3, Col4, Col5, Col6, Col7, Col8, Col11, Col12, Col13, Col9, Col10 order by Col9 asc"")"),"#REF!") -> #REF! | P3: 44803 | Q3: FALSE | S3: =IFERROR(VLOOKUP($B$3:$B1000,'График - форма'!$A$5:$I1000,9,0),"") | U3: =IFERROR(VLOOKUP($B3:B1000,'Свод объектов'!$D$3:$Z1000,15,0),"") | V3: =IFERROR(U3-M3,"") -> 0
P4: 45291 | S4: =IFERROR(VLOOKUP($B$3:$B1001,'График - форма'!$A$5:$I1001,9,0),"") | U4: =IFERROR(VLOOKUP($B4:B1001,'Свод объектов'!$D$3:$Z1001,15,0),"") | V4: =IFERROR(U4-M4,"") -> 0
S5: =IFERROR(VLOOKUP($B$3:$B1002,'График - форма'!$A$5:$I1002,9,0),"") | U5: =IFERROR(VLOOKUP($B5:B1002,'Свод объектов'!$D$3:$Z1002,15,0),"") | V5: =IFERROR(U5-M5,"") -> 0
S6: =IFERROR(VLOOKUP($B$3:$B1003,'График - форма'!$A$5:$I1003,9,0),"") | U6: =IFERROR(VLOOKUP($B6:B1003,'Свод объектов'!$D$3:$Z1003,15,0),"") | V6: =IFERROR(U6-M6,"") -> 0
S7: =IFERROR(VLOOKUP($B$3:$B1004,'График - форма'!$A$5:$I1004,9,0),"") | U7: =IFERROR(VLOOKUP($B7:B1004,'Свод объектов'!$D$3:$Z1004,15,0),"") | V7: =IFERROR(U7-M7,"") -> 0
S10: =IFERROR(VLOOKUP($B$3:$B1000,'График - форма'!$A$5:$I1000,9,0),"") | U10: =IFERROR(VLOOKUP($B10:B1000,'Свод объектов'!$D$3:$Z1000,15,0),"") | V10: =IFERROR(U10-M10,"") -> 0
S11: =IFERROR(VLOOKUP($B$3:$B1001,'График - форма'!$A$5:$I1001,9,0),"") | U11: =IFERROR(VLOOKUP($B11:B1001,'Свод объектов'!$D$3:$Z1001,15,0),"") | V11: =IFERROR(U11-M11,"") -> 0
S12: =IFERROR(VLOOKUP($B$3:$B1002,'График - форма'!$A$5:$I1002,9,0),"") | T12: 44796 | U12: =IFERROR(VLOOKUP($B12:B1002,'Свод объектов'!$D$3:$Z1002,15,0),"") | V12: =IFERROR(U12-M12,"") -> 0 | W12: 23.08.2022 - (20.06.2022 изменено на 30.08.2022) 06.09.2022 - (30.08.2022 изменено на 09.09.2022) 21.09.2022 - Перезаход после отрицательного
S13: =IFERROR(VLOOKUP($B$3:$B1003,'График - форма'!$A$5:$I1003,9,0),"") | U13: =IFERROR(VLOOKUP($B13:B1003,'Свод объектов'!$D$3:$Z1003,15,0),"") | V13: =IFERROR(U13-M13,"") -> 0
S14: =IFERROR(VLOOKUP($B$3:$B1004,'График - форма'!$A$5:$I1004,9,0),"") | U14: =IFERROR(VLOOKUP($B14:B1004,'Свод объектов'!$D$3:$Z1004,15,0),"") | V14: =IFERROR(U14-M14,"") -> 0
S15: =IFERROR(VLOOKUP($B$3:$B1005,'График - форма'!$A$5:$I1005,9,0),"") | U15: =IFERROR(VLOOKUP($B15:B1005,'Свод объектов'!$D$3:$Z1005,15,0),"") | V15: =IFERROR(U15-M15,"") -> 0
S16: =IFERROR(VLOOKUP($B$3:$B1006,'График - форма'!$A$5:$I1006,9,0),"") | U16: =IFERROR(VLOOKUP($B16:B1006,'Свод объектов'!$D$3:$Z1006,15,0),"") | V16: =IFERROR(U16-M16,"") -> 0
S17: =IFERROR(VLOOKUP($B$3:$B1007,'График - форма'!$A$5:$I1007,9,0),"") | U17: =IFERROR(VLOOKUP($B17:B1007,'Свод объектов'!$D$3:$Z1007,15,0),"") | V17: =IFERROR(U17-M17,"") -> 0
S18: =IFERROR(VLOOKUP($B$3:$B1008,'График - форма'!$A$5:$I1008,9,0),"") | U18: =IFERROR(VLOOKUP($B18:B1008,'Свод объектов'!$D$3:$Z1008,15,0),"") | V18: =IFERROR(U18-M18,"") -> 0
S19: =IFERROR(VLOOKUP($B$3:$B1009,'График - форма'!$A$5:$I1009,9,0),"") | U19: =IFERROR(VLOOKUP($B19:B1009,'Свод объектов'!$D$3:$Z1009,15,0),"") | V19: =IFERROR(U19-M19,"") -> 0
S20: =IFERROR(VLOOKUP($B$3:$B1010,'График - форма'!$A$5:$I1010,9,0),"") | U20: =IFERROR(VLOOKUP($B20:B1010,'Свод объектов'!$D$3:$Z1010,15,0),"") | V20: =IFERROR(U20-M20,"") -> 0
S22: =IFERROR(VLOOKUP($B$3:$B1000,'График - форма'!$A$5:$I1000,9,0),"") | U22: =IFERROR(VLOOKUP($B22:B1000,'Свод объектов'!$D$3:$Z1000,15,0),"") | V22: =IFERROR(U22-M22,"") -> 0
S24: =IFERROR(VLOOKUP($B$3:$B1000,'График - форма'!$A$5:$I1000,9,0),"") | U24: =IFERROR(VLOOKUP($B24:B1000,'Свод объектов'!$D$3:$Z1000,15,0),"") | V24: =IFERROR(U24-M24,"") -> 0
S25: 44819 | T25: 44809 | U25: =IFERROR(VLOOKUP($B25:B1001,'Свод объектов'!$D$3:$Z1001,15,0),"") | V25: =IFERROR(U25-M25,"") -> 0 | W25: 05.09.2022 - (15.09.2022 изменено на 14.10.2022) 13.09.2022 - (14.10.2022 изменено на 30.09.2022)
S26: 44834 | T26: 44804 | U26: =IFERROR(VLOOKUP($B26:B1002,'Свод объектов'!$D$3:$Z1002,15,0),"") | V26: =IFERROR(U26-M26,"") -> 0 | W26: 31.08.2022 - добавлено (вход промежуточный) 16.01.23 - заход в МГЭ после перепроектирования
S27: =IFERROR(VLOOKUP($B$3:$B1000,'График - форма'!$A$5:$I1000,9,0),"") | U27: =IFERROR(VLOOKUP($B27:B1003,'Свод объектов'!$D$3:$Z1003,15,0),"") | V27: =IFERROR(U27-M27,"") -> 0
S28: =IFERROR(VLOOKUP($B$3:$B1001,'График - форма'!$A$5:$I1001,9,0),"") | U28: =IFERROR(VLOOKUP($B28:B1004,'Свод объектов'!$D$3:$Z1004,15,0),"") | V28: =IFERROR(U28-M28,"") -> 0
S29: =IFERROR(VLOOKUP($B$3:$B1002,'График - форма'!$A$5:$I1002,9,0),"") | U29: =IFERROR(VLOOKUP($B29:B1005,'Свод объектов'!$D$3:$Z1005,15,0),"") | V29: =IFERROR(U29-M29,"") -> 0
S30: =IFERROR(VLOOKUP($B$3:$B1003,'График - форма'!$A$5:$I1003,9,0),"") | U30: =IFERROR(VLOOKUP($B30:B1006,'Свод объектов'!$D$3:$Z1006,15,0),"") | V30: =IFERROR(U30-M30,"") -> 0
S31: =IFERROR(VLOOKUP($B$3:$B1004,'График - форма'!$A$5:$I1004,9,0),"") | U31: =IFERROR(VLOOKUP($B31:B1007,'Свод объектов'!$D$3:$Z1007,15,0),"") | V31: =IFERROR(U31-M31,"") -> 0
S32: =IFERROR(VLOOKUP($B$3:$B1005,'График - форма'!$A$5:$I1005,9,0),"") | U32: =IFERROR(VLOOKUP($B32:B1008,'Свод объектов'!$D$3:$Z1008,15,0),"") | V32: =IFERROR(U32-M32,"") -> 0
S33: =IFERROR(VLOOKUP($B$3:$B1006,'График - форма'!$A$5:$I1006,9,0),"") | U33: =IFERROR(VLOOKUP($B33:B1009,'Свод объектов'!$D$3:$Z1009,15,0),"") | V33: =IFERROR(U33-M33,"") -> 0
S34: =IFERROR(VLOOKUP($B$3:$B1007,'График - форма'!$A$5:$I1007,9,0),"") | U34: =IFERROR(VLOOKUP($B34:B1010,'Свод объектов'!$D$3:$Z1010,15,0),"") | V34: =IFERROR(U34-M34,"") -> 0
S35: 44834 | T35: 44810 | U35: =IFERROR(VLOOKUP($B35:B1011,'Свод объектов'!$D$3:$Z1011,15,0),"") | V35: =IFERROR(U35-M35,"") -> 0
S36: =IFERROR(VLOOKUP($B$3:$B1000,'График - форма'!$A$5:$I1000,9,0),"") | U36: =IFERROR(VLOOKUP($B36:B1012,'Свод объектов'!$D$3:$Z1012,15,0),"") | V36: =IFERROR(U36-M36,"") -> 0
S37: =IFERROR(VLOOKUP($B$3:$B1001,'График - форма'!$A$5:$I1001,9,0),"") | U37: =IFERROR(VLOOKUP($B37:B1013,'Свод объектов'!$D$3:$Z1013,15,0),"") | V37: =IFERROR(U37-M37,"") -> 0
S38: =IFERROR(VLOOKUP($B$3:$B1002,'График - форма'!$A$5:$I1002,9,0),"") | U38: =IFERROR(VLOOKUP($B38:B1014,'Свод объектов'!$D$3:$Z1014,15,0),"") | V38: =IFERROR(U38-M38,"") -> 0
S39: =IFERROR(VLOOKUP($B$3:$B1003,'График - форма'!$A$5:$I1003,9,0),"") | U39: =IFERROR(VLOOKUP($B39:B1015,'Свод объектов'!$D$3:$Z1015,15,0),"") | V39: =IFERROR(U39-M39,"") -> 0
S40: =IFERROR(VLOOKUP($B$3:$B1004,'График - форма'!$A$5:$I1004,9,0),"") | U40: =IFERROR(VLOOKUP($B40:B1016,'Свод объектов'!$D$3:$Z1016,15,0),"") | V40: =IFERROR(U40-M40,"") -> 0
S41: =IFERROR(VLOOKUP($B$3:$B1005,'График - форма'!$A$5:$I1005,9,0),"") | U41: =IFERROR(VLOOKUP($B41:B1017,'Свод объектов'!$D$3:$Z1017,15,0),"") | V41: =IFERROR(U41-M41,"") -> 0
S42: =IFERROR(VLOOKUP($B$3:$B1006,'График - форма'!$A$5:$I1006,9,0),"") | U42: =IFERROR(VLOOKUP($B42:B1018,'Свод объектов'!$D$3:$Z1018,15,0),"") | V42: =IFERROR(U42-M42,"") -> 0
S43: =IFERROR(VLOOKUP($B$3:$B1007,'График - форма'!$A$5:$I1007,9,0),"") | U43: =IFERROR(VLOOKUP($B43:B1019,'Свод объектов'!$D$3:$Z1019,15,0),"") | V43: =IFERROR(U43-M43,"") -> 0
S44: =IFERROR(VLOOKUP($B$3:$B1008,'График - форма'!$A$5:$I1008,9,0),"") | U44: =IFERROR(VLOOKUP($B44:B1020,'Свод объектов'!$D$3:$Z1020,15,0),"") | V44: =IFERROR(U44-M44,"") -> 0
...

Sheet Дома начало ПИР 2021-2022 + рис
A1: Объекты 2021 год
A2: № | B2: №" | C2: Этап | D2: Район | E2: Округ | F2: РП | G2: Тип | H2: Т\К | I2: Адрес объекта строительства | J2: ПД/РД | K2: ОРП, м2 | L2: Договор СМР/УК | M2: Начало ПИР 8 мес. | N2: Первая МГЭ (Выход) | O2: Начало СМР | P2: МГЭ ЗОС (Вход) | Q2: РВЭ | R2: КС-11 | S2: Сумма по договору | T2: Авансы
A3: 1 | B3: 58 | C3: =VLOOKUP(B3,'Свод объектов'!$D$3:$V146,2,0) -> #REF! | D3: =VLOOKUP(B3,'Свод объектов'!$D$3:$V146,3,0) -> #REF! | E3: =VLOOKUP(B3,'Свод объектов'!$D$3:$V146,4,0) -> #REF! | F3: =VLOOKUP(B3,'Свод объектов'!$D$3:$V146,5,0) -> #REF! | G3: =VLOOKUP(B3,'Свод объектов'!$D$3:$V146,6,0) -> #REF! | H3: =VLOOKUP(B3,'Свод объектов'!$D$3:$V146,7,0) -> #REF! | I3: =VLOOKUP(B3,'Свод объектов'!$D$3:$V146,9,0) -> #REF! | J3: =VLOOKUP(B3,'Свод объектов'!$D$3:$V146,11,0) -> #REF! | K3: =VLOOKUP(B3,'Свод объектов'!$D$3:$V146,12,0) -> #REF! | L3: =VLOOKUP(B3,'Свод объектов'!$D$3:$V146,13,0) -> #REF! | M3: =VLOOKUP(B3,'Свод объектов'!$D$3:$V146,14,0) -> #REF! | N3: =VLOOKUP(B3,'Свод объектов'!$D$3:$V146,15,0) -> #REF! | O3: =VLOOKUP(B3,'Свод объектов'!$D$3:$V146,16,0) -> #REF! | P3: =VLOOKUP(B3,'Свод объектов'!$D$3:$V146,17,0) -> #REF! | Q3: =VLOOKUP(B3,'Свод объектов'!$D$3:$V146,18,0) -> #REF! | R3: =VLOOKUP(B3,'Свод объектов'!$D$3:$V146,19,0) -> #REF!
A4: 2 | B4: 69 | C4: =VLOOKUP(B4,'Свод объектов'!$D$3:$V147,2,0) -> #REF! | D4: =VLOOKUP(B4,'Свод объектов'!$D$3:$V147,3,0) -> #REF! | E4: =VLOOKUP(B4,'Свод объектов'!$D$3:$V147,4,0) -> #REF! | F4: =VLOOKUP(B4,'Свод объектов'!$D$3:$V147,5,0) -> #REF! | G4: =VLOOKUP(B4,'Свод объектов'!$D$3:$V147,6,0) -> #REF! | H4: =VLOOKUP(B4,'Свод объектов'!$D$3:$V147,7,0) -> #REF! | I4: =VLOOKUP(B4,'Свод объектов'!$D$3:$V147,9,0) -> #REF! | J4: =VLOOKUP(B4,'Свод объектов'!$D$3:$V147,11,0) -> #REF! | K4: =VLOOKUP(B4,'Свод объектов'!$D$3:$V147,12,0) -> #REF! | L4: =VLOOKUP(B4,'Свод объектов'!$D$3:$V147,13,0) -> #REF! | M4: =VLOOKUP(B4,'Свод объектов'!$D$3:$V147,14,0) -> #REF! | N4: =VLOOKUP(B4,'Свод объектов'!$D$3:$V147,15,0) -> #REF! | O4: =VLOOKUP(B4,'Свод объектов'!$D$3:$V147,16,0) -> #REF! | P4: =VLOOKUP(B4,'Свод объектов'!$D$3:$V147,17,0) -> #REF! | Q4: =VLOOKUP(B4,'Свод объектов'!$D$3:$V147,18,0) -> #REF! | R4: =VLOOKUP(B4,'Свод объектов'!$D$3:$V147,19,0) -> #REF!
A5: 3 | B5: 70 | C5: =VLOOKUP(B5,'Свод объектов'!$D$3:$V148,2,0) -> #REF! | D5: =VLOOKUP(B5,'Свод объектов'!$D$3:$V148,3,0) -> #REF! | E5: =VLOOKUP(B5,'Свод объектов'!$D$3:$V148,4,0) -> #REF! | F5: =VLOOKUP(B5,'Свод объектов'!$D$3:$V148,5,0) -> #REF! | G5: =VLOOKUP(B5,'Свод объектов'!$D$3:$V148,6,0) -> #REF! | H5: =VLOOKUP(B5,'Свод объектов'!$D$3:$V148,7,0) -> #REF! | I5: =VLOOKUP(B5,'Свод объектов'!$D$3:$V148,9,0) -> #REF! | J5: =VLOOKUP(B5,'Свод объектов'!$D$3:$V148,11,0) -> #REF! | K5: =VLOOKUP(B5,'Свод объектов'!$D$3:$V148,12,0) -> #REF! | L5: =VLOOKUP(B5,'Свод объектов'!$D$3:$V148,13,0) -> #REF! | M5: =VLOOKUP(B5,'Свод объектов'!$D$3:$V148,14,0) -> #REF! | N5: =VLOOKUP(B5,'Свод объектов'!$D$3:$V148,15,0) -> #REF! | O5: =VLOOKUP(B5,'Свод объектов'!$D$3:$V148,16,0) -> #REF! | P5: =VLOOKUP(B5,'Свод объектов'!$D$3:$V148,17,0) -> #REF! | Q5: =VLOOKUP(B5,'Свод объектов'!$D$3:$V148,18,0) -> #REF! | R5: =VLOOKUP(B5,'Свод объектов'!$D$3:$V148,19,0) -> #REF!
A6: 4 | B6: 77 | C6: =VLOOKUP(B6,'Свод объектов'!$D$3:$V149,2,0) -> #REF! | D6: =VLOOKUP(B6,'Свод объектов'!$D$3:$V149,3,0) -> #REF! | E6: =VLOOKUP(B6,'Свод объектов'!$D$3:$V149,4,0) -> #REF! | F6: =VLOOKUP(B6,'Свод объектов'!$D$3:$V149,5,0) -> #REF! | G6: =VLOOKUP(B6,'Свод объектов'!$D$3:$V149,6,0) -> #REF! | H6: =VLOOKUP(B6,'Свод объектов'!$D$3:$V149,7,0) -> #REF! | I6: =VLOOKUP(B6,'Свод объектов'!$D$3:$V149,9,0) -> #REF! | J6: =VLOOKUP(B6,'Свод объектов'!$D$3:$V149,11,0) -> #REF! | K6: =VLOOKUP(B6,'Свод объектов'!$D$3:$V149,12,0) -> #REF! | L6: =VLOOKUP(B6,'Свод объектов'!$D$3:$V149,13,0) -> #REF! | M6: =VLOOKUP(B6,'Свод объектов'!$D$3:$V149,14,0) -> #REF! | N6: =VLOOKUP(B6,'Свод объектов'!$D$3:$V149,15,0) -> #REF! | O6: =VLOOKUP(B6,'Свод объектов'!$D$3:$V149,16,0) -> #REF! | P6: =VLOOKUP(B6,'Свод объектов'!$D$3:$V149,17,0) -> #REF! | Q6: =VLOOKUP(B6,'Свод объектов'!$D$3:$V149,18,0) -> #REF! | R6: =VLOOKUP(B6,'Свод объектов'!$D$3:$V149,19,0) -> #REF!
A7: 5 | B7: 79 | C7: =VLOOKUP(B7,'Свод объектов'!$D$3:$V150,2,0) -> #REF! | D7: =VLOOKUP(B7,'Свод объектов'!$D$3:$V150,3,0) -> #REF! | E7: =VLOOKUP(B7,'Свод объектов'!$D$3:$V150,4,0) -> #REF! | F7: =VLOOKUP(B7,'Свод объектов'!$D$3:$V150,5,0) -> #REF! | G7: =VLOOKUP(B7,'Свод объектов'!$D$3:$V150,6,0) -> #REF! | H7: =VLOOKUP(B7,'Свод объектов'!$D$3:$V150,7,0) -> #REF! | I7: =VLOOKUP(B7,'Свод объектов'!$D$3:$V150,9,0) -> #REF! | J7: =VLOOKUP(B7,'Свод объектов'!$D$3:$V150,11,0) -> #REF! | K7: =VLOOKUP(B7,'Свод объектов'!$D$3:$V150,12,0) -> #REF! | L7: =VLOOKUP(B7,'Свод объектов'!$D$3:$V150,13,0) -> #REF! | M7: =VLOOKUP(B7,'Свод объектов'!$D$3:$V150,14,0) -> #REF! | N7: =VLOOKUP(B7,'Свод объектов'!$D$3:$V150,15,0) -> #REF! | O7: =VLOOKUP(B7,'Свод объектов'!$D$3:$V150,16,0) -> #REF! | P7: =VLOOKUP(B7,'Свод объектов'!$D$3:$V150,17,0) -> #REF! | Q7: =VLOOKUP(B7,'Свод объектов'!$D$3:$V150,18,0) -> #REF! | R7: =VLOOKUP(B7,'Свод объектов'!$D$3:$V150,19,0) -> #REF!
A8: 6 | B8: 82 | C8: =VLOOKUP(B8,'Свод объектов'!$D$3:$V151,2,0) -> #REF! | D8: =VLOOKUP(B8,'Свод объектов'!$D$3:$V151,3,0) -> #REF! | E8: =VLOOKUP(B8,'Свод объектов'!$D$3:$V151,4,0) -> #REF! | F8: =VLOOKUP(B8,'Свод объектов'!$D$3:$V151,5,0) -> #REF! | G8: =VLOOKUP(B8,'Свод объектов'!$D$3:$V151,6,0) -> #REF! | H8: =VLOOKUP(B8,'Свод объектов'!$D$3:$V151,7,0) -> #REF! | I8: =VLOOKUP(B8,'Свод объектов'!$D$3:$V151,9,0) -> #REF! | J8: =VLOOKUP(B8,'Свод объектов'!$D$3:$V151,11,0) -> #REF! | K8: =VLOOKUP(B8,'Свод объектов'!$D$3:$V151,12,0) -> #REF! | L8: =VLOOKUP(B8,'Свод объектов'!$D$3:$V151,13,0) -> #REF! | M8: =VLOOKUP(B8,'Свод объектов'!$D$3:$V151,14,0) -> #REF! | N8: =VLOOKUP(B8,'Свод объектов'!$D$3:$V151,15,0) -> #REF! | O8: =VLOOKUP(B8,'Свод объектов'!$D$3:$V151,16,0) -> #REF! | P8: =VLOOKUP(B8,'Свод объектов'!$D$3:$V151,17,0) -> #REF! | Q8: =VLOOKUP(B8,'Свод объектов'!$D$3:$V151,18,0) -> #REF! | R8: =VLOOKUP(B8,'Свод объектов'!$D$3:$V151,19,0) -> #REF! | S8: 47666477 | T8: 14299943
A9: 7 | B9: 83 | C9: =VLOOKUP(B9,'Свод объектов'!$D$3:$V152,2,0) -> #REF! | D9: =VLOOKUP(B9,'Свод объектов'!$D$3:$V152,3,0) -> #REF! | E9: =VLOOKUP(B9,'Свод объектов'!$D$3:$V152,4,0) -> #REF! | F9: =VLOOKUP(B9,'Свод объектов'!$D$3:$V152,5,0) -> #REF! | G9: =VLOOKUP(B9,'Свод объектов'!$D$3:$V152,6,0) -> #REF! | H9: =VLOOKUP(B9,'Свод объектов'!$D$3:$V152,7,0) -> #REF! | I9: =VLOOKUP(B9,'Свод объектов'!$D$3:$V152,9,0) -> #REF! | J9: =VLOOKUP(B9,'Свод объектов'!$D$3:$V152,11,0) -> #REF! | K9: =VLOOKUP(B9,'Свод объектов'!$D$3:$V152,12,0) -> #REF! | L9: =VLOOKUP(B9,'Свод объектов'!$D$3:$V152,13,0) -> #REF! | M9: =VLOOKUP(B9,'Свод объектов'!$D$3:$V152,14,0) -> #REF! | N9: =VLOOKUP(B9,'Свод объектов'!$D$3:$V152,15,0) -> #REF! | O9: =VLOOKUP(B9,'Свод объектов'!$D$3:$V152,16,0) -> #REF! | P9: =VLOOKUP(B9,'Свод объектов'!$D$3:$V152,17,0) -> #REF! | Q9: =VLOOKUP(B9,'Свод объектов'!$D$3:$V152,18,0) -> #REF! | R9: =VLOOKUP(B9,'Свод объектов'!$D$3:$V152,19,0) -> #REF!
A10: 8 | B10: 84 | C10: =VLOOKUP(B10,'Свод объектов'!$D$3:$V153,2,0) -> #REF! | D10: =VLOOKUP(B10,'Свод объектов'!$D$3:$V153,3,0) -> #REF! | E10: =VLOOKUP(B10,'Свод объектов'!$D$3:$V153,4,0) -> #REF! | F10: =VLOOKUP(B10,'Свод объектов'!$D$3:$V153,5,0) -> #REF! | G10: =VLOOKUP(B10,'Свод объектов'!$D$3:$V153,6,0) -> #REF! | H10: =VLOOKUP(B10,'Свод объектов'!$D$3:$V153,7,0) -> #REF! | I10: =VLOOKUP(B10,'Свод объектов'!$D$3:$V153,9,0) -> #REF! | J10: =VLOOKUP(B10,'Свод объектов'!$D$3:$V153,11,0) -> #REF! | K10: =VLOOKUP(B10,'Свод объектов'!$D$3:$V153,12,0) -> #REF! | L10: =VLOOKUP(B10,'Свод объектов'!$D$3:$V153,13,0) -> #REF! | M10: =VLOOKUP(B10,'Свод объектов'!$D$3:$V153,14,0) -> #REF! | N10: =VLOOKUP(B10,'Свод объектов'!$D$3:$V153,15,0) -> #REF! | O10: =VLOOKUP(B10,'Свод объектов'!$D$3:$V153,16,0) -> #REF! | P10: =VLOOKUP(B10,'Свод объектов'!$D$3:$V153,17,0) -> #REF! | Q10: =VLOOKUP(B10,'Свод объектов'!$D$3:$V153,18,0) -> #REF! | R10: =VLOOKUP(B10,'Свод объектов'!$D$3:$V153,19,0) -> #REF!
A11: 9 | B11: 85 | C11: =VLOOKUP(B11,'Свод объектов'!$D$3:$V154,2,0) -> #REF! | D11: =VLOOKUP(B11,'Свод объектов'!$D$3:$V154,3,0) -> #REF! | E11: =VLOOKUP(B11,'Свод объектов'!$D$3:$V154,4,0) -> #REF! | F11: =VLOOKUP(B11,'Свод объектов'!$D$3:$V154,5,0) -> #REF! | G11: =VLOOKUP(B11,'Свод объектов'!$D$3:$V154,6,0) -> #REF! | H11: =VLOOKUP(B11,'Свод объектов'!$D$3:$V154,7,0) -> #REF! | I11: =VLOOKUP(B11,'Свод объектов'!$D$3:$V154,9,0) -> #REF! | J11: =VLOOKUP(B11,'Свод объектов'!$D$3:$V154,11,0) -> #REF! | K11: =VLOOKUP(B11,'Свод объектов'!$D$3:$V154,12,0) -> #REF! | L11: =VLOOKUP(B11,'Свод объектов'!$D$3:$V154,13,0) -> #REF! | M11: =VLOOKUP(B11,'Свод объектов'!$D$3:$V154,14,0) -> #REF! | N11: =VLOOKUP(B11,'Свод объектов'!$D$3:$V154,15,0) -> #REF! | O11: =VLOOKUP(B11,'Свод объектов'!$D$3:$V154,16,0) -> #REF! | P11: =VLOOKUP(B11,'Свод объектов'!$D$3:$V154,17,0) -> #REF! | Q11: =VLOOKUP(B11,'Свод объектов'!$D$3:$V154,18,0) -> #REF! | R11: =VLOOKUP(B11,'Свод объектов'!$D$3:$V154,19,0) -> #REF! | S11: 39519305 | T11: 11855792
A12: 10 | B12: 86 | C12: =VLOOKUP(B12,'Свод объектов'!$D$3:$V155,2,0) -> #REF! | D12: =VLOOKUP(B12,'Свод объектов'!$D$3:$V155,3,0) -> #REF! | E12: =VLOOKUP(B12,'Свод объектов'!$D$3:$V155,4,0) -> #REF! | F12: =VLOOKUP(B12,'Свод объектов'!$D$3:$V155,5,0) -> #REF! | G12: =VLOOKUP(B12,'Свод объектов'!$D$3:$V155,6,0) -> #REF! | H12: =VLOOKUP(B12,'Свод объектов'!$D$3:$V155,7,0) -> #REF! | I12: =VLOOKUP(B12,'Свод объектов'!$D$3:$V155,9,0) -> #REF! | J12: =VLOOKUP(B12,'Свод объектов'!$D$3:$V155,11,0) -> #REF! | K12: =VLOOKUP(B12,'Свод объектов'!$D$3:$V155,12,0) -> #REF! | L12: =VLOOKUP(B12,'Свод объектов'!$D$3:$V155,13,0) -> #REF! | M12: =VLOOKUP(B12,'Свод объектов'!$D$3:$V155,14,0) -> #REF! | N12: =VLOOKUP(B12,'Свод объектов'!$D$3:$V155,15,0) -> #REF! | O12: =VLOOKUP(B12,'Свод объектов'!$D$3:$V155,16,0) -> #REF! | P12: =VLOOKUP(B12,'Свод объектов'!$D$3:$V155,17,0) -> #REF! | Q12: =VLOOKUP(B12,'Свод объектов'!$D$3:$V155,18,0) -> #REF! | R12: =VLOOKUP(B12,'Свод объектов'!$D$3:$V155,19,0) -> #REF! | S12: 96222777 | T12: 19244555
A13: 11 | B13: 87 | C13: =VLOOKUP(B13,'Свод объектов'!$D$3:$V156,2,0) -> #REF! | D13: =VLOOKUP(B13,'Свод объектов'!$D$3:$V156,3,0) -> #REF! | E13: =VLOOKUP(B13,'Свод объектов'!$D$3:$V156,4,0) -> #REF! | F13: =VLOOKUP(B13,'Свод объектов'!$D$3:$V156,5,0) -> #REF! | G13: =VLOOKUP(B13,'Свод объектов'!$D$3:$V156,6,0) -> #REF! | H13: =VLOOKUP(B13,'Свод объектов'!$D$3:$V156,7,0) -> #REF! | I13: =VLOOKUP(B13,'Свод объектов'!$D$3:$V156,9,0) -> #REF! | J13: =VLOOKUP(B13,'Свод объектов'!$D$3:$V156,11,0) -> #REF! | K13: =VLOOKUP(B13,'Свод объектов'!$D$3:$V156,12,0) -> #REF! | L13: =VLOOKUP(B13,'Свод объектов'!$D$3:$V156,13,0) -> #REF! | M13: =VLOOKUP(B13,'Свод объектов'!$D$3:$V156,14,0) -> #REF! | N13: =VLOOKUP(B13,'Свод объектов'!$D$3:$V156,15,0) -> #REF! | O13: =VLOOKUP(B13,'Свод объектов'!$D$3:$V156,16,0) -> #REF! | P13: =VLOOKUP(B13,'Свод объектов'!$D$3:$V156,17,0) -> #REF! | Q13: =VLOOKUP(B13,'Свод объектов'!$D$3:$V156,18,0) -> #REF! | R13: =VLOOKUP(B13,'Свод объектов'!$D$3:$V156,19,0) -> #REF!
