Workbook

Sheet БЛ 11_версия
D2: № | E2: Этап | F2: Район | G2: Округ | H2: РП | I2: Адрес объекта строительства | J2: ПД/РД | K2: Начало ПИР | L2: Первая МГЭ (Выход)
D3: 75 | E3: 8 этап | F3: Измайлово | G3: ВАО | H3: Геккиев К.Р. | I3: г. Москва район Измайлово, 3-я Прядильная, вл.10 | J3: Не определен | K3: 44986 | L3: 45231
D4: 76 | E4: 8 этап | F4: Измайлово | G4: ВАО | H4: Геккиев К.Р. | I4: г. Москва район Измайлово, 3-я Прядильная, вл.14 | J4: Не определен | K4: 44986 | L4: 45231
D5: 77 | E5: 8 этап | F5: Северное Измайлово | G5: ВАО | H5: Геккиев К.Р. | I5: г. Москва район Северное Измайлово, 7-я Парковая, вл.19-21 | J5: ПИК-Проект | K5: 44470 | L5: 44957
D6: 78 | E6: 8 этап | F6: Измайлово | G6: ВАО | H6: Геккиев К.Р. | I6: г. Москва район Измайлово, 1-я Прядильная, вл.3 | J6: ПИК-Проект | K6: 44896 | L6: 45139
D7: 83 | E7: 9 этап | F7: Восточное Измайлово | G7: ВАО | H7: Конюхов Ю.В. | I7: г. Москва, район Восточное Измайлово, Сиреневый бульвар, вл, 4/4 | J7: АПЕКС | K7: 44299 | L7: 45016
D8: 94 - 95 | E8: П - 3 (Д) | F8: Гольяново | G8: ВАО | H8: Забашта В.Ю. | I8: г. Москва, район Гольяново, ул. Амурская, вл. 1, 2 оч. (Дом, зона 3.1, корп. 4; Дом, зона 3.2, корп. 5) 1 этап | J8: ПИК-Проект | K8: 44783 | L8: 45026
D9: 96 | E9: П - 3 (Д) | F9: Гольяново | G9: ВАО | H9: Забашта В.Ю. | I9: г. Москва, район Гольяново, ул. Амурская, вл. 1, 2 оч. (Дом, зона 3.4) 1 этап | J9: ПИК-Проект | K9: 44409 | L9: 45000
D10: 97 | E10: П - 3 (Д) | F10: Гольяново | G10: ВАО | H10: Забашта В.Ю. | I10: г. Москва, район Гольяново, ул. Амурская, вл. 1, 2 оч. (Дом, зона 3.5) 1 этап | J10: ПИК-Проект | K10: 44409 | L10: 44985
D11: 141 | E11: КВ - 3 (Д) | F11: Зюзино | G11: ЮЗАО | H11: Ланцова Анна Алексеевна | I11: г. Москва, район Зюзино, Кварталы 25, 26, 31, 35, 36А (Дом, Квартал 26-31, Зона 6.1) 1 этап | J11: А495 | K11: 44501 | L11: 44957
D12: 175 | E12: КВ - 4 (Д) | F12: Северное Измайлово | G12: ВАО | H12: Балинт Е.И. | I12: г. Москва, района Северное Измайлово, микрорайоны 41-42,43-45,44-46,47-48,49-50 (Дом, Зона 72.1, к.31) 1 этап | J12: Олимпроект | K12: 44317 | L12: 45291
D13: 187 | E13: КВ - 4 (Д) | F13: Северное Измайлово | G13: ВАО | H13: Балинт Е.И. | I13: г. Москва, района Северное Измайлово, микрорайоны 41-42,43-45,44-46,47-48,49-50 (Дом, Зона 25.4, к.15) 3 этап | J13: Не определен | K13: 44958 | L13: 45199
D14: 189 | E14: КВ - 4 (Д) | F14: Северное Измайлово | G14: ВАО | H14: Балинт Е.И. | I14: г. Москва, района Северное Измайлово, микрорайоны 41-42,43-45,44-46,47-48,49-50 (Дом, Зона 32.1, к.26, 27, 28) 4 этап | J14: Не определен | K14: 45017 | L14: 45260
D15: 222 | E15: КВ - 5 (Д) | F15: Восточное Измайлово | G15: ВАО | H15: Бурова Е.А. | I15: г. Москва, район Восточное Измайлово, микрорайоны 36-28 (в т.ч. ул. 16-я Парковая, вл. 29) (Дом, Мкр. 83, 16-я Парковая, вл. 29 ) 1 этап | J15: Не определен | K15: 44927 | L15: 45169
D16: 246 | E16: КВ - 7 (Д) | F16: Зюзино | G16: ЮЗАО | H16: Ланцова Анна Алексеевна | I16: г. Москва, район Зюзино, кварталы 7, 10, 14 (Дом, зона 7.5) 1 этап | J16: АПЕКС | K16: 44652 | L16: 44958
D17: 263 | E17: КВ - 8 (Д) | F17: Кузьминки | G17: ЮВАО | H17: Шестопалова Софья | I17: г. Москва, район Кузьминки, микрорайоны 117, 117а, 118, 118а, 119 (Дом, в т.ч. снос Волгоградский пр-т, д. 163, корп. 2) (1 этап) | J17: Олимпроект | K17: 44531 | L17: 45290
D18: 266 | E18: КВ - 8 (Д) | F18: Кузьминки | G18: ЮВАО | H18: Киричук Ксения | I18: г. Москва, район Кузьминки, микрорайоны 117, 117а, 118, 118а, 119 (Дом, зона 12.4) 2 этап | J18: Собственные силы | K18: 44866 | L18: 45138
D19: 267 | E19: КВ - 8 (Д) | F19: Кузьминки | G19: ЮВАО | H19: Федюшин Андрей | I19: г. Москва, район Кузьминки, микрорайоны 117, 117а, 118, 118а, 119 (Дом, зона 12.8) 2 этап | J19: Собственные силы | K19: 44866 | L19: 45138
D20: 268 | E20: КВ - 8 (Д) | F20: Кузьминки | G20: ЮВАО | H20: Федюшин Андрей | I20: г. Москва, район Кузьминки, микрорайоны 117, 117а, 118, 118а, 119 (Дом, зона 12.9) 2 этап | J20: Собственные силы | K20: 44866 | L20: 45138
... D25: 346 | E25: КВ - 9 (Д) | F25: Зюзино | G25: ЮЗАО | H25: Матюхин Александр | I25: г. Москва, район Зюзино, кварталы 40, 41, 42, Херсонская ул., 14, 1 этап | J25: ПиК(ссс) | K25: 44440 | L25: 45000
D26: 384 | E26: КВ - 10 (Д) | F26: Выхино-Жулебино | G26: ЮВАО | H26: =IFERROR(VLOOKUP($M$3:$M1000,'Импорт - распределение проектов реновации'!$H$5:$P1000,9,0),"") | I26: г. Москва, район Выхино-Жулебино, микрорайон 136 (Дом, зона 3.2) 2 этап | J26: ПИК-Проект | K26: 44713 | L26: 44985 | Q26: в 10
D27: 385 | E27: КВ - 10 (Д) | F27: Выхино-Жулебино | G27: ЮВАО | H27: =IFERROR(VLOOKUP($M$3:$M1001,'Импорт - распределение проектов реновации'!$H$5:$P1001,9,0),"") | I27: г. Москва, район Выхино-Жулебино, микрорайон 136 (Дом, зона 3.3) 2 этап | J27: ПИК-Проект | K27: 44713 | L27: 44985 | Q27: в 10
D28: 396 | E28: КВ - 11 (Д) | F28: Кузьминки | G28: ЮВАО | H28: Киричук Ксения | I28: г. Москва, внутригородское муниципальное образование Кузьминки, улица Зеленодольская, земельный участок 28/3 (зона 3.3) | J28: ПИК-Проект | K28: 44621 | L28: 44956
D29: 459 | E29: КВ - 13 (Д) | F29: Люблино | G29: ЮВАО | H29: Ворсин Михаил | I29: г. Москва, внутригородское муниципальное образование Люблино, улица Люблинская, земельный участок 111/2/1 (Люблинская ул., вл. 111, стр. 2), (Юго-Восточный административный округ) | J29: ПиК(ссс) | K29: 44378 | L29: 45000
D30: 460 | E30: КВ - 13 (Д) | F30: Люблино | G30: ЮВАО | H30: Ворсин Михаил | I30: г. Москва, район Люблино, микрорайоны А, Б, Г, Е пр-т 40-лет Октября, з/у 18/13 | J30: СОБ-Проект | K30: 44743 | L30: 44985
D31: 461 | E31: КВ - 13 (Д) | F31: Люблино | G31: ЮВАО | H31: Ворсин Михаил | I31: г. Москва, внутригородское муниципальное образование Люблино, Спортивный проезд, земельный участок 6А/6 | J31: СОП-проект | K31: 44378 | L31: 44985
D32: 462 | E32: КВ - 13 (Д) | F32: Люблино | G32: ЮВАО | H32: Ворсин Михаил | I32: г. Москва, внутригородское муниципальное образование Люблино, ул. Совхозная, земельный участок 55/2 (Юго-Восточный административный округ) | J32: ПиК(ссс) | K32: 44531 | L32: 44972
D33: 471 | E33: КВ - 13 (Д) | F33: Люблино | G33: ЮВАО | I33: г. Москва, район Люблино, микрорайоны А, Б, Г, Е (Дом, зона 2.4) 2 этап | J33: Не определен | K33: 45017 | L33: 45260
D34: 472 | E34: КВ - 13 (Д) | F34: Люблино | G34: ЮВАО | I34: г. Москва, район Люблино, микрорайоны А, Б, Г, Е (Дом, зона 2.5) 2 этап | J34: Не определен | K34: 45017 | L34: 45260
D35: 484 | E35: КВ - 13 (Д) | F35: Люблино | G35: ЮВАО | I35: г. Москва, район Люблино, микрорайоны А, Б, Г, Е (Дом, зона 20.1) 2 этап | J35: Не определен | K35: 45017 | L35: 45260
D36: 514 | E36: КВ - 14 (Д) | F36: Измайлово | G36: ВАО | H36: Конюхов Ю.В. | I36: г. Москва, район Измайлово, Сиреневый бульвар, земельный участок 4/5 | J36: Генпроект | K36: 44378 | L36: 45046
D37: 515 | E37: КВ - 14 (Д) | F37: Измайлово | G37: ВАО | H37: Конюхов Ю.В. | I37: г. Москва, район Измайлово, Сиреневый бульвар, земельный участок 4/4 | J37: Генпроект | K37: 44378 | L37: 45046
D38: 516 | E38: КВ - 14 (Д) | F38: Измайлово | G38: ВАО | H38: Конюхов Ю.В. | I38: г. Москва, район Измайлово, Сиреневый бульвар, земельный участок 4/9 (зона 6.1) | J38: Генпроект | K38: 44378 | L38: 45046
D39: 517 | E39: КВ - 14 (Д) | F39: Измайлово | G39: ВАО | H39: Конюхов Ю.В. | I39: г. Москва, район Измайлово, Сиреневый бульвар, земельный участок 4/9 (зона 6.2) | J39: Генпроект | K39: 44378 | L39: 45046
D40: 630 | E40: КВ - 17 (Д) | F40: Гольяново | G40: ВАО | H40: Ратушный Алексей | I40: г. Москва, район Гольяново, ул. Байкальская д.14,к.1- д.16 | J40: ПИК-Проект | K40: 44774 | L40: 45016
D41: 712 | E41: КВ - 19 (Д) | F41: Нагатино-Садовники | G41: ЮАО | I41: г. Москва, район Нагатино-Садовники, микрорайон 1А (в т.ч. ул. Нагатинская, вл. 1) (Дом, Нагатинская ул., вл. 1) 1 этап | J41: ПИК-Проект | K41: 44531 | L41: 45077
D42: 747 | E42: 9 этап | F42: Измайлово | G42: ВАО | H42: Геккиев К.Р. | I42: г. Москва, район Измайлово, Никитинская улица, владение 21, корпуса 1 и 3 | J42: Не определен | K42: 44896 | L42: 45139
D43: 750 | E43: КВ - 21 (Д) | F43: Покровское-Стрешнево | G43: СЗАО | H43: Носкова Алиса | I43: г. Москва, район Покровское-Стрешнево, микрорайоны 3, 16, 1, 2, 14, 15 (Дом, мкр. 16, зона 1.2 (1 оч.)) 1 этап | J43: Не определен | K43: 45047 | L43: 45291
D44: 779 | E44: 9 этап | F44: Измайлово | G44: ВАО | H44: Геккиев К.Р. | I44: г. Москва, район Измайлово, 3-я Парковая улица, вл. 39 | J44: Не определен | K44: 44896 | L44: 45138
D45: 810 | E45: 10 этап | F45: Котловка | G45: ЮЗАО | H45: Калюжная Виктория | I45: г. Москва, район Котловка, Нагорная ул., влд. 5А | J45: ПСК Созидатель | K45: 44617 | L45: 45015
D46: 814 | E46: П - 6 | F46: Южное Тушино | G46: СЗАО | H46: Голованов Илья | I46: г. Москва, район Южное Тушино, проезд Досфлота, вл. 2 | J46: ПИК-Проект | K46: 44712 | L46: 45000
D359: № | E359: Этап | F359: Район | G359: Округ | H359: РП | I359: Адрес объекта строительства | J359: ПД/РД | K359: Начало ПИР | L359: Первая МГЭ (Выход)
D360: 75 | E360: 8 этап | F360: Измайлово | G360: ВАО | H360: Геккиев К.Р. | I360: г. Москва район Измайлово, 3-я Прядильная, вл.10 | J360: Не определен | K360: 44986 | L360: 45231
D361: 76 | E361: 8 этап | F361: Измайлово | G361: ВАО | H361: Геккиев К.Р. | I361: г. Москва район Измайлово, 3-я Прядильная, вл.14 | J361: Не определен | K361: 44986 | L361: 45231
D362: 77 | E362: 8 этап | F362: Северное Измайлово | G362: ВАО | H362: Геккиев К.Р. | I362: г. Москва район Северное Измайлово, 7-я Парковая, вл.19-21 | J362: ПИК-Проект | K362: 44470 | L362: 44957
D363: 78 | E363: 8 этап | F363: Измайлово | G363: ВАО | H363: Геккиев К.Р. | I363: г. Москва район Измайлово, 1-я Прядильная, вл.3 | J363: ПИК-Проект | K363: 44896 | L363: 45139
D364: 83 | E364: 9 этап | F364: Восточное Измайлово | G364: ВАО | H364: Конюхов Ю.В. | I364: г. Москва, район Восточное Измайлово, Сиреневый бульвар, вл, 4/4 | J364: АПЕКС | K364: 44299 | L364: 45016
D365: 94 - 95 | E365: П - 3 (Д) | F365: Гольяново | G365: ВАО | H365: Забашта В.Ю. | I365: г. Москва, район Гольяново, ул. Амурская, вл. 1, 2 оч. (Дом, зона 3.1, корп. 4; Дом, зона 3.2, корп. 5) 1 этап | J365: ПИК-Проект | K365: 44783 | L365: 45026
D366: 96 | E366: П - 3 (Д) | F366: Гольяново | G366: ВАО | H366: Забашта В.Ю. | I366: г. Москва, район Гольяново, ул. Амурская, вл. 1, 2 оч. (Дом, зона 3.4) 1 этап | J366: ПИК-Проект | K366: 44409 | L366: 45000
D367: 97 | E367: П - 3 (Д) | F367: Гольяново | G367: ВАО | H367: Забашта В.Ю. | I367: г. Москва, район Гольяново, ул. Амурская, вл. 1, 2 оч. (Дом, зона 3.5) 1 этап | J367: ПИК-Проект | K367: 44409 | L367: 44985
D368: 141 | E368: КВ - 3 (Д) | F368: Зюзино | G368: ЮЗАО | H368: Ланцова Анна Алексеевна | I368: г. Москва, район Зюзино, Кварталы 25, 26, 31, 35, 36А (Дом, Квартал 26-31, Зона 6.1) 1 этап | J368: А495 | K368: 44501 | L368: 44957
D369: 175 | E369: КВ - 4 (Д) | F369: Северное Измайлово | G369: ВАО | H369: Балинт Е.И. | I369: г. Москва, района Северное Измайлово, микрорайоны 41-42,43-45,44-46,47-48,49-50 (Дом, Зона 72.1, к.31) 1 этап | J369: Олимпроект | K369: 44317 | L369: 45291
D370: 187 | E370: КВ - 4 (Д) | F370: Северное Измайлово | G370: ВАО | H370: Балинт Е.И. | I370: г. Москва, района Северное Измайлово, микрорайоны 41-42,43-45,44-46,47-48,49-50 (Дом, Зона 25.4, к.15) 3 этап | J370: Не определен | K370: 44958 | L370: 45199
D371: 189 | E371: КВ - 4 (Д) | F371: Северное Измайлово | G371: ВАО | H371: Балинт Е.И. | I371: г. Москва, района Северное Измайлово, микрорайоны 41-42,43-45,44-46,47-48,49-50 (Дом, Зона 32.1, к.26, 27, 28) 4 этап | J371: Не определен | K371: 45017 | L371: 45260
D372: 222 | E372: КВ - 5 (Д) | F372: Восточное Измайлово | G372: ВАО | H372: Бурова Е.А. | I372: г. Москва, район Восточное Измайлово, микрорайоны 36-28 (в т.ч. ул. 16-я Парковая, вл. 29) (Дом, Мкр. 83, 16-я Парковая, вл. 29 ) 1 этап | J372: Не определен | K372: 44927 | L372: 45169
D373: 246 | E373: КВ - 7 (Д) | F373: Зюзино | G373: ЮЗАО | H373: Ланцова Анна Алексеевна | I373: г. Москва, район Зюзино, кварталы 7, 10, 14 (Дом, зона 7.5) 1 этап | J373: АПЕКС | K373: 44652 | L373: 44958
D374: 263 | E374: КВ - 8 (Д) | F374: Кузьминки | G374: ЮВАО | H374: Шестопалова Софья | I374: г. Москва, район Кузьминки, микрорайоны 117, 117а, 118, 118а, 119 (Дом, в т.ч. снос Волгоградский пр-т, д. 163, корп. 2) (1 этап) | J374: Олимпроект | K374: 44531 | L374: 45290
D375: 266 | E375: КВ - 8 (Д) | F375: Кузьминки | G375: ЮВАО | H375: Киричук Ксения | I375: г. Москва, район Кузьминки, микрорайоны 117, 117а, 118, 118а, 119 (Дом, зона 12.4) 2 этап | J375: Собственные силы | K375: 44866 | L375: 45138
D376: 267 | E376: КВ - 8 (Д) | F376: Кузьминки | G376: ЮВАО | H376: Федюшин Андрей | I376: г. Москва, район Кузьминки, микрорайоны 117, 117а, 118, 118а, 119 (Дом, зона 12.8) 2 этап | J376: Собственные силы | K376: 44866 | L376: 45138
D377: 268 | E377: КВ - 8 (Д) | F377: Кузьминки | G377: ЮВАО | H377: Федюшин Андрей | I377: г. Москва, район Кузьминки, микрорайоны 117, 117а, 118, 118а, 119 (Дом, зона 12.9) 2 этап | J377: Собственные силы | K377: 44866 | L377: 45138
... D382: 346 | E382: КВ - 9 (Д) | F382: Зюзино | G382: ЮЗАО | H382: Матюхин Александр | I382: г. Москва, район Зюзино, кварталы 40, 41, 42, Херсонская ул., 14, 1 этап | J382: ПиК(ссс) | K382: 44440 | L382: 45000
D383: 384 | E383: КВ - 10 (Д) | F383: Выхино-Жулебино | G383: ЮВАО | H383: =IFERROR(VLOOKUP($M$3:$M1000,'Импорт - распределение проектов реновации'!$H$5:$P1000,9,0),"") | I383: г. Москва, район Выхино-Жулебино, микрорайон 136 (Дом, зона 3.2) 2 этап | J383: ПИК-Проект | K383: 44713 | L383: 44985
D384: 385 | E384: КВ - 10 (Д) | F384: Выхино-Жулебино | G384: ЮВАО | H384: =IFERROR(VLOOKUP($M$3:$M1001,'Импорт - распределение проектов реновации'!$H$5:$P1001,9,0),"") | I384: г. Москва, район Выхино-Жулебино, микрорайон 136 (Дом, зона 3.3) 2 этап | J384: ПИК-Проект | K384: 44713 | L384: 44985
D385: 396 | E385: КВ - 11 (Д) | F385: Кузьминки | G385: ЮВАО | H385: Киричук Ксения | I385: г. Москва, внутригородское муниципальное образование Кузьминки, улица Зеленодольская, земельный участок 28/3 (зона 3.3) | J385: ПИК-Проект | K385: 44621 | L385: 44956
D386: 459 | E386: КВ - 13 (Д) | F386: Люблино | G386: ЮВАО | H386: Ворсин Михаил | I386: г. Москва, внутригородское муниципальное образование Люблино, улица Люблинская, земельный участок 111/2/1 (Люблинская ул., вл. 111, стр. 2), (Юго-Восточный административный округ) | J386: ПиК(ссс) | K386: 44378 | L386: 45000
D387: 460 | E387: КВ - 13 (Д) | F387: Люблино | G387: ЮВАО | H387: Ворсин Михаил | I387: г. Москва, район Люблино, микрорайоны А, Б, Г, Е пр-т 40-лет Октября, з/у 18/13 | J387: СОБ-Проект | K387: 44743 | L387: 44985
D388: 461 | E388: КВ - 13 (Д) | F388: Люблино | G388: ЮВАО | H388: Ворсин Михаил | I388: г. Москва, внутригородское муниципальное образование Люблино, Спортивный проезд, земельный участок 6А/6 | J388: СОП-проект | K388: 44378 | L388: 44985
D389: 462 | E389: КВ - 13 (Д) | F389: Люблино | G389: ЮВАО | H389: Ворсин Михаил | I389: г. Москва, внутригородское муниципальное образование Люблино, ул. Совхозная, земельный участок 55/2 (Юго-Восточный административный округ) | J389: ПиК(ссс) | K389: 44531 | L389: 44972
D390: 471 | E390: КВ - 13 (Д) | F390: Люблино | G390: ЮВАО | I390: г. Москва, район Люблино, микрорайоны А, Б, Г, Е (Дом, зона 2.4) 2 этап | J390: Не определен | K390: 45017 | L390: 45260
D391: 472 | E391: КВ - 13 (Д) | F391: Люблино | G391: ЮВАО | I391: г. Москва, район Люблино, микрорайоны А, Б, Г, Е (Дом, зона 2.5) 2 этап | J391: Не определен | K391: 45017 | L391: 45260
D392: 484 | E392: КВ - 13 (Д) | F392: Люблино | G392: ЮВАО | I392: г. Москва, район Люблино, микрорайоны А, Б, Г, Е (Дом, зона 20.1) 2 этап | J392: Не определен | K392: 45017 | L392: 45260
D393: 514 | E393: КВ - 14 (Д) | F393: Измайлово | G393: ВАО | H393: Конюхов Ю.В. | I393: г. Москва, район Измайлово, Сиреневый бульвар, земельный участок 4/5 | J393: Генпроект | K393: 44378 | L393: 45046
D394: 515 | E394: КВ - 14 (Д) | F394: Измайлово | G394: ВАО | H394: Конюхов Ю.В. | I394: г. Москва, район Измайлово, Сиреневый бульвар, земельный участок 4/4 | J394: Генпроект | K394: 44378 | L394: 45046
D395: 516 | E395: КВ - 14 (Д) | F395: Измайлово | G395: ВАО | H395: Конюхов Ю.В. | I395: г. Москва, район Измайлово, Сиреневый бульвар, земельный участок 4/9 (зона 6.1) | J395: Генпроект | K395: 44378 | L395: 45046
D396: 517 | E396: КВ - 14 (Д) | F396: Измайлово | G396: ВАО | H396: Конюхов Ю.В. | I396: г. Москва, район Измайлово, Сиреневый бульвар, земельный участок 4/9 (зона 6.2) | J396: Генпроект | K396: 44378 | L396: 45046
D397: 630 | E397: КВ - 17 (Д) | F397: Гольяново | G397: ВАО | H397: Ратушный Алексей | I397: г. Москва, район Гольяново, ул. Байкальская д.14,к.1- д.16 | J397: ПИК-Проект | K397: 44774 | L397: 45016
D398: 712 | E398: КВ - 19 (Д) | F398: Нагатино-Садовники | G398: ЮАО | I398: г. Москва, район Нагатино-Садовники, микрорайон 1А (в т.ч. ул. Нагатинская, вл. 1) (Дом, Нагатинская ул., вл. 1) 1 этап | J398: ПИК-Проект | K398: 44531 | L398: 45077
D399: 747 | E399: 9 этап | F399: Измайлово | G399: ВАО | H399: Геккиев К.Р. | I399: г. Москва, район Измайлово, Никитинская улица, владение 21, корпуса 1 и 3 | J399: Не определен | K399: 44896 | L399: 45139
D400: 750 | E400: КВ - 21 (Д) | F400: Покровское-Стрешнево | G400: СЗАО | H400: Носкова Алиса | I400: г. Москва, район Покровское-Стрешнево, микрорайоны 3, 16, 1, 2, 14, 15 (Дом, мкр. 16, зона 1.2 (1 оч.)) 1 этап | J400: Не определен | K400: 45047 | L400: 45291
D401: 779 | E401: 9 этап | F401: Измайлово | G401: ВАО | H401: Геккиев К.Р. | I401: г. Москва, район Измайлово, 3-я Парковая улица, вл. 39 | J401: Не определен | K401: 44896 | L401: 45138
D402: 810 | E402: 10 этап | F402: Котловка | G402: ЮЗАО | H402: Калюжная Виктория | I402: г. Москва, район Котловка, Нагорная ул., влд. 5А | J402: ПСК Созидатель | K402: 44617 | L402: 45015
D403: 814 | E403: П - 6 | F403: Южное Тушино | G403: СЗАО | H403: Голованов Илья | I403: г. Москва, район Южное Тушино, проезд Досфлота, вл. 2 | J403: ПИК-Проект | K403: 44712 | L403: 45000

Sheet БЛ 10_версия_итог (с 8 и ми вол
A1: № | B1: Этап | C1: Район | D1: Округ | E1: РП | F1: Адрес объекта строительства | G1: Волна до актуализации сроков | H1: ПД/РД | I1: Начало ПИР | J1: Первая МГЭ (Выход)
A2: 50 | B2: 6 этап | C2: Бескудниковский | D2: САО | E2: Голованов Илья | F2: г. Москва, район Бескудниковский, Дмитровское ш., 89 | G2: 6 волна | H2: ПИК-Проект | I2: 43847 | J2: 44852
A3: 64 | B3: 7 этап | C3: Ивановское | D3: ВАО | E3: Бурова Е.А. | F3: г. Москва, район Ивановское, Зелёный проспект, 101 | G3: 8 волна | H3: ПИК-Проект | I3: 44022 | J3: 44686
A4: 65 | B4: 7 этап | C4: Люблино | D4: ЮВАО | E4: Федюшин Андрей | F4: г. Москва район Люблино, Верхние Поля, вл.19 к 1 | G4: 8 волна | H4: ПИК-Проект | I4: 44105 | J4: 44823
A5: 66 | B5: 7 этап | C5: Хорошево-Мневники | D5: СЗАО | E5: Голованов Илья | F5: г. Москва район Хорошево-Мневники, Демьяна Бедного, вл.22, к.3 | G5: 8 волна | H5: ПИК-Проект | I5: 44105 | J5: 44819
A6: 68 | B6: 8 этап | C6: Измайлово | D6: ВАО | E6: Бурова Е.А. | F6: г. Москва район Измайлово, Измайловский б-р, 71/25 | G6: 10 волна | H6: ПИК-Проект | I6: 44117 | J6: 44864
A7: 71 | B7: 8 этап | C7: Хорошево-Мневники | D7: СЗАО | E7: Голованов Илья | F7: г. Москва район Хорошево-Мневники, Генерала Глаголева, вл. 9/1 | G7: 8 волна | H7: ПИК-Проект | I7: 44117 | J7: 44631
A8: 72 | B8: 8 этап | C8: Люблино | D8: ЮВАО | E8: Федюшин Андрей | F8: г. Москва район Люблино, Люблинская, 111/3 | G8: 9 волна | H8: Собственные силы | I8: 44141 | J8: 44825
A9: 74 | B9: 8 этап | C9: Люблино | D9: ЮВАО | E9: Федюшин Андрей | F9: г. Москва район Люблино, Люблинская, 113, к.3 | G9: 10 волна | H9: Стандартпроект | I9: 44145 | J9: 44848
A10: 77 | B10: 8 этап | C10: Северное Измайлово | D10: ВАО | E10: Геккиев К.Р. | F10: г. Москва район Северное Измайлово, 7-я Парковая, вл.19-21 | G10: 8 волна | H10: ПИК-Проект | I10: 44470 | J10: 44957
A11: 80 | B11: 9 этап | C11: Царицыно | D11: ЮАО | F11: г. Москва район Царицыно, Ереванская, вл.4 | G11: 10 волна | H11: ПИК-Проект | I11: 44562 | J11: 44775
A12: 81 | B12: 9 этап | C12: Царицыно | D12: ЮАО | F12: г. Москва район Царицыно, Ереванская, вл.6/2 | G12: 9 волна | H12: ПИК-Проект | I12: 44562 | J12: 44592
A13: 82 | B13: 9 этап | C13: Измайлово | D13: ВАО | E13: Геккиев К.Р. | F13: г. Москва район Измайлово, Никитинская ул., з.у. 5 | G13: 9 волна | H13: Проектоное бюро Р1 | I13: 44299 | J13: 44741
A14: 85 | B14: 9 этап | C14: Рязанский | D14: ЮВАО | E14: Ворсин Михаил | F14: г. Москва, район Рязанский, улица Михайлова, з/у 15, (корпуса 1, 2) | G14: 10 волна | H14: Бюро-22 | I14: 44342 | J14: 44771
A15: 86 | B15: 9 этап | C15: Рязанский | D15: ЮВАО | E15: Ворсин Михаил | F15: г. Москва, район Рязанский, Зарайская улица, з/у 46/1 | G15: 10 волна | H15: Бюро-22 | I15: 44342 | J15: 44880
A16: 87 | B16: 9 этап | C16: Перово | D16: ВАО | E16: Бурова Е.А. | F16: г. Москва, район Перово, Плеханова, владение 24А | G16: 10 волна | H16: Стандартпроект | I16: 44383 | J16: 44864
A17: 88 | B17: 9 этап | C17: Ростокино | D17: СВАО | E17: Иргалиев Александр | F17: г. Москва, район Ростокино, Проспект Мира, вл. 135А | G17: 10 волна | H17: Собственные силы | I17: 44418 | J17: 44844
A18: 90 | B18: П - 2 | C18: Филевский Парк | D18: ЗАО | E18: Иргалиев Александр | F18: г. Москва, район Филевский Парк, улица Барклая, земельный участок 6/32 | G18: 10 волна | H18: ПИК-Проект | I18: 44330 | J18: 44764
A19: 91 - 93 | B19: П - 3 (Д) | C19: Гольяново | D19: ВАО | E19: Забашта В.Ю. | F19: г. Москва, район Гольяново, ул. Амурская, вл. 1, 2 оч. (Дом, зона 1.1, корп. 1; Дом, зона 1.2, корп. 2; Дом, зона 1.5, корп. 3) 1 этап | G19: 10 волна | H19: ПИК-Проект | I19: 44676 | J19: 44920
A20: 96 | B20: П - 3 (Д) | C20: Гольяново | D20: ВАО | E20: Забашта В.Ю. | F20: г. Москва, район Гольяново, ул. Амурская, вл. 1, 2 оч. (Дом, зона 3.4) 1 этап | G20: 10 волна | H20: ПИК-Проект | I20: 44409 | J20: 45000
A21: 97 | B21: П - 3 (Д) | C21: Гольяново | D21: ВАО | E21: Забашта В.Ю. | F21: г. Москва, район Гольяново, ул. Амурская, вл. 1, 2 оч. (Дом, зона 3.5) 1 этап | G21: 10 волна | H21: ПИК-Проект | I21: 44409 | J21: 44985
A22: 107 | B22: П - 4 | C22: Очаково-Матвеевское | D22: ЗАО | E22: Васильев Сергей Николаевич | F22: г. Москва, район Очаково-Матвеевское, Очаковское шоссе, влд. 3А, 5А | G22: 10 волна | H22: АПЕКС | I22: 44407 | J22: 44795
A23: 108 | B23: КВ - 1 (Д) | C23: Люблино | D23: ЮВАО | E23: Ворсин Михаил | F23: г. Москва, район Люблино, кварталы 23, 29 (в т.ч. ул. Совхозная, вл. 10А) (Дом, ул. Совхозная, з/у 10А/1) 1 этап | G23: 9 волна | H23: ПИК-Проект | I23: 44347 | J23: 44663
A24: 115 | B24: КВ - 2 (Д) | C24: Северное Измайлово | D24: ВАО | E24: Геккиев К.Р. | F24: г. Москва, район Северное Измайлово, Микрорайон 80, 15-Парковая 46Б, 1 этап | G24: 10 волна | H24: ПИК-Проект | I24: 44287 | J24: 44864
A25: 116 | B25: КВ - 2 (Д) | C25: Северное Измайлово | D25: ВАО | E25: Геккиев К.Р. | F25: г. Москва, район Северное Измайлово, Микрорайон 80, 15-Парковая 42Б, 1 этап | G25: 10 волна | H25: ПИК-Проект | I25: 44287 | J25: 44921
A26: 173 | B26: КВ - 4 (Д) | C26: Северное Измайлово | D26: ВАО | E26: Балинт Е.И. | F26: г. Москва, внутригородское муниципальное образование Северное Измайлово, 11-я Парковая улица, земельный участок 55/1 (11-я Парковая ул., вл. 55) (зона 72.2) (к.38) | G26: 10 волна | H26: Олимпроект | I26: 44378 | J26: 44864
A27: 174 | B27: КВ - 4 (Д) | C27: Северное Измайлово | D27: ВАО | E27: Балинт Е.И. | F27: г. Москва, внутригородское муниципальное образование Северное Измайлово, 11-я Парковая улица, земельный участок 53 (11-я Парковая ул., вл. 53) (зона 72.3) (к.39) | G27: 10 волна | H27: Олимпроект | I27: 44317 | J27: 44864
A28: 259 | B28: КВ - 8 (Д) | C28: Кузьминки | D28: ЮВАО | E28: Шестопалова Софья | F28: г. Москва, район Кузьминки, микрорайоны 117, 117а, 118, 118а, 119, Волгоградский 161 к 2, 163 и нежилое здание Волгоградский 163 к.3, 1 этап | G28: 10 волна | H28: Олимпроект | I28: 44377 | J28: 44848
A29: 260 | B29: КВ - 8 (Д) | C29: Кузьминки | D29: ЮВАО | E29: Шестопалова Софья | F29: г. Москва, район Кузьминки, микрорайоны 117, 117а, 118, 118а, 119, Юных Ленинцев 97 к.4, Юных Ленинцев 101 к.3, 1 этап | G29: 10 волна | H29: Олимпроект | I29: 44409 | J29: 44895
A30: 262 | B30: КВ - 8 (Д) | C30: Кузьминки | D30: ЮВАО | E30: Шестопалова Софья | F30: г. Москва, район Кузьминки, микрорайоны 117, 117а, 118, 118а, 119, Академика Скрябина 40 к.1, 1 этап | G30: 10 волна | H30: Олимпроект | I30: 44470 | J30: 44910
A31: 381 | B31: КВ - 10 (Д) | C31: Выхино-Жулебино | D31: ЮВАО | F31: г. Москва, внутригородское муниципальное образование Выхино-Жулебино, улица Ташкентская, земельный участок 14/1 (улица Ташкентская, дом 14, корпус 1) (зона 3.1) | G31: 10 волна | H31: 2 Про | I31: 44377 | J31: 44748
A32: 384 | B32: КВ - 10 (Д) | C32: Выхино-Жулебино | D32: ЮВАО | F32: г. Москва, район Выхино-Жулебино, микрорайон 136 (Дом, зона 3.2) 2 этап | G32: 10 волна | H32: ПИК-Проект | I32: 44713 | J32: 44985
A33: 385 | B33: КВ - 10 (Д) | C33: Выхино-Жулебино | D33: ЮВАО | F33: г. Москва, район Выхино-Жулебино, микрорайон 136 (Дом, зона 3.3) 2 этап | G33: 10 волна | H33: ПИК-Проект | I33: 44713 | J33: 44985
A34: 396 | B34: КВ - 11 (Д) | C34: Кузьминки | D34: ЮВАО | E34: Киричук Ксения | F34: г. Москва, внутригородское муниципальное образование Кузьминки, улица Зеленодольская, земельный участок 28/3 (зона 3.3) | G34: 10 волна | H34: ПИК-Проект | I34: 44621 | J34: 44956
A35: 419 | B35: КВ - 12 (Д) | C35: Кузьминки | D35: ЮВАО | E35: Шестопалова Софья | F35: г. Москва, район Кузьминки, микрорайоны 113, 113А, 114 (Дом, Юных Ленинцев вл.40/3) 1 этап | G35: 10 волна | H35: Олимпроект | I35: 44407 | J35: 44921
A36: 420 | B36: КВ - 12 (Д) | C36: Кузьминки | D36: ЮВАО | E36: Шестопалова Софья | F36: г. Москва, район Кузьминки, микрорайоны 113, 113А, 114 (Дом, Юных Ленинцев вл.44/3) 1 этап | G36: 10 волна | H36: Олимпроект | I36: 44407 | J36: 44921
A37: 422 | B37: КВ - 12 (Д) | C37: Кузьминки | D37: ЮВАО | E37: Шестопалова Софья | F37: г. Москва, район Кузьминки, микрорайоны 113, 113А, 114 (Дом, ул. Маршала Чуйкова вл. 9/5/2) 1 этап | G37: 10 волна | H37: Олимпроект | I37: 44562 | J37: 44865
A38: 423 | B38: КВ - 12 (Д) | C38: Кузьминки | D38: ЮВАО | E38: Шестопалова Софья | F38: г. Москва, район Кузьминки, микрорайоны 113, 113А, 114 (Дом, ул. Маршала Чуйкова вл. 9/5/1) 1 этап | G38: 10 волна | H38: Олимпроект | I38: 44562 | J38: 44865
A39: 458 | B39: КВ - 13 (Д) | C39: Люблино | D39: ЮВАО | E39: Ворсин Михаил | F39: г. Москва, внутригородское муниципальное образование Люблино, улица Люблинская, земельный участок 52/1 (Юго-Восточный административный округ) | G39: 10 волна | H39: ПиК(ссс) | I39: 44378 | J39: 44887
A40: 567 | B40: КВ - 16 (Д) | C40: Кузьминки | D40: ЮВАО | E40: Шестопалова Софья | F40: г. Москва, район Кузьминки, микрорайоны 115, 116, 121 (Дом, ул. Жигулевская, з.у. 12/6; з.у. 12/6/1) 1 этап | G40: 10 волна | H40: Олимпроект | I40: 44409 | J40: 44848
A41: 568 | B41: КВ - 16 (Д) | C41: Кузьминки | D41: ЮВАО | E41: Шестопалова Софья | F41: г. Москва, район Кузьминки, микрорайоны 115, 116, 121 (Дом, зона 2.11) 1 этап ул. Шумилова д.26 | G41: 10 волна | H41: Олимпроект | I41: 44531 | J41: 44895
A42: 667 | B42: КВ - 18 (Д) | C42: Головинский | D42: САО | E42: Носкова Алиса | F42: г. Москва, район Головинский, Онежская улица, земельный участок 33 | G42: 10 волна | H42: Стандартпроект | I42: 44408 | J42: 44804
A43: 721 | B43: КВ - 20 (Д) | C43: Останкинский | D43: СВАО | E43: Носкова Алиса | F43: г. Москва, район Останкинский, микрорайоны 14, 15-16 и кв. 104 (в т.ч. ул. Бочкова, влд.11А) (Дом, ул. Бочкова, влд. 11А) 1 этап | G43: 10 волна | H43: Гипроздрав | I43: 44440 | J43: 44895
A44: 749 | B44: П - 5 | C44: Новогиреево | D44: ВАО | E44: Бурова Е.А. | F44: г. Москва, район Новогиреево, Кусковская улица, земельный участок 12/1 | G44: 10 волна | H44: АПЕКС | I44: 44460 | J44: 44915
A45: 777 | B45: 9 этап | C45: Люблино | D45: ЮВАО | E45: Киричук Ксения | F45: г. Москва, внутригородское муниципальное образование Люблино, Люблинская улица, вл. 121/1 | G45: 10 волна | H45: ПИК-Проект | I45: 44474 | J45: 44775
A46: 778 | B46: 9 этап | C46: Рязанский | D46: ЮВАО | E46: Киричук Ксения | F46: г. Москва, район Рязанский, 3-я Институтская улица, земельный участок 4/1 | G46: 10 волна | H46: ПИК-Проект | I46: 44490 | J46: 44915
A47: 780 | B47: 10 этап | C47: Люблино | D47: ЮВАО | F47: г. Москва, внутригородское муниципальное образование Люблино, улица Ставропольская, вл. 4, корп. 2 | G47: 10 волна | H47: Стандартпроект | I47: 44532 | J47: 44896
A48: 786 | B48: КВ - 22 (Д) | C48: Алтуфьевский | D48: СВАО | E48: Калюжная Виктория | F48: г. Москва, Алтуфьевский район, микрорайоны 1-2, 3, 4-5 (Дом, Алтуфьевское ш., влд. 51-53 (к.1, к.2, к.3) 1 этап | G48: 10 волна | H48: ПИК-Проект | I48: 44621 | J48: 44910

Sheet БЛ 11_версия (ПИК-Проект)
D2: № | E2: Этап | F2: Район | G2: Округ | H2: РП | I2: Адрес объекта строительства | J2: ПД/РД | K2: Начало ПИР | L2: Первая МГЭ (Выход)
D3: 77 | E3: 8 этап | F3: Северное Измайлово | G3: ВАО | H3: Геккиев К.Р. | I3: г. Москва район Северное Измайлово, 7-я Парковая, вл.19-21 | J3: ПИК-Проект | K3: 44470 | L3: 44957
D4: 78 | E4: 8 этап | F4: Измайлово | G4: ВАО | H4: Геккиев К.Р. | I4: г. Москва район Измайлово, 1-я Прядильная, вл.3 | J4: ПИК-Проект | K4: 44896 | L4: 45139 | Q4: не начали ПИР
D5: 94 - 95 | E5: П - 3 (Д) | F5: Гольяново | G5: ВАО | H5: Забашта В.Ю. | I5: г. Москва, район Гольяново, ул. Амурская, вл. 1, 2 оч. (Дом, зона 3.1, корп. 4; Дом, зона 3.2, корп. 5) 1 этап | J5: ПИК-Проект | K5: 44783 | L5: 45026
D6: 96 | E6: П - 3 (Д) | F6: Гольяново | G6: ВАО | H6: Забашта В.Ю. | I6: г. Москва, район Гольяново, ул. Амурская, вл. 1, 2 оч. (Дом, зона 3.4) 1 этап | J6: ПИК-Проект | K6: 44409 | L6: 45000
D7: 97 | E7: П - 3 (Д) | F7: Гольяново | G7: ВАО | H7: Забашта В.Ю. | I7: г. Москва, район Гольяново, ул. Амурская, вл. 1, 2 оч. (Дом, зона 3.5) 1 этап | J7: ПИК-Проект | K7: 44409 | L7: 44985
D8: 396 | E8: КВ - 11 (Д) | F8: Кузьминки | G8: ЮВАО | H8: Киричук Ксения | I8: г. Москва, внутригородское муниципальное образование Кузьминки, улица Зеленодольская, земельный участок 28/3 (зона 3.3) | J8: ПИК-Проект | K8: 44621 | L8: 44956
D9: 630 | E9: КВ - 17 (Д) | F9: Гольяново | G9: ВАО | H9: Ратушный Алексей | I9: г. Москва, район Гольяново, ул. Байкальская д.14,к.1- д.16 | J9: ПИК-Проект | K9: 44774 | L9: 45016
D10: 712 | E10: КВ - 19 (Д) | F10: Нагатино-Садовники | G10: ЮАО | I10: г. Москва, район Нагатино-Садовники, микрорайон 1А (в т.ч. ул. Нагатинская, вл. 1) (Дом, Нагатинская ул., вл. 1) 1 этап | J10: ПИК-Проект | K10: 44531 | L10: 45077
D11: 814 | E11: П - 6 | F11: Южное Тушино | G11: СЗАО | H11: Голованов Илья | I11: г. Москва, район Южное Тушино, проезд Досфлота, вл. 2 | J11: ПИК-Проект | K11: 44712 | L11: 45000
D324: № | E324: Этап | F324: Район | G324: Округ | H324: РП | I324: Адрес объекта строительства | J324: ПД/РД | K324: Начало ПИР | L324: Первая МГЭ (Выход)
D325: 75 | E325: 8 этап | F325: Измайлово | G325: ВАО | H325: Геккиев К.Р. | I325: г. Москва район Измайлово, 3-я Прядильная, вл.10 | J325: Не определен | K325: 44986 | L325: 45231
D326: 76 | E326: 8 этап | F326: Измайлово | G326: ВАО | H326: Геккиев К.Р. | I326: г. Москва район Измайлово, 3-я Прядильная, вл.14 | J326: Не определен | K326: 44986 | L326: 45231
D327: 77 | E327: 8 этап | F327: Северное Измайлово | G327: ВАО | H327: Геккиев К.Р. | I327: г. Москва район Северное Измайлово, 7-я Парковая, вл.19-21 | J327: ПИК-Проект | K327: 44470 | L327: 44957
D328: 78 | E328: 8 этап | F328: Измайлово | G328: ВАО | H328: Геккиев К.Р. | I328: г. Москва район Измайлово, 1-я Прядильная, вл.3 | J328: ПИК-Проект | K328: 44896 | L328: 45139
D329: 83 | E329: 9 этап | F329: Восточное Измайлово | G329: ВАО | H329: Конюхов Ю.В. | I329: г. Москва, район Восточное Измайлово, Сиреневый бульвар, вл, 4/4 | J329: АПЕКС | K329: 44299 | L329: 45016
D330: 94 - 95 | E330: П - 3 (Д) | F330: Гольяново | G330: ВАО | H330: Забашта В.Ю. | I330: г. Москва, район Гольяново, ул. Амурская, вл. 1, 2 оч. (Дом, зона 3.1, корп. 4; Дом, зона 3.2, корп. 5) 1 этап | J330: ПИК-Проект | K330: 44783 | L330: 45026
D331: 96 | E331: П - 3 (Д) | F331: Гольяново | G331: ВАО | H331: Забашта В.Ю. | I331: г. Москва, район Гольяново, ул. Амурская, вл. 1, 2 оч. (Дом, зона 3.4) 1 этап | J331: ПИК-Проект | K331: 44409 | L331: 45000
D332: 97 | E332: П - 3 (Д) | F332: Гольяново | G332: ВАО | H332: Забашта В.Ю. | I332: г. Москва, район Гольяново, ул. Амурская, вл. 1, 2 оч. (Дом, зона 3.5) 1 этап | J332: ПИК-Проект | K332: 44409 | L332: 44985
D333: 141 | E333: КВ - 3 (Д) | F333: Зюзино | G333: ЮЗАО | H333: Ланцова Анна Алексеевна | I333: г. Москва, район Зюзино, Кварталы 25, 26, 31, 35, 36А (Дом, Квартал 26-31, Зона 6.1) 1 этап | J333: А495 | K333: 44501 | L333: 44957
D334: 175 | E334: КВ - 4 (Д) | F334: Северное Измайлово | G334: ВАО | H334: Балинт Е.И. | I334: г. Москва, района Северное Измайлово, микрорайоны 41-42,43-45,44-46,47-48,49-50 (Дом, Зона 72.1, к.31) 1 этап | J334: Олимпроект | K334: 44317 | L334: 45291
D335: 187 | E335: КВ - 4 (Д) | F335: Северное Измайлово | G335: ВАО | H335: Балинт Е.И. | I335: г. Москва, района Северное Измайлово, микрорайоны 41-42,43-45,44-46,47-48,49-50 (Дом, Зона 25.4, к.15) 3 этап | J335: Не определен | K335: 44958 | L335: 45199
D336: 189 | E336: КВ - 4 (Д) | F336: Северное Измайлово | G336: ВАО | H336: Балинт Е.И. | I336: г. Москва, района Северное Измайлово, микрорайоны 41-42,43-45,44-46,47-48,49-50 (Дом, Зона 32.1, к.26, 27, 28) 4 этап | J336: Не определен | K336: 45017 | L336: 45260
D337: 222 | E337: КВ - 5 (Д) | F337: Восточное Измайлово | G337: ВАО | H337: Бурова Е.А. | I337: г. Москва, район Восточное Измайлово, микрорайоны 36-28 (в т.ч. ул. 16-я Парковая, вл. 29) (Дом, Мкр. 83, 16-я Парковая, вл. 29 ) 1 этап | J337: Не определен | K337: 44927 | L337: 45169
D338: 246 | E338: КВ - 7 (Д) | F338: Зюзино | G338: ЮЗАО | H338: Ланцова Анна Алексеевна | I338: г. Москва, район Зюзино, кварталы 7, 10, 14 (Дом, зона 7.5) 1 этап | J338: АПЕКС | K338: 44652 | L338: 44958
D339: 263 | E339: КВ - 8 (Д) | F339: Кузьминки | G339: ЮВАО | H339: Шестопалова Софья | I339: г. Москва, район Кузьминки, микрорайоны 117, 117а, 118, 118а, 119 (Дом, в т.ч. снос Волгоградский пр-т, д. 163, корп. 2) (1 этап) | J339: Олимпроект | K339: 44531 | L339: 45290
D340: 266 | E340: КВ - 8 (Д) | F340: Кузьминки | G340: ЮВАО | H340: Киричук Ксения | I340: г. Москва, район Кузьминки, микрорайоны 117, 117а, 118, 118а, 119 (Дом, зона 12.4) 2 этап | J340: Собственные силы | K340: 44866 | L340: 45138
D341: 267 | E341: КВ - 8 (Д) | F341: Кузьминки | G341: ЮВАО | H341: Федюшин Андрей | I341: г. Москва, район Кузьминки, микрорайоны 117, 117а, 118, 118а, 119 (Дом, зона 12.8) 2 этап | J341: Собственные силы | K341: 44866 | L341: 45138
D342: 268 | E342: КВ - 8 (Д) | F342: Кузьминки | G342: ЮВАО | H342: Федюшин Андрей | I342: г. Москва, район Кузьминки, микрорайоны 117, 117а, 118, 118а, 119 (Дом, зона 12.9) 2 этап | J342: Собственные силы | K342: 44866 | L342: 45138
... D347: 346 | E347: КВ - 9 (Д) | F347: Зюзино | G347: ЮЗАО | H347: Матюхин Александр | I347: г. Москва, район Зюзино, кварталы 40, 41, 42, Херсонская ул., 14, 1 этап | J347: ПиК(ссс) | K347: 44440 | L347: 45000
D348: 384 | E348: КВ - 10 (Д) | F348: Выхино-Жулебино | G348: ЮВАО | H348: =IFERROR(VLOOKUP($M$3:$M965,'Импорт - распределение проектов реновации'!$H$5:$P965,9,0),"") | I348: г. Москва, район Выхино-Жулебино, микрорайон 136 (Дом, зона 3.2) 2 этап | J348: ПИК-Проект | K348: 44713 | L348: 44985
D349: 385 | E349: КВ - 10 (Д) | F349: Выхино-Жулебино | G349: ЮВАО | H349: =IFERROR(VLOOKUP($M$3:$M966,'Импорт - распределение проектов реновации'!$H$5:$P966,9,0),"") | I349: г. Москва, район Выхино-Жулебино, микрорайон 136 (Дом, зона 3.3) 2 этап | J349: ПИК-Проект | K349: 44713 | L349: 44985
D350: 396 | E350: КВ - 11 (Д) | F350: Кузьминки | G350: ЮВАО | H350: Киричук Ксения | I350: г. Москва, внутригородское муниципальное образование Кузьминки, улица Зеленодольская, земельный участок 28/3 (зона 3.3) | J350: ПИК-Проект | K350: 44621 | L350: 44956
D351: 459 | E351: КВ - 13 (Д) | F351: Люблино | G351: ЮВАО | H351: Ворсин Михаил | I351: г. Москва, внутригородское муниципальное образование Люблино, улица Люблинская, земельный участок 111/2/1 (Люблинская ул., вл. 111, стр. 2), (Юго-Восточный административный округ) | J351: ПиК(ссс) | K351: 44378 | L351: 45000
D352: 460 | E352: КВ - 13 (Д) | F352: Люблино | G352: ЮВАО | H352: Ворсин Михаил | I352: г. Москва, район Люблино, микрорайоны А, Б, Г, Е пр-т 40-лет Октября, з/у 18/13 | J352: СОБ-Проект | K352: 44743 | L352: 44985
D353: 461 | E353: КВ - 13 (Д) | F353: Люблино | G353: ЮВАО | H353: Ворсин Михаил | I353: г. Москва, внутригородское муниципальное образование Люблино, Спортивный проезд, земельный участок 6А/6 | J353: СОП-проект | K353: 44378 | L353: 44985
D354: 462 | E354: КВ - 13 (Д) | F354: Люблино | G354: ЮВАО | H354: Ворсин Михаил | I354: г. Москва, внутригородское муниципальное образование Люблино, ул. Совхозная, земельный участок 55/2 (Юго-Восточный административный округ) | J354: ПиК(ссс) | K354: 44531 | L354: 44972
D355: 471 | E355: КВ - 13 (Д) | F355: Люблино | G355: ЮВАО | I355: г. Москва, район Люблино, микрорайоны А, Б, Г, Е (Дом, зона 2.4) 2 этап | J355: Не определен | K355: 45017 | L355: 45260
D356: 472 | E356: КВ - 13 (Д) | F356: Люблино | G356: ЮВАО | I356: г. Москва, район Люблино, микрорайоны А, Б, Г, Е (Дом, зона 2.5) 2 этап | J356: Не определен | K356: 45017 | L356: 45260
D357: 484 | E357: КВ - 13 (Д) | F357: Люблино | G357: ЮВАО | I357: г. Москва, район Люблино, микрорайоны А, Б, Г, Е (Дом, зона 20.1) 2 этап | J357: Не определен | K357: 45017 | L357: 45260
D358: 514 | E358: КВ - 14 (Д) | F358: Измайлово | G358: ВАО | H358: Конюхов Ю.В. | I358: г. Москва, район Измайлово, Сиреневый бульвар, земельный участок 4/5 | J358: Генпроект | K358: 44378 | L358: 45046
D359: 515 | E359: КВ - 14 (Д) | F359: Измайлово | G359: ВАО | H359: Конюхов Ю.В. | I359: г. Москва, район Измайлово, Сиреневый бульвар, земельный участок 4/4 | J359: Генпроект | K359: 44378 | L359: 45046
D360: 516 | E360: КВ - 14 (Д) | F360: Измайлово | G360: ВАО | H360: Конюхов Ю.В. | I360: г. Москва, район Измайлово, Сиреневый бульвар, земельный участок 4/9 (зона 6.1) | J360: Генпроект | K360: 44378 | L360: 45046
D361: 517 | E361: КВ - 14 (Д) | F361: Измайлово | G361: ВАО | H361: Конюхов Ю.В. | I361: г. Москва, район Измайлово, Сиреневый бульвар, земельный участок 4/9 (зона 6.2) | J361: Генпроект | K361: 44378 | L361: 45046
D362: 630 | E362: КВ - 17 (Д) | F362: Гольяново | G362: ВАО | H362: Ратушный Алексей | I362: г. Москва, район Гольяново, ул. Байкальская д.14,к.1- д.16 | J362: ПИК-Проект | K362: 44774 | L362: 45016
D363: 712 | E363: КВ - 19 (Д) | F363: Нагатино-Садовники | G363: ЮАО | I363: г. Москва, район Нагатино-Садовники, микрорайон 1А (в т.ч. ул. Нагатинская, вл. 1) (Дом, Нагатинская ул., вл. 1) 1 этап | J363: ПИК-Проект | K363: 44531 | L363: 45077
D364: 747 | E364: 9 этап | F364: Измайлово | G364: ВАО | H364: Геккиев К.Р. | I364: г. Москва, район Измайлово, Никитинская улица, владение 21, корпуса 1 и 3 | J364: Не определен | K364: 44896 | L364: 45139
D365: 750 | E365: КВ - 21 (Д) | F365: Покровское-Стрешнево | G365: СЗАО | H365: Носкова Алиса | I365: г. Москва, район Покровское-Стрешнево, микрорайоны 3, 16, 1, 2, 14, 15 (Дом, мкр. 16, зона 1.2 (1 оч.)) 1 этап | J365: Не определен | K365: 45047 | L365: 45291
D366: 779 | E366: 9 этап | F366: Измайлово | G366: ВАО | H366: Геккиев К.Р. | I366: г. Москва, район Измайлово, 3-я Парковая улица, вл. 39 | J366: Не определен | K366: 44896 | L366: 45138
D367: 810 | E367: 10 этап | F367: Котловка | G367: ЮЗАО | H367: Калюжная Виктория | I367: г. Москва, район Котловка, Нагорная ул., влд. 5А | J367: ПСК Созидатель | K367: 44617 | L367: 45015
D368: 814 | E368: П - 6 | F368: Южное Тушино | G368: СЗАО | H368: Голованов Илья | I368: г. Москва, район Южное Тушино, проезд Досфлота, вл. 2 | J368: ПИК-Проект | K368: 44712 | L368: 45000

Sheet Приложение_БЛ ВК 13 версия 1
A1: № | B1: GUID | C1: Адрес объекта строительства от ООПР | D1: ОРП, м2 | E1: ТРУБЫ | G1: Квартирные станции водоснабжения ХВС/ГВС | H1: НУ ХВС и ПТ | I1: НУ АУПТ | J1: Шаровые краны с электроприводом | K1: Цилиндры кашированные неармированной фольгой НГ | L1: Затворы, задвижки, ОК пожаротушение | M1: Грувлочные соединения
E2: PEXa EVOH ВК | F2: SML ВК
A3: 1 | B3: f894d288-f4f2-11eb-9141-0050568dfbb1 | C3: г. Москва, района Северное Измайлово, микрорайоны 41-42,43-45,44-46,47-48,49-50 (Дом, Зона 4.1, к.3) 2 этап | D3: 32767 | E3: РосТурПласт | F3: РОСтерм | G3: ООО НПП "ТЕПЛОВОДОХРАН" | H3: ВЕЗЕР | I3: Элита Центр | J3: Гидроресурс | K3: Isotec | L3: GROSS | M3: Смартекс
A4: 2 | B4: 0a75f5a9-f4f3-11eb-9141-0050568dfbb1 | C4: г. Москва, района Северное Измайлово, микрорайоны 41-42,43-45,44-46,47-48,49-50 (Дом, Зона 4.2, к.4) 2 этап | D4: 29896 | E4: Ростерм | F4: РОСтерм | G4: ООО НПП "ТЕПЛОВОДОХРАН" | H4: ВЕЗЕР | I4: Элита Центр | J4: Гидроресурс | K4: Isotec | L4: GROSS | M4: Смартекс
A5: 3 | B5: 609edc7b-f4f3-11eb-9141-0050568dfbb1 | C5: г. Москва, района Северное Измайлово, микрорайоны 41-42,43-45,44-46,47-48,49-50 (Дом, Зона 25.4, к.15) 3 этап | D5: 21979 | E5: Ростерм | F5: РОСтерм | G5: ООО НПП "ТЕПЛОВОДОХРАН" | H5: Элита Центр | I5: Элита Центр | J5: Гидроресурс | K5: Isotec | L5: GROSS | M5: Смартекс
A6: 4 | B6: 4ff5a59b-f4f4-11eb-9141-0050568dfbb1 | C6: г. Москва, района Северное Измайлово, микрорайоны 41-42,43-45,44-46,47-48,49-50 (Дом, Зона 25.3, к.14) 8 этап | D6: 15011.4 | E6: РосТурПласт | F6: РОСтерм | G6: ООО НПП "ТЕПЛОВОДОХРАН" | H6: Элита Центр | I6: Элита Центр | J6: Гидроресурс | K6: Isotec | L6: GROSS | M6: Смартекс
A7: 5 | B7: 3f941ff3-f526-11eb-9141-0050568dfbb1 | C7: г. Москва, район Выхино-Жулебино, микрорайон 136 (Дом, зона 4.1) 3 этап | D7: 9681 | E7: РосТурПласт | F7: РОСтерм | G7: ООО НПП "ТЕПЛОВОДОХРАН" | H7: ГС Групп (Hoobs) | I7: Элита Центр | J7: Гидроресурс | K7: Isotec | L7: GROSS | M7: Смартекс
A8: 6 | B8: 4c49fde2-f526-11eb-9141-0050568dfbb1 | C8: г. Москва, район Выхино-Жулебино, микрорайон 136 (Дом, зона 4.2) 3 этап | D8: 24730 | E8: РосТурПласт | F8: РОСтерм | G8: ООО НПП "ТЕПЛОВОДОХРАН" | H8: ГС Групп (Hoobs) | I8: Элита Центр | J8: Гидроресурс | K8: Isotec | L8: GROSS | M8: Смартекс
A9: 7 | B9: 61169c31-f526-11eb-9141-0050568dfbb1 | C9: г. Москва, район Выхино-Жулебино, микрорайон 136 (Дом, зона 4.3) 3 этап | D9: 25120 | E9: РосТурПласт | F9: РОСтерм | G9: ООО НПП "ТЕПЛОВОДОХРАН" | H9: ГС Групп (Hoobs) | I9: Элита Центр | J9: Гидроресурс | K9: Isotec | L9: GROSS | M9: Смартекс
A10: 8 | B10: d3272be9-f689-11eb-9141-0050568dfbb1 | C10: г. Москва, район Гольяново, микрорайоны 1-2 (Дом, зона 3.4) 4 этап | D10: 8077 | E10: Pradex | F10: РОСтерм | G10: ООО НПП "ТЕПЛОВОДОХРАН" | H10: МФМК (CNP) | I10: Элита Центр | J10: Гидроресурс | K10: Isotec | L10: GROSS | M10: Смартекс
A11: 9 | B11: e05e0baa-f689-11eb-9141-0050568dfbb1 | C11: г. Москва, район Гольяново, микрорайоны 1-2 (Дом, зона 4.1) 4 этап | D11: 31019 | E11: Pradex | F11: РОСтерм | G11: ООО «ПРАДЕКС ИНЖИНИРИНГ» | H11: ГС Групп (Hoobs) | I11: Элита Центр | J11: Гидроресурс | K11: Isotec | L11: GROSS | M11: Смартекс
A12: 10 | B12: eebcd618-f689-11eb-9141-0050568dfbb1 | C12: г. Москва, район Гольяново, микрорайоны 1-2 (Дом, зона 4.2) 4 этап | D12: 33755 | E12: Pradex | F12: Смартекс | G12: ООО "ТЭС" | H12: ГС Групп (Hoobs) | I12: Элита Центр | J12: Гидроресурс | K12: Isotec | L12: DINARM | M12: Смартекс
A13: 11 | B13: 0150f7a6-f68a-11eb-9141-0050568dfbb1 | C13: г. Москва, район Гольяново, микрорайоны 1-2 (Дом, зона 4.3) 4 этап | D13: 27706 | E13: Pradex | F13: Смартекс | G13: ООО НПП "ТЕПЛОВОДОХРАН" | H13: ГС Групп (Hoobs) | I13: Элита Центр | J13: Гидроресурс | K13: Isotec | L13: DINARM | M13: DINARM
A14: 12 | B14: 0e7c427d-f68a-11eb-9141-0050568dfbb1 | C14: г. Москва, район Гольяново, микрорайоны 1-2 (Дом, зона 4.4) 5 этап | D14: 33755 | E14: Pradex | F14: Смартекс | G14: ООО "ТЭС" | H14: Элита Центр | I14: ГС Групп (Hoobs) | J14: Гидроресурс | K14: Isotec | L14: DINARM | M14: DINARM
... A27: 25 | B27: 2cb7b16d-e53b-11eb-9141-0050568dfbb1 | C27: г. Москва, район Зюзино, кварталы 36, 37, 38 (Дом, квартал 38, зона 33.3) 1 этап | D27: 25186.6 | E27: Pradex | F27: РОСтерм | G27: ООО НПП "ТЕПЛОВОДОХРАН" | H27: Элита Центр | I27: Элита Центр | J27: Гидроресурс | K27: Isotec | L27: GROSS | M27: Смартекс
A28: 26 | B28: 379fcd85-8b05-11eb-913c-0050568dfbb1 | C28: г. Москва, район Восточное Измайлово, Сиреневый бульвар, вл, 4/4 | D28: 35783
B30: Перенос объекта с 12-ой волны
B31: Перенос объекта с 11-ой волны

Sheet Приложение_БЛ ОВ 13 версия 1
A1: № | B1: GUID | C1: Адрес объекта строительства от ООПР | D1: ОРП, м2 | E1: ОРП, м2 | F1: Квартирная станция | G1: Коллекторная группа | H1: Цилиндры Г1, НГ | I1: Приточные и вытяжные каркасно-панельные установки, смечительный узел | J1: Установки подпора воздуха для зоны МГН | K1: Клапана НЗ и НО, воздухораспределители, КИД | L1: Вытяжные и приточные вентиляторы ДУ | M1: ТРУБЫ PEXa EVOH | N1: Шаровые краны с электроприводом | O1: Огнезащита воздуховодов (двухкомпонентная система) | P1: Кран шаровой фланцевый. Фильтр сетчатый фланцевый.
A2: 1 | B2: f894d288-f4f2-11eb-9141-0050568dfbb1 | C2: г. Москва, района Северное Измайлово, микрорайоны 41-42,43-45,44-46,47-48,49-50 (Дом, Зона 4.1, к.3) 2 этап | D2: 32767 | E2: 17549 | F2: Ридан | G2: Сантехкомплект | H2: Isotec | I2: ВЕЗА | J2: Аэрдин | K2: Сигмавент | L2: Вентзащита | M2: РосТурПласт | N2: Гидроресурс | O2: ВЗТМ | P2: ADL
A3: 2 | B3: 0a75f5a9-f4f3-11eb-9141-0050568dfbb1 | C3: г. Москва, района Северное Измайлово, микрорайоны 41-42,43-45,44-46,47-48,49-50 (Дом, Зона 4.2, к.4) 2 этап | D3: 29896 | E3: 25187 | F3: Ридан | G3: Сантехкомплект | H3: Isotec | I3: ВЕЗА | J3: Аэрдин | K3: Сигмавент | L3: Вентзащита | M3: Ростерм | N3: Гидроресурс | O3: ВЗТМ | P3: ADL
A4: 3 | B4: 609edc7b-f4f3-11eb-9141-0050568dfbb1 | C4: г. Москва, района Северное Измайлово, микрорайоны 41-42,43-45,44-46,47-48,49-50 (Дом, Зона 25.4, к.15) 3 этап | D4: 21979 | E4: 23642 | F4: Ридан | G4: Сантехкомплект | H4: Isotec | I4: ВЕЗА | J4: Аэрдин | K4: Сигмавент | L4: Вентзащита | M4: Ростерм | N4: Гидроресурс | O4: ВЗТМ | P4: ADL
A5: 4 | B5: 4ff5a59b-f4f4-11eb-9141-0050568dfbb1 | C5: г. Москва, района Северное Измайлово, микрорайоны 41-42,43-45,44-46,47-48,49-50 (Дом, Зона 25.3, к.14) 8 этап | D5: 15011.4 | E5: 27170 | F5: Ридан | G5: Сантехкомплект | H5: Isotec | I5: ВЕЗА | J5: Аэрдин | K5: Сигмавент | L5: Вентзащита | M5: РосТурПласт | N5: Гидроресурс | O5: ВЗТМ | P5: ADL
A6: 5 | B6: 3f941ff3-f526-11eb-9141-0050568dfbb1 | C6: г. Москва, район Выхино-Жулебино, микрорайон 136 (Дом, зона 4.1) 3 этап | D6: 9681 | E6: 12001 | F6: Ридан | G6: Сантехкомплект | H6: Isotec | I6: ВЕЗА | J6: Аэрдин | K6: Сигмавент | L6: Вентзащита | M6: РосТурПласт | N6: Гидроресурс | O6: ВЗТМ | P6: ADL
A7: 6 | B7: 4c49fde2-f526-11eb-9141-0050568dfbb1 | C7: г. Москва, район Выхино-Жулебино, микрорайон 136 (Дом, зона 4.2) 3 этап | D7: 24730 | E7: 11672 | F7: Ридан | G7: Сантехкомплект | H7: Isotec | I7: ВЕЗА | J7: Аэрдин | K7: Сигмавент | L7: Вентзащита | M7: РосТурПласт | N7: Гидроресурс | O7: ВЗТМ | P7: ADL
A8: 7 | B8: 61169c31-f526-11eb-9141-0050568dfbb1 | C8: г. Москва, район Выхино-Жулебино, микрорайон 136 (Дом, зона 4.3) 3 этап | D8: 25120 | E8: 13508 | F8: Ридан | G8: Сантехкомплект | H8: Isotec | I8: ВЕЗА | J8: Аэрдин | K8: Сигмавент | L8: Вентзащита | M8: РосТурПласт | N8: Гидроресурс | O8: ВЗТМ | P8: ADL
A9: 8 | B9: d3272be9-f689-11eb-9141-0050568dfbb1 | C9: г. Москва, район Гольяново, микрорайоны 1-2 (Дом, зона 3.4) 4 этап | D9: 8077 | E9: 15987 | F9: Пульсар | G9: Бригель | H9: Isotec | I9: ВЕЗА | J9: Аэрдин | K9: Сигмавент | L9: Вентзащита | M9: Pradex | N9: Гидроресурс | O9: ВЗТМ | P9: ADL
A10: 9 | B10: e05e0baa-f689-11eb-9141-0050568dfbb1 | C10: г. Москва, район Гольяново, микрорайоны 1-2 (Дом, зона 4.1) 4 этап | D10: 31019 | E10: 25699 | F10: Pradex | G10: Бригель | H10: Isotec | I10: KORF | J10: KORF | K10: Сигмавент | L10: Вентзащита | M10: Pradex | N10: Гидроресурс | O10: ВЗТМ | P10: ADL
A11: 10 | B11: eebcd618-f689-11eb-9141-0050568dfbb1 | C11: г. Москва, район Гольяново, микрорайоны 1-2 (Дом, зона 4.2) 4 этап | D11: 33755 | E11: 16482 | F11: Пульсар | G11: Сантехкомплект | H11: Isotec | I11: ВЕЗА | J11: Аэрдин | K11: Сигмавент | L11: Вентзащита | M11: Pradex | N11: Гидроресурс | O11: ВЗТМ | P11: ADL
A12: 11 | B12: 0150f7a6-f68a-11eb-9141-0050568dfbb1 | C12: г. Москва, район Гольяново, микрорайоны 1-2 (Дом, зона 4.3) 4 этап | D12: 27706 | E12: 20390 | F12: Пульсар | G12: Бригель | H12: Isotec | I12: ВЕЗА | J12: Аэрдин | K12: Сигмавент | L12: Вентзащита | M12: Pradex | N12: Гидроресурс | O12: ВЗТМ | P12: ADL
A13: 12 | B13: 0e7c427d-f68a-11eb-9141-0050568dfbb1 | C13: г. Москва, район Гольяново, микрорайоны 1-2 (Дом, зона 4.4) 5 этап | D13: 33755 | E13: 8373 | F13: Пульсар | G13: Бригель | H13: Isotec | I13: ВЕЗА | J13: Аэрдин | K13: Сигмавент | L13: Аэрван | M13: Pradex | N13: Гидроресурс | O13: ВЗТМ | P13: GROSS
... A22: 21 | B22: 2a04ff12-21b8-11ec-9141-0050568dfbb1 | C22: г. Москва, район Покровское-Стрешнево, микрорайоны 3, 16, 1, 2, 14, 15 (Дом, мкр. 2 (со сносом - Сосновая аллея, д. 4)) 2 этап | D22: 6142 | E22: 8780 | F22: Pradex | G22: Бригель | H22: Isotec | I22: KORF | J22: KORF | K22: Виктория | L22: Аэрдин | M22: Pradex | N22: Ридан | O22: Техстронг | P22: GROSS
A23: 22 | B23: 048e4297-f5bc-11eb-9141-0050568dfbb1 | C23: г. Москва, район Зюзино, кварталы 36, 37, 38 (Дом, квартал 37, зона 22.3) 3 этап | D23: 13902.3 | F23: Pradex | G23: Сантехкомплект | H23: Isotec | I23: KORF | J23: KORF | K23: Виктория | L23: Аэрдин | M23: Pradex | N23: Гидроресурс | O23: ВЗТМ | P23: GROSS
A24: 23 | B24: d40aac76-f502-11eb-9141-0050568dfbb1 | C24: г. Москва, район Зюзино, кварталы 7, 10, 14 (Дом, зона 1.2) 2 этап | D24: 8373.3 | F24: Pradex | G24: Сантехкомплект | H24: Isotec | I24: KORF | J24: KORF | K24: Виктория | L24: Аэрдин | M24: Pradex | N24: Гидроресурс | O24: ВЗТМ | P24: GROSS
A25: 24 | B25: c83c08ee-f502-11eb-9141-0050568dfbb1 | C25: г. Москва, район Зюзино, кварталы 7, 10, 14 (Дом, зона 1.3) 2 этап | D25: 17549.3 | F25: Pradex | G25: Сантехкомплект | H25: Isotec | I25: KORF | J25: KORF | K25: Виктория | L25: Аэрдин | M25: Pradex | N25: Гидроресурс | O25: ВЗТМ | P25: GROSS
A26: 25 | B26: 2cb7b16d-e53b-11eb-9141-0050568dfbb1 | C26: г. Москва, район Зюзино, кварталы 36, 37, 38 (Дом, квартал 38, зона 33.3) 1 этап | D26: 25186.6 | F26: Pradex | G26: Сантехкомплект | H26: Isotec | I26: KORF | J26: KORF | K26: Виктория | L26: Аэрдин | M26: Pradex | N26: Гидроресурс | O26: ВЗТМ | P26: GROSS
A27: 26 | B27: 379fcd85-8b05-11eb-913c-0050568dfbb1 | C27: г. Москва, район Восточное Измайлово, Сиреневый бульвар, вл, 4/4 | D27: 35783
B29: Перенос объекта с 12-ой волны
B30: Перенос объекта с 11-ой волны

Sheet Приложение_БЛ ИТП 13 версия 1
A1: № | B1: GUID | C1: Адрес объекта строительства от ООПР | D1: ОРП, м2 | E1: БТП | F1: АУПД | G1: УУТ | H1: Регуляторы давления
A2: 1 | B2: f894d288-f4f2-11eb-9141-0050568dfbb1 | C2: г. Москва, района Северное Измайлово, микрорайоны 41-42,43-45,44-46,47-48,49-50 (Дом, Зона 4.1, к.3) 2 этап | D2: 32767 | E2: Ридан | F2: Элита-Центр | G2: ЗАО "Тепловизор" | H2: Теплосила
A3: 2 | B3: 0a75f5a9-f4f3-11eb-9141-0050568dfbb1 | C3: г. Москва, района Северное Измайлово, микрорайоны 41-42,43-45,44-46,47-48,49-50 (Дом, Зона 4.2, к.4) 2 этап | D3: 29896 | E3: SPL | F3: ГС Групп | G3: ЗАО "Тепловизор" | H3: Теплосила
A4: 3 | B4: 609edc7b-f4f3-11eb-9141-0050568dfbb1 | C4: г. Москва, района Северное Измайлово, микрорайоны 41-42,43-45,44-46,47-48,49-50 (Дом, Зона 25.4, к.15) 3 этап | D4: 21979 | E4: ГС Групп | F4: Элита-Центр | G4: ЗАО "Тепловизор" | H4: Ридан
A5: 4 | B5: 4ff5a59b-f4f4-11eb-9141-0050568dfbb1 | C5: г. Москва, района Северное Измайлово, микрорайоны 41-42,43-45,44-46,47-48,49-50 (Дом, Зона 25.3, к.14) 8 этап | D5: 15011.4 | E5: Этра | F5: Элита-Центр | G5: ЗАО "Тепловизор" | H5: Ридан
A6: 5 | B6: 3f941ff3-f526-11eb-9141-0050568dfbb1 | C6: г. Москва, район Выхино-Жулебино, микрорайон 136 (Дом, зона 4.1) 3 этап | D6: 9681 | E6: ГС Групп | F6: ГС Групп | G6: ЗАО "Тепловизор" | H6: Ридан
A7: 6 | B7: 4c49fde2-f526-11eb-9141-0050568dfbb1 | C7: г. Москва, район Выхино-Жулебино, микрорайон 136 (Дом, зона 4.2) 3 этап | D7: 24730 | E7: SPL | F7: Элита-Центр | G7: ЗАО "Тепловизор" | H7: Ридан
A8: 7 | B8: 61169c31-f526-11eb-9141-0050568dfbb1 | C8: г. Москва, район Выхино-Жулебино, микрорайон 136 (Дом, зона 4.3) 3 этап | D8: 25120 | E8: SPL | F8: Элита-Центр | G8: ЗАО "Тепловизор" | H8: Ридан
A9: 8 | B9: d3272be9-f689-11eb-9141-0050568dfbb1 | C9: г. Москва, район Гольяново, микрорайоны 1-2 (Дом, зона 3.4) 4 этап | D9: 8077 | E9: Этра | F9: SPL | G9: ЗАО "Тепловизор" | H9: Ридан
A10: 9 | B10: e05e0baa-f689-11eb-9141-0050568dfbb1 | C10: г. Москва, район Гольяново, микрорайоны 1-2 (Дом, зона 4.1) 4 этап | D10: 31019 | E10: Ридан | F10: ГС Групп | G10: ЗАО "Тепловизор" | H10: Ридан
A11: 10 | B11: eebcd618-f689-11eb-9141-0050568dfbb1 | C11: г. Москва, район Гольяново, микрорайоны 1-2 (Дом, зона 4.2) 4 этап | D11: 33755 | E11: Ридан | F11: ГС Групп | G11: ЗАО "Тепловизор" | H11: Ридан
A12: 11 | B12: 0150f7a6-f68a-11eb-9141-0050568dfbb1 | C12: г. Москва, район Гольяново, микрорайоны 1-2 (Дом, зона 4.3) 4 этап | D12: 27706 | E12: ПК Градус | F12: ГС Групп | G12: ЗАО "Тепловизор" | H12: Ридан
A13: 12 | B13: 0e7c427d-f68a-11eb-9141-0050568dfbb1 | C13: г. Москва, район Гольяново, микрорайоны 1-2 (Дом, зона 4.4) 5 этап | D13: 33755 | E13: Ридан | F13: ГС Групп | G13: ЗАО "Тепловизор" | H13: Ридан
... A27: 26 | B27: 379fcd85-8b05-11eb-913c-0050568dfbb1 | C27: г. Москва, район Восточное Измайлово, Сиреневый бульвар, вл, 4/4 | D27: 35783 | E27: Ридан | F27: ГС Групп | G27: ЗАО "Тепловизор" | H27: Ридан
B29: Перенос объекта с 12-ой волны
B30: Перенос объекта с 11-ой волны

Sheet МГЭ - график (14.09.2022)
A1: График заходов в МГЭ
A2: № | B2: #' | C2: Этап | D2: Район | E2: Округ | F2: РП | G2: Тип | H2: РТУ | I2: Адрес объекта строительства | J2: Заход МГЭ первый | K2: Заход МГЭ промеж. | L2: Заход МГЭ ЗОС | M2: Заход в МГЭ факт | N2: Объект в МГЭ | P2: Интервал захода в МГЭ | Q2: Вывод ОРП по домам | S2: Заход в МГЭ (14.09.2022) | T2: Дата изменения срока | U2: Выход из МГЭ | V2: Разница д. | W2: Доп.
B3: =IFERROR(__xludf.DUMMYFUNCTION("QUERY( IF(Q3=TRUE, filter('МГЭ график-данные'!$A$2:$M1000,'МГЭ график-данные'!$I$2:$I1000>=P3,'МГЭ график-данные'!$I$2:$I1000<=P4,'МГЭ график-данные'!$F$2:$F1000=""Д""), filter('МГЭ график-данные'!$A$2:$M1000,'МГЭ график-данные'!$I$2:$I1000>=P3,'МГЭ графи"&"к-данные'!$I$2:$I1000<=P4) ), ""Select Col1, Col2, Col3, Col4, Col5, Col6, Col7, Col8, Col11, Col12, Col13, Col9, Col10 order by Col9 asc"")"),"#REF!") -> #REF! | P3: 44803 | Q3: FALSE | S3: =IFERROR(VLOOKUP($B$3:$B1000,'График - форма'!$A$5:$I1000,9,0),"") | U3: =IFERROR(VLOOKUP($B3:B1000,'Свод объектов'!$D$3:$Z1000,15,0),"") | V3: =IFERROR(U3-M3,"") -> 0
P4: 45291 | S4: =IFERROR(VLOOKUP($B$3:$B1001,'График - форма'!$A$5:$I1001,9,0),"") | U4: =IFERROR(VLOOKUP($B4:B1001,'Свод объектов'!$D$3:$Z1001,15,0),"") | V4: =IFERROR(U4-M4,"") -> 0
S5: =IFERROR(VLOOKUP($B$3:$B1002,'График - форма'!$A$5:$I1002,9,0),"") | U5: =IFERROR(VLOOKUP($B5:B1002,'Свод объектов'!$D$3:$Z1002,15,0),"") | V5: =IFERROR(U5-M5,"") -> 0
S6: =IFERROR(VLOOKUP($B$3:$B1003,'График - форма'!$A$5:$I1003,9,0),"") | U6: =IFERROR(VLOOKUP($B6:B1003,'Свод объектов'!$D$3:$Z1003,15,0),"") | V6: =IFERROR(U6-M6,"") -> 0
S7: =IFERROR(VLOOKUP($B$3:$B1004,'График - форма'!$A$5:$I1004,9,0),"") | U7: =IFERROR(VLOOKUP($B7:B1004,'Свод объектов'!$D$3:$Z1004,15,0),"") | V7: =IFERROR(U7-M7,"") -> 0
S10: =IFERROR(VLOOKUP($B$3:$B1000,'График - форма'!$A$5:$I1000,9,0),"") | U10: =IFERROR(VLOOKUP($B10:B1000,'Свод объектов'!$D$3:$Z1000,15,0),"") | V10: =IFERROR(U10-M10,"") -> 0
S11: =IFERROR(VLOOKUP($B$3:$B1001,'График - форма'!$A$5:$I1001,9,0),"") | U11: =IFERROR(VLOOKUP($B11:B1001,'Свод объектов'!$D$3:$Z1001,15,0),"") | V11: =IFERROR(U11-M11,"") -> 0
S12: =IFERROR(VLOOKUP($B$3:$B1002,'График - форма'!$A$5:$I1002,9,0),"") | T12: 44796 | U12: =IFERROR(VLOOKUP($B12:B1002,'Свод объектов'!$D$3:$Z1002,15,0),"") | V12: =IFERROR(U12-M12,"") -> 0 | W12: 23.08.2022 - (20.06.2022 изменено на 30.08.2022) 06.09.2022 - (30.08.2022 изменено на 09.09.2022) 21.09.2022 - Перезаход после отрицательного
S13: =IFERROR(VLOOKUP($B$3:$B1003,'График - форма'!$A$5:$I1003,9,0),"") | U13: =IFERROR(VLOOKUP($B13:B1003,'Свод объектов'!$D$3:$Z1003,15,0),"") | V13: =IFERROR(U13-M13,"") -> 0
S14: =IFERROR(VLOOKUP($B$3:$B1004,'График - форма'!$A$5:$I1004,9,0),"") | U14: =IFERROR(VLOOKUP($B14:B1004,'Свод объектов'!$D$3:$Z1004,15,0),"") | V14: =IFERROR(U14-M14,"") -> 0
S15: =IFERROR(VLOOKUP($B$3:$B1005,'График - форма'!$A$5:$I1005,9,0),"") | U15: =IFERROR(VLOOKUP($B15:B1005,'Свод объектов'!$D$3:$Z1005,15,0),"") | V15: =IFERROR(U15-M15,"") -> 0
S16: =IFERROR(VLOOKUP($B$3:$B1006,'График - форма'!$A$5:$I1006,9,0),"") | U16: =IFERROR(VLOOKUP($B16:B1006,'Свод объектов'!$D$3:$Z1006,15,0),"") | V16: =IFERROR(U16-M16,"") -> 0
S17: =IFERROR(VLOOKUP($B$3:$B1007,'График - форма'!$A$5:$I1007,9,0),"") | U17: =IFERROR(VLOOKUP($B17:B1007,'Свод объектов'!$D$3:$Z1007,15,0),"") | V17: =IFERROR(U17-M17,"") -> 0
S18: =IFERROR(VLOOKUP($B$3:$B1008,'График - форма'!$A$5:$I1008,9,0),"") | U18: =IFERROR(VLOOKUP($B18:B1008,'Свод объектов'!$D$3:$Z1008,15,0),"") | V18: =IFERROR(U18-M18,"") -> 0
S19: =IFERROR(VLOOKUP($B$3:$B1009,'График - форма'!$A$5:$I1009,9,0),"") | U19: =IFERROR(VLOOKUP($B19:B1009,'Свод объектов'!$D$3:$Z1009,15,0),"") | V19: =IFERROR(U19-M19,"") -> 0
S20: =IFERROR(VLOOKUP($B$3:$B1010,'График - форма'!$A$5:$I1010,9,0),"") | U20: =IFERROR(VLOOKUP($B20:B1010,'Свод объектов'!$D$3:$Z1010,15,0),"") | V20: =IFERROR(U20-M20,"") -> 0
S22: =IFERROR(VLOOKUP($B$3:$B1000,'График - форма'!$A$5:$I1000,9,0),"") | U22: =IFERROR(VLOOKUP($B22:B1000,'Свод объектов'!$D$3:$Z1000,15,0),"") | V22: =IFERROR(U22-M22,"") -> 0
S24: =IFERROR(VLOOKUP($B$3:$B1000,'График - форма'!$A$5:$I1000,9,0),"") | U24: =IFERROR(VLOOKUP($B24:B1000,'Свод объектов'!$D$3:$Z1000,15,0),"") | V24: =IFERROR(U24-M24,"") -> 0
S25: 44819 | T25: 44809 | U25: =IFERROR(VLOOKUP($B25:B1001,'Свод объектов'!$D$3:$Z1001,15,0),"") | V25: =IFERROR(U25-M25,"") -> 0 | W25: 05.09.2022 - (15.09.2022 изменено на 14.10.2022) 13.09.2022 - (14.10.2022 изменено на 30.09.2022)
S26: 44834 | T26: 44804 | U26: =IFERROR(VLOOKUP($B26:B1002,'Свод объектов'!$D$3:$Z1002,15,0),"") | V26: =IFERROR(U26-M26,"") -> 0 | W26: 31.08.2022 - добавлено (вход промежуточный) 16.01.23 - заход в МГЭ после перепроектирования
S27: =IFERROR(VLOOKUP($B$3:$B1000,'График - форма'!$A$5:$I1000,9,0),"") | U27: =IFERROR(VLOOKUP($B27:B1003,'Свод объектов'!$D$3:$Z1003,15,0),"") | V27: =IFERROR(U27-M27,"") -> 0
S28: =IFERROR(VLOOKUP($B$3:$B1001,'График - форма'!$A$5:$I1001,9,0),"") | U28: =IFERROR(VLOOKUP($B28:B1004,'Свод объектов'!$D$3:$Z1004,15,0),"") | V28: =IFERROR(U28-M28,"") -> 0
S29: =IFERROR(VLOOKUP($B$3:$B1002,'График - форма'!$A$5:$I1002,9,0),"") | U29: =IFERROR(VLOOKUP($B29:B1005,'Свод объектов'!$D$3:$Z1005,15,0),"") | V29: =IFERROR(U29-M29,"") -> 0
S30: =IFERROR(VLOOKUP($B$3:$B1003,'График - форма'!$A$5:$I1003,9,0),"") | U30: =IFERROR(VLOOKUP($B30:B1006,'Свод объектов'!$D$3:$Z1006,15,0),"") | V30: =IFERROR(U30-M30,"") -> 0
S31: =IFERROR(VLOOKUP($B$3:$B1004,'График - форма'!$A$5:$I1004,9,0),"") | U31: =IFERROR(VLOOKUP($B31:B1007,'Свод объектов'!$D$3:$Z1007,15,0),"") | V31: =IFERROR(U31-M31,"") -> 0
S32: =IFERROR(VLOOKUP($B$3:$B1005,'График - форма'!$A$5:$I1005,9,0),"") | U32: =IFERROR(VLOOKUP($B32:B1008,'Свод объектов'!$D$3:$Z1008,15,0),"") | V32: =IFERROR(U32-M32,"") -> 0
S33: =IFERROR(VLOOKUP($B$3:$B1006,'График - форма'!$A$5:$I1006,9,0),"") | U33: =IFERROR(VLOOKUP($B33:B1009,'Свод объектов'!$D$3:$Z1009,15,0),"") | V33: =IFERROR(U33-M33,"") -> 0
S34: =IFERROR(VLOOKUP($B$3:$B1007,'График - форма'!$A$5:$I1007,9,0),"") | U34: =IFERROR(VLOOKUP($B34:B1010,'Свод объектов'!$D$3:$Z1010,15,0),"") | V34: =IFERROR(U34-M34,"") -> 0
S35: 44834 | T35: 44810 | U35: =IFERROR(VLOOKUP($B35:B1011,'Свод объектов'!$D$3:$Z1011,15,0),"") | V35: =IFERROR(U35-M35,"") -> 0
S36: =IFERROR(VLOOKUP($B$3:$B1000,'График - форма'!$A$5:$I1000,9,0),"") | U36: =IFERROR(VLOOKUP($B36:B1012,'Свод объектов'!$D$3:$Z1012,15,0),"") | V36: =IFERROR(U36-M36,"") -> 0
S37: =IFERROR(VLOOKUP($B$3:$B1001,'График - форма'!$A$5:$I1001,9,0),"") | U37: =IFERROR(VLOOKUP($B37:B1013,'Свод объектов'!$D$3:$Z1013,15,0),"") | V37: =IFERROR(U37-M37,"") -> 0
S38: =IFERROR(VLOOKUP($B$3:$B1002,'График - форма'!$A$5:$I1002,9,0),"") | U38: =IFERROR(VLOOKUP($B38:B1014,'Свод объектов'!$D$3:$Z1014,15,0),"") | V38: =IFERROR(U38-M38,"") -> 0
S39: =IFERROR(VLOOKUP($B$3:$B1003,'График - форма'!$A$5:$I1003,9,0),"") | U39: =IFERROR(VLOOKUP($B39:B1015,'Свод объектов'!$D$3:$Z1015,15,0),"") | V39: =IFERROR(U39-M39,"") -> 0
S40: =IFERROR(VLOOKUP($B$3:$B1004,'График - форма'!$A$5:$I1004,9,0),"") | U40: =IFERROR(VLOOKUP($B40:B1016,'Свод объектов'!$D$3:$Z1016,15,0),"") | V40: =IFERROR(U40-M40,"") -> 0
S41: =IFERROR(VLOOKUP($B$3:$B1005,'График - форма'!$A$5:$I1005,9,0),"") | U41: =IFERROR(VLOOKUP($B41:B1017,'Свод объектов'!$D$3:$Z1017,15,0),"") | V41: =IFERROR(U41-M41,"") -> 0
S42: =IFERROR(VLOOKUP($B$3:$B1006,'График - форма'!$A$5:$I1006,9,0),"") | U42: =IFERROR(VLOOKUP($B42:B1018,'Свод объектов'!$D$3:$Z1018,15,0),"") | V42: =IFERROR(U42-M42,"") -> 0
S43: =IFERROR(VLOOKUP($B$3:$B1007,'График - форма'!$A$5:$I1007,9,0),"") | U43: =IFERROR(VLOOKUP($B43:B1019,'Свод объектов'!$D$3:$Z1019,15,0),"") | V43: =IFERROR(U43-M43,"") -> 0
S44: =IFERROR(VLOOKUP($B$3:$B1008,'График - форма'!$A$5:$I1008,9,0),"") | U44: =IFERROR(VLOOKUP($B44:B1020,'Свод объектов'!$D$3:$Z1020,15,0),"") | V44: =IFERROR(U44-M44,"") -> 0
S45: =IFERROR(VLOOKUP($B$3:$B1009,'График - форма'!$A$5:$I1009,9,0),"") | U45: =IFERROR(VLOOKUP($B45:B1021,'Свод объектов'!$D$3:$Z1021,15,0),"") | V45: =IFERROR(U45-M45,"") -> 0
S46: 44854
S47: =IFERROR(VLOOKUP($B$3:$B1000,'График - форма'!$A$5:$I1000,9,0),"") | U47: =IFERROR(VLOOKUP($B47:B1000,'Свод объектов'!$D$3:$Z1000,15,0),"") | V47: =IFERROR(U47-M47,"") -> 0
S48: =IFERROR(VLOOKUP($B$3:$B1001,'График - форма'!$A$5:$I1001,9,0),"") | U48: =IFERROR(VLOOKUP($B48:B1001,'Свод объектов'!$D$3:$Z1001,15,0),"") | V48: =IFERROR(U48-M48,"") -> 0
S49: =IFERROR(VLOOKUP($B$3:$B1002,'График - форма'!$A$5:$I1002,9,0),"") | U49: =IFERROR(VLOOKUP($B49:B1002,'Свод объектов'!$D$3:$Z1002,15,0),"") | V49: =IFERROR(U49-M49,"") -> 0
S50: =IFERROR(VLOOKUP($B$3:$B1003,'График - форма'!$A$5:$I1003,9,0),"") | U50: =IFERROR(VLOOKUP($B50:B1003,'Свод объектов'!$D$3:$Z1003,15,0),"") | V50: =IFERROR(U50-M50,"") -> 0
S51: 44863
S52: =IFERROR(VLOOKUP($B$3:$B1000,'График - форма'!$A$5:$I1000,9,0),"") | U52: =IFERROR(VLOOKUP($B52:B1000,'Свод объектов'!$D$3:$Z1000,15,0),"") | V52: =IFERROR(U52-M52,"") -> 0
S53: =IFERROR(VLOOKUP($B$3:$B1001,'График - форма'!$A$5:$I1001,9,0),"") | U53: =IFERROR(VLOOKUP($B53:B1001,'Свод объектов'!$D$3:$Z1001,15,0),"") | V53: =IFERROR(U53-M53,"") -> 0
S54: =IFERROR(VLOOKUP($B$3:$B1002,'График - форма'!$A$5:$I1002,9,0),"") | U54: =IFERROR(VLOOKUP($B54:B1002,'Свод объектов'!$D$3:$Z1002,15,0),"") | V54: =IFERROR(U54-M54,"") -> 0
S55: 44864
S56: =IFERROR(VLOOKUP($B$3:$B1000,'График - форма'!$A$5:$I1000,9,0),"") | U56: =IFERROR(VLOOKUP($B56:B1000,'Свод объектов'!$D$3:$Z1000,15,0),"") | V56: =IFERROR(U56-M56,"") -> 0
S57: =IFERROR(VLOOKUP($B$3:$B1001,'График - форма'!$A$5:$I1001,9,0),"") | U57: =IFERROR(VLOOKUP($B57:B1001,'Свод объектов'!$D$3:$Z1001,15,0),"") | V57: =IFERROR(U57-M57,"") -> 0
S58: 44803 | T58: 44810 | U58: =IFERROR(VLOOKUP($B58:B1002,'Свод объектов'!$D$3:$Z1002,15,0),"") | V58: =IFERROR(U58-M58,"") -> 0
S59: 44804 | T59: 44810 | U59: =IFERROR(VLOOKUP($B59:B1003,'Свод объектов'!$D$3:$Z1003,15,0),"") | V59: =IFERROR(U59-M59,"") -> 0
S60: 44804 | T60: 44810 | U60: =IFERROR(VLOOKUP($B60:B1004,'Свод объектов'!$D$3:$Z1004,15,0),"") | V60: =IFERROR(U60-M60,"") -> 0
S61: 44865
S62: 44804 | T62: 44810 | U62: =IFERROR(VLOOKUP($B62:B1000,'Свод объектов'!$D$3:$Z1000,15,0),"") | V62: =IFERROR(U62-M62,"") -> 0
S63: 44865
S64: 44804 | T64: 44818 | U64: =IFERROR(VLOOKUP($B64:B1000,'Свод объектов'!$D$3:$Z1000,15,0),"") | V64: =IFERROR(U64-M64,"") -> 0
S65: 44805 | T65: 44804 | U65: =IFERROR(VLOOKUP($B65:B1001,'Свод объектов'!$D$3:$Z1001,15,0),"") | V65: =IFERROR(U65-M65,"") -> 0
S66: =IFERROR(VLOOKUP($B$3:$B1000,'График - форма'!$A$5:$I1000,9,0),"") | U66: =IFERROR(VLOOKUP($B66:B1002,'Свод объектов'!$D$3:$Z1002,15,0),"") | V66: =IFERROR(U66-M66,"") -> 0
S67: =IFERROR(VLOOKUP($B$3:$B1001,'График - форма'!$A$5:$I1001,9,0),"") | U67: =IFERROR(VLOOKUP($B67:B1003,'Свод объектов'!$D$3:$Z1003,15,0),"") | V67: =IFERROR(U67-M67,"") -> 0
S68: =IFERROR(VLOOKUP($B$3:$B1002,'График - форма'!$A$5:$I1002,9,0),"") | U68: =IFERROR(VLOOKUP($B68:B1004,'Свод объектов'!$D$3:$Z1004,15,0),"") | V68: =IFERROR(U68-M68,"") -> 0
S69: =IFERROR(VLOOKUP($B$3:$B1003,'График - форма'!$A$5:$I1003,9,0),"") | U69: =IFERROR(VLOOKUP($B69:B1005,'Свод объектов'!$D$3:$Z1005,15,0),"") | V69: =IFERROR(U69-M69,"") -> 0
S70: =IFERROR(VLOOKUP($B$3:$B1004,'График - форма'!$A$5:$I1004,9,0),"") | U70: =IFERROR(VLOOKUP($B70:B1006,'Свод объектов'!$D$3:$Z1006,15,0),"") | V70: =IFERROR(U70-M70,"") -> 0
S71: =IFERROR(VLOOKUP($B$3:$B1005,'График - форма'!$A$5:$I1005,9,0),"") | U71: =IFERROR(VLOOKUP($B71:B1007,'Свод объектов'!$D$3:$Z1007,15,0),"") | V71: =IFERROR(U71-M71,"") -> 0
S72: =IFERROR(VLOOKUP($B$3:$B1006,'График - форма'!$A$5:$I1006,9,0),"") | U72: =IFERROR(VLOOKUP($B72:B1008,'Свод объектов'!$D$3:$Z1008,15,0),"") | V72: =IFERROR(U72-M72,"") -> 0
S73: =IFERROR(VLOOKUP($B$3:$B1007,'График - форма'!$A$5:$I1007,9,0),"") | U73: =IFERROR(VLOOKUP($B73:B1009,'Свод объектов'!$D$3:$Z1009,15,0),"") | V73: =IFERROR(U73-M73,"") -> 0
S74: =IFERROR(VLOOKUP($B$3:$B1008,'График - форма'!$A$5:$I1008,9,0),"") | U74: =IFERROR(VLOOKUP($B74:B1010,'Свод объектов'!$D$3:$Z1010,15,0),"") | V74: =IFERROR(U74-M74,"") -> 0
S78: =IFERROR(VLOOKUP($B$3:$B1000,'График - форма'!$A$5:$I1000,9,0),"") | U78: =IFERROR(VLOOKUP($B78:B1000,'Свод объектов'!$D$3:$Z1000,15,0),"") | V78: =IFERROR(U78-M78,"") -> 0
S79: =IFERROR(VLOOKUP($B$3:$B1001,'График - форма'!$A$5:$I1001,9,0),"") | U79: =IFERROR(VLOOKUP($B79:B1001,'Свод объектов'!$D$3:$Z1001,15,0),"") | V79: =IFERROR(U79-M79,"") -> 0
S80: =IFERROR(VLOOKUP($B$3:$B1002,'График - форма'!$A$5:$I1002,9,0),"") | U80: =IFERROR(VLOOKUP($B80:B1002,'Свод объектов'!$D$3:$Z1002,15,0),"") | V80: =IFERROR(U80-M80,"") -> 0
S81: =IFERROR(VLOOKUP($B$3:$B1003,'График - форма'!$A$5:$I1003,9,0),"") | U81: =IFERROR(VLOOKUP($B81:B1003,'Свод объектов'!$D$3:$Z1003,15,0),"") | V81: =IFERROR(U81-M81,"") -> 0
S82: =IFERROR(VLOOKUP($B$3:$B1004,'График - форма'!$A$5:$I1004,9,0),"") | U82: =IFERROR(VLOOKUP($B82:B1004,'Свод объектов'!$D$3:$Z1004,15,0),"") | V82: =IFERROR(U82-M82,"") -> 0
S84: =IFERROR(VLOOKUP($B$3:$B1000,'График - форма'!$A$5:$I1000,9,0),"") | U84: =IFERROR(VLOOKUP($B84:B1000,'Свод объектов'!$D$3:$Z1000,15,0),"") | V84: =IFERROR(U84-M84,"") -> 0

Sheet Дома начало ПИР 2021-2022 + рис
A1: Объекты 2021 год
A2: № | B2: №" | C2: Этап | D2: Район | E2: Округ | F2: РП | G2: Тип | H2: Т\К | I2: Адрес объекта строительства | J2: ПД/РД | K2: ОРП, м2 | L2: Договор СМР/УК | M2: Начало ПИР 8 мес. | N2: Первая МГЭ (Выход) | O2: Начало СМР | P2: МГЭ ЗОС (Вход) | Q2: РВЭ | R2: КС-11 | S2: Сумма по договору | T2: Авансы
A3: 1 | B3: 58 | C3: =VLOOKUP(B3,'Свод объектов'!$D$3:$V146,2,0) -> #REF! | D3: =VLOOKUP(B3,'Свод объектов'!$D$3:$V146,3,0) -> #REF! | E3: =VLOOKUP(B3,'Свод объектов'!$D$3:$V146,4,0) -> #REF! | F3: =VLOOKUP(B3,'Свод объектов'!$D$3:$V146,5,0) -> #REF! | G3: =VLOOKUP(B3,'Свод объектов'!$D$3:$V146,6,0) -> #REF! | H3: =VLOOKUP(B3,'Свод объектов'!$D$3:$V146,7,0) -> #REF! | I3: =VLOOKUP(B3,'Свод объектов'!$D$3:$V146,9,0) -> #REF! | J3: =VLOOKUP(B3,'Свод объектов'!$D$3:$V146,11,0) -> #REF! | K3: =VLOOKUP(B3,'Свод объектов'!$D$3:$V146,12,0) -> #REF! | L3: =VLOOKUP(B3,'Свод объектов'!$D$3:$V146,13,0) -> #REF! | M3: =VLOOKUP(B3,'Свод объектов'!$D$3:$V146,14,0) -> #REF! | N3: =VLOOKUP(B3,'Свод объектов'!$D$3:$V146,15,0) -> #REF! | O3: =VLOOKUP(B3,'Свод объектов'!$D$3:$V146,16,0) -> #REF! | P3: =VLOOKUP(B3,'Свод объектов'!$D$3:$V146,17,0) -> #REF! | Q3: =VLOOKUP(B3,'Свод объектов'!$D$3:$V146,18,0) -> #REF! | R3: =VLOOKUP(B3,'Свод объектов'!$D$3:$V146,19,0) -> #REF!
A4: 2 | B4: 69 | C4: =VLOOKUP(B4,'Свод объектов'!$D$3:$V147,2,0) -> #REF! | D4: =VLOOKUP(B4,'Свод объектов'!$D$3:$V147,3,0) -> #REF! | E4: =VLOOKUP(B4,'Свод объектов'!$D$3:$V147,4,0) -> #REF! | F4: =VLOOKUP(B4,'Свод объектов'!$D$3:$V147,5,0) -> #REF! | G4: =VLOOKUP(B4,'Свод объектов'!$D$3:$V147,6,0) -> #REF! | H4: =VLOOKUP(B4,'Свод объектов'!$D$3:$V147,7,0) -> #REF! | I4: =VLOOKUP(B4,'Свод объектов'!$D$3:$V147,9,0) -> #REF! | J4: =VLOOKUP(B4,'Свод объектов'!$D$3:$V147,11,0) -> #REF! | K4: =VLOOKUP(B4,'Свод объектов'!$D$3:$V147,12,0) -> #REF! | L4: =VLOOKUP(B4,'Свод объектов'!$D$3:$V147,13,0) -> #REF! | M4: =VLOOKUP(B4,'Свод объектов'!$D$3:$V147,14,0) -> #REF! | N4: =VLOOKUP(B4,'Свод объектов'!$D$3:$V147,15,0) -> #REF! | O4: =VLOOKUP(B4,'Свод объектов'!$D$3:$V147,16,0) -> #REF! | P4: =VLOOKUP(B4,'Свод объектов'!$D$3:$V147,17,0) -> #REF! | Q4: =VLOOKUP(B4,'Свод объектов'!$D$3:$V147,18,0) -> #REF! | R4: =VLOOKUP(B4,'Свод объектов'!$D$3:$V147,19,0) -> #REF!
A5: 3 | B5: 70 | C5: =VLOOKUP(B5,'Свод объектов'!$D$3:$V148,2,0) -> #REF! | D5: =VLOOKUP(B5,'Свод объектов'!$D$3:$V148,3,0) -> #REF! | E5: =VLOOKUP(B5,'Свод объектов'!$D$3:$V148,4,0) -> #REF! | F5: =VLOOKUP(B5,'Свод объектов'!$D$3:$V148,5,0) -> #REF! | G5: =VLOOKUP(B5,'Свод объектов'!$D$3:$V148,6,0) -> #REF! | H5: =VLOOKUP(B5,'Свод объектов'!$D$3:$V148,7,0) -> #REF! | I5: =VLOOKUP(B5,'Свод объектов'!$D$3:$V148,9,0) -> #REF! | J5: =VLOOKUP(B5,'Свод объектов'!$D$3:$V148,11,0) -> #REF! | K5: =VLOOKUP(B5,'Свод объектов'!$D$3:$V148,12,0) -> #REF! | L5: =VLOOKUP(B5,'Свод объектов'!$D$3:$V148,13,0) -> #REF! | M5: =VLOOKUP(B5,'Свод объектов'!$D$3:$V148,14,0) -> #REF! | N5: =VLOOKUP(B5,'Свод объектов'!$D$3:$V148,15,0) -> #REF! | O5: =VLOOKUP(B5,'Свод объектов'!$D$3:$V148,16,0) -> #REF! | P5: =VLOOKUP(B5,'Свод объектов'!$D$3:$V148,17,0) -> #REF! | Q5: =VLOOKUP(B5,'Свод объектов'!$D$3:$V148,18,0) -> #REF! | R5: =VLOOKUP(B5,'Свод объектов'!$D$3:$V148,19,0) -> #REF!
A6: 4 | B6: 77 | C6: =VLOOKUP(B6,'Свод объектов'!$D$3:$V149,2,0) -> #REF! | D6: =VLOOKUP(B6,'Свод объектов'!$D$3:$V149,3,0) -> #REF! | E6: =VLOOKUP(B6,'Свод объектов'!$D$3:$V149,4,0) -> #REF! | F6: =VLOOKUP(B6,'Свод объектов'!$D$3:$V149,5,0) -> #REF! | G6: =VLOOKUP(B6,'Свод объектов'!$D$3:$V149,6,0) -> #REF! | H6: =VLOOKUP(B6,'Свод объектов'!$D$3:$V149,7,0) -> #REF! | I6: =VLOOKUP(B6,'Свод объектов'!$D$3:$V149,9,0) -> #REF! | J6: =VLOOKUP(B6,'Свод объектов'!$D$3:$V149,11,0) -> #REF! | K6: =VLOOKUP(B6,'Свод объектов'!$D$3:$V149,12,0) -> #REF! | L6: =VLOOKUP(B6,'Свод объектов'!$D$3:$V149,13,0) -> #REF! | M6: =VLOOKUP(B6,'Свод объектов'!$D$3:$V149,14,0) -> #REF! | N6: =VLOOKUP(B6,'Свод объектов'!$D$3:$V149,15,0) -> #REF! | O6: =VLOOKUP(B6,'Свод объектов'!$D$3:$V149,16,0) -> #REF! | P6: =VLOOKUP(B6,'Свод объектов'!$D$3:$V149,17,0) -> #REF! | Q6: =VLOOKUP(B6,'Свод объектов'!$D$3:$V149,18,0) -> #REF! | R6: =VLOOKUP(B6,'Свод объектов'!$D$3:$V149,19,0) -> #REF!
A7: 5 | B7: 79 | C7: =VLOOKUP(B7,'Свод объектов'!$D$3:$V150,2,0) -> #REF! | D7: =VLOOKUP(B7,'Свод объектов'!$D$3:$V150,3,0) -> #REF! | E7: =VLOOKUP(B7,'Свод объектов'!$D$3:$V150,4,0) -> #REF! | F7: =VLOOKUP(B7,'Свод объектов'!$D$3:$V150,5,0) -> #REF! | G7: =VLOOKUP(B7,'Свод объектов'!$D$3:$V150,6,0) -> #REF! | H7: =VLOOKUP(B7,'Свод объектов'!$D$3:$V150,7,0) -> #REF! | I7: =VLOOKUP(B7,'Свод объектов'!$D$3:$V150,9,0) -> #REF! | J7: =VLOOKUP(B7,'Свод объектов'!$D$3:$V150,11,0) -> #REF! | K7: =VLOOKUP(B7,'Свод объектов'!$D$3:$V150,12,0) -> #REF! | L7: =VLOOKUP(B7,'Свод объектов'!$D$3:$V150,13,0) -> #REF! | M7: =VLOOKUP(B7,'Свод объектов'!$D$3:$V150,14,0) -> #REF! | N7: =VLOOKUP(B7,'Свод объектов'!$D$3:$V150,15,0) -> #REF! | O7: =VLOOKUP(B7,'Свод объектов'!$D$3:$V150,16,0) -> #REF! | P7: =VLOOKUP(B7,'Свод объектов'!$D$3:$V150,17,0) -> #REF! | Q7: =VLOOKUP(B7,'Свод объектов'!$D$3:$V150,18,0) -> #REF! | R7: =VLOOKUP(B7,'Свод объектов'!$D$3:$V150,19,0) -> #REF!
A8: 6 | B8: 82 | C8: =VLOOKUP(B8,'Свод объектов'!$D$3:$V151,2,0) -> #REF! | D8: =VLOOKUP(B8,'Свод объектов'!$D$3:$V151,3,0) -> #REF! | E8: =VLOOKUP(B8,'Свод объектов'!$D$3:$V151,4,0) -> #REF! | F8: =VLOOKUP(B8,'Свод объектов'!$D$3:$V151,5,0) -> #REF! | G8: =VLOOKUP(B8,'Свод объектов'!$D$3:$V151,6,0) -> #REF! | H8: =VLOOKUP(B8,'Свод объектов'!$D$3:$V151,7,0) -> #REF! | I8: =VLOOKUP(B8,'Свод объектов'!$D$3:$V151,9,0) -> #REF! | J8: =VLOOKUP(B8,'Свод объектов'!$D$3:$V151,11,0) -> #REF! | K8: =VLOOKUP(B8,'Свод объектов'!$D$3:$V151,12,0) -> #REF! | L8: =VLOOKUP(B8,'Свод объектов'!$D$3:$V151,13,0) -> #REF! | M8: =VLOOKUP(B8,'Свод объектов'!$D$3:$V151,14,0) -> #REF! | N8: =VLOOKUP(B8,'Свод объектов'!$D$3:$V151,15,0) -> #REF! | O8: =VLOOKUP(B8,'Свод объектов'!$D$3:$V151,16,0) -> #REF! | P8: =VLOOKUP(B8,'Свод объектов'!$D$3:$V151,17,0) -> #REF! | Q8: =VLOOKUP(B8,'Свод объектов'!$D$3:$V151,18,0) -> #REF! | R8: =VLOOKUP(B8,'Свод объектов'!$D$3:$V151,19,0) -> #REF! | S8: 47666477 | T8: 14299943
A9: 7 | B9: 83 | C9: =VLOOKUP(B9,'Свод объектов'!$D$3:$V152,2,0) -> #REF! | D9: =VLOOKUP(B9,'Свод объектов'!$D$3:$V152,3,0) -> #REF! | E9: =VLOOKUP(B9,'Свод объектов'!$D$3:$V152,4,0) -> #REF! | F9: =VLOOKUP(B9,'Свод объектов'!$D$3:$V152,5,0) -> #REF! | G9: =VLOOKUP(B9,'Свод объектов'!$D$3:$V152,6,0) -> #REF! | H9: =VLOOKUP(B9,'Свод объектов'!$D$3:$V152,7,0) -> #REF! | I9: =VLOOKUP(B9,'Свод объектов'!$D$3:$V152,9,0) -> #REF! | J9: =VLOOKUP(B9,'Свод объектов'!$D$3:$V152,11,0) -> #REF! | K9: =VLOOKUP(B9,'Свод объектов'!$D$3:$V152,12,0) -> #REF! | L9: =VLOOKUP(B9,'Свод объектов'!$D$3:$V152,13,0) -> #REF! | M9: =VLOOKUP(B9,'Свод объектов'!$D$3:$V152,14,0) -> #REF! | N9: =VLOOKUP(B9,'Свод объектов'!$D$3:$V152,15,0) -> #REF! | O9: =VLOOKUP(B9,'Свод объектов'!$D$3:$V152,16,0) -> #REF! | P9: =VLOOKUP(B9,'Свод объектов'!$D$3:$V152,17,0) -> #REF! | Q9: =VLOOKUP(B9,'Свод объектов'!$D$3:$V152,18,0) -> #REF! | R9: =VLOOKUP(B9,'Свод объектов'!$D$3:$V152,19,0) -> #REF!
A10: 8 | B10: 84 | C10: =VLOOKUP(B10,'Свод объектов'!$D$3:$V153,2,0) -> #REF! | D10: =VLOOKUP(B10,'Свод объектов'!$D$3:$V153,3,0) -> #REF! | E10: =VLOOKUP(B10,'Свод объектов'!$D$3:$V153,4,0) -> #REF! | F10: =VLOOKUP(B10,'Свод объектов'!$D$3:$V153,5,0) -> #REF! | G10: =VLOOKUP(B10,'Свод объектов'!$D$3:$V153,6,0) -> #REF! | H10: =VLOOKUP(B10,'Свод объектов'!$D$3:$V153,7,0) -> #REF! | I10: =VLOOKUP(B10,'Свод объектов'!$D$3:$V153,9,0) -> #REF! | J10: =VLOOKUP(B10,'Свод объектов'!$D$3:$V153,11,0) -> #REF! | K10: =VLOOKUP(B10,'Свод объектов'!$D$3:$V153,12,0) -> #REF! | L10: =VLOOKUP(B10,'Свод объектов'!$D$3:$V153,13,0) -> #REF! | M10: =VLOOKUP(B10,'Свод объектов'!$D$3:$V153,14,0) -> #REF! | N10: =VLOOKUP(B10,'Свод объектов'!$D$3:$V153,15,0) -> #REF! | O10: =VLOOKUP(B10,'Свод объектов'!$D$3:$V153,16,0) -> #REF! | P10: =VLOOKUP(B10,'Свод объектов'!$D$3:$V153,17,0) -> #REF! | Q10: =VLOOKUP(B10,'Свод объектов'!$D$3:$V153,18,0) -> #REF! | R10: =VLOOKUP(B10,'Свод объектов'!$D$3:$V153,19,0) -> #REF!
A11: 9 | B11: 85 | C11: =VLOOKUP(B11,'Свод объектов'!$D$3:$V154,2,0) -> #REF! | D11: =VLOOKUP(B11,'Свод объектов'!$D$3:$V154,3,0) -> #REF! | E11: =VLOOKUP(B11,'Свод объектов'!$D$3:$V154,4,0) -> #REF! | F11: =VLOOKUP(B11,'Свод объектов'!$D$3:$V154,5,0) -> #REF! | G11: =VLOOKUP(B11,'Свод объектов'!$D$3:$V154,6,0) -> #REF! | H11: =VLOOKUP(B11,'Свод объектов'!$D$3:$V154,7,0) -> #REF! | I11: =VLOOKUP(B11,'Свод объектов'!$D$3:$V154,9,0) -> #REF! | J11: =VLOOKUP(B11,'Свод объектов'!$D$3:$V154,11,0) -> #REF! | K11: =VLOOKUP(B11,'Свод объектов'!$D$3:$V154,12,0) -> #REF! | L11: =VLOOKUP(B11,'Свод объектов'!$D$3:$V154,13,0) -> #REF! | M11: =VLOOKUP(B11,'Свод объектов'!$D$3:$V154,14,0) -> #REF! | N11: =VLOOKUP(B11,'Свод объектов'!$D$3:$V154,15,0) -> #REF! | O11: =VLOOKUP(B11,'Свод объектов'!$D$3:$V154,16,0) -> #REF! | P11: =VLOOKUP(B11,'Свод объектов'!$D$3:$V154,17,0) -> #REF! | Q11: =VLOOKUP(B11,'Свод объектов'!$D$3:$V154,18,0) -> #REF! | R11: =VLOOKUP(B11,'Свод объектов'!$D$3:$V154,19,0) -> #REF! | S11: 39519305 | T11: 11855792
A12: 10 | B12: 86 | C12: =VLOOKUP(B12,'Свод объектов'!$D$3:$V155,2,0) -> #REF! | D12: =VLOOKUP(B12,'Свод объектов'!$D$3:$V155,3,0) -> #REF! | E12: =VLOOKUP(B12,'Свод объектов'!$D$3:$V155,4,0) -> #REF! | F12: =VLOOKUP(B12,'Свод объектов'!$D$3:$V155,5,0) -> #REF! | G12: =VLOOKUP(B12,'Свод объектов'!$D$3:$V155,6,0) -> #REF! | H12: =VLOOKUP(B12,'Свод объектов'!$D$3:$V155,7,0) -> #REF! | I12: =VLOOKUP(B12,'Свод объектов'!$D$3:$V155,9,0) -> #REF! | J12: =VLOOKUP(B12,'Свод объектов'!$D$3:$V155,11,0) -> #REF! | K12: =VLOOKUP(B12,'Свод объектов'!$D$3:$V155,12,0) -> #REF! | L12: =VLOOKUP(B12,'Свод объектов'!$D$3:$V155,13,0) -> #REF! | M12: =VLOOKUP(B12,'Свод объектов'!$D$3:$V155,14,0) -> #REF! | N12: =VLOOKUP(B12,'Свод объектов'!$D$3:$V155,15,0) -> #REF! | O12: =VLOOKUP(B12,'Свод объектов'!$D$3:$V155,16,0) -> #REF! | P12: =VLOOKUP(B12,'Свод объектов'!$D$3:$V155,17,0) -> #REF! | Q12: =VLOOKUP(B12,'Свод объектов'!$D$3:$V155,18,0) -> #REF! | R12: =VLOOKUP(B12,'Свод объектов'!$D$3:$V155,19,0) -> #REF! | S12: 96222777 | T12: 19244555
A13: 11 | B13: 87 | C13: =VLOOKUP(B13,'Свод объектов'!$D$3:$V156,2,0) -> #REF! | D13: =VLOOKUP(B13,'Свод объектов'!$D$3:$V156,3,0) -> #REF! | E13: =VLOOKUP(B13,'Свод объектов'!$D$3:$V156,4,0) -> #REF! | F13: =VLOOKUP(B13,'Свод объектов'!$D$3:$V156,5,0) -> #REF! | G13: =VLOOKUP(B13,'Свод объектов'!$D$3:$V156,6,0) -> #REF! | H13: =VLOOKUP(B13,'Свод объектов'!$D$3:$V156,7,0) -> #REF! | I13: =VLOOKUP(B13,'Свод объектов'!$D$3:$V156,9,0) -> #REF! | J13: =VLOOKUP(B13,'Свод объектов'!$D$3:$V156,11,0) -> #REF! | K13: =VLOOKUP(B13,'Свод объектов'!$D$3:$V156,12,0) -> #REF! | L13: =VLOOKUP(B13,'Свод объектов'!$D$3:$V156,13,0) -> #REF! | M13: =VLOOKUP(B13,'Свод объектов'!$D$3:$V156,14,0) -> #REF! | N13: =VLOOKUP(B13,'Свод объектов'!$D$3:$V156,15,0) -> #REF! | O13: =VLOOKUP(B13,'Свод объектов'!$D$3:$V156,16,0) -> #REF! | P13: =VLOOKUP(B13,'Свод объектов'!$D$3:$V156,17,0) -> #REF! | Q13: =VLOOKUP(B13,'Свод объектов'!$D$3:$V156,18,0) -> #REF! | R13: =VLOOKUP(B13,'Свод объектов'!$D$3:$V156,19,0) -> #REF!
A14: 12 | B14: 88 | C14: =VLOOKUP(B14,'Свод объектов'!$D$3:$V157,2,0) -> #REF! | D14: =VLOOKUP(B14,'Свод объектов'!$D$3:$V157,3,0) -> #REF! | E14: =VLOOKUP(B14,'Свод объектов'!$D$3:$V157,4,0) -> #REF! | F14: =VLOOKUP(B14,'Свод объектов'!$D$3:$V157,5,0) -> #REF! | G14: =VLOOKUP(B14,'Свод объектов'!$D$3:$V157,6,0) -> #REF! | H14: =VLOOKUP(B14,'Свод объектов'!$D$3:$V157,7,0) -> #REF! | I14: =VLOOKUP(B14,'Свод объектов'!$D$3:$V157,9,0) -> #REF! | J14: =VLOOKUP(B14,'Свод объектов'!$D$3:$V157,11,0) -> #REF! | K14: =VLOOKUP(B14,'Свод объектов'!$D$3:$V157,12,0) -> #REF! | L14: =VLOOKUP(B14,'Свод объектов'!$D$3:$V157,13,0) -> #REF! | M14: =VLOOKUP(B14,'Свод объектов'!$D$3:$V157,14,0) -> #REF! | N14: =VLOOKUP(B14,'Свод объектов'!$D$3:$V157,15,0) -> #REF! | O14: =VLOOKUP(B14,'Свод объектов'!$D$3:$V157,16,0) -> #REF! | P14: =VLOOKUP(B14,'Свод объектов'!$D$3:$V157,17,0) -> #REF! | Q14: =VLOOKUP(B14,'Свод объектов'!$D$3:$V157,18,0) -> #REF! | R14: =VLOOKUP(B14,'Свод объектов'!$D$3:$V157,19,0) -> #REF!
A15: 13 | B15: 89 | C15: =VLOOKUP(B15,'Свод объектов'!$D$3:$V158,2,0) -> #REF! | D15: =VLOOKUP(B15,'Свод объектов'!$D$3:$V158,3,0) -> #REF! | E15: =VLOOKUP(B15,'Свод объектов'!$D$3:$V158,4,0) -> #REF! | F15: =VLOOKUP(B15,'Свод объектов'!$D$3:$V158,5,0) -> #REF! | G15: =VLOOKUP(B15,'Свод объектов'!$D$3:$V158,6,0) -> #REF! | H15: =VLOOKUP(B15,'Свод объектов'!$D$3:$V158,7,0) -> #REF! | I15: =VLOOKUP(B15,'Свод объектов'!$D$3:$V158,9,0) -> #REF! | J15: =VLOOKUP(B15,'Свод объектов'!$D$3:$V158,11,0) -> #REF! | K15: =VLOOKUP(B15,'Свод объектов'!$D$3:$V158,12,0) -> #REF! | L15: =VLOOKUP(B15,'Свод объектов'!$D$3:$V158,13,0) -> #REF! | M15: =VLOOKUP(B15,'Свод объектов'!$D$3:$V158,14,0) -> #REF! | N15: =VLOOKUP(B15,'Свод объектов'!$D$3:$V158,15,0) -> #REF! | O15: =VLOOKUP(B15,'Свод объектов'!$D$3:$V158,16,0) -> #REF! | P15: =VLOOKUP(B15,'Свод объектов'!$D$3:$V158,17,0) -> #REF! | Q15: =VLOOKUP(B15,'Свод объектов'!$D$3:$V158,18,0) -> #REF! | R15: =VLOOKUP(B15,'Свод объектов'!$D$3:$V158,19,0) -> #REF!
A16: 14 | B16: 90 | C16: =VLOOKUP(B16,'Свод объектов'!$D$3:$V159,2,0) -> #REF! | D16: =VLOOKUP(B16,'Свод объектов'!$D$3:$V159,3,0) -> #REF! | E16: =VLOOKUP(B16,'Свод объектов'!$D$3:$V159,4,0) -> #REF! | F16: =VLOOKUP(B16,'Свод объектов'!$D$3:$V159,5,0) -> #REF! | G16: =VLOOKUP(B16,'Свод объектов'!$D$3:$V159,6,0) -> #REF! | H16: =VLOOKUP(B16,'Свод объектов'!$D$3:$V159,7,0) -> #REF! | I16: =VLOOKUP(B16,'Свод объектов'!$D$3:$V159,9,0) -> #REF! | J16: =VLOOKUP(B16,'Свод объектов'!$D$3:$V159,11,0) -> #REF! | K16: =VLOOKUP(B16,'Свод объектов'!$D$3:$V159,12,0) -> #REF! | L16: =VLOOKUP(B16,'Свод объектов'!$D$3:$V159,13,0) -> #REF! | M16: =VLOOKUP(B16,'Свод объектов'!$D$3:$V159,14,0) -> #REF! | N16: =VLOOKUP(B16,'Свод объектов'!$D$3:$V159,15,0) -> #REF! | O16: =VLOOKUP(B16,'Свод объектов'!$D$3:$V159,16,0) -> #REF! | P16: =VLOOKUP(B16,'Свод объектов'!$D$3:$V159,17,0) -> #REF! | Q16: =VLOOKUP(B16,'Свод объектов'!$D$3:$V159,18,0) -> #REF! | R16: =VLOOKUP(B16,'Свод объектов'!$D$3:$V159,19,0) -> #REF!
A17: 15 | B17: 91 | C17: =VLOOKUP(B17,'Свод объектов'!$D$3:$V160,2,0) -> #REF! | D17: =VLOOKUP(B17,'Свод объектов'!$D$3:$V160,3,0) -> #REF! | E17: =VLOOKUP(B17,'Свод объектов'!$D$3:$V160,4,0) -> #REF! | F17: =VLOOKUP(B17,'Свод объектов'!$D$3:$V160,5,0) -> #REF! | G17: =VLOOKUP(B17,'Свод объектов'!$D$3:$V160,6,0) -> #REF! | H17: =VLOOKUP(B17,'Свод объектов'!$D$3:$V160,7,0) -> #REF! | I17: =VLOOKUP(B17,'Свод объектов'!$D$3:$V160,9,0) -> #REF! | J17: =VLOOKUP(B17,'Свод объектов'!$D$3:$V160,11,0) -> #REF! | K17: =VLOOKUP(B17,'Свод объектов'!$D$3:$V160,12,0) -> #REF! | L17: =VLOOKUP(B17,'Свод объектов'!$D$3:$V160,13,0) -> #REF! | M17: =VLOOKUP(B17,'Свод объектов'!$D$3:$V160,14,0) -> #REF! | N17: =VLOOKUP(B17,'Свод объектов'!$D$3:$V160,15,0) -> #REF! | O17: =VLOOKUP(B17,'Свод объектов'!$D$3:$V160,16,0) -> #REF! | P17: =VLOOKUP(B17,'Свод объектов'!$D$3:$V160,17,0) -> #REF! | Q17: =VLOOKUP(B17,'Свод объектов'!$D$3:$V160,18,0) -> #REF! | R17: =VLOOKUP(B17,'Свод объектов'!$D$3:$V160,19,0) -> #REF!
A18: 16 | B18: 92 | C18: =VLOOKUP(B18,'Свод объектов'!$D$3:$V161,2,0) -> #REF! | D18: =VLOOKUP(B18,'Свод объектов'!$D$3:$V161,3,0) -> #REF! | E18: =VLOOKUP(B18,'Свод объектов'!$D$3:$V161,4,0) -> #REF! | F18: =VLOOKUP(B18,'Свод объектов'!$D$3:$V161,5,0) -> #REF! | G18: =VLOOKUP(B18,'Свод объектов'!$D$3:$V161,6,0) -> #REF! | H18: =VLOOKUP(B18,'Свод объектов'!$D$3:$V161,7,0) -> #REF! | I18: =VLOOKUP(B18,'Свод объектов'!$D$3:$V161,9,0) -> #REF! | J18: =VLOOKUP(B18,'Свод объектов'!$D$3:$V161,11,0) -> #REF! | K18: =VLOOKUP(B18,'Свод объектов'!$D$3:$V161,12,0) -> #REF! | L18: =VLOOKUP(B18,'Свод объектов'!$D$3:$V161,13,0) -> #REF! | M18: =VLOOKUP(B18,'Свод объектов'!$D$3:$V161,14,0) -> #REF! | N18: =VLOOKUP(B18,'Свод объектов'!$D$3:$V161,15,0) -> #REF! | O18: =VLOOKUP(B18,'Свод объектов'!$D$3:$V161,16,0) -> #REF! | P18: =VLOOKUP(B18,'Свод объектов'!$D$3:$V161,17,0) -> #REF! | Q18: =VLOOKUP(B18,'Свод объектов'!$D$3:$V161,18,0) -> #REF! | R18: =VLOOKUP(B18,'Свод объектов'!$D$3:$V161,19,0) -> #REF!
A19: 17 | B19: 93 | C19: =VLOOKUP(B19,'Свод объектов'!$D$3:$V162,2,0) -> #REF! | D19: =VLOOKUP(B19,'Свод объектов'!$D$3:$V162,3,0) -> #REF! | E19: =VLOOKUP(B19,'Свод объектов'!$D$3:$V162,4,0) -> #REF! | F19: =VLOOKUP(B19,'Свод объектов'!$D$3:$V162,5,0) -> #REF! | G19: =VLOOKUP(B19,'Свод объектов'!$D$3:$V162,6,0) -> #REF! | H19: =VLOOKUP(B19,'Свод объектов'!$D$3:$V162,7,0) -> #REF! | I19: =VLOOKUP(B19,'Свод объектов'!$D$3:$V162,9,0) -> #REF! | J19: =VLOOKUP(B19,'Свод объектов'!$D$3:$V162,11,0) -> #REF! | K19: =VLOOKUP(B19,'Свод объектов'!$D$3:$V162,12,0) -> #REF! | L19: =VLOOKUP(B19,'Свод объектов'!$D$3:$V162,13,0) -> #REF! | M19: =VLOOKUP(B19,'Свод объектов'!$D$3:$V162,14,0) -> #REF! | N19: =VLOOKUP(B19,'Свод объектов'!$D$3:$V162,15,0) -> #REF! | O19: =VLOOKUP(B19,'Свод объектов'!$D$3:$V162,16,0) -> #REF! | P19: =VLOOKUP(B19,'Свод объектов'!$D$3:$V162,17,0) -> #REF! | Q19: =VLOOKUP(B19,'Свод объектов'!$D$3:$V162,18,0) -> #REF! | R19: =VLOOKUP(B19,'Свод объектов'!$D$3:$V162,19,0) -> #REF!
A20: 18 | B20: 94 | C20: =VLOOKUP(B20,'Свод объектов'!$D$3:$V163,2,0) -> #REF! | D20: =VLOOKUP(B20,'Свод объектов'!$D$3:$V163,3,0) -> #REF! | E20: =VLOOKUP(B20,'Свод объектов'!$D$3:$V163,4,0) -> #REF! | F20: =VLOOKUP(B20,'Свод объектов'!$D$3:$V163,5,0) -> #REF! | G20: =VLOOKUP(B20,'Свод объектов'!$D$3:$V163,6,0) -> #REF! | H20: =VLOOKUP(B20,'Свод объектов'!$D$3:$V163,7,0) -> #REF! | I20: =VLOOKUP(B20,'Свод объектов'!$D$3:$V163,9,0) -> #REF! | J20: =VLOOKUP(B20,'Свод объектов'!$D$3:$V163,11,0) -> #REF! | K20: =VLOOKUP(B20,'Свод объектов'!$D$3:$V163,12,0) -> #REF! | L20: =VLOOKUP(B20,'Свод объектов'!$D$3:$V163,13,0) -> #REF! | M20: =VLOOKUP(B20,'Свод объектов'!$D$3:$V163,14,0) -> #REF! | N20: =VLOOKUP(B20,'Свод объектов'!$D$3:$V163,15,0) -> #REF! | O20: =VLOOKUP(B20,'Свод объектов'!$D$3:$V163,16,0) -> #REF! | P20: =VLOOKUP(B20,'Свод объектов'!$D$3:$V163,17,0) -> #REF! | Q20: =VLOOKUP(B20,'Свод объектов'!$D$3:$V163,18,0) -> #REF! | R20: =VLOOKUP(B20,'Свод объектов'!$D$3:$V163,19,0) -> #REF!
A21: 19 | B21: 95 | C21: =VLOOKUP(B21,'Свод объектов'!$D$3:$V164,2,0) -> #REF! | D21: =VLOOKUP(B21,'Свод объектов'!$D$3:$V164,3,0) -> #REF! | E21: =VLOOKUP(B21,'Свод объектов'!$D$3:$V164,4,0) -> #REF! | F21: =VLOOKUP(B21,'Свод объектов'!$D$3:$V164,5,0) -> #REF! | G21: =VLOOKUP(B21,'Свод объектов'!$D$3:$V164,6,0) -> #REF! | H21: =VLOOKUP(B21,'Свод объектов'!$D$3:$V164,7,0) -> #REF! | I21: =VLOOKUP(B21,'Свод объектов'!$D$3:$V164,9,0) -> #REF! | J21: =VLOOKUP(B21,'Свод объектов'!$D$3:$V164,11,0) -> #REF! | K21: =VLOOKUP(B21,'Свод объектов'!$D$3:$V164,12,0) -> #REF! | L21: =VLOOKUP(B21,'Свод объектов'!$D$3:$V164,13,0) -> #REF! | M21: =VLOOKUP(B21,'Свод объектов'!$D$3:$V164,14,0) -> #REF! | N21: =VLOOKUP(B21,'Свод объектов'!$D$3:$V164,15,0) -> #REF! | O21: =VLOOKUP(B21,'Свод объектов'!$D$3:$V164,16,0) -> #REF! | P21: =VLOOKUP(B21,'Свод объектов'!$D$3:$V164,17,0) -> #REF! | Q21: =VLOOKUP(B21,'Свод объектов'!$D$3:$V164,18,0) -> #REF! | R21: =VLOOKUP(B21,'Свод объектов'!$D$3:$V164,19,0) -> #REF!
A22: 20 | B22: 96 | C22: =VLOOKUP(B22,'Свод объектов'!$D$3:$V165,2,0) -> #REF! | D22: =VLOOKUP(B22,'Свод объектов'!$D$3:$V165,3,0) -> #REF! | E22: =VLOOKUP(B22,'Свод объектов'!$D$3:$V165,4,0) -> #REF! | F22: =VLOOKUP(B22,'Свод объектов'!$D$3:$V165,5,0) -> #REF! | G22: =VLOOKUP(B22,'Свод объектов'!$D$3:$V165,6,0) -> #REF! | H22: =VLOOKUP(B22,'Свод объектов'!$D$3:$V165,7,0) -> #REF! | I22: =VLOOKUP(B22,'Свод объектов'!$D$3:$V165,9,0) -> #REF! | J22: =VLOOKUP(B22,'Свод объектов'!$D$3:$V165,11,0) -> #REF! | K22: =VLOOKUP(B22,'Свод объектов'!$D$3:$V165,12,0) -> #REF! | L22: =VLOOKUP(B22,'Свод объектов'!$D$3:$V165,13,0) -> #REF! | M22: =VLOOKUP(B22,'Свод объектов'!$D$3:$V165,14,0) -> #REF! | N22: =VLOOKUP(B22,'Свод объектов'!$D$3:$V165,15,0) -> #REF! | O22: =VLOOKUP(B22,'Свод объектов'!$D$3:$V165,16,0) -> #REF! | P22: =VLOOKUP(B22,'Свод объектов'!$D$3:$V165,17,0) -> #REF! | Q22: =VLOOKUP(B22,'Свод объектов'!$D$3:$V165,18,0) -> #REF! | R22: =VLOOKUP(B22,'Свод объектов'!$D$3:$V165,19,0) -> #REF!
A23: 21 | B23: 97 | C23: =VLOOKUP(B23,'Свод объектов'!$D$3:$V166,2,0) -> #REF! | D23: =VLOOKUP(B23,'Свод объектов'!$D$3:$V166,3,0) -> #REF! | E23: =VLOOKUP(B23,'Свод объектов'!$D$3:$V166,4,0) -> #REF! | F23: =VLOOKUP(B23,'Свод объектов'!$D$3:$V166,5,0) -> #REF! | G23: =VLOOKUP(B23,'Свод объектов'!$D$3:$V166,6,0) -> #REF! | H23: =VLOOKUP(B23,'Свод объектов'!$D$3:$V166,7,0) -> #REF! | I23: =VLOOKUP(B23,'Свод объектов'!$D$3:$V166,9,0) -> #REF! | J23: =VLOOKUP(B23,'Свод объектов'!$D$3:$V166,11,0) -> #REF! | K23: =VLOOKUP(B23,'Свод объектов'!$D$3:$V166,12,0) -> #REF! | L23: =VLOOKUP(B23,'Свод объектов'!$D$3:$V166,13,0) -> #REF! | M23: =VLOOKUP(B23,'Свод объектов'!$D$3:$V166,14,0) -> #REF! | N23: =VLOOKUP(B23,'Свод объектов'!$D$3:$V166,15,0) -> #REF! | O23: =VLOOKUP(B23,'Свод объектов'!$D$3:$V166,16,0) -> #REF! | P23: =VLOOKUP(B23,'Свод объектов'!$D$3:$V166,17,0) -> #REF! | Q23: =VLOOKUP(B23,'Свод объектов'!$D$3:$V166,18,0) -> #REF! | R23: =VLOOKUP(B23,'Свод объектов'!$D$3:$V166,19,0) -> #REF!
A24: 22 | B24: 107 | C24: =VLOOKUP(B24,'Свод объектов'!$D$3:$V167,2,0) -> #REF! | D24: =VLOOKUP(B24,'Свод объектов'!$D$3:$V167,3,0) -> #REF! | E24: =VLOOKUP(B24,'Свод объектов'!$D$3:$V167,4,0) -> #REF! | F24: =VLOOKUP(B24,'Свод объектов'!$D$3:$V167,5,0) -> #REF! | G24: =VLOOKUP(B24,'Свод объектов'!$D$3:$V167,6,0) -> #REF! | H24: =VLOOKUP(B24,'Свод объектов'!$D$3:$V167,7,0) -> #REF! | I24: =VLOOKUP(B24,'Свод объектов'!$D$3:$V167,9,0) -> #REF! | J24: =VLOOKUP(B24,'Свод объектов'!$D$3:$V167,11,0) -> #REF! | K24: =VLOOKUP(B24,'Свод объектов'!$D$3:$V167,12,0) -> #REF! | L24: =VLOOKUP(B24,'Свод объектов'!$D$3:$V167,13,0) -> #REF! | M24: =VLOOKUP(B24,'Свод объектов'!$D$3:$V167,14,0) -> #REF! | N24: =VLOOKUP(B24,'Свод объектов'!$D$3:$V167,15,0) -> #REF! | O24: =VLOOKUP(B24,'Свод объектов'!$D$3:$V167,16,0) -> #REF! | P24: =VLOOKUP(B24,'Свод объектов'!$D$3:$V167,17,0) -> #REF! | Q24: =VLOOKUP(B24,'Свод объектов'!$D$3:$V167,18,0) -> #REF! | R24: =VLOOKUP(B24,'Свод объектов'!$D$3:$V167,19,0) -> #REF!
... A28: 26 | B28: 141 | C28: =VLOOKUP(B28,'Свод объектов'!$D$3:$V171,2,0) -> #REF! | D28: =VLOOKUP(B28,'Свод объектов'!$D$3:$V171,3,0) -> #REF! | E28: =VLOOKUP(B28,'Свод объектов'!$D$3:$V171,4,0) -> #REF! | F28: =VLOOKUP(B28,'Свод объектов'!$D$3:$V171,5,0) -> #REF! | G28: =VLOOKUP(B28,'Свод объектов'!$D$3:$V171,6,0) -> #REF! | H28: =VLOOKUP(B28,'Свод объектов'!$D$3:$V171,7,0) -> #REF! | I28: =VLOOKUP(B28,'Свод объектов'!$D$3:$V171,9,0) -> #REF! | J28: =VLOOKUP(B28,'Свод объектов'!$D$3:$V171,11,0) -> #REF! | K28: =VLOOKUP(B28,'Свод объектов'!$D$3:$V171,12,0) -> #REF! | L28: =VLOOKUP(B28,'Свод объектов'!$D$3:$V171,13,0) -> #REF! | M28: =VLOOKUP(B28,'Свод объектов'!$D$3:$V171,14,0) -> #REF! | N28: =VLOOKUP(B28,'Свод объектов'!$D$3:$V171,15,0) -> #REF! | O28: =VLOOKUP(B28,'Свод объектов'!$D$3:$V171,16,0) -> #REF! | P28: =VLOOKUP(B28,'Свод объектов'!$D$3:$V171,17,0) -> #REF! | Q28: =VLOOKUP(B28,'Свод объектов'!$D$3:$V171,18,0) -> #REF! | R28: =VLOOKUP(B28,'Свод объектов'!$D$3:$V171,19,0) -> #REF!
A29: 27 | B29: 173 | C29: =VLOOKUP(B29,'Свод объектов'!$D$3:$V172,2,0) -> #REF! | D29: =VLOOKUP(B29,'Свод объектов'!$D$3:$V172,3,0) -> #REF! | E29: =VLOOKUP(B29,'Свод объектов'!$D$3:$V172,4,0) -> #REF! | F29: =VLOOKUP(B29,'Свод объектов'!$D$3:$V172,5,0) -> #REF! | G29: =VLOOKUP(B29,'Свод объектов'!$D$3:$V172,6,0) -> #REF! | H29: =VLOOKUP(B29,'Свод объектов'!$D$3:$V172,7,0) -> #REF! | I29: =VLOOKUP(B29,'Свод объектов'!$D$3:$V172,9,0) -> #REF! | J29: =VLOOKUP(B29,'Свод объектов'!$D$3:$V172,11,0) -> #REF! | K29: =VLOOKUP(B29,'Свод объектов'!$D$3:$V172,12,0) -> #REF! | L29: =VLOOKUP(B29,'Свод объектов'!$D$3:$V172,13,0) -> #REF! | M29: =VLOOKUP(B29,'Свод объектов'!$D$3:$V172,14,0) -> #REF! | N29: =VLOOKUP(B29,'Свод объектов'!$D$3:$V172,15,0) -> #REF! | O29: =VLOOKUP(B29,'Свод объектов'!$D$3:$V172,16,0) -> #REF! | P29: =VLOOKUP(B29,'Свод объектов'!$D$3:$V172,17,0) -> #REF! | Q29: =VLOOKUP(B29,'Свод объектов'!$D$3:$V172,18,0) -> #REF! | R29: =VLOOKUP(B29,'Свод объектов'!$D$3:$V172,19,0) -> #REF! | S29: - | T29: -
A30: 28 | B30: 174 | C30: =VLOOKUP(B30,'Свод объектов'!$D$3:$V173,2,0) -> #REF! | D30: =VLOOKUP(B30,'Свод объектов'!$D$3:$V173,3,0) -> #REF! | E30: =VLOOKUP(B30,'Свод объектов'!$D$3:$V173,4,0) -> #REF! | F30: =VLOOKUP(B30,'Свод объектов'!$D$3:$V173,5,0) -> #REF! | G30: =VLOOKUP(B30,'Свод объектов'!$D$3:$V173,6,0) -> #REF! | H30: =VLOOKUP(B30,'Свод объектов'!$D$3:$V173,7,0) -> #REF! | I30: =VLOOKUP(B30,'Свод объектов'!$D$3:$V173,9,0) -> #REF! | J30: =VLOOKUP(B30,'Свод объектов'!$D$3:$V173,11,0) -> #REF! | K30: =VLOOKUP(B30,'Свод объектов'!$D$3:$V173,12,0) -> #REF! | L30: =VLOOKUP(B30,'Свод объектов'!$D$3:$V173,13,0) -> #REF! | M30: =VLOOKUP(B30,'Свод объектов'!$D$3:$V173,14,0) -> #REF! | N30: =VLOOKUP(B30,'Свод объектов'!$D$3:$V173,15,0) -> #REF! | O30: =VLOOKUP(B30,'Свод объектов'!$D$3:$V173,16,0) -> #REF! | P30: =VLOOKUP(B30,'Свод объектов'!$D$3:$V173,17,0) -> #REF! | Q30: =VLOOKUP(B30,'Свод объектов'!$D$3:$V173,18,0) -> #REF! | R30: =VLOOKUP(B30,'Свод объектов'!$D$3:$V173,19,0) -> #REF! | S30: 66750000 | T30: 20025000
A31: 29 | B31: 175 | C31: =VLOOKUP(B31,'Свод объектов'!$D$3:$V174,2,0) -> #REF! | D31: =VLOOKUP(B31,'Свод объектов'!$D$3:$V174,3,0) -> #REF! | E31: =VLOOKUP(B31,'Свод объектов'!$D$3:$V174,4,0) -> #REF! | F31: =VLOOKUP(B31,'Свод объектов'!$D$3:$V174,5,0) -> #REF! | G31: =VLOOKUP(B31,'Свод объектов'!$D$3:$V174,6,0) -> #REF! | H31: =VLOOKUP(B31,'Свод объектов'!$D$3:$V174,7,0) -> #REF! | I31: =VLOOKUP(B31,'Свод объектов'!$D$3:$V174,9,0) -> #REF! | J31: =VLOOKUP(B31,'Свод объектов'!$D$3:$V174,11,0) -> #REF! | K31: =VLOOKUP(B31,'Свод объектов'!$D$3:$V174,12,0) -> #REF! | L31: =VLOOKUP(B31,'Свод объектов'!$D$3:$V174,13,0) -> #REF! | M31: =VLOOKUP(B31,'Свод объектов'!$D$3:$V174,14,0) -> #REF! | N31: =VLOOKUP(B31,'Свод объектов'!$D$3:$V174,15,0) -> #REF! | O31: =VLOOKUP(B31,'Свод объектов'!$D$3:$V174,16,0) -> #REF! | P31: =VLOOKUP(B31,'Свод объектов'!$D$3:$V174,17,0) -> #REF! | Q31: =VLOOKUP(B31,'Свод объектов'!$D$3:$V174,18,0) -> #REF! | R31: =VLOOKUP(B31,'Свод объектов'!$D$3:$V174,19,0) -> #REF! | S31: - | T31: -
A32: 30 | B32: 259 | C32: =VLOOKUP(B32,'Свод объектов'!$D$3:$V175,2,0) -> #REF! | D32: =VLOOKUP(B32,'Свод объектов'!$D$3:$V175,3,0) -> #REF! | E32: =VLOOKUP(B32,'Свод объектов'!$D$3:$V175,4,0) -> #REF! | F32: =VLOOKUP(B32,'Свод объектов'!$D$3:$V175,5,0) -> #REF! | G32: =VLOOKUP(B32,'Свод объектов'!$D$3:$V175,6,0) -> #REF! | H32: =VLOOKUP(B32,'Свод объектов'!$D$3:$V175,7,0) -> #REF! | I32: =VLOOKUP(B32,'Свод объектов'!$D$3:$V175,9,0) -> #REF! | J32: =VLOOKUP(B32,'Свод объектов'!$D$3:$V175,11,0) -> #REF! | K32: =VLOOKUP(B32,'Свод объектов'!$D$3:$V175,12,0) -> #REF! | L32: =VLOOKUP(B32,'Свод объектов'!$D$3:$V175,13,0) -> #REF! | M32: =VLOOKUP(B32,'Свод объектов'!$D$3:$V175,14,0) -> #REF! | N32: =VLOOKUP(B32,'Свод объектов'!$D$3:$V175,15,0) -> #REF! | O32: =VLOOKUP(B32,'Свод объектов'!$D$3:$V175,16,0) -> #REF! | P32: =VLOOKUP(B32,'Свод объектов'!$D$3:$V175,17,0) -> #REF! | Q32: =VLOOKUP(B32,'Свод объектов'!$D$3:$V175,18,0) -> #REF! | R32: =VLOOKUP(B32,'Свод объектов'!$D$3:$V175,19,0) -> #REF! | S32: 51948072 | T32: 15584422
A33: 31 | B33: 260 | C33: =VLOOKUP(B33,'Свод объектов'!$D$3:$V176,2,0) -> #REF! | D33: =VLOOKUP(B33,'Свод объектов'!$D$3:$V176,3,0) -> #REF! | E33: =VLOOKUP(B33,'Свод объектов'!$D$3:$V176,4,0) -> #REF! | F33: =VLOOKUP(B33,'Свод объектов'!$D$3:$V176,5,0) -> #REF! | G33: =VLOOKUP(B33,'Свод объектов'!$D$3:$V176,6,0) -> #REF! | H33: =VLOOKUP(B33,'Свод объектов'!$D$3:$V176,7,0) -> #REF! | I33: =VLOOKUP(B33,'Свод объектов'!$D$3:$V176,9,0) -> #REF! | J33: =VLOOKUP(B33,'Свод объектов'!$D$3:$V176,11,0) -> #REF! | K33: =VLOOKUP(B33,'Свод объектов'!$D$3:$V176,12,0) -> #REF! | L33: =VLOOKUP(B33,'Свод объектов'!$D$3:$V176,13,0) -> #REF! | M33: =VLOOKUP(B33,'Свод объектов'!$D$3:$V176,14,0) -> #REF! | N33: =VLOOKUP(B33,'Свод объектов'!$D$3:$V176,15,0) -> #REF! | O33: =VLOOKUP(B33,'Свод объектов'!$D$3:$V176,16,0) -> #REF! | P33: =VLOOKUP(B33,'Свод объектов'!$D$3:$V176,17,0) -> #REF! | Q33: =VLOOKUP(B33,'Свод объектов'!$D$3:$V176,18,0) -> #REF! | R33: =VLOOKUP(B33,'Свод объектов'!$D$3:$V176,19,0) -> #REF! | S33: 45850300 | T33: 13755090
A34: 32 | B34: 261 | C34: =VLOOKUP(B34,'Свод объектов'!$D$3:$V177,2,0) -> #REF! | D34: =VLOOKUP(B34,'Свод объектов'!$D$3:$V177,3,0) -> #REF! | E34: =VLOOKUP(B34,'Свод объектов'!$D$3:$V177,4,0) -> #REF! | F34: =VLOOKUP(B34,'Свод объектов'!$D$3:$V177,5,0) -> #REF! | G34: =VLOOKUP(B34,'Свод объектов'!$D$3:$V177,6,0) -> #REF! | H34: =VLOOKUP(B34,'Свод объектов'!$D$3:$V177,7,0) -> #REF! | I34: =VLOOKUP(B34,'Свод объектов'!$D$3:$V177,9,0) -> #REF! | J34: =VLOOKUP(B34,'Свод объектов'!$D$3:$V177,11,0) -> #REF! | K34: =VLOOKUP(B34,'Свод объектов'!$D$3:$V177,12,0) -> #REF! | L34: =VLOOKUP(B34,'Свод объектов'!$D$3:$V177,13,0) -> #REF! | M34: =VLOOKUP(B34,'Свод объектов'!$D$3:$V177,14,0) -> #REF! | N34: =VLOOKUP(B34,'Свод объектов'!$D$3:$V177,15,0) -> #REF! | O34: =VLOOKUP(B34,'Свод объектов'!$D$3:$V177,16,0) -> #REF! | P34: =VLOOKUP(B34,'Свод объектов'!$D$3:$V177,17,0) -> #REF! | Q34: =VLOOKUP(B34,'Свод объектов'!$D$3:$V177,18,0) -> #REF! | R34: =VLOOKUP(B34,'Свод объектов'!$D$3:$V177,19,0) -> #REF! | S34: 45403400 | T34: Выплат по договору не было ПРИОСТАНОВКА
A35: 33 | B35: 262 | C35: =VLOOKUP(B35,'Свод объектов'!$D$3:$V178,2,0) -> #REF! | D35: =VLOOKUP(B35,'Свод объектов'!$D$3:$V178,3,0) -> #REF! | E35: =VLOOKUP(B35,'Свод объектов'!$D$3:$V178,4,0) -> #REF! | F35: =VLOOKUP(B35,'Свод объектов'!$D$3:$V178,5,0) -> #REF! | G35: =VLOOKUP(B35,'Свод объектов'!$D$3:$V178,6,0) -> #REF! | H35: =VLOOKUP(B35,'Свод объектов'!$D$3:$V178,7,0) -> #REF! | I35: =VLOOKUP(B35,'Свод объектов'!$D$3:$V178,9,0) -> #REF! | J35: =VLOOKUP(B35,'Свод объектов'!$D$3:$V178,11,0) -> #REF! | K35: =VLOOKUP(B35,'Свод объектов'!$D$3:$V178,12,0) -> #REF! | L35: =VLOOKUP(B35,'Свод объектов'!$D$3:$V178,13,0) -> #REF! | M35: =VLOOKUP(B35,'Свод объектов'!$D$3:$V178,14,0) -> #REF! | N35: =VLOOKUP(B35,'Свод объектов'!$D$3:$V178,15,0) -> #REF! | O35: =VLOOKUP(B35,'Свод объектов'!$D$3:$V178,16,0) -> #REF! | P35: =VLOOKUP(B35,'Свод объектов'!$D$3:$V178,17,0) -> #REF! | Q35: =VLOOKUP(B35,'Свод объектов'!$D$3:$V178,18,0) -> #REF! | R35: =VLOOKUP(B35,'Свод объектов'!$D$3:$V178,19,0) -> #REF! | S35: 62135691 | T35: 18640707
A36: 34 | B36: 263 | C36: =VLOOKUP(B36,'Свод объектов'!$D$3:$V179,2,0) -> #REF! | D36: =VLOOKUP(B36,'Свод объектов'!$D$3:$V179,3,0) -> #REF! | E36: =VLOOKUP(B36,'Свод объектов'!$D$3:$V179,4,0) -> #REF! | F36: =VLOOKUP(B36,'Свод объектов'!$D$3:$V179,5,0) -> #REF! | G36: =VLOOKUP(B36,'Свод объектов'!$D$3:$V179,6,0) -> #REF! | H36: =VLOOKUP(B36,'Свод объектов'!$D$3:$V179,7,0) -> #REF! | I36: =VLOOKUP(B36,'Свод объектов'!$D$3:$V179,9,0) -> #REF! | J36: =VLOOKUP(B36,'Свод объектов'!$D$3:$V179,11,0) -> #REF! | K36: =VLOOKUP(B36,'Свод объектов'!$D$3:$V179,12,0) -> #REF! | L36: =VLOOKUP(B36,'Свод объектов'!$D$3:$V179,13,0) -> #REF! | M36: =VLOOKUP(B36,'Свод объектов'!$D$3:$V179,14,0) -> #REF! | N36: =VLOOKUP(B36,'Свод объектов'!$D$3:$V179,15,0) -> #REF! | O36: =VLOOKUP(B36,'Свод объектов'!$D$3:$V179,16,0) -> #REF! | P36: =VLOOKUP(B36,'Свод объектов'!$D$3:$V179,17,0) -> #REF! | Q36: =VLOOKUP(B36,'Свод объектов'!$D$3:$V179,18,0) -> #REF! | R36: =VLOOKUP(B36,'Свод объектов'!$D$3:$V179,19,0) -> #REF!
A37: 35 | B37: 342 | C37: =VLOOKUP(B37,'Свод объектов'!$D$3:$V180,2,0) -> #REF! | D37: =VLOOKUP(B37,'Свод объектов'!$D$3:$V180,3,0) -> #REF! | E37: =VLOOKUP(B37,'Свод объектов'!$D$3:$V180,4,0) -> #REF! | F37: =VLOOKUP(B37,'Свод объектов'!$D$3:$V180,5,0) -> #REF! | G37: =VLOOKUP(B37,'Свод объектов'!$D$3:$V180,6,0) -> #REF! | H37: =VLOOKUP(B37,'Свод объектов'!$D$3:$V180,7,0) -> #REF! | I37: г. Москва, район Зюзино, кварталы 40, 41, 42 (Дом, зона 12.3) 1 этап | J37: =VLOOKUP(B37,'Свод объектов'!$D$3:$V180,11,0) -> #REF! | K37: =VLOOKUP(B37,'Свод объектов'!$D$3:$V180,12,0) -> #REF! | L37: =VLOOKUP(B37,'Свод объектов'!$D$3:$V180,13,0) -> #REF! | M37: =VLOOKUP(B37,'Свод объектов'!$D$3:$V180,14,0) -> #REF! | N37: =VLOOKUP(B37,'Свод объектов'!$D$3:$V180,15,0) -> #REF! | O37: =VLOOKUP(B37,'Свод объектов'!$D$3:$V180,16,0) -> #REF! | P37: =VLOOKUP(B37,'Свод объектов'!$D$3:$V180,17,0) -> #REF! | Q37: =VLOOKUP(B37,'Свод объектов'!$D$3:$V180,18,0) -> #REF! | R37: =VLOOKUP(B37,'Свод объектов'!$D$3:$V180,19,0) -> #REF! | S37: 35799667 | T37: 10739900
A38: 36 | B38: 343 | C38: =VLOOKUP(B38,'Свод объектов'!$D$3:$V181,2,0) -> #REF! | D38: =VLOOKUP(B38,'Свод объектов'!$D$3:$V181,3,0) -> #REF! | E38: =VLOOKUP(B38,'Свод объектов'!$D$3:$V181,4,0) -> #REF! | F38: =VLOOKUP(B38,'Свод объектов'!$D$3:$V181,5,0) -> #REF! | G38: =VLOOKUP(B38,'Свод объектов'!$D$3:$V181,6,0) -> #REF! | H38: =VLOOKUP(B38,'Свод объектов'!$D$3:$V181,7,0) -> #REF! | I38: г. Москва, район Зюзино, кварталы 40, 41, 42 (Дом, зона 1.3) 1 этап | J38: =VLOOKUP(B38,'Свод объектов'!$D$3:$V181,11,0) -> #REF! | K38: =VLOOKUP(B38,'Свод объектов'!$D$3:$V181,12,0) -> #REF! | L38: =VLOOKUP(B38,'Свод объектов'!$D$3:$V181,13,0) -> #REF! | M38: =VLOOKUP(B38,'Свод объектов'!$D$3:$V181,14,0) -> #REF! | N38: =VLOOKUP(B38,'Свод объектов'!$D$3:$V181,15,0) -> #REF! | O38: =VLOOKUP(B38,'Свод объектов'!$D$3:$V181,16,0) -> #REF! | P38: =VLOOKUP(B38,'Свод объектов'!$D$3:$V181,17,0) -> #REF! | Q38: =VLOOKUP(B38,'Свод объектов'!$D$3:$V181,18,0) -> #REF! | R38: =VLOOKUP(B38,'Свод объектов'!$D$3:$V181,19,0) -> #REF! | S38: 72112896 | T38: 21633869
A39: 37 | B39: 344 | C39: =VLOOKUP(B39,'Свод объектов'!$D$3:$V182,2,0) -> #REF! | D39: =VLOOKUP(B39,'Свод объектов'!$D$3:$V182,3,0) -> #REF! | E39: =VLOOKUP(B39,'Свод объектов'!$D$3:$V182,4,0) -> #REF! | F39: =VLOOKUP(B39,'Свод объектов'!$D$3:$V182,5,0) -> #REF! | G39: =VLOOKUP(B39,'Свод объектов'!$D$3:$V182,6,0) -> #REF! | H39: =VLOOKUP(B39,'Свод объектов'!$D$3:$V182,7,0) -> #REF! | I39: г. Москва, район Зюзино, кварталы 40, 41, 42 (Дом, зона 1.7) 1 этап | J39: =VLOOKUP(B39,'Свод объектов'!$D$3:$V182,11,0) -> #REF! | K39: =VLOOKUP(B39,'Свод объектов'!$D$3:$V182,12,0) -> #REF! | L39: =VLOOKUP(B39,'Свод объектов'!$D$3:$V182,13,0) -> #REF! | M39: =VLOOKUP(B39,'Свод объектов'!$D$3:$V182,14,0) -> #REF! | N39: =VLOOKUP(B39,'Свод объектов'!$D$3:$V182,15,0) -> #REF! | O39: =VLOOKUP(B39,'Свод объектов'!$D$3:$V182,16,0) -> #REF! | P39: =VLOOKUP(B39,'Свод объектов'!$D$3:$V182,17,0) -> #REF! | Q39: =VLOOKUP(B39,'Свод объектов'!$D$3:$V182,18,0) -> #REF! | R39: =VLOOKUP(B39,'Свод объектов'!$D$3:$V182,19,0) -> #REF! | S39: 72288000 | T39: Выплат по договору не было
A40: 38 | B40: 346 | C40: =VLOOKUP(B40,'Свод объектов'!$D$3:$V183,2,0) -> #REF! | D40: =VLOOKUP(B40,'Свод объектов'!$D$3:$V183,3,0) -> #REF! | E40: =VLOOKUP(B40,'Свод объектов'!$D$3:$V183,4,0) -> #REF! | F40: =VLOOKUP(B40,'Свод объектов'!$D$3:$V183,5,0) -> #REF! | G40: =VLOOKUP(B40,'Свод объектов'!$D$3:$V183,6,0) -> #REF! | H40: =VLOOKUP(B40,'Свод объектов'!$D$3:$V183,7,0) -> #REF! | I40: =VLOOKUP(B40,'Свод объектов'!$D$3:$V146,9,0) -> #REF! | J40: =VLOOKUP(B40,'Свод объектов'!$D$3:$V183,11,0) -> #REF! | K40: =VLOOKUP(B40,'Свод объектов'!$D$3:$V183,12,0) -> #REF! | L40: =VLOOKUP(B40,'Свод объектов'!$D$3:$V183,13,0) -> #REF! | M40: =VLOOKUP(B40,'Свод объектов'!$D$3:$V183,14,0) -> #REF! | N40: =VLOOKUP(B40,'Свод объектов'!$D$3:$V183,15,0) -> #REF! | O40: =VLOOKUP(B40,'Свод объектов'!$D$3:$V183,16,0) -> #REF! | P40: =VLOOKUP(B40,'Свод объектов'!$D$3:$V183,17,0) -> #REF! | Q40: =VLOOKUP(B40,'Свод объектов'!$D$3:$V183,18,0) -> #REF! | R40: =VLOOKUP(B40,'Свод объектов'!$D$3:$V183,19,0) -> #REF! | S40: 28808460 | T40: 8642538
A41: 39 | B41: 381 | C41: =VLOOKUP(B41,'Свод объектов'!$D$3:$V184,2,0) -> #REF! | D41: =VLOOKUP(B41,'Свод объектов'!$D$3:$V184,3,0) -> #REF! | E41: =VLOOKUP(B41,'Свод объектов'!$D$3:$V184,4,0) -> #REF! | F41: =VLOOKUP(B41,'Свод объектов'!$D$3:$V184,5,0) -> #REF! | G41: =VLOOKUP(B41,'Свод объектов'!$D$3:$V184,6,0) -> #REF! | H41: =VLOOKUP(B41,'Свод объектов'!$D$3:$V184,7,0) -> #REF! | I41: =VLOOKUP(B41,'Свод объектов'!$D$3:$V147,9,0) -> #REF! | J41: =VLOOKUP(B41,'Свод объектов'!$D$3:$V184,11,0) -> #REF! | K41: =VLOOKUP(B41,'Свод объектов'!$D$3:$V184,12,0) -> #REF! | L41: =VLOOKUP(B41,'Свод объектов'!$D$3:$V184,13,0) -> #REF! | M41: =VLOOKUP(B41,'Свод объектов'!$D$3:$V184,14,0) -> #REF! | N41: =VLOOKUP(B41,'Свод объектов'!$D$3:$V184,15,0) -> #REF! | O41: =VLOOKUP(B41,'Свод объектов'!$D$3:$V184,16,0) -> #REF! | P41: =VLOOKUP(B41,'Свод объектов'!$D$3:$V184,17,0) -> #REF! | Q41: =VLOOKUP(B41,'Свод объектов'!$D$3:$V184,18,0) -> #REF! | R41: =VLOOKUP(B41,'Свод объектов'!$D$3:$V184,19,0) -> #REF!
A42: 40 | B42: 419 | C42: =VLOOKUP(B42,'Свод объектов'!$D$3:$V185,2,0) -> #REF! | D42: =VLOOKUP(B42,'Свод объектов'!$D$3:$V185,3,0) -> #REF! | E42: =VLOOKUP(B42,'Свод объектов'!$D$3:$V185,4,0) -> #REF! | F42: =VLOOKUP(B42,'Свод объектов'!$D$3:$V185,5,0) -> #REF! | G42: =VLOOKUP(B42,'Свод объектов'!$D$3:$V185,6,0) -> #REF! | H42: =VLOOKUP(B42,'Свод объектов'!$D$3:$V185,7,0) -> #REF! | I42: г. Москва, район Кузьминки, микрорайоны 113, 113А, 114 (Дом, Юных Ленинцев вл.40/3) 1 этап (Дом, зона 2.4) | J42: =VLOOKUP(B42,'Свод объектов'!$D$3:$V185,11,0) -> #REF! | K42: =VLOOKUP(B42,'Свод объектов'!$D$3:$V185,12,0) -> #REF! | L42: =VLOOKUP(B42,'Свод объектов'!$D$3:$V185,13,0) -> #REF! | M42: =VLOOKUP(B42,'Свод объектов'!$D$3:$V185,14,0) -> #REF! | N42: =VLOOKUP(B42,'Свод объектов'!$D$3:$V185,15,0) -> #REF! | O42: =VLOOKUP(B42,'Свод объектов'!$D$3:$V185,16,0) -> #REF! | P42: =VLOOKUP(B42,'Свод объектов'!$D$3:$V185,17,0) -> #REF! | Q42: =VLOOKUP(B42,'Свод объектов'!$D$3:$V185,18,0) -> #REF! | R42: =VLOOKUP(B42,'Свод объектов'!$D$3:$V185,19,0) -> #REF! | S42: 71250108 | T42: 21375032
A43: 41 | B43: 420 | C43: =VLOOKUP(B43,'Свод объектов'!$D$3:$V186,2,0) -> #REF! | D43: =VLOOKUP(B43,'Свод объектов'!$D$3:$V186,3,0) -> #REF! | E43: =VLOOKUP(B43,'Свод объектов'!$D$3:$V186,4,0) -> #REF! | F43: =VLOOKUP(B43,'Свод объектов'!$D$3:$V186,5,0) -> #REF! | G43: =VLOOKUP(B43,'Свод объектов'!$D$3:$V186,6,0) -> #REF! | H43: =VLOOKUP(B43,'Свод объектов'!$D$3:$V186,7,0) -> #REF! | I43: г. Москва, район Кузьминки, микрорайоны 113, 113А, 114 (Дом, Юных Ленинцев вл.44/3) 1 этап (Дом, зона 2.5) | J43: =VLOOKUP(B43,'Свод объектов'!$D$3:$V186,11,0) -> #REF! | K43: =VLOOKUP(B43,'Свод объектов'!$D$3:$V186,12,0) -> #REF! | L43: =VLOOKUP(B43,'Свод объектов'!$D$3:$V186,13,0) -> #REF! | M43: =VLOOKUP(B43,'Свод объектов'!$D$3:$V186,14,0) -> #REF! | N43: =VLOOKUP(B43,'Свод объектов'!$D$3:$V186,15,0) -> #REF! | O43: =VLOOKUP(B43,'Свод объектов'!$D$3:$V186,16,0) -> #REF! | P43: =VLOOKUP(B43,'Свод объектов'!$D$3:$V186,17,0) -> #REF! | Q43: =VLOOKUP(B43,'Свод объектов'!$D$3:$V186,18,0) -> #REF! | R43: =VLOOKUP(B43,'Свод объектов'!$D$3:$V186,19,0) -> #REF! | S43: 41533000 | T43: 12459900
A44: 42 | B44: 458 | C44: =VLOOKUP(B44,'Свод объектов'!$D$3:$V187,2,0) -> #REF! | D44: =VLOOKUP(B44,'Свод объектов'!$D$3:$V187,3,0) -> #REF! | E44: =VLOOKUP(B44,'Свод объектов'!$D$3:$V187,4,0) -> #REF! | F44: =VLOOKUP(B44,'Свод объектов'!$D$3:$V187,5,0) -> #REF! | G44: =VLOOKUP(B44,'Свод объектов'!$D$3:$V187,6,0) -> #REF! | H44: =VLOOKUP(B44,'Свод объектов'!$D$3:$V187,7,0) -> #REF! | I44: =VLOOKUP(B44,'Свод объектов'!$D$3:$V150,9,0) -> #REF! | J44: =VLOOKUP(B44,'Свод объектов'!$D$3:$V187,11,0) -> #REF! | K44: =VLOOKUP(B44,'Свод объектов'!$D$3:$V187,12,0) -> #REF! | L44: =VLOOKUP(B44,'Свод объектов'!$D$3:$V187,13,0) -> #REF! | M44: =VLOOKUP(B44,'Свод объектов'!$D$3:$V187,14,0) -> #REF! | N44: =VLOOKUP(B44,'Свод объектов'!$D$3:$V187,15,0) -> #REF! | O44: =VLOOKUP(B44,'Свод объектов'!$D$3:$V187,16,0) -> #REF! | P44: =VLOOKUP(B44,'Свод объектов'!$D$3:$V187,17,0) -> #REF! | Q44: =VLOOKUP(B44,'Свод объектов'!$D$3:$V187,18,0) -> #REF! | R44: =VLOOKUP(B44,'Свод объектов'!$D$3:$V187,19,0) -> #REF! | S44: 24838560 | T44: Выплат по договору не было
A45: 43 | B45: 459 | C45: =VLOOKUP(B45,'Свод объектов'!$D$3:$V188,2,0) -> #REF! | D45: =VLOOKUP(B45,'Свод объектов'!$D$3:$V188,3,0) -> #REF! | E45: =VLOOKUP(B45,'Свод объектов'!$D$3:$V188,4,0) -> #REF! | F45: =VLOOKUP(B45,'Свод объектов'!$D$3:$V188,5,0) -> #REF! | G45: =VLOOKUP(B45,'Свод объектов'!$D$3:$V188,6,0) -> #REF! | H45: =VLOOKUP(B45,'Свод объектов'!$D$3:$V188,7,0) -> #REF! | I45: =VLOOKUP(B45,'Свод объектов'!$D$3:$V151,9,0) -> #REF! | J45: =VLOOKUP(B45,'Свод объектов'!$D$3:$V188,11,0) -> #REF! | K45: =VLOOKUP(B45,'Свод объектов'!$D$3:$V188,12,0) -> #REF! | L45: =VLOOKUP(B45,'Свод объектов'!$D$3:$V188,13,0) -> #REF! | M45: =VLOOKUP(B45,'Свод объектов'!$D$3:$V188,14,0) -> #REF! | N45: =VLOOKUP(B45,'Свод объектов'!$D$3:$V188,15,0) -> #REF! | O45: =VLOOKUP(B45,'Свод объектов'!$D$3:$V188,16,0) -> #REF! | P45: =VLOOKUP(B45,'Свод объектов'!$D$3:$V188,17,0) -> #REF! | Q45: =VLOOKUP(B45,'Свод объектов'!$D$3:$V188,18,0) -> #REF! | R45: =VLOOKUP(B45,'Свод объектов'!$D$3:$V188,19,0) -> #REF! | S45: 26956800 | T45: Выплат по договору не было
A46: 44 | B46: 461 | C46: =VLOOKUP(B46,'Свод объектов'!$D$3:$V189,2,0) -> #REF! | D46: =VLOOKUP(B46,'Свод объектов'!$D$3:$V189,3,0) -> #REF! | E46: =VLOOKUP(B46,'Свод объектов'!$D$3:$V189,4,0) -> #REF! | F46: =VLOOKUP(B46,'Свод объектов'!$D$3:$V189,5,0) -> #REF! | G46: =VLOOKUP(B46,'Свод объектов'!$D$3:$V189,6,0) -> #REF! | H46: =VLOOKUP(B46,'Свод объектов'!$D$3:$V189,7,0) -> #REF! | I46: =VLOOKUP(B46,'Свод объектов'!$D$3:$V152,9,0) -> #REF! | J46: =VLOOKUP(B46,'Свод объектов'!$D$3:$V189,11,0) -> #REF! | K46: =VLOOKUP(B46,'Свод объектов'!$D$3:$V189,12,0) -> #REF! | L46: =VLOOKUP(B46,'Свод объектов'!$D$3:$V189,13,0) -> #REF! | M46: =VLOOKUP(B46,'Свод объектов'!$D$3:$V189,14,0) -> #REF! | N46: =VLOOKUP(B46,'Свод объектов'!$D$3:$V189,15,0) -> #REF! | O46: =VLOOKUP(B46,'Свод объектов'!$D$3:$V189,16,0) -> #REF! | P46: =VLOOKUP(B46,'Свод объектов'!$D$3:$V189,17,0) -> #REF! | Q46: =VLOOKUP(B46,'Свод объектов'!$D$3:$V189,18,0) -> #REF! | R46: =VLOOKUP(B46,'Свод объектов'!$D$3:$V189,19,0) -> #REF! | S46: 46177344 | T46: 13853203
A47: 45 | B47: 462 | C47: =VLOOKUP(B47,'Свод объектов'!$D$3:$V190,2,0) -> #REF! | D47: =VLOOKUP(B47,'Свод объектов'!$D$3:$V190,3,0) -> #REF! | E47: =VLOOKUP(B47,'Свод объектов'!$D$3:$V190,4,0) -> #REF! | F47: =VLOOKUP(B47,'Свод объектов'!$D$3:$V190,5,0) -> #REF! | G47: =VLOOKUP(B47,'Свод объектов'!$D$3:$V190,6,0) -> #REF! | H47: =VLOOKUP(B47,'Свод объектов'!$D$3:$V190,7,0) -> #REF! | I47: =VLOOKUP(B47,'Свод объектов'!$D$3:$V153,9,0) -> #REF! | J47: =VLOOKUP(B47,'Свод объектов'!$D$3:$V190,11,0) -> #REF! | K47: =VLOOKUP(B47,'Свод объектов'!$D$3:$V190,12,0) -> #REF! | L47: =VLOOKUP(B47,'Свод объектов'!$D$3:$V190,13,0) -> #REF! | M47: =VLOOKUP(B47,'Свод объектов'!$D$3:$V190,14,0) -> #REF! | N47: =VLOOKUP(B47,'Свод объектов'!$D$3:$V190,15,0) -> #REF! | O47: =VLOOKUP(B47,'Свод объектов'!$D$3:$V190,16,0) -> #REF! | P47: =VLOOKUP(B47,'Свод объектов'!$D$3:$V190,17,0) -> #REF! | Q47: =VLOOKUP(B47,'Свод объектов'!$D$3:$V190,18,0) -> #REF! | R47: =VLOOKUP(B47,'Свод объектов'!$D$3:$V190,19,0) -> #REF! | S47: 102893760 | T47: 30868128
A48: 46 | B48: 514 | C48: =VLOOKUP(B48,'Свод объектов'!$D$3:$V191,2,0) -> #REF! | D48: =VLOOKUP(B48,'Свод объектов'!$D$3:$V191,3,0) -> #REF! | E48: =VLOOKUP(B48,'Свод объектов'!$D$3:$V191,4,0) -> #REF! | F48: =VLOOKUP(B48,'Свод объектов'!$D$3:$V191,5,0) -> #REF! | G48: =VLOOKUP(B48,'Свод объектов'!$D$3:$V191,6,0) -> #REF! | H48: =VLOOKUP(B48,'Свод объектов'!$D$3:$V191,7,0) -> #REF! | I48: =VLOOKUP(B48,'Свод объектов'!$D$3:$V154,9,0) -> #REF! | J48: =VLOOKUP(B48,'Свод объектов'!$D$3:$V191,11,0) -> #REF! | K48: =VLOOKUP(B48,'Свод объектов'!$D$3:$V191,12,0) -> #REF! | L48: =VLOOKUP(B48,'Свод объектов'!$D$3:$V191,13,0) -> #REF! | M48: =VLOOKUP(B48,'Свод объектов'!$D$3:$V191,14,0) -> #REF! | N48: =VLOOKUP(B48,'Свод объектов'!$D$3:$V191,15,0) -> #REF! | O48: =VLOOKUP(B48,'Свод объектов'!$D$3:$V191,16,0) -> #REF! | P48: =VLOOKUP(B48,'Свод объектов'!$D$3:$V191,17,0) -> #REF! | Q48: =VLOOKUP(B48,'Свод объектов'!$D$3:$V191,18,0) -> #REF! | R48: =VLOOKUP(B48,'Свод объектов'!$D$3:$V191,19,0) -> #REF!
A49: 47 | B49: 515 | C49: =VLOOKUP(B49,'Свод объектов'!$D$3:$V192,2,0) -> #REF! | D49: =VLOOKUP(B49,'Свод объектов'!$D$3:$V192,3,0) -> #REF! | E49: =VLOOKUP(B49,'Свод объектов'!$D$3:$V192,4,0) -> #REF! | F49: =VLOOKUP(B49,'Свод объектов'!$D$3:$V192,5,0) -> #REF! | G49: =VLOOKUP(B49,'Свод объектов'!$D$3:$V192,6,0) -> #REF! | H49: =VLOOKUP(B49,'Свод объектов'!$D$3:$V192,7,0) -> #REF! | I49: =VLOOKUP(B49,'Свод объектов'!$D$3:$V155,9,0) -> #REF! | J49: =VLOOKUP(B49,'Свод объектов'!$D$3:$V192,11,0) -> #REF! | K49: =VLOOKUP(B49,'Свод объектов'!$D$3:$V192,12,0) -> #REF! | L49: =VLOOKUP(B49,'Свод объектов'!$D$3:$V192,13,0) -> #REF! | M49: =VLOOKUP(B49,'Свод объектов'!$D$3:$V192,14,0) -> #REF! | N49: =VLOOKUP(B49,'Свод объектов'!$D$3:$V192,15,0) -> #REF! | O49: =VLOOKUP(B49,'Свод объектов'!$D$3:$V192,16,0) -> #REF! | P49: =VLOOKUP(B49,'Свод объектов'!$D$3:$V192,17,0) -> #REF! | Q49: =VLOOKUP(B49,'Свод объектов'!$D$3:$V192,18,0) -> #REF! | R49: =VLOOKUP(B49,'Свод объектов'!$D$3:$V192,19,0) -> #REF!
A50: 48 | B50: 516 | C50: =VLOOKUP(B50,'Свод объектов'!$D$3:$V193,2,0) -> #REF! | D50: =VLOOKUP(B50,'Свод объектов'!$D$3:$V193,3,0) -> #REF! | E50: =VLOOKUP(B50,'Свод объектов'!$D$3:$V193,4,0) -> #REF! | F50: =VLOOKUP(B50,'Свод объектов'!$D$3:$V193,5,0) -> #REF! | G50: =VLOOKUP(B50,'Свод объектов'!$D$3:$V193,6,0) -> #REF! | H50: =VLOOKUP(B50,'Свод объектов'!$D$3:$V193,7,0) -> #REF! | I50: =VLOOKUP(B50,'Свод объектов'!$D$3:$V156,9,0) -> #REF! | J50: =VLOOKUP(B50,'Свод объектов'!$D$3:$V193,11,0) -> #REF! | K50: =VLOOKUP(B50,'Свод объектов'!$D$3:$V193,12,0) -> #REF! | L50: =VLOOKUP(B50,'Свод объектов'!$D$3:$V193,13,0) -> #REF! | M50: =VLOOKUP(B50,'Свод объектов'!$D$3:$V193,14,0) -> #REF! | N50: =VLOOKUP(B50,'Свод объектов'!$D$3:$V193,15,0) -> #REF! | O50: =VLOOKUP(B50,'Свод объектов'!$D$3:$V193,16,0) -> #REF! | P50: =VLOOKUP(B50,'Свод объектов'!$D$3:$V193,17,0) -> #REF! | Q50: =VLOOKUP(B50,'Свод объектов'!$D$3:$V193,18,0) -> #REF! | R50: =VLOOKUP(B50,'Свод объектов'!$D$3:$V193,19,0) -> #REF!
A51: 49 | B51: 517 | C51: =VLOOKUP(B51,'Свод объектов'!$D$3:$V194,2,0) -> #REF! | D51: =VLOOKUP(B51,'Свод объектов'!$D$3:$V194,3,0) -> #REF! | E51: =VLOOKUP(B51,'Свод объектов'!$D$3:$V194,4,0) -> #REF! | F51: =VLOOKUP(B51,'Свод объектов'!$D$3:$V194,5,0) -> #REF! | G51: =VLOOKUP(B51,'Свод объектов'!$D$3:$V194,6,0) -> #REF! | H51: =VLOOKUP(B51,'Свод объектов'!$D$3:$V194,7,0) -> #REF! | I51: =VLOOKUP(B51,'Свод объектов'!$D$3:$V157,9,0) -> #REF! | J51: =VLOOKUP(B51,'Свод объектов'!$D$3:$V194,11,0) -> #REF! | K51: =VLOOKUP(B51,'Свод объектов'!$D$3:$V194,12,0) -> #REF! | L51: =VLOOKUP(B51,'Свод объектов'!$D$3:$V194,13,0) -> #REF! | M51: =VLOOKUP(B51,'Свод объектов'!$D$3:$V194,14,0) -> #REF! | N51: =VLOOKUP(B51,'Свод объектов'!$D$3:$V194,15,0) -> #REF! | O51: =VLOOKUP(B51,'Свод объектов'!$D$3:$V194,16,0) -> #REF! | P51: =VLOOKUP(B51,'Свод объектов'!$D$3:$V194,17,0) -> #REF! | Q51: =VLOOKUP(B51,'Свод объектов'!$D$3:$V194,18,0) -> #REF! | R51: =VLOOKUP(B51,'Свод объектов'!$D$3:$V194,19,0) -> #REF!
A52: 50 | B52: 567 | C52: =VLOOKUP(B52,'Свод объектов'!$D$3:$V195,2,0) -> #REF! | D52: =VLOOKUP(B52,'Свод объектов'!$D$3:$V195,3,0) -> #REF! | E52: =VLOOKUP(B52,'Свод объектов'!$D$3:$V195,4,0) -> #REF! | F52: =VLOOKUP(B52,'Свод объектов'!$D$3:$V195,5,0) -> #REF! | G52: =VLOOKUP(B52,'Свод объектов'!$D$3:$V195,6,0) -> #REF! | H52: =VLOOKUP(B52,'Свод объектов'!$D$3:$V195,7,0) -> #REF! | I52: =VLOOKUP(B52,'Свод объектов'!$D$3:$V158,9,0) -> #REF! | J52: =VLOOKUP(B52,'Свод объектов'!$D$3:$V195,11,0) -> #REF! | K52: =VLOOKUP(B52,'Свод объектов'!$D$3:$V195,12,0) -> #REF! | L52: =VLOOKUP(B52,'Свод объектов'!$D$3:$V195,13,0) -> #REF! | M52: =VLOOKUP(B52,'Свод объектов'!$D$3:$V195,14,0) -> #REF! | N52: =VLOOKUP(B52,'Свод объектов'!$D$3:$V195,15,0) -> #REF! | O52: =VLOOKUP(B52,'Свод объектов'!$D$3:$V195,16,0) -> #REF! | P52: =VLOOKUP(B52,'Свод объектов'!$D$3:$V195,17,0) -> #REF! | Q52: =VLOOKUP(B52,'Свод объектов'!$D$3:$V195,18,0) -> #REF! | R52: =VLOOKUP(B52,'Свод объектов'!$D$3:$V195,19,0) -> #REF! | S52: 59856555 | T52: 17956966
A53: 51 | B53: 568 | C53: =VLOOKUP(B53,'Свод объектов'!$D$3:$V196,2,0) -> #REF! | D53: =VLOOKUP(B53,'Свод объектов'!$D$3:$V196,3,0) -> #REF! | E53: =VLOOKUP(B53,'Свод объектов'!$D$3:$V196,4,0) -> #REF! | F53: =VLOOKUP(B53,'Свод объектов'!$D$3:$V196,5,0) -> #REF! | G53: =VLOOKUP(B53,'Свод объектов'!$D$3:$V196,6,0) -> #REF! | H53: =VLOOKUP(B53,'Свод объектов'!$D$3:$V196,7,0) -> #REF! | I53: =VLOOKUP(B53,'Свод объектов'!$D$3:$V159,9,0) -> #REF! | J53: =VLOOKUP(B53,'Свод объектов'!$D$3:$V196,11,0) -> #REF! | K53: =VLOOKUP(B53,'Свод объектов'!$D$3:$V196,12,0) -> #REF! | L53: =VLOOKUP(B53,'Свод объектов'!$D$3:$V196,13,0) -> #REF! | M53: =VLOOKUP(B53,'Свод объектов'!$D$3:$V196,14,0) -> #REF! | N53: =VLOOKUP(B53,'Свод объектов'!$D$3:$V196,15,0) -> #REF! | O53: =VLOOKUP(B53,'Свод объектов'!$D$3:$V196,16,0) -> #REF! | P53: =VLOOKUP(B53,'Свод объектов'!$D$3:$V196,17,0) -> #REF! | Q53: =VLOOKUP(B53,'Свод объектов'!$D$3:$V196,18,0) -> #REF! | R53: =VLOOKUP(B53,'Свод объектов'!$D$3:$V196,19,0) -> #REF! | S53: 74399260 | T53: 22319778
A54: 52 | B54: 667 | C54: =VLOOKUP(B54,'Свод объектов'!$D$3:$V197,2,0) -> #REF! | D54: =VLOOKUP(B54,'Свод объектов'!$D$3:$V197,3,0) -> #REF! | E54: =VLOOKUP(B54,'Свод объектов'!$D$3:$V197,4,0) -> #REF! | F54: =VLOOKUP(B54,'Свод объектов'!$D$3:$V197,5,0) -> #REF! | G54: =VLOOKUP(B54,'Свод объектов'!$D$3:$V197,6,0) -> #REF! | H54: =VLOOKUP(B54,'Свод объектов'!$D$3:$V197,7,0) -> #REF! | I54: =VLOOKUP(B54,'Свод объектов'!$D$3:$V160,9,0) -> #REF! | J54: =VLOOKUP(B54,'Свод объектов'!$D$3:$V197,11,0) -> #REF! | K54: =VLOOKUP(B54,'Свод объектов'!$D$3:$V197,12,0) -> #REF! | L54: =VLOOKUP(B54,'Свод объектов'!$D$3:$V197,13,0) -> #REF! | M54: =VLOOKUP(B54,'Свод объектов'!$D$3:$V197,14,0) -> #REF! | N54: =VLOOKUP(B54,'Свод объектов'!$D$3:$V197,15,0) -> #REF! | O54: =VLOOKUP(B54,'Свод объектов'!$D$3:$V197,16,0) -> #REF! | P54: =VLOOKUP(B54,'Свод объектов'!$D$3:$V197,17,0) -> #REF! | Q54: =VLOOKUP(B54,'Свод объектов'!$D$3:$V197,18,0) -> #REF! | R54: =VLOOKUP(B54,'Свод объектов'!$D$3:$V197,19,0) -> #REF!
A55: 53 | B55: 712 | C55: =VLOOKUP(B55,'Свод объектов'!$D$3:$V198,2,0) -> #REF! | D55: =VLOOKUP(B55,'Свод объектов'!$D$3:$V198,3,0) -> #REF! | E55: =VLOOKUP(B55,'Свод объектов'!$D$3:$V198,4,0) -> #REF! | F55: =VLOOKUP(B55,'Свод объектов'!$D$3:$V198,5,0) -> #REF! | G55: =VLOOKUP(B55,'Свод объектов'!$D$3:$V198,6,0) -> #REF! | H55: =VLOOKUP(B55,'Свод объектов'!$D$3:$V198,7,0) -> #REF! | I55: =VLOOKUP(B55,'Свод объектов'!$D$3:$V161,9,0) -> #REF! | J55: =VLOOKUP(B55,'Свод объектов'!$D$3:$V198,11,0) -> #REF! | K55: =VLOOKUP(B55,'Свод объектов'!$D$3:$V198,12,0) -> #REF! | L55: =VLOOKUP(B55,'Свод объектов'!$D$3:$V198,13,0) -> #REF! | M55: =VLOOKUP(B55,'Свод объектов'!$D$3:$V198,14,0) -> #REF! | N55: =VLOOKUP(B55,'Свод объектов'!$D$3:$V198,15,0) -> #REF! | O55: =VLOOKUP(B55,'Свод объектов'!$D$3:$V198,16,0) -> #REF! | P55: =VLOOKUP(B55,'Свод объектов'!$D$3:$V198,17,0) -> #REF! | Q55: =VLOOKUP(B55,'Свод объектов'!$D$3:$V198,18,0) -> #REF! | R55: =VLOOKUP(B55,'Свод объектов'!$D$3:$V198,19,0) -> #REF! | U55: приостановка 02.12.2021
A56: 54 | B56: 721 | C56: =VLOOKUP(B56,'Свод объектов'!$D$3:$V199,2,0) -> #REF! | D56: =VLOOKUP(B56,'Свод объектов'!$D$3:$V199,3,0) -> #REF! | E56: =VLOOKUP(B56,'Свод объектов'!$D$3:$V199,4,0) -> #REF! | F56: =VLOOKUP(B56,'Свод объектов'!$D$3:$V199,5,0) -> #REF! | G56: =VLOOKUP(B56,'Свод объектов'!$D$3:$V199,6,0) -> #REF! | H56: =VLOOKUP(B56,'Свод объектов'!$D$3:$V199,7,0) -> #REF! | I56: =VLOOKUP(B56,'Свод объектов'!$D$3:$V162,9,0) -> #REF! | J56: =VLOOKUP(B56,'Свод объектов'!$D$3:$V199,11,0) -> #REF! | K56: =VLOOKUP(B56,'Свод объектов'!$D$3:$V199,12,0) -> #REF! | L56: =VLOOKUP(B56,'Свод объектов'!$D$3:$V199,13,0) -> #REF! | M56: =VLOOKUP(B56,'Свод объектов'!$D$3:$V199,14,0) -> #REF! | N56: =VLOOKUP(B56,'Свод объектов'!$D$3:$V199,15,0) -> #REF! | O56: =VLOOKUP(B56,'Свод объектов'!$D$3:$V199,16,0) -> #REF! | P56: =VLOOKUP(B56,'Свод объектов'!$D$3:$V199,17,0) -> #REF! | Q56: =VLOOKUP(B56,'Свод объектов'!$D$3:$V199,18,0) -> #REF! | R56: =VLOOKUP(B56,'Свод объектов'!$D$3:$V199,19,0) -> #REF! | S56: 89089690 | T56: Ожидается оплата - 11.03.2022
A57: 55 | B57: 749 | C57: =VLOOKUP(B57,'Свод объектов'!$D$3:$V200,2,0) -> #REF! | D57: =VLOOKUP(B57,'Свод объектов'!$D$3:$V200,3,0) -> #REF! | E57: =VLOOKUP(B57,'Свод объектов'!$D$3:$V200,4,0) -> #REF! | F57: =VLOOKUP(B57,'Свод объектов'!$D$3:$V200,5,0) -> #REF! | G57: =VLOOKUP(B57,'Свод объектов'!$D$3:$V200,6,0) -> #REF! | H57: =VLOOKUP(B57,'Свод объектов'!$D$3:$V200,7,0) -> #REF! | I57: =VLOOKUP(B57,'Свод объектов'!$D$3:$V163,9,0) -> #REF! | J57: =VLOOKUP(B57,'Свод объектов'!$D$3:$V200,11,0) -> #REF! | K57: =VLOOKUP(B57,'Свод объектов'!$D$3:$V200,12,0) -> #REF! | L57: =VLOOKUP(B57,'Свод объектов'!$D$3:$V200,13,0) -> #REF! | M57: =VLOOKUP(B57,'Свод объектов'!$D$3:$V200,14,0) -> #REF! | N57: =VLOOKUP(B57,'Свод объектов'!$D$3:$V200,15,0) -> #REF! | O57: =VLOOKUP(B57,'Свод объектов'!$D$3:$V200,16,0) -> #REF! | P57: =VLOOKUP(B57,'Свод объектов'!$D$3:$V200,17,0) -> #REF! | Q57: =VLOOKUP(B57,'Свод объектов'!$D$3:$V200,18,0) -> #REF! | R57: =VLOOKUP(B57,'Свод объектов'!$D$3:$V200,19,0) -> #REF!
A58: 56 | B58: 777 | C58: =VLOOKUP(B58,'Свод объектов'!$D$3:$V201,2,0) -> #REF! | D58: =VLOOKUP(B58,'Свод объектов'!$D$3:$V201,3,0) -> #REF! | E58: =VLOOKUP(B58,'Свод объектов'!$D$3:$V201,4,0) -> #REF! | F58: =VLOOKUP(B58,'Свод объектов'!$D$3:$V201,5,0) -> #REF! | G58: =VLOOKUP(B58,'Свод объектов'!$D$3:$V201,6,0) -> #REF! | H58: =VLOOKUP(B58,'Свод объектов'!$D$3:$V201,7,0) -> #REF! | I58: =VLOOKUP(B58,'Свод объектов'!$D$3:$V164,9,0) -> #REF! | J58: =VLOOKUP(B58,'Свод объектов'!$D$3:$V201,11,0) -> #REF! | K58: =VLOOKUP(B58,'Свод объектов'!$D$3:$V201,12,0) -> #REF! | L58: =VLOOKUP(B58,'Свод объектов'!$D$3:$V201,13,0) -> #REF! | M58: =VLOOKUP(B58,'Свод объектов'!$D$3:$V201,14,0) -> #REF! | N58: =VLOOKUP(B58,'Свод объектов'!$D$3:$V201,15,0) -> #REF! | O58: =VLOOKUP(B58,'Свод объектов'!$D$3:$V201,16,0) -> #REF! | P58: =VLOOKUP(B58,'Свод объектов'!$D$3:$V201,17,0) -> #REF! | Q58: =VLOOKUP(B58,'Свод объектов'!$D$3:$V201,18,0) -> #REF! | R58: =VLOOKUP(B58,'Свод объектов'!$D$3:$V201,19,0) -> #REF!
A59: 57 | B59: 778 | C59: =VLOOKUP(B59,'Свод объектов'!$D$3:$V202,2,0) -> #REF! | D59: =VLOOKUP(B59,'Свод объектов'!$D$3:$V202,3,0) -> #REF! | E59: =VLOOKUP(B59,'Свод объектов'!$D$3:$V202,4,0) -> #REF! | F59: =VLOOKUP(B59,'Свод объектов'!$D$3:$V202,5,0) -> #REF! | G59: =VLOOKUP(B59,'Свод объектов'!$D$3:$V202,6,0) -> #REF! | H59: =VLOOKUP(B59,'Свод объектов'!$D$3:$V202,7,0) -> #REF! | I59: =VLOOKUP(B59,'Свод объектов'!$D$3:$V165,9,0) -> #REF! | J59: =VLOOKUP(B59,'Свод объектов'!$D$3:$V202,11,0) -> #REF! | K59: =VLOOKUP(B59,'Свод объектов'!$D$3:$V202,12,0) -> #REF! | L59: =VLOOKUP(B59,'Свод объектов'!$D$3:$V202,13,0) -> #REF! | M59: =VLOOKUP(B59,'Свод объектов'!$D$3:$V202,14,0) -> #REF! | N59: =VLOOKUP(B59,'Свод объектов'!$D$3:$V202,15,0) -> #REF! | O59: =VLOOKUP(B59,'Свод объектов'!$D$3:$V202,16,0) -> #REF! | P59: =VLOOKUP(B59,'Свод объектов'!$D$3:$V202,17,0) -> #REF! | Q59: =VLOOKUP(B59,'Свод объектов'!$D$3:$V202,18,0) -> #REF! | R59: =VLOOKUP(B59,'Свод объектов'!$D$3:$V202,19,0) -> #REF!
A60: 58 | B60: 780 | C60: =VLOOKUP(B60,'Свод объектов'!$D$3:$V203,2,0) -> #REF! | D60: =VLOOKUP(B60,'Свод объектов'!$D$3:$V203,3,0) -> #REF! | E60: =VLOOKUP(B60,'Свод объектов'!$D$3:$V203,4,0) -> #REF! | F60: =VLOOKUP(B60,'Свод объектов'!$D$3:$V203,5,0) -> #REF! | G60: =VLOOKUP(B60,'Свод объектов'!$D$3:$V203,6,0) -> #REF! | H60: =VLOOKUP(B60,'Свод объектов'!$D$3:$V203,7,0) -> #REF! | I60: =VLOOKUP(B60,'Свод объектов'!$D$3:$V166,9,0) -> #REF! | J60: =VLOOKUP(B60,'Свод объектов'!$D$3:$V203,11,0) -> #REF! | K60: =VLOOKUP(B60,'Свод объектов'!$D$3:$V203,12,0) -> #REF! | L60: =VLOOKUP(B60,'Свод объектов'!$D$3:$V203,13,0) -> #REF! | M60: =VLOOKUP(B60,'Свод объектов'!$D$3:$V203,14,0) -> #REF! | N60: =VLOOKUP(B60,'Свод объектов'!$D$3:$V203,15,0) -> #REF! | O60: =VLOOKUP(B60,'Свод объектов'!$D$3:$V203,16,0) -> #REF! | P60: =VLOOKUP(B60,'Свод объектов'!$D$3:$V203,17,0) -> #REF! | Q60: =VLOOKUP(B60,'Свод объектов'!$D$3:$V203,18,0) -> #REF! | R60: =VLOOKUP(B60,'Свод объектов'!$D$3:$V203,19,0) -> #REF!
A61: 59 | B61: 781 | C61: =VLOOKUP(B61,'Свод объектов'!$D$3:$V204,2,0) -> #REF! | D61: =VLOOKUP(B61,'Свод объектов'!$D$3:$V204,3,0) -> #REF! | E61: =VLOOKUP(B61,'Свод объектов'!$D$3:$V204,4,0) -> #REF! | F61: =VLOOKUP(B61,'Свод объектов'!$D$3:$V204,5,0) -> #REF! | G61: =VLOOKUP(B61,'Свод объектов'!$D$3:$V204,6,0) -> #REF! | H61: =VLOOKUP(B61,'Свод объектов'!$D$3:$V204,7,0) -> #REF! | I61: =VLOOKUP(B61,'Свод объектов'!$D$3:$V167,9,0) -> #REF! | J61: =VLOOKUP(B61,'Свод объектов'!$D$3:$V204,11,0) -> #REF! | K61: =VLOOKUP(B61,'Свод объектов'!$D$3:$V204,12,0) -> #REF! | L61: =VLOOKUP(B61,'Свод объектов'!$D$3:$V204,13,0) -> #REF! | M61: =VLOOKUP(B61,'Свод объектов'!$D$3:$V204,14,0) -> #REF! | N61: =VLOOKUP(B61,'Свод объектов'!$D$3:$V204,15,0) -> #REF! | O61: =VLOOKUP(B61,'Свод объектов'!$D$3:$V204,16,0) -> #REF! | P61: =VLOOKUP(B61,'Свод объектов'!$D$3:$V204,17,0) -> #REF! | Q61: =VLOOKUP(B61,'Свод объектов'!$D$3:$V204,18,0) -> #REF! | R61: =VLOOKUP(B61,'Свод объектов'!$D$3:$V204,19,0) -> #REF!
A62: 60 | B62: 782 | C62: =VLOOKUP(B62,'Свод объектов'!$D$3:$V205,2,0) -> #REF! | D62: =VLOOKUP(B62,'Свод объектов'!$D$3:$V205,3,0) -> #REF! | E62: =VLOOKUP(B62,'Свод объектов'!$D$3:$V205,4,0) -> #REF! | F62: =VLOOKUP(B62,'Свод объектов'!$D$3:$V205,5,0) -> #REF! | G62: =VLOOKUP(B62,'Свод объектов'!$D$3:$V205,6,0) -> #REF! | H62: =VLOOKUP(B62,'Свод объектов'!$D$3:$V205,7,0) -> #REF! | I62: =VLOOKUP(B62,'Свод объектов'!$D$3:$V168,9,0) -> #REF! | J62: =VLOOKUP(B62,'Свод объектов'!$D$3:$V205,11,0) -> #REF! | K62: =VLOOKUP(B62,'Свод объектов'!$D$3:$V205,12,0) -> #REF! | L62: =VLOOKUP(B62,'Свод объектов'!$D$3:$V205,13,0) -> #REF! | M62: =VLOOKUP(B62,'Свод объектов'!$D$3:$V205,14,0) -> #REF! | N62: =VLOOKUP(B62,'Свод объектов'!$D$3:$V205,15,0) -> #REF! | O62: =VLOOKUP(B62,'Свод объектов'!$D$3:$V205,16,0) -> #REF! | P62: =VLOOKUP(B62,'Свод объектов'!$D$3:$V205,17,0) -> #REF! | Q62: =VLOOKUP(B62,'Свод объектов'!$D$3:$V205,18,0) -> #REF! | R62: =VLOOKUP(B62,'Свод объектов'!$D$3:$V205,19,0) -> #REF!
K64: Итого ОРП(м2):
E65: Территориальное управление Север | K65: =SUM(K3:K62) -> #REF!
E67: Территориальное управление Восток
E69: Территориальное управление Юг
E71: Собственные силы
A74: Объекты 2022 год
A75: № | B75: №" | C75: Этап | D75: Район | E75: Округ | F75: РП | G75: Тип | H75: Т\К | I75: Адрес объекта строительства | J75: ПД/РД | K75: ОРП, м2 | L75: Договор СМР/УК | M75: Начало ПИР 8 мес. | N75: Первая МГЭ (Выход) | O75: Начало СМР | P75: МГЭ ЗОС (Вход) | Q75: РВЭ | R75: КС-11 | S75: Сумма по договору | T75: Авансы
A76: 1 | B76: 78 | C76: =VLOOKUP(B76,'Свод объектов'!$D$3:$V146,2,0) -> #REF! | D76: =VLOOKUP(B76,'Свод объектов'!$D$3:$V146,3,0) -> #REF! | E76: =VLOOKUP(B76,'Свод объектов'!$D$3:$V146,4,0) -> #REF! | F76: =VLOOKUP(B76,'Свод объектов'!$D$3:$V146,5,0) -> #REF! | G76: =VLOOKUP(B76,'Свод объектов'!$D$3:$V146,6,0) -> #REF! | H76: =VLOOKUP(B76,'Свод объектов'!$D$3:$V146,7,0) -> #REF! | I76: =VLOOKUP(B76,'Свод объектов'!$D$3:$V182,9,0) -> #REF! | J76: =VLOOKUP(B76,'Свод объектов'!$D$3:$V146,11,0) -> #REF! | K76: =VLOOKUP(B76,'Свод объектов'!$D$3:$V146,12,0) -> #REF! | L76: =VLOOKUP(B76,'Свод объектов'!$D$3:$V146,13,0) -> #REF! | M76: =VLOOKUP(B76,'Свод объектов'!$D$3:$V146,14,0) -> #REF! | N76: =VLOOKUP(B76,'Свод объектов'!$D$3:$V146,15,0) -> #REF! | O76: =VLOOKUP(B76,'Свод объектов'!$D$3:$V146,16,0) -> #REF! | P76: =VLOOKUP(B76,'Свод объектов'!$D$3:$V146,17,0) -> #REF! | Q76: =VLOOKUP(B76,'Свод объектов'!$D$3:$V146,18,0) -> #REF! | R76: =VLOOKUP(B76,'Свод объектов'!$D$3:$V146,19,0) -> #REF!
A77: 2 | B77: 80 | C77: =VLOOKUP(B77,'Свод объектов'!$D$3:$V147,2,0) -> #REF! | D77: =VLOOKUP(B77,'Свод объектов'!$D$3:$V147,3,0) -> #REF! | E77: =VLOOKUP(B77,'Свод объектов'!$D$3:$V147,4,0) -> #REF! | F77: =VLOOKUP(B77,'Свод объектов'!$D$3:$V147,5,0) -> #REF! | G77: =VLOOKUP(B77,'Свод объектов'!$D$3:$V147,6,0) -> #REF! | H77: =VLOOKUP(B77,'Свод объектов'!$D$3:$V147,7,0) -> #REF! | I77: =VLOOKUP(B77,'Свод объектов'!$D$3:$V183,9,0) -> #REF! | J77: =VLOOKUP(B77,'Свод объектов'!$D$3:$V147,11,0) -> #REF! | K77: =VLOOKUP(B77,'Свод объектов'!$D$3:$V147,12,0) -> #REF! | L77: =VLOOKUP(B77,'Свод объектов'!$D$3:$V147,13,0) -> #REF! | M77: =VLOOKUP(B77,'Свод объектов'!$D$3:$V147,14,0) -> #REF! | N77: =VLOOKUP(B77,'Свод объектов'!$D$3:$V147,15,0) -> #REF! | O77: =VLOOKUP(B77,'Свод объектов'!$D$3:$V147,16,0) -> #REF! | P77: =VLOOKUP(B77,'Свод объектов'!$D$3:$V147,17,0) -> #REF! | Q77: =VLOOKUP(B77,'Свод объектов'!$D$3:$V147,18,0) -> #REF! | R77: =VLOOKUP(B77,'Свод объектов'!$D$3:$V147,19,0) -> #REF!
A78: 3 | B78: 81 | C78: =VLOOKUP(B78,'Свод объектов'!$D$3:$V148,2,0) -> #REF! | D78: =VLOOKUP(B78,'Свод объектов'!$D$3:$V148,3,0) -> #REF! | E78: =VLOOKUP(B78,'Свод объектов'!$D$3:$V148,4,0) -> #REF! | F78: =VLOOKUP(B78,'Свод объектов'!$D$3:$V148,5,0) -> #REF! | G78: =VLOOKUP(B78,'Свод объектов'!$D$3:$V148,6,0) -> #REF! | H78: =VLOOKUP(B78,'Свод объектов'!$D$3:$V148,7,0) -> #REF! | I78: =VLOOKUP(B78,'Свод объектов'!$D$3:$V184,9,0) -> #REF! | J78: =VLOOKUP(B78,'Свод объектов'!$D$3:$V148,11,0) -> #REF! | K78: =VLOOKUP(B78,'Свод объектов'!$D$3:$V148,12,0) -> #REF! | L78: =VLOOKUP(B78,'Свод объектов'!$D$3:$V148,13,0) -> #REF! | M78: =VLOOKUP(B78,'Свод объектов'!$D$3:$V148,14,0) -> #REF! | N78: =VLOOKUP(B78,'Свод объектов'!$D$3:$V148,15,0) -> #REF! | O78: =VLOOKUP(B78,'Свод объектов'!$D$3:$V148,16,0) -> #REF! | P78: =VLOOKUP(B78,'Свод объектов'!$D$3:$V148,17,0) -> #REF! | Q78: =VLOOKUP(B78,'Свод объектов'!$D$3:$V148,18,0) -> #REF! | R78: =VLOOKUP(B78,'Свод объектов'!$D$3:$V148,19,0) -> #REF!
A79: 4 | B79: 246 | C79: =VLOOKUP(B79,'Свод объектов'!$D$3:$V149,2,0) -> #REF! | D79: =VLOOKUP(B79,'Свод объектов'!$D$3:$V149,3,0) -> #REF! | E79: =VLOOKUP(B79,'Свод объектов'!$D$3:$V149,4,0) -> #REF! | F79: =VLOOKUP(B79,'Свод объектов'!$D$3:$V149,5,0) -> #REF! | G79: =VLOOKUP(B79,'Свод объектов'!$D$3:$V149,6,0) -> #REF! | H79: =VLOOKUP(B79,'Свод объектов'!$D$3:$V149,7,0) -> #REF! | I79: =VLOOKUP(B79,'Свод объектов'!$D$3:$V185,9,0) -> #REF! | J79: =VLOOKUP(B79,'Свод объектов'!$D$3:$V149,11,0) -> #REF! | K79: =VLOOKUP(B79,'Свод объектов'!$D$3:$V149,12,0) -> #REF! | L79: =VLOOKUP(B79,'Свод объектов'!$D$3:$V149,13,0) -> #REF! | M79: =VLOOKUP(B79,'Свод объектов'!$D$3:$V149,14,0) -> #REF! | N79: =VLOOKUP(B79,'Свод объектов'!$D$3:$V149,15,0) -> #REF! | O79: =VLOOKUP(B79,'Свод объектов'!$D$3:$V149,16,0) -> #REF! | P79: =VLOOKUP(B79,'Свод объектов'!$D$3:$V149,17,0) -> #REF! | Q79: =VLOOKUP(B79,'Свод объектов'!$D$3:$V149,18,0) -> #REF! | R79: =VLOOKUP(B79,'Свод объектов'!$D$3:$V149,19,0) -> #REF!
A80: 5 | B80: 266 | C80: =VLOOKUP(B80,'Свод объектов'!$D$3:$V150,2,0) -> #REF! | D80: =VLOOKUP(B80,'Свод объектов'!$D$3:$V150,3,0) -> #REF! | E80: =VLOOKUP(B80,'Свод объектов'!$D$3:$V150,4,0) -> #REF! | F80: =VLOOKUP(B80,'Свод объектов'!$D$3:$V150,5,0) -> #REF! | G80: =VLOOKUP(B80,'Свод объектов'!$D$3:$V150,6,0) -> #REF! | H80: =VLOOKUP(B80,'Свод объектов'!$D$3:$V150,7,0) -> #REF! | I80: =VLOOKUP(B80,'Свод объектов'!$D$3:$V186,9,0) -> #REF! | J80: =VLOOKUP(B80,'Свод объектов'!$D$3:$V150,11,0) -> #REF! | K80: =VLOOKUP(B80,'Свод объектов'!$D$3:$V150,12,0) -> #REF! | L80: =VLOOKUP(B80,'Свод объектов'!$D$3:$V150,13,0) -> #REF! | M80: =VLOOKUP(B80,'Свод объектов'!$D$3:$V150,14,0) -> #REF! | N80: =VLOOKUP(B80,'Свод объектов'!$D$3:$V150,15,0) -> #REF! | O80: =VLOOKUP(B80,'Свод объектов'!$D$3:$V150,16,0) -> #REF! | P80: =VLOOKUP(B80,'Свод объектов'!$D$3:$V150,17,0) -> #REF! | Q80: =VLOOKUP(B80,'Свод объектов'!$D$3:$V150,18,0) -> #REF! | R80: =VLOOKUP(B80,'Свод объектов'!$D$3:$V150,19,0) -> #REF!
A81: 6 | B81: 267 | C81: =VLOOKUP(B81,'Свод объектов'!$D$3:$V151,2,0) -> #REF! | D81: =VLOOKUP(B81,'Свод объектов'!$D$3:$V151,3,0) -> #REF! | E81: =VLOOKUP(B81,'Свод объектов'!$D$3:$V151,4,0) -> #REF! | F81: =VLOOKUP(B81,'Свод объектов'!$D$3:$V151,5,0) -> #REF! | G81: =VLOOKUP(B81,'Свод объектов'!$D$3:$V151,6,0) -> #REF! | H81: =VLOOKUP(B81,'Свод объектов'!$D$3:$V151,7,0) -> #REF! | I81: =VLOOKUP(B81,'Свод объектов'!$D$3:$V187,9,0) -> #REF! | J81: =VLOOKUP(B81,'Свод объектов'!$D$3:$V151,11,0) -> #REF! | K81: =VLOOKUP(B81,'Свод объектов'!$D$3:$V151,12,0) -> #REF! | L81: =VLOOKUP(B81,'Свод объектов'!$D$3:$V151,13,0) -> #REF! | M81: =VLOOKUP(B81,'Свод объектов'!$D$3:$V151,14,0) -> #REF! | N81: =VLOOKUP(B81,'Свод объектов'!$D$3:$V151,15,0) -> #REF! | O81: =VLOOKUP(B81,'Свод объектов'!$D$3:$V151,16,0) -> #REF! | P81: =VLOOKUP(B81,'Свод объектов'!$D$3:$V151,17,0) -> #REF! | Q81: =VLOOKUP(B81,'Свод объектов'!$D$3:$V151,18,0) -> #REF! | R81: =VLOOKUP(B81,'Свод объектов'!$D$3:$V151,19,0) -> #REF!
A82: 7 | B82: 268 | C82: =VLOOKUP(B82,'Свод объектов'!$D$3:$V152,2,0) -> #REF! | D82: =VLOOKUP(B82,'Свод объектов'!$D$3:$V152,3,0) -> #REF! | E82: =VLOOKUP(B82,'Свод объектов'!$D$3:$V152,4,0) -> #REF! | F82: =VLOOKUP(B82,'Свод объектов'!$D$3:$V152,5,0) -> #REF! | G82: =VLOOKUP(B82,'Свод объектов'!$D$3:$V152,6,0) -> #REF! | H82: =VLOOKUP(B82,'Свод объектов'!$D$3:$V152,7,0) -> #REF! | I82: =VLOOKUP(B82,'Свод объектов'!$D$3:$V188,9,0) -> #REF! | J82: =VLOOKUP(B82,'Свод объектов'!$D$3:$V152,11,0) -> #REF! | K82: =VLOOKUP(B82,'Свод объектов'!$D$3:$V152,12,0) -> #REF! | L82: =VLOOKUP(B82,'Свод объектов'!$D$3:$V152,13,0) -> #REF! | M82: =VLOOKUP(B82,'Свод объектов'!$D$3:$V152,14,0) -> #REF! | N82: =VLOOKUP(B82,'Свод объектов'!$D$3:$V152,15,0) -> #REF! | O82: =VLOOKUP(B82,'Свод объектов'!$D$3:$V152,16,0) -> #REF! | P82: =VLOOKUP(B82,'Свод объектов'!$D$3:$V152,17,0) -> #REF! | Q82: =VLOOKUP(B82,'Свод объектов'!$D$3:$V152,18,0) -> #REF! | R82: =VLOOKUP(B82,'Свод объектов'!$D$3:$V152,19,0) -> #REF!
A83: 8 | B83: 345 | C83: =VLOOKUP(B83,'Свод объектов'!$D$3:$V153,2,0) -> #REF! | D83: =VLOOKUP(B83,'Свод объектов'!$D$3:$V153,3,0) -> #REF! | E83: =VLOOKUP(B83,'Свод объектов'!$D$3:$V153,4,0) -> #REF! | F83: =VLOOKUP(B83,'Свод объектов'!$D$3:$V153,5,0) -> #REF! | G83: =VLOOKUP(B83,'Свод объектов'!$D$3:$V153,6,0) -> #REF! | H83: =VLOOKUP(B83,'Свод объектов'!$D$3:$V153,7,0) -> #REF! | I83: =VLOOKUP(B83,'Свод объектов'!$D$3:$V189,9,0) -> #REF! | J83: =VLOOKUP(B83,'Свод объектов'!$D$3:$V153,11,0) -> #REF! | K83: =VLOOKUP(B83,'Свод объектов'!$D$3:$V153,12,0) -> #REF! | L83: =VLOOKUP(B83,'Свод объектов'!$D$3:$V153,13,0) -> #REF! | M83: =VLOOKUP(B83,'Свод объектов'!$D$3:$V153,14,0) -> #REF! | N83: =VLOOKUP(B83,'Свод объектов'!$D$3:$V153,15,0) -> #REF! | O83: =VLOOKUP(B83,'Свод объектов'!$D$3:$V153,16,0) -> #REF! | P83: =VLOOKUP(B83,'Свод объектов'!$D$3:$V153,17,0) -> #REF! | Q83: =VLOOKUP(B83,'Свод объектов'!$D$3:$V153,18,0) -> #REF! | R83: =VLOOKUP(B83,'Свод объектов'!$D$3:$V153,19,0) -> #REF!
A84: 9 | B84: 384 | C84: =VLOOKUP(B84,'Свод объектов'!$D$3:$V154,2,0) -> #REF! | D84: =VLOOKUP(B84,'Свод объектов'!$D$3:$V154,3,0) -> #REF! | E84: =VLOOKUP(B84,'Свод объектов'!$D$3:$V154,4,0) -> #REF! | F84: =VLOOKUP(B84,'Свод объектов'!$D$3:$V154,5,0) -> #REF! | G84: =VLOOKUP(B84,'Свод объектов'!$D$3:$V154,6,0) -> #REF! | H84: =VLOOKUP(B84,'Свод объектов'!$D$3:$V154,7,0) -> #REF! | I84: =VLOOKUP(B84,'Свод объектов'!$D$3:$V190,9,0) -> #REF! | J84: =VLOOKUP(B84,'Свод объектов'!$D$3:$V154,11,0) -> #REF! | K84: =VLOOKUP(B84,'Свод объектов'!$D$3:$V154,12,0) -> #REF! | L84: =VLOOKUP(B84,'Свод объектов'!$D$3:$V154,13,0) -> #REF! | M84: =VLOOKUP(B84,'Свод объектов'!$D$3:$V154,14,0) -> #REF! | N84: =VLOOKUP(B84,'Свод объектов'!$D$3:$V154,15,0) -> #REF! | O84: =VLOOKUP(B84,'Свод объектов'!$D$3:$V154,16,0) -> #REF! | P84: =VLOOKUP(B84,'Свод объектов'!$D$3:$V154,17,0) -> #REF! | Q84: =VLOOKUP(B84,'Свод объектов'!$D$3:$V154,18,0) -> #REF! | R84: =VLOOKUP(B84,'Свод объектов'!$D$3:$V154,19,0) -> #REF!
A85: 10 | B85: 385 | C85: =VLOOKUP(B85,'Свод объектов'!$D$3:$V155,2,0) -> #REF! | D85: =VLOOKUP(B85,'Свод объектов'!$D$3:$V155,3,0) -> #REF! | E85: =VLOOKUP(B85,'Свод объектов'!$D$3:$V155,4,0) -> #REF! | F85: =VLOOKUP(B85,'Свод объектов'!$D$3:$V155,5,0) -> #REF! | G85: =VLOOKUP(B85,'Свод объектов'!$D$3:$V155,6,0) -> #REF! | H85: =VLOOKUP(B85,'Свод объектов'!$D$3:$V155,7,0) -> #REF! | I85: =VLOOKUP(B85,'Свод объектов'!$D$3:$V191,9,0) -> #REF! | J85: =VLOOKUP(B85,'Свод объектов'!$D$3:$V155,11,0) -> #REF! | K85: =VLOOKUP(B85,'Свод объектов'!$D$3:$V155,12,0) -> #REF! | L85: =VLOOKUP(B85,'Свод объектов'!$D$3:$V155,13,0) -> #REF! | M85: =VLOOKUP(B85,'Свод объектов'!$D$3:$V155,14,0) -> #REF! | N85: =VLOOKUP(B85,'Свод объектов'!$D$3:$V155,15,0) -> #REF! | O85: =VLOOKUP(B85,'Свод объектов'!$D$3:$V155,16,0) -> #REF! | P85: =VLOOKUP(B85,'Свод объектов'!$D$3:$V155,17,0) -> #REF! | Q85: =VLOOKUP(B85,'Свод объектов'!$D$3:$V155,18,0) -> #REF! | R85: =VLOOKUP(B85,'Свод объектов'!$D$3:$V155,19,0) -> #REF!
A86: 11 | B86: 396 | C86: =VLOOKUP(B86,'Свод объектов'!$D$3:$V156,2,0) -> #REF! | D86: =VLOOKUP(B86,'Свод объектов'!$D$3:$V156,3,0) -> #REF! | E86: =VLOOKUP(B86,'Свод объектов'!$D$3:$V156,4,0) -> #REF! | F86: =VLOOKUP(B86,'Свод объектов'!$D$3:$V156,5,0) -> #REF! | G86: =VLOOKUP(B86,'Свод объектов'!$D$3:$V156,6,0) -> #REF! | H86: =VLOOKUP(B86,'Свод объектов'!$D$3:$V156,7,0) -> #REF! | I86: =VLOOKUP(B86,'Свод объектов'!$D$3:$V192,9,0) -> #REF! | J86: =VLOOKUP(B86,'Свод объектов'!$D$3:$V156,11,0) -> #REF! | K86: =VLOOKUP(B86,'Свод объектов'!$D$3:$V156,12,0) -> #REF! | L86: =VLOOKUP(B86,'Свод объектов'!$D$3:$V156,13,0) -> #REF! | M86: =VLOOKUP(B86,'Свод объектов'!$D$3:$V156,14,0) -> #REF! | N86: =VLOOKUP(B86,'Свод объектов'!$D$3:$V156,15,0) -> #REF! | O86: =VLOOKUP(B86,'Свод объектов'!$D$3:$V156,16,0) -> #REF! | P86: =VLOOKUP(B86,'Свод объектов'!$D$3:$V156,17,0) -> #REF! | Q86: =VLOOKUP(B86,'Свод объектов'!$D$3:$V156,18,0) -> #REF! | R86: =VLOOKUP(B86,'Свод объектов'!$D$3:$V156,19,0) -> #REF!
A87: 12 | B87: 421 | C87: =VLOOKUP(B87,'Свод объектов'!$D$3:$V157,2,0) -> #REF! | D87: =VLOOKUP(B87,'Свод объектов'!$D$3:$V157,3,0) -> #REF! | E87: =VLOOKUP(B87,'Свод объектов'!$D$3:$V157,4,0) -> #REF! | F87: =VLOOKUP(B87,'Свод объектов'!$D$3:$V157,5,0) -> #REF! | G87: =VLOOKUP(B87,'Свод объектов'!$D$3:$V157,6,0) -> #REF! | H87: =VLOOKUP(B87,'Свод объектов'!$D$3:$V157,7,0) -> #REF! | I87: г. Москва, район Кузьминки, микрорайоны 113, 113А, 114 (Дом, ул. Маршала Чуйкова вл. 11/3) 1 этап (Дом, зона 4.3) | J87: =VLOOKUP(B87,'Свод объектов'!$D$3:$V157,11,0) -> #REF! | K87: =VLOOKUP(B87,'Свод объектов'!$D$3:$V157,12,0) -> #REF! | L87: =VLOOKUP(B87,'Свод объектов'!$D$3:$V157,13,0) -> #REF! | M87: =VLOOKUP(B87,'Свод объектов'!$D$3:$V157,14,0) -> #REF! | N87: =VLOOKUP(B87,'Свод объектов'!$D$3:$V157,15,0) -> #REF! | O87: =VLOOKUP(B87,'Свод объектов'!$D$3:$V157,16,0) -> #REF! | P87: =VLOOKUP(B87,'Свод объектов'!$D$3:$V157,17,0) -> #REF! | Q87: =VLOOKUP(B87,'Свод объектов'!$D$3:$V157,18,0) -> #REF! | R87: =VLOOKUP(B87,'Свод объектов'!$D$3:$V157,19,0) -> #REF! | S87: 31799600 | T87: Выплат по договору не было ПРИОСТАНОВКА
A88: 13 | B88: 422 | C88: =VLOOKUP(B88,'Свод объектов'!$D$3:$V158,2,0) -> #REF! | D88: =VLOOKUP(B88,'Свод объектов'!$D$3:$V158,3,0) -> #REF! | E88: =VLOOKUP(B88,'Свод объектов'!$D$3:$V158,4,0) -> #REF! | F88: =VLOOKUP(B88,'Свод объектов'!$D$3:$V158,5,0) -> #REF! | G88: =VLOOKUP(B88,'Свод объектов'!$D$3:$V158,6,0) -> #REF! | H88: =VLOOKUP(B88,'Свод объектов'!$D$3:$V158,7,0) -> #REF! | I88: г. Москва, район Кузьминки, микрорайоны 113, 113А, 114 (Дом, ул. Маршала Чуйкова вл. 9/5/2) 1 этап (Дом, зона 4.1) | J88: =VLOOKUP(B88,'Свод объектов'!$D$3:$V158,11,0) -> #REF! | K88: =VLOOKUP(B88,'Свод объектов'!$D$3:$V158,12,0) -> #REF! | L88: =VLOOKUP(B88,'Свод объектов'!$D$3:$V158,13,0) -> #REF! | M88: =VLOOKUP(B88,'Свод объектов'!$D$3:$V158,14,0) -> #REF! | N88: =VLOOKUP(B88,'Свод объектов'!$D$3:$V158,15,0) -> #REF! | O88: =VLOOKUP(B88,'Свод объектов'!$D$3:$V158,16,0) -> #REF! | P88: =VLOOKUP(B88,'Свод объектов'!$D$3:$V158,17,0) -> #REF! | Q88: =VLOOKUP(B88,'Свод объектов'!$D$3:$V158,18,0) -> #REF! | R88: =VLOOKUP(B88,'Свод объектов'!$D$3:$V158,19,0) -> #REF! | S88: 58399910 | T88: 17519973
A89: 14 | B89: 423 | C89: =VLOOKUP(B89,'Свод объектов'!$D$3:$V159,2,0) -> #REF! | D89: =VLOOKUP(B89,'Свод объектов'!$D$3:$V159,3,0) -> #REF! | E89: =VLOOKUP(B89,'Свод объектов'!$D$3:$V159,4,0) -> #REF! | F89: =VLOOKUP(B89,'Свод объектов'!$D$3:$V159,5,0) -> #REF! | G89: =VLOOKUP(B89,'Свод объектов'!$D$3:$V159,6,0) -> #REF! | H89: =VLOOKUP(B89,'Свод объектов'!$D$3:$V159,7,0) -> #REF! | I89: г. Москва, район Кузьминки, микрорайоны 113, 113А, 114 (Дом, ул. Маршала Чуйкова вл. 9/5/1) 1 этап (Дом, зона 4.2) | J89: =VLOOKUP(B89,'Свод объектов'!$D$3:$V159,11,0) -> #REF! | K89: =VLOOKUP(B89,'Свод объектов'!$D$3:$V159,12,0) -> #REF! | L89: =VLOOKUP(B89,'Свод объектов'!$D$3:$V159,13,0) -> #REF! | M89: =VLOOKUP(B89,'Свод объектов'!$D$3:$V159,14,0) -> #REF! | N89: =VLOOKUP(B89,'Свод объектов'!$D$3:$V159,15,0) -> #REF! | O89: =VLOOKUP(B89,'Свод объектов'!$D$3:$V159,16,0) -> #REF! | P89: =VLOOKUP(B89,'Свод объектов'!$D$3:$V159,17,0) -> #REF! | Q89: =VLOOKUP(B89,'Свод объектов'!$D$3:$V159,18,0) -> #REF! | R89: =VLOOKUP(B89,'Свод объектов'!$D$3:$V159,19,0) -> #REF! | S89: 53850013 | T89: 16155004
A90: 15 | B90: 460 | C90: =VLOOKUP(B90,'Свод объектов'!$D$3:$V160,2,0) -> #REF! | D90: =VLOOKUP(B90,'Свод объектов'!$D$3:$V160,3,0) -> #REF! | E90: =VLOOKUP(B90,'Свод объектов'!$D$3:$V160,4,0) -> #REF! | F90: =VLOOKUP(B90,'Свод объектов'!$D$3:$V160,5,0) -> #REF! | G90: =VLOOKUP(B90,'Свод объектов'!$D$3:$V160,6,0) -> #REF! | H90: =VLOOKUP(B90,'Свод объектов'!$D$3:$V160,7,0) -> #REF! | I90: =VLOOKUP(B90,'Свод объектов'!$D$3:$V196,9,0) -> #REF! | J90: =VLOOKUP(B90,'Свод объектов'!$D$3:$V160,11,0) -> #REF! | K90: =VLOOKUP(B90,'Свод объектов'!$D$3:$V160,12,0) -> #REF! | L90: =VLOOKUP(B90,'Свод объектов'!$D$3:$V160,13,0) -> #REF! | M90: =VLOOKUP(B90,'Свод объектов'!$D$3:$V160,14,0) -> #REF! | N90: =VLOOKUP(B90,'Свод объектов'!$D$3:$V160,15,0) -> #REF! | O90: =VLOOKUP(B90,'Свод объектов'!$D$3:$V160,16,0) -> #REF! | P90: =VLOOKUP(B90,'Свод объектов'!$D$3:$V160,17,0) -> #REF! | Q90: =VLOOKUP(B90,'Свод объектов'!$D$3:$V160,18,0) -> #REF! | R90: =VLOOKUP(B90,'Свод объектов'!$D$3:$V160,19,0) -> #REF! | S90: - | T90: -
A91: 16 | B91: 630 | C91: =VLOOKUP(B91,'Свод объектов'!$D$3:$V161,2,0) -> #REF! | D91: =VLOOKUP(B91,'Свод объектов'!$D$3:$V161,3,0) -> #REF! | E91: =VLOOKUP(B91,'Свод объектов'!$D$3:$V161,4,0) -> #REF! | F91: =VLOOKUP(B91,'Свод объектов'!$D$3:$V161,5,0) -> #REF! | G91: =VLOOKUP(B91,'Свод объектов'!$D$3:$V161,6,0) -> #REF! | H91: =VLOOKUP(B91,'Свод объектов'!$D$3:$V161,7,0) -> #REF! | I91: г. Москва, район Гольяново, микрорайоны 1-2 (Дом, зона 10.1) 2 этап | J91: =VLOOKUP(B91,'Свод объектов'!$D$3:$V161,11,0) -> #REF! | K91: =VLOOKUP(B91,'Свод объектов'!$D$3:$V161,12,0) -> #REF! | L91: =VLOOKUP(B91,'Свод объектов'!$D$3:$V161,13,0) -> #REF! | M91: =VLOOKUP(B91,'Свод объектов'!$D$3:$V161,14,0) -> #REF! | N91: =VLOOKUP(B91,'Свод объектов'!$D$3:$V161,15,0) -> #REF! | O91: =VLOOKUP(B91,'Свод объектов'!$D$3:$V161,16,0) -> #REF! | P91: =VLOOKUP(B91,'Свод объектов'!$D$3:$V161,17,0) -> #REF! | Q91: =VLOOKUP(B91,'Свод объектов'!$D$3:$V161,18,0) -> #REF! | R91: =VLOOKUP(B91,'Свод объектов'!$D$3:$V161,19,0) -> #REF!
A92: 17 | B92: 747 | C92: =VLOOKUP(B92,'Свод объектов'!$D$3:$V162,2,0) -> #REF! | D92: =VLOOKUP(B92,'Свод объектов'!$D$3:$V162,3,0) -> #REF! | E92: =VLOOKUP(B92,'Свод объектов'!$D$3:$V162,4,0) -> #REF! | F92: =VLOOKUP(B92,'Свод объектов'!$D$3:$V162,5,0) -> #REF! | G92: =VLOOKUP(B92,'Свод объектов'!$D$3:$V162,6,0) -> #REF! | H92: =VLOOKUP(B92,'Свод объектов'!$D$3:$V162,7,0) -> #REF! | I92: =VLOOKUP(B92,'Свод объектов'!$D$3:$V198,9,0) -> #REF! | J92: =VLOOKUP(B92,'Свод объектов'!$D$3:$V162,11,0) -> #REF! | K92: =VLOOKUP(B92,'Свод объектов'!$D$3:$V162,12,0) -> #REF! | L92: =VLOOKUP(B92,'Свод объектов'!$D$3:$V162,13,0) -> #REF! | M92: =VLOOKUP(B92,'Свод объектов'!$D$3:$V162,14,0) -> #REF! | N92: =VLOOKUP(B92,'Свод объектов'!$D$3:$V162,15,0) -> #REF! | O92: =VLOOKUP(B92,'Свод объектов'!$D$3:$V162,16,0) -> #REF! | P92: =VLOOKUP(B92,'Свод объектов'!$D$3:$V162,17,0) -> #REF! | Q92: =VLOOKUP(B92,'Свод объектов'!$D$3:$V162,18,0) -> #REF! | R92: =VLOOKUP(B92,'Свод объектов'!$D$3:$V162,19,0) -> #REF!
A93: 18 | B93: 779 | C93: =VLOOKUP(B93,'Свод объектов'!$D$3:$V163,2,0) -> #REF! | D93: =VLOOKUP(B93,'Свод объектов'!$D$3:$V163,3,0) -> #REF! | E93: =VLOOKUP(B93,'Свод объектов'!$D$3:$V163,4,0) -> #REF! | F93: =VLOOKUP(B93,'Свод объектов'!$D$3:$V163,5,0) -> #REF! | G93: =VLOOKUP(B93,'Свод объектов'!$D$3:$V163,6,0) -> #REF! | H93: =VLOOKUP(B93,'Свод объектов'!$D$3:$V163,7,0) -> #REF! | I93: =VLOOKUP(B93,'Свод объектов'!$D$3:$V199,9,0) -> #REF! | J93: =VLOOKUP(B93,'Свод объектов'!$D$3:$V163,11,0) -> #REF! | K93: =VLOOKUP(B93,'Свод объектов'!$D$3:$V163,12,0) -> #REF! | L93: =VLOOKUP(B93,'Свод объектов'!$D$3:$V163,13,0) -> #REF! | M93: =VLOOKUP(B93,'Свод объектов'!$D$3:$V163,14,0) -> #REF! | N93: =VLOOKUP(B93,'Свод объектов'!$D$3:$V163,15,0) -> #REF! | O93: =VLOOKUP(B93,'Свод объектов'!$D$3:$V163,16,0) -> #REF! | P93: =VLOOKUP(B93,'Свод объектов'!$D$3:$V163,17,0) -> #REF! | Q93: =VLOOKUP(B93,'Свод объектов'!$D$3:$V163,18,0) -> #REF! | R93: =VLOOKUP(B93,'Свод объектов'!$D$3:$V163,19,0) -> #REF!
A94: 19 | B94: 785 | C94: =VLOOKUP(B94,'Свод объектов'!$D$3:$V164,2,0) -> #REF! | D94: =VLOOKUP(B94,'Свод объектов'!$D$3:$V164,3,0) -> #REF! | E94: =VLOOKUP(B94,'Свод объектов'!$D$3:$V164,4,0) -> #REF! | F94: =VLOOKUP(B94,'Свод объектов'!$D$3:$V164,5,0) -> #REF! | G94: =VLOOKUP(B94,'Свод объектов'!$D$3:$V164,6,0) -> #REF! | H94: =VLOOKUP(B94,'Свод объектов'!$D$3:$V164,7,0) -> #REF! | I94: =VLOOKUP(B94,'Свод объектов'!$D$3:$V200,9,0) -> #REF! | J94: =VLOOKUP(B94,'Свод объектов'!$D$3:$V164,11,0) -> #REF! | K94: =VLOOKUP(B94,'Свод объектов'!$D$3:$V164,12,0) -> #REF! | L94: =VLOOKUP(B94,'Свод объектов'!$D$3:$V164,13,0) -> #REF! | M94: =VLOOKUP(B94,'Свод объектов'!$D$3:$V164,14,0) -> #REF! | N94: =VLOOKUP(B94,'Свод объектов'!$D$3:$V164,15,0) -> #REF! | O94: =VLOOKUP(B94,'Свод объектов'!$D$3:$V164,16,0) -> #REF! | P94: =VLOOKUP(B94,'Свод объектов'!$D$3:$V164,17,0) -> #REF! | Q94: =VLOOKUP(B94,'Свод объектов'!$D$3:$V164,18,0) -> #REF! | R94: =VLOOKUP(B94,'Свод объектов'!$D$3:$V164,19,0) -> #REF!
A95: 20 | B95: 786 | C95: =VLOOKUP(B95,'Свод объектов'!$D$3:$V165,2,0) -> #REF! | D95: =VLOOKUP(B95,'Свод объектов'!$D$3:$V165,3,0) -> #REF! | E95: =VLOOKUP(B95,'Свод объектов'!$D$3:$V165,4,0) -> #REF! | F95: =VLOOKUP(B95,'Свод объектов'!$D$3:$V165,5,0) -> #REF! | G95: =VLOOKUP(B95,'Свод объектов'!$D$3:$V165,6,0) -> #REF! | H95: =VLOOKUP(B95,'Свод объектов'!$D$3:$V165,7,0) -> #REF! | I95: =VLOOKUP(B95,'Свод объектов'!$D$3:$V201,9,0) -> #REF! | J95: =VLOOKUP(B95,'Свод объектов'!$D$3:$V165,11,0) -> #REF! | K95: =VLOOKUP(B95,'Свод объектов'!$D$3:$V165,12,0) -> #REF! | L95: =VLOOKUP(B95,'Свод объектов'!$D$3:$V165,13,0) -> #REF! | M95: =VLOOKUP(B95,'Свод объектов'!$D$3:$V165,14,0) -> #REF! | N95: =VLOOKUP(B95,'Свод объектов'!$D$3:$V165,15,0) -> #REF! | O95: =VLOOKUP(B95,'Свод объектов'!$D$3:$V165,16,0) -> #REF! | P95: =VLOOKUP(B95,'Свод объектов'!$D$3:$V165,17,0) -> #REF! | Q95: =VLOOKUP(B95,'Свод объектов'!$D$3:$V165,18,0) -> #REF! | R95: =VLOOKUP(B95,'Свод объектов'!$D$3:$V165,19,0) -> #REF!
A96: 21 | B96: 810 | C96: =VLOOKUP(B96,'Свод объектов'!$D$3:$V166,2,0) -> #REF! | D96: =VLOOKUP(B96,'Свод объектов'!$D$3:$V166,3,0) -> #REF! | E96: =VLOOKUP(B96,'Свод объектов'!$D$3:$V166,4,0) -> #REF! | F96: =VLOOKUP(B96,'Свод объектов'!$D$3:$V166,5,0) -> #REF! | G96: =VLOOKUP(B96,'Свод объектов'!$D$3:$V166,6,0) -> #REF! | H96: =VLOOKUP(B96,'Свод объектов'!$D$3:$V166,7,0) -> #REF! | I96: =VLOOKUP(B96,'Свод объектов'!$D$3:$V202,9,0) -> #REF! | J96: =VLOOKUP(B96,'Свод объектов'!$D$3:$V166,11,0) -> #REF! | K96: =VLOOKUP(B96,'Свод объектов'!$D$3:$V166,12,0) -> #REF! | L96: =VLOOKUP(B96,'Свод объектов'!$D$3:$V166,13,0) -> #REF! | M96: =VLOOKUP(B96,'Свод объектов'!$D$3:$V166,14,0) -> #REF! | N96: =VLOOKUP(B96,'Свод объектов'!$D$3:$V166,15,0) -> #REF! | O96: =VLOOKUP(B96,'Свод объектов'!$D$3:$V166,16,0) -> #REF! | P96: =VLOOKUP(B96,'Свод объектов'!$D$3:$V166,17,0) -> #REF! | Q96: =VLOOKUP(B96,'Свод объектов'!$D$3:$V166,18,0) -> #REF! | R96: =VLOOKUP(B96,'Свод объектов'!$D$3:$V166,19,0) -> #REF! | U96: Дострой
K98: Итого ОРП(м2):
E99: Территориальное управление Север | K99: =SUM(K76:K96) -> #REF!
E101: Территориальное управление Восток
E103: Территориальное управление Юг
E105: Собственные силы
A108: Объекты с риском
A109: № | B109: №" | C109: Этап | D109: Район | E109: Округ | F109: РП | G109: Тип | H109: Т\К | I109: Адрес объекта строительства | J109: ПД/РД | K109: ОРП, м2 | L109: Договор СМР/УК | M109: Начало ПИР 8 мес. | N109: Первая МГЭ (Выход) | O109: Начало СМР | P109: МГЭ ЗОС (Вход) | Q109: РВЭ | R109: КС-11 | S109: Сумма по договору | T109: Авансы
A110: 1 | B110: 82 | C110: =VLOOKUP(B110,'Свод объектов'!$D$3:$V146,2,0) -> #REF! | D110: =VLOOKUP(B110,'Свод объектов'!$D$3:$V146,3,0) -> #REF! | E110: =VLOOKUP(B110,'Свод объектов'!$D$3:$V146,4,0) -> #REF! | F110: =VLOOKUP(B110,'Свод объектов'!$D$3:$V146,5,0) -> #REF! | G110: =VLOOKUP(B110,'Свод объектов'!$D$3:$V146,6,0) -> #REF! | H110: =VLOOKUP(B110,'Свод объектов'!$D$3:$V146,7,0) -> #REF! | I110: =VLOOKUP(B110,'Свод объектов'!$D$3:$V146,9,0) -> #REF! | J110: =VLOOKUP(B110,'Свод объектов'!$D$3:$V146,11,0) -> #REF! | K110: =VLOOKUP(B110,'Свод объектов'!$D$3:$V146,12,0) -> #REF! | L110: =VLOOKUP(B110,'Свод объектов'!$D$3:$V146,13,0) -> #REF! | M110: =VLOOKUP(B110,'Свод объектов'!$D$3:$V146,14,0) -> #REF! | N110: =VLOOKUP(B110,'Свод объектов'!$D$3:$V146,15,0) -> #REF! | O110: =VLOOKUP(B110,'Свод объектов'!$D$3:$V146,16,0) -> #REF! | P110: =VLOOKUP(B110,'Свод объектов'!$D$3:$V146,17,0) -> #REF! | Q110: =VLOOKUP(B110,'Свод объектов'!$D$3:$V146,18,0) -> #REF! | R110: =VLOOKUP(B110,'Свод объектов'!$D$3:$V146,19,0) -> #REF! | S110: 47666477 | T110: 14299943
A111: 2 | B111: 85 | C111: =VLOOKUP(B111,'Свод объектов'!$D$3:$V147,2,0) -> #REF! | D111: =VLOOKUP(B111,'Свод объектов'!$D$3:$V147,3,0) -> #REF! | E111: =VLOOKUP(B111,'Свод объектов'!$D$3:$V147,4,0) -> #REF! | F111: =VLOOKUP(B111,'Свод объектов'!$D$3:$V147,5,0) -> #REF! | G111: =VLOOKUP(B111,'Свод объектов'!$D$3:$V147,6,0) -> #REF! | H111: =VLOOKUP(B111,'Свод объектов'!$D$3:$V147,7,0) -> #REF! | I111: =VLOOKUP(B111,'Свод объектов'!$D$3:$V147,9,0) -> #REF! | J111: =VLOOKUP(B111,'Свод объектов'!$D$3:$V147,11,0) -> #REF! | K111: =VLOOKUP(B111,'Свод объектов'!$D$3:$V147,12,0) -> #REF! | L111: =VLOOKUP(B111,'Свод объектов'!$D$3:$V147,13,0) -> #REF! | M111: =VLOOKUP(B111,'Свод объектов'!$D$3:$V147,14,0) -> #REF! | N111: =VLOOKUP(B111,'Свод объектов'!$D$3:$V147,15,0) -> #REF! | O111: =VLOOKUP(B111,'Свод объектов'!$D$3:$V147,16,0) -> #REF! | P111: =VLOOKUP(B111,'Свод объектов'!$D$3:$V147,17,0) -> #REF! | Q111: =VLOOKUP(B111,'Свод объектов'!$D$3:$V147,18,0) -> #REF! | R111: =VLOOKUP(B111,'Свод объектов'!$D$3:$V147,19,0) -> #REF! | S111: 39519305 | T111: 11855792
A112: 3 | B112: 86 | C112: =VLOOKUP(B112,'Свод объектов'!$D$3:$V148,2,0) -> #REF! | D112: =VLOOKUP(B112,'Свод объектов'!$D$3:$V148,3,0) -> #REF! | E112: =VLOOKUP(B112,'Свод объектов'!$D$3:$V148,4,0) -> #REF! | F112: =VLOOKUP(B112,'Свод объектов'!$D$3:$V148,5,0) -> #REF! | G112: =VLOOKUP(B112,'Свод объектов'!$D$3:$V148,6,0) -> #REF! | H112: =VLOOKUP(B112,'Свод объектов'!$D$3:$V148,7,0) -> #REF! | I112: г. Москва, район Рязанский, Зарайская улица, дом 46, корпус 1 | J112: =VLOOKUP(B112,'Свод объектов'!$D$3:$V148,11,0) -> #REF! | K112: =VLOOKUP(B112,'Свод объектов'!$D$3:$V148,12,0) -> #REF! | L112: =VLOOKUP(B112,'Свод объектов'!$D$3:$V148,13,0) -> #REF! | M112: =VLOOKUP(B112,'Свод объектов'!$D$3:$V148,14,0) -> #REF! | N112: =VLOOKUP(B112,'Свод объектов'!$D$3:$V148,15,0) -> #REF! | O112: =VLOOKUP(B112,'Свод объектов'!$D$3:$V148,16,0) -> #REF! | P112: =VLOOKUP(B112,'Свод объектов'!$D$3:$V148,17,0) -> #REF! | Q112: =VLOOKUP(B112,'Свод объектов'!$D$3:$V148,18,0) -> #REF! | R112: =VLOOKUP(B112,'Свод объектов'!$D$3:$V148,19,0) -> #REF! | S112: 96222777 | T112: 19244555
A113: 4 | B113: 342 | C113: =VLOOKUP(B113,'Свод объектов'!$D$3:$V149,2,0) -> #REF! | D113: =VLOOKUP(B113,'Свод объектов'!$D$3:$V149,3,0) -> #REF! | E113: =VLOOKUP(B113,'Свод объектов'!$D$3:$V149,4,0) -> #REF! | F113: =VLOOKUP(B113,'Свод объектов'!$D$3:$V149,5,0) -> #REF! | G113: =VLOOKUP(B113,'Свод объектов'!$D$3:$V149,6,0) -> #REF! | H113: =VLOOKUP(B113,'Свод объектов'!$D$3:$V149,7,0) -> #REF! | I113: г. Москва, район Зюзино, кварталы 40, 41, 42 (Дом, зона 12.3) 1 этап | J113: =VLOOKUP(B113,'Свод объектов'!$D$3:$V149,11,0) -> #REF! | K113: =VLOOKUP(B113,'Свод объектов'!$D$3:$V149,12,0) -> #REF! | L113: =VLOOKUP(B113,'Свод объектов'!$D$3:$V149,13,0) -> #REF! | M113: =VLOOKUP(B113,'Свод объектов'!$D$3:$V149,14,0) -> #REF! | N113: =VLOOKUP(B113,'Свод объектов'!$D$3:$V149,15,0) -> #REF! | O113: =VLOOKUP(B113,'Свод объектов'!$D$3:$V149,16,0) -> #REF! | P113: =VLOOKUP(B113,'Свод объектов'!$D$3:$V149,17,0) -> #REF! | Q113: =VLOOKUP(B113,'Свод объектов'!$D$3:$V149,18,0) -> #REF! | R113: =VLOOKUP(B113,'Свод объектов'!$D$3:$V149,19,0) -> #REF! | S113: 35799667 | T113: 10739900
A114: 5 | B114: 343 | C114: =VLOOKUP(B114,'Свод объектов'!$D$3:$V150,2,0) -> #REF! | D114: =VLOOKUP(B114,'Свод объектов'!$D$3:$V150,3,0) -> #REF! | E114: =VLOOKUP(B114,'Свод объектов'!$D$3:$V150,4,0) -> #REF! | F114: =VLOOKUP(B114,'Свод объектов'!$D$3:$V150,5,0) -> #REF! | G114: =VLOOKUP(B114,'Свод объектов'!$D$3:$V150,6,0) -> #REF! | H114: =VLOOKUP(B114,'Свод объектов'!$D$3:$V150,7,0) -> #REF! | I114: г. Москва, район Зюзино, кварталы 40, 41, 42 (Дом, зона 1.3) 1 этап | J114: =VLOOKUP(B114,'Свод объектов'!$D$3:$V150,11,0) -> #REF! | K114: =VLOOKUP(B114,'Свод объектов'!$D$3:$V150,12,0) -> #REF! | L114: =VLOOKUP(B114,'Свод объектов'!$D$3:$V150,13,0) -> #REF! | M114: =VLOOKUP(B114,'Свод объектов'!$D$3:$V150,14,0) -> #REF! | N114: =VLOOKUP(B114,'Свод объектов'!$D$3:$V150,15,0) -> #REF! | O114: =VLOOKUP(B114,'Свод объектов'!$D$3:$V150,16,0) -> #REF! | P114: =VLOOKUP(B114,'Свод объектов'!$D$3:$V150,17,0) -> #REF! | Q114: =VLOOKUP(B114,'Свод объектов'!$D$3:$V150,18,0) -> #REF! | R114: =VLOOKUP(B114,'Свод объектов'!$D$3:$V150,19,0) -> #REF! | S114: 72112896 | T114: 21633869 | U114: ГАФА - пока нет
A115: 6 | B115: 344 | C115: =VLOOKUP(B115,'Свод объектов'!$D$3:$V151,2,0) -> #REF! | D115: =VLOOKUP(B115,'Свод объектов'!$D$3:$V151,3,0) -> #REF! | E115: =VLOOKUP(B115,'Свод объектов'!$D$3:$V151,4,0) -> #REF! | F115: =VLOOKUP(B115,'Свод объектов'!$D$3:$V151,5,0) -> #REF! | G115: =VLOOKUP(B115,'Свод объектов'!$D$3:$V151,6,0) -> #REF! | H115: =VLOOKUP(B115,'Свод объектов'!$D$3:$V151,7,0) -> #REF! | I115: г. Москва, район Зюзино, кварталы 40, 41, 42 (Дом, зона 1.7) 1 этап | J115: =VLOOKUP(B115,'Свод объектов'!$D$3:$V151,11,0) -> #REF! | K115: =VLOOKUP(B115,'Свод объектов'!$D$3:$V151,12,0) -> #REF! | L115: =VLOOKUP(B115,'Свод объектов'!$D$3:$V151,13,0) -> #REF! | M115: =VLOOKUP(B115,'Свод объектов'!$D$3:$V151,14,0) -> #REF! | N115: =VLOOKUP(B115,'Свод объектов'!$D$3:$V151,15,0) -> #REF! | O115: =VLOOKUP(B115,'Свод объектов'!$D$3:$V151,16,0) -> #REF! | P115: =VLOOKUP(B115,'Свод объектов'!$D$3:$V151,17,0) -> #REF! | Q115: =VLOOKUP(B115,'Свод объектов'!$D$3:$V151,18,0) -> #REF! | R115: =VLOOKUP(B115,'Свод объектов'!$D$3:$V151,19,0) -> #REF! | S115: 72288000 | T115: Выплат по договору не было
...

Sheet Проверка_сроков
D1: 1 | E1: 2 | F1: 3 | G1: 4 | H1: 5 | I1: 6 | J1: 7 | K1: 8 | L1: 9 | M1: 10 | N1: 11 | O1: 12 | P1: 13 | Q1: 14 | R1: 15 | S1: 16 | T1: 17 | U1: 18 | V1: 19 | W1: 20 | X1: 21 | Y1: 22 | Z1: 23 | AA1: 24 | AB1: 25 | AC1: 26 | AD1: 27 | AE1: 28 | AF1: 29 | AG1: 30 | AH1: 31 | AI1: 32 | AJ1: 33 | AK1: 34 | AL1: 35 | AM1: 36 | AN1: 37
D2: Сроки проектирования объектов | I2: FALSE | J2: - Север (Скрипицын М.М.) | S2: ПИР | AN2: МГЭ (промежут или под ЗОС) | AR2: СМР
I3: FALSE | J3: - Восток (Фалелеев М.Ю.) | S3: Начало ПИР | U3: МГЭ (первая) вход | W3: МГЭ (первая) выход | AI3: Окончание ПИР (закрытие РД) | AR3: Начало СМР (выход на подг. период) | AV3: РВЭ | BC3: КС-11 | BH3: Комментарии РВЭ/КС-11
I4: FALSE | J4: - Юг (Стрельцов В.И.) | K4: Приоста- новка | L4: ОРП(м2) | M4: ПД | N4: РВ | O4: КС-11 | P4: Этап | S4: По договору | T4: План/Факт | U4: Договор/ДС (подписано) | V4: План/Факт | W4: Кол-во мес до МГЭ от договора | X4: Договор 1 | Y4: Договор /Допник (подписано) | Z4: План/Факт | AA4: Продление | AB4: ПОС по договору | AC4: ПОС по МГЭ | AD4: Треб. срок продл. (мес.) | AE4: Причина продления | AF4: Запрашив. срок продления | AG4: Подтвержд. срок продления | AH4: Комментарий | AI4: по договору | AJ4: План/Факт | AK4: Продление | AL4: Комментарии | AN4: Вход - план | AO4: Выход - план | AP4: Комментарий | AR4: План | AS4: Получение РНС | AT4: Факт | AU4: Комментарий | AV4: Кол-во мес от РНС до РВЭ (окончание) | AW4: Кол-во мес стр-ва по ПОС | AX4: Дата окончания РНС | AY4: Договор 1 (детальный) | AZ4: Договор/ДС (подписано) | BA4: План/Факт (по прил.1 для кварт.) | BB4: Продление | BC4: Кол-во мес от РНС до КС-11 | BD4: Договор 1 (детальный) | BE4: Договор/ДС (подписано) | BF4: План/Факт (по прил.1 для кварт.) | BG4: Продление | BH4: РВЭ/КС-11
I5: FALSE | J5: - Собственные силы (Борисова С.О.)
D6: № | E6: Район | F6: Тип | G6: Т\К | H6: Округ | I6: РП | J6: Объект | K6: РП | L6: доп. | M6: доп. | N6: доп. | O6: доп. | P6: доп. | Q6: доп. | S6: Пасюкевич | T6: РП | U6: Пасюкевич | V6: РП | W6: Пасюкевич | X6: Пасюкевич | Y6: РП | Z6: РП | AA6: РП | AB6: РП | AC6: РП | AD6: РП | AE6: РП | AF6: РП | AG6: РП | AH6: РП | AI6: РП | AJ6: РП | AK6: РП | AL6: РП | AN6: РП | AO6: РП | AP6: РП | AR6: Пасюкевич (2 нед. от МГЭ) | AS6: РП | AT6: Хренов Д.Н. | AU6: РП | AV6: Пасюкевич | AW6: Пасюкевич | AX6: РП | AY6: Пасюкевич | AZ6: РП | BA6: Хренов Д.Н. | BB6: РП | BC6: Пасюкевич | BD6: Пасюкевич | BE6: РП | BF6: Хренов Д.Н. | BG6: РП | BH6: РП
D7: 1 | E7: =VLOOKUP($D$7:$D1101,'Свод объектов'!$D$3:$BE1101,3,0) -> #REF! | F7: =VLOOKUP($D$7:$D1101,'Свод объектов'!$D$3:$BE1101,6,0) -> #REF! | G7: =VLOOKUP($D$7:$D1101,'Свод объектов'!$D$3:$BE1101,7,0) -> #REF! | H7: =VLOOKUP($D$7:$D1101,'Свод объектов'!$D$3:$BE1101,4,0) -> #REF! | I7: =VLOOKUP($D$7:$D1101,'Свод объектов'!$D$3:$BE1101,5,0) -> #REF! | J7: =VLOOKUP(D7,'Свод объектов'!$D$3:$L1101,9,0) -> #REF! | K7: FALSE | L7: =VLOOKUP($D$7:$D1101,'Свод объектов'!$D$3:$BE1101,12,0) -> #REF! | M7: =VLOOKUP($D$7:$D1101,'Свод объектов'!$D$3:$BE1101,11,0) -> #REF! | N7: TRUE | O7: TRUE | P7: =VLOOKUP($D$7:$D1101,'Свод объектов'!$D$3:$BE1101,2,0) -> #REF! | S7: {=IFERROR(VLOOKUP($J$7:$J1101,'Импорт - Форма_сроков_проектирования'!$D$10:AP1101,2,FALSE),"")} | T7: 43143 | U7: {=IFERROR(VLOOKUP($J$7:$J1101,'Импорт - Форма_сроков_проектирования'!$D$10:AP1101,5,FALSE),"")} | V7: 43280 | W7: {=IFERROR(VLOOKUP($J$7:$J1101,'Импорт - Форма_сроков_проектирования'!$D$10:AP1101,7,FALSE),"")} | X7: {=IFERROR(VLOOKUP($J$7:$J1101,'Импорт - Форма_сроков_проектирования'!$D$10:AP1101,8,FALSE),"")} | Y7: 43400 | Z7: 43400 | AN7: 44288 | AO7: 44363 | AR7: {=IFERROR(VLOOKUP($J$7:$J1101,'Импорт - Форма_сроков_проектирования'!$D$10:AP1101,21,FALSE),"")} | AS7: 43376 | AT7: {=IFERROR(VLOOKUP($J$7:$J1101,'Импорт - Форма_сроков_проектирования'!$D$10:AP1101,23,FALSE),"")} | AV7: {=IFERROR(VLOOKUP($J$7:$J1101,'Импорт - Форма_сроков_проектирования'!$D$10:AP1101,26,FALSE),"")} | AW7: {=IFERROR(VLOOKUP($J$7:$J1101,'Импорт - Форма_сроков_проектирования'!$D$10:AP1101,27,FALSE),"")} | AY7: {=IFERROR(VLOOKUP($J$7:$J1101,'Импорт - Форма_сроков_проектирования'!$D$10:AP1101,29,FALSE),"")} | BA7: {=IFERROR(VLOOKUP($J$7:$J1101,'Импорт - Форма_сроков_проектирования'!$D$10:AP1101,31,FALSE),"")} | BC7: {=IFERROR(VLOOKUP($J$7:$J1101,'Импорт - Форма_сроков_проектирования'!$D$10:AP1101,34,FALSE),"")} | BD7: {=IFERROR(VLOOKUP($J$7:$J1101,'Импорт - Форма_сроков_проектирования'!$D$10:AP1101,35,FALSE),"")} | BE7: 44651 | BF7: {=IFERROR(VLOOKUP($J$7:$J1101,'Импорт - Форма_сроков_проектирования'!$D$10:AP1101,37,FALSE),"")}
D8: 2 | E8: =VLOOKUP($D$7:$D1102,'Свод объектов'!$D$3:$BE1102,3,0) -> #REF! | F8: =VLOOKUP($D$7:$D1102,'Свод объектов'!$D$3:$BE1102,6,0) -> #REF! | G8: =VLOOKUP($D$7:$D1102,'Свод объектов'!$D$3:$BE1102,7,0) -> #REF! | H8: =VLOOKUP($D$7:$D1102,'Свод объектов'!$D$3:$BE1102,4,0) -> #REF! | I8: =VLOOKUP($D$7:$D1102,'Свод объектов'!$D$3:$BE1102,5,0) -> #REF! | J8: =VLOOKUP(D8,'Свод объектов'!$D$3:$L1102,9,0) -> #REF! | K8: FALSE | L8: =VLOOKUP($D$7:$D1102,'Свод объектов'!$D$3:$BE1102,12,0) -> #REF! | M8: =VLOOKUP($D$7:$D1102,'Свод объектов'!$D$3:$BE1102,11,0) -> #REF! | N8: TRUE | O8: TRUE | P8: =VLOOKUP($D$7:$D1102,'Свод объектов'!$D$3:$BE1102,2,0) -> #REF! | T8: 43143 | V8: 43279 | Z8: 43339 | AN8: 44190 | AO8: 44265 | AS8: 43376 | BE8: 44561
D9: 3 | E9: =VLOOKUP($D$7:$D1103,'Свод объектов'!$D$3:$BE1103,3,0) -> #REF! | F9: =VLOOKUP($D$7:$D1103,'Свод объектов'!$D$3:$BE1103,6,0) -> #REF! | G9: =VLOOKUP($D$7:$D1103,'Свод объектов'!$D$3:$BE1103,7,0) -> #REF! | H9: =VLOOKUP($D$7:$D1103,'Свод объектов'!$D$3:$BE1103,4,0) -> #REF! | I9: =VLOOKUP($D$7:$D1103,'Свод объектов'!$D$3:$BE1103,5,0) -> #REF! | J9: =VLOOKUP(D9,'Свод объектов'!$D$3:$L1103,9,0) -> #REF! | K9: FALSE | L9: =VLOOKUP($D$7:$D1103,'Свод объектов'!$D$3:$BE1103,12,0) -> #REF! | M9: =VLOOKUP($D$7:$D1103,'Свод объектов'!$D$3:$BE1103,11,0) -> #REF! | N9: TRUE | O9: TRUE | P9: =VLOOKUP($D$7:$D1103,'Свод объектов'!$D$3:$BE1103,2,0) -> #REF! | T9: 43143 | V9: 43279 | Y9: 43308 | Z9: 43339 | AB9: 32 | AC9: 23.5 | AI9: 44150 | AL9: Акт на подписании в МФР с 19.03.2021 | AN9: 44196 | AO9: 44271 | AS9: 43390 | AX9: 44471 | AZ9: 44377 | BE9: 44620 | BG9: 44651 | BH9: КС-11 подписана
D10: 4 | E10: =VLOOKUP($D$7:$D1104,'Свод объектов'!$D$3:$BE1104,3,0) -> #REF! | F10: =VLOOKUP($D$7:$D1104,'Свод объектов'!$D$3:$BE1104,6,0) -> #REF! | G10: =VLOOKUP($D$7:$D1104,'Свод объектов'!$D$3:$BE1104,7,0) -> #REF! | H10: =VLOOKUP($D$7:$D1104,'Свод объектов'!$D$3:$BE1104,4,0) -> #REF! | I10: =VLOOKUP($D$7:$D1104,'Свод объектов'!$D$3:$BE1104,5,0) -> #REF! | J10: =VLOOKUP(D10,'Свод объектов'!$D$3:$L1104,9,0) -> #REF! | K10: FALSE | L10: =VLOOKUP($D$7:$D1104,'Свод объектов'!$D$3:$BE1104,12,0) -> #REF! | M10: =VLOOKUP($D$7:$D1104,'Свод объектов'!$D$3:$BE1104,11,0) -> #REF! | N10: TRUE | O10: TRUE | P10: =VLOOKUP($D$7:$D1104,'Свод объектов'!$D$3:$BE1104,2,0) -> #REF! | T10: 43143 | V10: 43278 | Y10: 43308 | Z10: 43336 | AB10: 28 | AC10: 23 | AI10: 44134 | AJ10: 44425 | AN10: 44106 | AO10: 44181 | AS10: 43376 | AX10: 44286 | AZ10: 44255 | BE10: 44484 | BH10: КС-11 подписана
D11: 5 | E11: =VLOOKUP($D$7:$D1105,'Свод объектов'!$D$3:$BE1105,3,0) -> #REF! | F11: =VLOOKUP($D$7:$D1105,'Свод объектов'!$D$3:$BE1105,6,0) -> #REF! | G11: =VLOOKUP($D$7:$D1105,'Свод объектов'!$D$3:$BE1105,7,0) -> #REF! | H11: =VLOOKUP($D$7:$D1105,'Свод объектов'!$D$3:$BE1105,4,0) -> #REF! | I11: =VLOOKUP($D$7:$D1105,'Свод объектов'!$D$3:$BE1105,5,0) -> #REF! | J11: =VLOOKUP(D11,'Свод объектов'!$D$3:$L1105,9,0) -> #REF! | K11: FALSE | L11: =VLOOKUP($D$7:$D1105,'Свод объектов'!$D$3:$BE1105,12,0) -> #REF! | M11: =VLOOKUP($D$7:$D1105,'Свод объектов'!$D$3:$BE1105,11,0) -> #REF! | N11: TRUE | O11: TRUE | P11: =VLOOKUP($D$7:$D1105,'Свод объектов'!$D$3:$BE1105,2,0) -> #REF! | T11: 43143 | V11: 43279 | Y11: 43355 | Z11: 43339 | AI11: 44165 | AN11: 44133 | AO11: 44208 | AS11: 43376 | AX11: 44239 | AZ11: 44255 | BE11: 44455
D12: 6 | E12: =VLOOKUP($D$7:$D1106,'Свод объектов'!$D$3:$BE1106,3,0) -> #REF! | F12: =VLOOKUP($D$7:$D1106,'Свод объектов'!$D$3:$BE1106,6,0) -> #REF! | G12: =VLOOKUP($D$7:$D1106,'Свод объектов'!$D$3:$BE1106,7,0) -> #REF! | H12: =VLOOKUP($D$7:$D1106,'Свод объектов'!$D$3:$BE1106,4,0) -> #REF! | I12: =VLOOKUP($D$7:$D1106,'Свод объектов'!$D$3:$BE1106,5,0) -> #REF! | J12: =VLOOKUP(D12,'Свод объектов'!$D$3:$L1106,9,0) -> #REF! | K12: FALSE | L12: =VLOOKUP($D$7:$D1106,'Свод объектов'!$D$3:$BE1106,12,0) -> #REF! | M12: =VLOOKUP($D$7:$D1106,'Свод объектов'!$D$3:$BE1106,11,0) -> #REF! | N12: TRUE | O12: TRUE | P12: =VLOOKUP($D$7:$D1106,'Свод объектов'!$D$3:$BE1106,2,0) -> #REF! | T12: 43143 | V12: 43279 | Y12: 43355 | Z12: 43339 | AN12: 44162 | AO12: 44237 | AS12: 43376 | AX12: 44319 | AZ12: 44285 | BE12: 44546
D13: 7 | E13: =VLOOKUP($D$7:$D1107,'Свод объектов'!$D$3:$BE1107,3,0) -> #REF! | F13: =VLOOKUP($D$7:$D1107,'Свод объектов'!$D$3:$BE1107,6,0) -> #REF! | G13: =VLOOKUP($D$7:$D1107,'Свод объектов'!$D$3:$BE1107,7,0) -> #REF! | H13: =VLOOKUP($D$7:$D1107,'Свод объектов'!$D$3:$BE1107,4,0) -> #REF! | I13: =VLOOKUP($D$7:$D1107,'Свод объектов'!$D$3:$BE1107,5,0) -> #REF! | J13: =VLOOKUP(D13,'Свод объектов'!$D$3:$L1107,9,0) -> #REF! | K13: FALSE | L13: =VLOOKUP($D$7:$D1107,'Свод объектов'!$D$3:$BE1107,12,0) -> #REF! | M13: =VLOOKUP($D$7:$D1107,'Свод объектов'!$D$3:$BE1107,11,0) -> #REF! | N13: TRUE | O13: TRUE | P13: =VLOOKUP($D$7:$D1107,'Свод объектов'!$D$3:$BE1107,2,0) -> #REF! | T13: 43143 | V13: 43279 | Y13: 43355 | Z13: 43339 | AI13: 44165 | AN13: 44258 | AO13: 44333 | AS13: 43376 | AX13: 44407 | AZ13: 44377 | BE13: 44620
D14: 8 | E14: =VLOOKUP($D$7:$D1108,'Свод объектов'!$D$3:$BE1108,3,0) -> #REF! | F14: =VLOOKUP($D$7:$D1108,'Свод объектов'!$D$3:$BE1108,6,0) -> #REF! | G14: =VLOOKUP($D$7:$D1108,'Свод объектов'!$D$3:$BE1108,7,0) -> #REF! | H14: =VLOOKUP($D$7:$D1108,'Свод объектов'!$D$3:$BE1108,4,0) -> #REF! | I14: =VLOOKUP($D$7:$D1108,'Свод объектов'!$D$3:$BE1108,5,0) -> #REF! | J14: =VLOOKUP(D14,'Свод объектов'!$D$3:$L1108,9,0) -> #REF! | K14: FALSE | L14: =VLOOKUP($D$7:$D1108,'Свод объектов'!$D$3:$BE1108,12,0) -> #REF! | M14: =VLOOKUP($D$7:$D1108,'Свод объектов'!$D$3:$BE1108,11,0) -> #REF! | N14: TRUE | O14: TRUE | P14: =VLOOKUP($D$7:$D1108,'Свод объектов'!$D$3:$BE1108,2,0) -> #REF! | T14: 43144 | V14: 43279 | Y14: 43356 | Z14: 43339 | AI14: 43981 | AN14: 43923 | AO14: 43998 | AS14: 43376 | AX14: 44183 | AZ14: 44090 | BE14: 44393
D15: 9 | E15: =VLOOKUP($D$7:$D1109,'Свод объектов'!$D$3:$BE1109,3,0) -> #REF! | F15: =VLOOKUP($D$7:$D1109,'Свод объектов'!$D$3:$BE1109,6,0) -> #REF! | G15: =VLOOKUP($D$7:$D1109,'Свод объектов'!$D$3:$BE1109,7,0) -> #REF! | H15: =VLOOKUP($D$7:$D1109,'Свод объектов'!$D$3:$BE1109,4,0) -> #REF! | I15: =VLOOKUP($D$7:$D1109,'Свод объектов'!$D$3:$BE1109,5,0) -> #REF! | J15: =VLOOKUP(D15,'Свод объектов'!$D$3:$L1109,9,0) -> #REF! | K15: FALSE | L15: =VLOOKUP($D$7:$D1109,'Свод объектов'!$D$3:$BE1109,12,0) -> #REF! | M15: =VLOOKUP($D$7:$D1109,'Свод объектов'!$D$3:$BE1109,11,0) -> #REF! | N15: TRUE | O15: TRUE | P15: =VLOOKUP($D$7:$D1109,'Свод объектов'!$D$3:$BE1109,2,0) -> #REF! | T15: 43143 | V15: 43271 | Z15: 43329 | AN15: 44106 | AO15: 44181 | AS15: 43378 | BE15: 44530 | BH15: КС-11 подписана
D16: 10 | E16: =VLOOKUP($D$7:$D1110,'Свод объектов'!$D$3:$BE1110,3,0) -> #REF! | F16: =VLOOKUP($D$7:$D1110,'Свод объектов'!$D$3:$BE1110,6,0) -> #REF! | G16: =VLOOKUP($D$7:$D1110,'Свод объектов'!$D$3:$BE1110,7,0) -> #REF! | H16: =VLOOKUP($D$7:$D1110,'Свод объектов'!$D$3:$BE1110,4,0) -> #REF! | I16: =VLOOKUP($D$7:$D1110,'Свод объектов'!$D$3:$BE1110,5,0) -> #REF! | J16: =VLOOKUP(D16,'Свод объектов'!$D$3:$L1110,9,0) -> #REF! | K16: FALSE | L16: =VLOOKUP($D$7:$D1110,'Свод объектов'!$D$3:$BE1110,12,0) -> #REF! | M16: =VLOOKUP($D$7:$D1110,'Свод объектов'!$D$3:$BE1110,11,0) -> #REF! | N16: TRUE | O16: TRUE | P16: =VLOOKUP($D$7:$D1110,'Свод объектов'!$D$3:$BE1110,2,0) -> #REF! | T16: 43178 | V16: 43312 | Y16: 43346 | Z16: 43370 | AB16: 32 | AC16: 24.5 | AI16: 44246 | AN16: 44320 | AO16: 44393 | AS16: 43418 | AX16: 44469 | AZ16: 44438 | BE16: 44681
D17: 11 | E17: =VLOOKUP($D$7:$D1111,'Свод объектов'!$D$3:$BE1111,3,0) -> #REF! | F17: =VLOOKUP($D$7:$D1111,'Свод объектов'!$D$3:$BE1111,6,0) -> #REF! | G17: =VLOOKUP($D$7:$D1111,'Свод объектов'!$D$3:$BE1111,7,0) -> #REF! | H17: =VLOOKUP($D$7:$D1111,'Свод объектов'!$D$3:$BE1111,4,0) -> #REF! | I17: =VLOOKUP($D$7:$D1111,'Свод объектов'!$D$3:$BE1111,5,0) -> #REF! | J17: =VLOOKUP(D17,'Свод объектов'!$D$3:$L1111,9,0) -> #REF! | K17: FALSE | L17: =VLOOKUP($D$7:$D1111,'Свод объектов'!$D$3:$BE1111,12,0) -> #REF! | M17: =VLOOKUP($D$7:$D1111,'Свод объектов'!$D$3:$BE1111,11,0) -> #REF! | N17: TRUE | O17: TRUE | P17: =VLOOKUP($D$7:$D1111,'Свод объектов'!$D$3:$BE1111,2,0) -> #REF! | T17: 43178 | V17: 43311 | Y17: 43346 | Z17: 43369 | AB17: 32 | AC17: 25.5 | AI17: 44246 | AL17: Генпроектировщик ПИК-Проект | AN17: 44288 | AO17: 44363 | AS17: 43441 | AX17: 44469 | AZ17: 44438 | BE17: 44681
D18: 12 | E18: =VLOOKUP($D$7:$D1112,'Свод объектов'!$D$3:$BE1112,3,0) -> #REF! | F18: =VLOOKUP($D$7:$D1112,'Свод объектов'!$D$3:$BE1112,6,0) -> #REF! | G18: =VLOOKUP($D$7:$D1112,'Свод объектов'!$D$3:$BE1112,7,0) -> #REF! | H18: =VLOOKUP($D$7:$D1112,'Свод объектов'!$D$3:$BE1112,4,0) -> #REF! | I18: =VLOOKUP($D$7:$D1112,'Свод объектов'!$D$3:$BE1112,5,0) -> #REF! | J18: =VLOOKUP(D18,'Свод объектов'!$D$3:$L1112,9,0) -> #REF! | K18: FALSE | L18: =VLOOKUP($D$7:$D1112,'Свод объектов'!$D$3:$BE1112,12,0) -> #REF! | M18: =VLOOKUP($D$7:$D1112,'Свод объектов'!$D$3:$BE1112,11,0) -> #REF! | N18: TRUE | O18: TRUE | P18: =VLOOKUP($D$7:$D1112,'Свод объектов'!$D$3:$BE1112,2,0) -> #REF! | T18: 43178 | V18: 43308 | Z18: 43368 | AN18: 44235 | AO18: 44308 | AS18: 43445
D19: 13 | E19: =VLOOKUP($D$7:$D1113,'Свод объектов'!$D$3:$BE1113,3,0) -> #REF! | F19: =VLOOKUP($D$7:$D1113,'Свод объектов'!$D$3:$BE1113,6,0) -> #REF! | G19: =VLOOKUP($D$7:$D1113,'Свод объектов'!$D$3:$BE1113,7,0) -> #REF! | H19: =VLOOKUP($D$7:$D1113,'Свод объектов'!$D$3:$BE1113,4,0) -> #REF! | I19: =VLOOKUP($D$7:$D1113,'Свод объектов'!$D$3:$BE1113,5,0) -> #REF! | J19: =VLOOKUP(D19,'Свод объектов'!$D$3:$L1113,9,0) -> #REF! | K19: FALSE | L19: =VLOOKUP($D$7:$D1113,'Свод объектов'!$D$3:$BE1113,12,0) -> #REF! | M19: =VLOOKUP($D$7:$D1113,'Свод объектов'!$D$3:$BE1113,11,0) -> #REF! | N19: TRUE | O19: TRUE | P19: =VLOOKUP($D$7:$D1113,'Свод объектов'!$D$3:$BE1113,2,0) -> #REF! | T19: 43178 | V19: 43308 | Y19: 43368 | Z19: 43368 | AI19: 44104 | AJ19: 44530 | AK19: 44104 | AL19: ПИРы прдъявлены в МФР под 100% | AN19: 44350 | AO19: 44425 | AS19: 43446 | AX19: 44527 | AZ19: 44469 | BE19: 44711
D20: 14 | E20: =VLOOKUP($D$7:$D1114,'Свод объектов'!$D$3:$BE1114,3,0) -> #REF! | F20: =VLOOKUP($D$7:$D1114,'Свод объектов'!$D$3:$BE1114,6,0) -> #REF! | G20: =VLOOKUP($D$7:$D1114,'Свод объектов'!$D$3:$BE1114,7,0) -> #REF! | H20: =VLOOKUP($D$7:$D1114,'Свод объектов'!$D$3:$BE1114,4,0) -> #REF! | I20: =VLOOKUP($D$7:$D1114,'Свод объектов'!$D$3:$BE1114,5,0) -> #REF! | J20: =VLOOKUP(D20,'Свод объектов'!$D$3:$L1114,9,0) -> #REF! | K20: FALSE | L20: =VLOOKUP($D$7:$D1114,'Свод объектов'!$D$3:$BE1114,12,0) -> #REF! | M20: =VLOOKUP($D$7:$D1114,'Свод объектов'!$D$3:$BE1114,11,0) -> #REF! | N20: TRUE | O20: TRUE | P20: =VLOOKUP($D$7:$D1114,'Свод объектов'!$D$3:$BE1114,2,0) -> #REF! | T20: 43173 | V20: 43307 | Y20: 43367 | Z20: 43367 | AI20: 44155 | AJ20: 44372 | AK20: 44155 | AL20: ПИРы закрыты | AN20: 43993 | AO20: 44068 | AS20: 43437 | AX20: окончен срок | BE20: 44407 | BH20: КС-11 подписана
D21: 15 | E21: =VLOOKUP($D$7:$D1115,'Свод объектов'!$D$3:$BE1115,3,0) -> #REF! | F21: =VLOOKUP($D$7:$D1115,'Свод объектов'!$D$3:$BE1115,6,0) -> #REF! | G21: =VLOOKUP($D$7:$D1115,'Свод объектов'!$D$3:$BE1115,7,0) -> #REF! | H21: =VLOOKUP($D$7:$D1115,'Свод объектов'!$D$3:$BE1115,4,0) -> #REF! | I21: =VLOOKUP($D$7:$D1115,'Свод объектов'!$D$3:$BE1115,5,0) -> #REF! | J21: =VLOOKUP(D21,'Свод объектов'!$D$3:$L1115,9,0) -> #REF! | K21: FALSE | L21: =VLOOKUP($D$7:$D1115,'Свод объектов'!$D$3:$BE1115,12,0) -> #REF! | M21: =VLOOKUP($D$7:$D1115,'Свод объектов'!$D$3:$BE1115,11,0) -> #REF! | N21: TRUE | O21: TRUE | P21: =VLOOKUP($D$7:$D1115,'Свод объектов'!$D$3:$BE1115,2,0) -> #REF! | T21: 43173 | V21: 43311 | Z21: 43369 | AI21: 44246 | AJ21: 44530 | AK21: 44246 | AL21: ПИРы прдъявлены в МФР под 100% | AN21: 44320 | AO21: 44393 | AS21: 43426 | AX21: 44527 | AZ21: 44438 | BE21: 44681
D22: 16 | E22: =VLOOKUP($D$7:$D1116,'Свод объектов'!$D$3:$BE1116,3,0) -> #REF! | F22: =VLOOKUP($D$7:$D1116,'Свод объектов'!$D$3:$BE1116,6,0) -> #REF! | G22: =VLOOKUP($D$7:$D1116,'Свод объектов'!$D$3:$BE1116,7,0) -> #REF! | H22: =VLOOKUP($D$7:$D1116,'Свод объектов'!$D$3:$BE1116,4,0) -> #REF! | I22: =VLOOKUP($D$7:$D1116,'Свод объектов'!$D$3:$BE1116,5,0) -> #REF! | J22: =VLOOKUP(D22,'Свод объектов'!$D$3:$L1116,9,0) -> #REF! | K22: FALSE | L22: =VLOOKUP($D$7:$D1116,'Свод объектов'!$D$3:$BE1116,12,0) -> #REF! | M22: =VLOOKUP($D$7:$D1116,'Свод объектов'!$D$3:$BE1116,11,0) -> #REF! | N22: TRUE | O22: TRUE | P22: =VLOOKUP($D$7:$D1116,'Свод объектов'!$D$3:$BE1116,2,0) -> #REF! | T22: 43173 | V22: 43312 | Z22: 43370 | AI22: 44073 | AJ22: 44545 | AK22: 44073 | AL22: ПИРы прдъявлены в МФР под 100% | AN22: 44320 | AO22: 44393 | AS22: 43441 | AX22: 44527 | AZ22: 44438 | BE22: 44681
D23: 17 | E23: =VLOOKUP($D$7:$D1117,'Свод объектов'!$D$3:$BE1117,3,0) -> #REF! | F23: =VLOOKUP($D$7:$D1117,'Свод объектов'!$D$3:$BE1117,6,0) -> #REF! | G23: =VLOOKUP($D$7:$D1117,'Свод объектов'!$D$3:$BE1117,7,0) -> #REF! | H23: =VLOOKUP($D$7:$D1117,'Свод объектов'!$D$3:$BE1117,4,0) -> #REF! | I23: =VLOOKUP($D$7:$D1117,'Свод объектов'!$D$3:$BE1117,5,0) -> #REF! | J23: =VLOOKUP(D23,'Свод объектов'!$D$3:$L1117,9,0) -> #REF! | K23: FALSE | L23: =VLOOKUP($D$7:$D1117,'Свод объектов'!$D$3:$BE1117,12,0) -> #REF! | M23: =VLOOKUP($D$7:$D1117,'Свод объектов'!$D$3:$BE1117,11,0) -> #REF! | N23: TRUE | O23: TRUE | P23: =VLOOKUP($D$7:$D1117,'Свод объектов'!$D$3:$BE1117,2,0) -> #REF! | T23: 43173 | V23: 43308 | Z23: 43368 | AI23: 44155 | AJ23: 44463 | AK23: 44165 | AL23: ПИРы закрыты | AN23: 44043 | AO23: 44118 | AS23: 43441 | AX23: окончен срок | AZ23: 44165 | BE23: 44469 | BH23: КС-11 подписана
D24: 18 | E24: =VLOOKUP($D$7:$D1118,'Свод объектов'!$D$3:$BE1118,3,0) -> #REF! | F24: =VLOOKUP($D$7:$D1118,'Свод объектов'!$D$3:$BE1118,6,0) -> #REF! | G24: =VLOOKUP($D$7:$D1118,'Свод объектов'!$D$3:$BE1118,7,0) -> #REF! | H24: =VLOOKUP($D$7:$D1118,'Свод объектов'!$D$3:$BE1118,4,0) -> #REF! | I24: =VLOOKUP($D$7:$D1118,'Свод объектов'!$D$3:$BE1118,5,0) -> #REF! | J24: =VLOOKUP(D24,'Свод объектов'!$D$3:$L1118,9,0) -> #REF! | K24: FALSE | L24: =VLOOKUP($D$7:$D1118,'Свод объектов'!$D$3:$BE1118,12,0) -> #REF! | M24: =VLOOKUP($D$7:$D1118,'Свод объектов'!$D$3:$BE1118,11,0) -> #REF! | N24: TRUE | O24: TRUE | P24: =VLOOKUP($D$7:$D1118,'Свод объектов'!$D$3:$BE1118,2,0) -> #REF! | T24: 43178 | V24: 43318 | Y24: 43346 | Z24: 43376 | AB24: 35 | AC24: 29 | AI24: 44425 | AL24: Генпроектировщик ПИК-Проект | AN24: 44440 | AO24: 44515 | AS24: 43455 | AX24: 44561 | AZ24: 44895 | BB24: 30.12.2021. Письмо запрос направлен с письмом. Ориентировочно рассмотрение на комисси МФР состоится 30.11.2021 | BE24: 44804
D25: 19 | E25: =VLOOKUP($D$7:$D1119,'Свод объектов'!$D$3:$BE1119,3,0) -> #REF! | F25: =VLOOKUP($D$7:$D1119,'Свод объектов'!$D$3:$BE1119,6,0) -> #REF! | G25: =VLOOKUP($D$7:$D1119,'Свод объектов'!$D$3:$BE1119,7,0) -> #REF! | H25: =VLOOKUP($D$7:$D1119,'Свод объектов'!$D$3:$BE1119,4,0) -> #REF! | I25: =VLOOKUP($D$7:$D1119,'Свод объектов'!$D$3:$BE1119,5,0) -> #REF! | J25: =VLOOKUP(D25,'Свод объектов'!$D$3:$L1119,9,0) -> #REF! | K25: FALSE | L25: =VLOOKUP($D$7:$D1119,'Свод объектов'!$D$3:$BE1119,12,0) -> #REF! | M25: =VLOOKUP($D$7:$D1119,'Свод объектов'!$D$3:$BE1119,11,0) -> #REF! | N25: TRUE | O25: TRUE | P25: =VLOOKUP($D$7:$D1119,'Свод объектов'!$D$3:$BE1119,2,0) -> #REF! | T25: 43199 | V25: 43329 | Z25: 43389 | AN25: 44134 | AO25: 44209 | AS25: 43419
D26: 20 | E26: =VLOOKUP($D$7:$D1120,'Свод объектов'!$D$3:$BE1120,3,0) -> #REF! | F26: =VLOOKUP($D$7:$D1120,'Свод объектов'!$D$3:$BE1120,6,0) -> #REF! | G26: =VLOOKUP($D$7:$D1120,'Свод объектов'!$D$3:$BE1120,7,0) -> #REF! | H26: =VLOOKUP($D$7:$D1120,'Свод объектов'!$D$3:$BE1120,4,0) -> #REF! | I26: =VLOOKUP($D$7:$D1120,'Свод объектов'!$D$3:$BE1120,5,0) -> #REF! | J26: =VLOOKUP(D26,'Свод объектов'!$D$3:$L1120,9,0) -> #REF! | K26: FALSE | L26: =VLOOKUP($D$7:$D1120,'Свод объектов'!$D$3:$BE1120,12,0) -> #REF! | M26: =VLOOKUP($D$7:$D1120,'Свод объектов'!$D$3:$BE1120,11,0) -> #REF! | N26: TRUE | O26: TRUE | P26: =VLOOKUP($D$7:$D1120,'Свод объектов'!$D$3:$BE1120,2,0) -> #REF! | T26: 43199 | V26: 43328 | Z26: 43388 | AL26: ПИРы прдъявлены в МФР под 100% | AN26: 44217 | AO26: 44292 | AS26: 43454 | AX26: 44560 | AZ26: 44316 | BE26: 44560
D27: 21 | E27: =VLOOKUP($D$7:$D1121,'Свод объектов'!$D$3:$BE1121,3,0) -> #REF! | F27: =VLOOKUP($D$7:$D1121,'Свод объектов'!$D$3:$BE1121,6,0) -> #REF! | G27: =VLOOKUP($D$7:$D1121,'Свод объектов'!$D$3:$BE1121,7,0) -> #REF! | H27: =VLOOKUP($D$7:$D1121,'Свод объектов'!$D$3:$BE1121,4,0) -> #REF! | I27: =VLOOKUP($D$7:$D1121,'Свод объектов'!$D$3:$BE1121,5,0) -> #REF! | J27: =VLOOKUP(D27,'Свод объектов'!$D$3:$L1121,9,0) -> #REF! | K27: FALSE | L27: =VLOOKUP($D$7:$D1121,'Свод объектов'!$D$3:$BE1121,12,0) -> #REF! | M27: =VLOOKUP($D$7:$D1121,'Свод объектов'!$D$3:$BE1121,11,0) -> #REF! | N27: TRUE | O27: TRUE | P27: =VLOOKUP($D$7:$D1121,'Свод объектов'!$D$3:$BE1121,2,0) -> #REF! | T27: 43199 | V27: 43328 | Y27: 43367 | Z27: 43388 | AI27: 44508 | AJ27: 44547 | AN27: 44372 | AO27: 44447 | AS27: 43453 | AX27: 44530 | AZ27: 44500 | BE27: 44773
D28: 22 | E28: =VLOOKUP($D$7:$D1122,'Свод объектов'!$D$3:$BE1122,3,0) -> #REF! | F28: =VLOOKUP($D$7:$D1122,'Свод объектов'!$D$3:$BE1122,6,0) -> #REF! | G28: =VLOOKUP($D$7:$D1122,'Свод объектов'!$D$3:$BE1122,7,0) -> #REF! | H28: =VLOOKUP($D$7:$D1122,'Свод объектов'!$D$3:$BE1122,4,0) -> #REF! | I28: =VLOOKUP($D$7:$D1122,'Свод объектов'!$D$3:$BE1122,5,0) -> #REF! | J28: =VLOOKUP(D28,'Свод объектов'!$D$3:$L1122,9,0) -> #REF! | K28: FALSE | L28: =VLOOKUP($D$7:$D1122,'Свод объектов'!$D$3:$BE1122,12,0) -> #REF! | M28: =VLOOKUP($D$7:$D1122,'Свод объектов'!$D$3:$BE1122,11,0) -> #REF! | N28: TRUE | O28: TRUE | P28: =VLOOKUP($D$7:$D1122,'Свод объектов'!$D$3:$BE1122,2,0) -> #REF! | T28: 43199 | V28: 43328 | Y28: 43367 | Z28: 43388 | AN28: 44320 | AO28: 44393 | AS28: 43446 | AZ28: 44403 | BE28: 44618
D29: 23 | E29: =VLOOKUP($D$7:$D1123,'Свод объектов'!$D$3:$BE1123,3,0) -> #REF! | F29: =VLOOKUP($D$7:$D1123,'Свод объектов'!$D$3:$BE1123,6,0) -> #REF! | G29: =VLOOKUP($D$7:$D1123,'Свод объектов'!$D$3:$BE1123,7,0) -> #REF! | H29: =VLOOKUP($D$7:$D1123,'Свод объектов'!$D$3:$BE1123,4,0) -> #REF! | I29: =VLOOKUP($D$7:$D1123,'Свод объектов'!$D$3:$BE1123,5,0) -> #REF! | J29: =VLOOKUP(D29,'Свод объектов'!$D$3:$L1123,9,0) -> #REF! | K29: FALSE | L29: =VLOOKUP($D$7:$D1123,'Свод объектов'!$D$3:$BE1123,12,0) -> #REF! | M29: =VLOOKUP($D$7:$D1123,'Свод объектов'!$D$3:$BE1123,11,0) -> #REF! | N29: TRUE | O29: TRUE | P29: =VLOOKUP($D$7:$D1123,'Свод объектов'!$D$3:$BE1123,2,0) -> #REF! | T29: 43199 | V29: 43329 | Z29: 43389 | AI29: 44195 | AJ29: 44610 | AN29: 44288 | AO29: 44363 | AS29: 43447 | BE29: 44245 | BG29: 44712
D30: 24 | E30: =VLOOKUP($D$7:$D1124,'Свод объектов'!$D$3:$BE1124,3,0) -> #REF! | F30: =VLOOKUP($D$7:$D1124,'Свод объектов'!$D$3:$BE1124,6,0) -> #REF! | G30: =VLOOKUP($D$7:$D1124,'Свод объектов'!$D$3:$BE1124,7,0) -> #REF! | H30: =VLOOKUP($D$7:$D1124,'Свод объектов'!$D$3:$BE1124,4,0) -> #REF! | I30: =VLOOKUP($D$7:$D1124,'Свод объектов'!$D$3:$BE1124,5,0) -> #REF! | J30: =VLOOKUP(D30,'Свод объектов'!$D$3:$L1124,9,0) -> #REF! | K30: FALSE | L30: =VLOOKUP($D$7:$D1124,'Свод объектов'!$D$3:$BE1124,12,0) -> #REF! | M30: =VLOOKUP($D$7:$D1124,'Свод объектов'!$D$3:$BE1124,11,0) -> #REF! | N30: TRUE | O30: TRUE | P30: =VLOOKUP($D$7:$D1124,'Свод объектов'!$D$3:$BE1124,2,0) -> #REF! | T30: 43199 | V30: 43332 | Z30: 43390 | AN30: 44320 | AO30: 44393 | AS30: 43446 | AZ30: 44465 | BE30: 44677
D31: 25 | E31: =VLOOKUP($D$7:$D1125,'Свод объектов'!$D$3:$BE1125,3,0) -> #REF! | F31: =VLOOKUP($D$7:$D1125,'Свод объектов'!$D$3:$BE1125,6,0) -> #REF! | G31: =VLOOKUP($D$7:$D1125,'Свод объектов'!$D$3:$BE1125,7,0) -> #REF! | H31: =VLOOKUP($D$7:$D1125,'Свод объектов'!$D$3:$BE1125,4,0) -> #REF! | I31: =VLOOKUP($D$7:$D1125,'Свод объектов'!$D$3:$BE1125,5,0) -> #REF! | J31: =VLOOKUP(D31,'Свод объектов'!$D$3:$L1125,9,0) -> #REF! | K31: FALSE | L31: =VLOOKUP($D$7:$D1125,'Свод объектов'!$D$3:$BE1125,12,0) -> #REF! | M31: =VLOOKUP($D$7:$D1125,'Свод объектов'!$D$3:$BE1125,11,0) -> #REF! | N31: TRUE | O31: TRUE | P31: =VLOOKUP($D$7:$D1125,'Свод объектов'!$D$3:$BE1125,2,0) -> #REF! | T31: 43199 | V31: 43328 | Z31: 43388 | AN31: 44230 | AO31: 44305 | AS31: 43446
D32: 26 | E32: =VLOOKUP($D$7:$D1126,'Свод объектов'!$D$3:$BE1126,3,0) -> #REF! | F32: =VLOOKUP($D$7:$D1126,'Свод объектов'!$D$3:$BE1126,6,0) -> #REF! | G32: =VLOOKUP($D$7:$D1126,'Свод объектов'!$D$3:$BE1126,7,0) -> #REF! | H32: =VLOOKUP($D$7:$D1126,'Свод объектов'!$D$3:$BE1126,4,0) -> #REF! | I32: =VLOOKUP($D$7:$D1126,'Свод объектов'!$D$3:$BE1126,5,0) -> #REF! | J32: =VLOOKUP(D32,'Свод объектов'!$D$3:$L1126,9,0) -> #REF! | K32: FALSE | L32: =VLOOKUP($D$7:$D1126,'Свод объектов'!$D$3:$BE1126,12,0) -> #REF! | M32: =VLOOKUP($D$7:$D1126,'Свод объектов'!$D$3:$BE1126,11,0) -> #REF! | N32: TRUE | O32: TRUE | P32: =VLOOKUP($D$7:$D1126,'Свод объектов'!$D$3:$BE1126,2,0) -> #REF! | T32: 43200 | V32: 43332 | Z32: 43390 | AN32: 43907 | AO32: 43980 | AS32: 43437
D33: 27 | E33: =VLOOKUP($D$7:$D1127,'Свод объектов'!$D$3:$BE1127,3,0) -> #REF! | F33: =VLOOKUP($D$7:$D1127,'Свод объектов'!$D$3:$BE1127,6,0) -> #REF! | G33: =VLOOKUP($D$7:$D1127,'Свод объектов'!$D$3:$BE1127,7,0) -> #REF! | H33: =VLOOKUP($D$7:$D1127,'Свод объектов'!$D$3:$BE1127,4,0) -> #REF! | I33: =VLOOKUP($D$7:$D1127,'Свод объектов'!$D$3:$BE1127,5,0) -> #REF! | J33: =VLOOKUP(D33,'Свод объектов'!$D$3:$L1127,9,0) -> #REF! | K33: FALSE | L33: =VLOOKUP($D$7:$D1127,'Свод объектов'!$D$3:$BE1127,12,0) -> #REF! | M33: =VLOOKUP($D$7:$D1127,'Свод объектов'!$D$3:$BE1127,11,0) -> #REF! | N33: TRUE | O33: TRUE | P33: =VLOOKUP($D$7:$D1127,'Свод объектов'!$D$3:$BE1127,2,0) -> #REF! | T33: 43200 | V33: 43329 | Z33: 43389 | AI33: 44128 | AJ33: 44620 | AN33: 44258 | AO33: 44333 | AS33: 43447 | BE33: 44255 | BG33: 44712
D34: 28 | E34: =VLOOKUP($D$7:$D1128,'Свод объектов'!$D$3:$BE1128,3,0) -> #REF! | F34: =VLOOKUP($D$7:$D1128,'Свод объектов'!$D$3:$BE1128,6,0) -> #REF! | G34: =VLOOKUP($D$7:$D1128,'Свод объектов'!$D$3:$BE1128,7,0) -> #REF! | H34: =VLOOKUP($D$7:$D1128,'Свод объектов'!$D$3:$BE1128,4,0) -> #REF! | I34: =VLOOKUP($D$7:$D1128,'Свод объектов'!$D$3:$BE1128,5,0) -> #REF! | J34: =VLOOKUP(D34,'Свод объектов'!$D$3:$L1128,9,0) -> #REF! | K34: FALSE | L34: =VLOOKUP($D$7:$D1128,'Свод объектов'!$D$3:$BE1128,12,0) -> #REF! | M34: =VLOOKUP($D$7:$D1128,'Свод объектов'!$D$3:$BE1128,11,0) -> #REF! | N34: TRUE | O34: TRUE | P34: =VLOOKUP($D$7:$D1128,'Свод объектов'!$D$3:$BE1128,2,0) -> #REF! | T34: 43200 | V34: 43399 | Z34: 43459 | AN34: 44350 | AO34: 44425 | AS34: 43518 | BE34: 44712 | BH34: ДС19 от 14.12.2021
D35: 29 | E35: =VLOOKUP($D$7:$D1129,'Свод объектов'!$D$3:$BE1129,3,0) -> #REF! | F35: =VLOOKUP($D$7:$D1129,'Свод объектов'!$D$3:$BE1129,6,0) -> #REF! | G35: =VLOOKUP($D$7:$D1129,'Свод объектов'!$D$3:$BE1129,7,0) -> #REF! | H35: =VLOOKUP($D$7:$D1129,'Свод объектов'!$D$3:$BE1129,4,0) -> #REF! | I35: =VLOOKUP($D$7:$D1129,'Свод объектов'!$D$3:$BE1129,5,0) -> #REF! | J35: =VLOOKUP(D35,'Свод объектов'!$D$3:$L1129,9,0) -> #REF! | K35: FALSE | L35: =VLOOKUP($D$7:$D1129,'Свод объектов'!$D$3:$BE1129,12,0) -> #REF! | M35: =VLOOKUP($D$7:$D1129,'Свод объектов'!$D$3:$BE1129,11,0) -> #REF! | N35: TRUE | O35: TRUE | P35: =VLOOKUP($D$7:$D1129,'Свод объектов'!$D$3:$BE1129,2,0) -> #REF! | T35: 43200 | V35: 43402 | Z35: 43460 | AN35: 44350 | AO35: 44425 | AS35: 43518 | BE35: 44712 | BH35: ДС18 от 14.12.2021
D36: 30 | E36: =VLOOKUP($D$7:$D1130,'Свод объектов'!$D$3:$BE1130,3,0) -> #REF! | F36: =VLOOKUP($D$7:$D1130,'Свод объектов'!$D$3:$BE1130,6,0) -> #REF! | G36: =VLOOKUP($D$7:$D1130,'Свод объектов'!$D$3:$BE1130,7,0) -> #REF! | H36: =VLOOKUP($D$7:$D1130,'Свод объектов'!$D$3:$BE1130,4,0) -> #REF! | I36: =VLOOKUP($D$7:$D1130,'Свод объектов'!$D$3:$BE1130,5,0) -> #REF! | J36: =VLOOKUP(D36,'Свод объектов'!$D$3:$L1130,9,0) -> #REF! | K36: FALSE | L36: =VLOOKUP($D$7:$D1130,'Свод объектов'!$D$3:$BE1130,12,0) -> #REF! | M36: =VLOOKUP($D$7:$D1130,'Свод объектов'!$D$3:$BE1130,11,0) -> #REF! | N36: FALSE | O36: FALSE | P36: =VLOOKUP($D$7:$D1130,'Свод объектов'!$D$3:$BE1130,2,0) -> #REF! | T36: 43200 | V36: 43402 | Z36: 43460 | AN36: 45082 | AO36: 45155 | AS36: 43522 | AX36: 45192
D37: 31 | E37: =VLOOKUP($D$7:$D1131,'Свод объектов'!$D$3:$BE1131,3,0) -> #REF! | F37: =VLOOKUP($D$7:$D1131,'Свод объектов'!$D$3:$BE1131,6,0) -> #REF! | G37: =VLOOKUP($D$7:$D1131,'Свод объектов'!$D$3:$BE1131,7,0) -> #REF! | H37: =VLOOKUP($D$7:$D1131,'Свод объектов'!$D$3:$BE1131,4,0) -> #REF! | I37: =VLOOKUP($D$7:$D1131,'Свод объектов'!$D$3:$BE1131,5,0) -> #REF! | J37: =VLOOKUP(D37,'Свод объектов'!$D$3:$L1131,9,0) -> #REF! | K37: FALSE | L37: =VLOOKUP($D$7:$D1131,'Свод объектов'!$D$3:$BE1131,12,0) -> #REF! | M37: =VLOOKUP($D$7:$D1131,'Свод объектов'!$D$3:$BE1131,11,0) -> #REF! | N37: TRUE | O37: TRUE | P37: =VLOOKUP($D$7:$D1131,'Свод объектов'!$D$3:$BE1131,2,0) -> #REF! | T37: 43206 | V37: 43391 | Z37: 43451 | AN37: 44411 | AO37: 44484 | AS37: 43489 | AX37: 44560 | AZ37: 44844
D38: 32 | E38: =VLOOKUP($D$7:$D1132,'Свод объектов'!$D$3:$BE1132,3,0) -> #REF! | F38: =VLOOKUP($D$7:$D1132,'Свод объектов'!$D$3:$BE1132,6,0) -> #REF! | G38: =VLOOKUP($D$7:$D1132,'Свод объектов'!$D$3:$BE1132,7,0) -> #REF! | H38: =VLOOKUP($D$7:$D1132,'Свод объектов'!$D$3:$BE1132,4,0) -> #REF! | I38: =VLOOKUP($D$7:$D1132,'Свод объектов'!$D$3:$BE1132,5,0) -> #REF! | J38: =VLOOKUP(D38,'Свод объектов'!$D$3:$L1132,9,0) -> #REF! | K38: FALSE | L38: =VLOOKUP($D$7:$D1132,'Свод объектов'!$D$3:$BE1132,12,0) -> #REF! | M38: =VLOOKUP($D$7:$D1132,'Свод объектов'!$D$3:$BE1132,11,0) -> #REF! | N38: FALSE | O38: FALSE | P38: =VLOOKUP($D$7:$D1132,'Свод объектов'!$D$3:$BE1132,2,0) -> #REF! | T38: 43206 | V38: 43392 | Z38: 43452 | AN38: 44908 | AO38: 44881 | AS38: 43489 | AX38: 44939 | AZ38: 44925
D39: 33 | E39: =VLOOKUP($D$7:$D1133,'Свод объектов'!$D$3:$BE1133,3,0) -> #REF! | F39: =VLOOKUP($D$7:$D1133,'Свод объектов'!$D$3:$BE1133,6,0) -> #REF! | G39: =VLOOKUP($D$7:$D1133,'Свод объектов'!$D$3:$BE1133,7,0) -> #REF! | H39: =VLOOKUP($D$7:$D1133,'Свод объектов'!$D$3:$BE1133,4,0) -> #REF! | I39: =VLOOKUP($D$7:$D1133,'Свод объектов'!$D$3:$BE1133,5,0) -> #REF! | J39: =VLOOKUP(D39,'Свод объектов'!$D$3:$L1133,9,0) -> #REF! | K39: FALSE | L39: =VLOOKUP($D$7:$D1133,'Свод объектов'!$D$3:$BE1133,12,0) -> #REF! | M39: =VLOOKUP($D$7:$D1133,'Свод объектов'!$D$3:$BE1133,11,0) -> #REF! | N39: FALSE | O39: FALSE | P39: =VLOOKUP($D$7:$D1133,'Свод объектов'!$D$3:$BE1133,2,0) -> #REF! | T39: 43230 | V39: 43398 | Z39: 43458 | AN39: 45061 | AO39: 44839 | AS39: 43523 | AX39: 44557 | BH39: в МФР направлены материалы для продления (Дата окончания РНС)
D40: 34 | E40: =VLOOKUP($D$7:$D1134,'Свод объектов'!$D$3:$BE1134,3,0) -> #REF! | F40: =VLOOKUP($D$7:$D1134,'Свод объектов'!$D$3:$BE1134,6,0) -> #REF! | G40: =VLOOKUP($D$7:$D1134,'Свод объектов'!$D$3:$BE1134,7,0) -> #REF! | H40: =VLOOKUP($D$7:$D1134,'Свод объектов'!$D$3:$BE1134,4,0) -> #REF! | I40: =VLOOKUP($D$7:$D1134,'Свод объектов'!$D$3:$BE1134,5,0) -> #REF! | J40: =VLOOKUP(D40,'Свод объектов'!$D$3:$L1134,9,0) -> #REF! | K40: FALSE | L40: =VLOOKUP($D$7:$D1134,'Свод объектов'!$D$3:$BE1134,12,0) -> #REF! | M40: =VLOOKUP($D$7:$D1134,'Свод объектов'!$D$3:$BE1134,11,0) -> #REF! | N40: FALSE | O40: FALSE | P40: =VLOOKUP($D$7:$D1134,'Свод объектов'!$D$3:$BE1134,2,0) -> #REF! | T40: 43230 | V40: 43405 | Z40: 43463 | AN40: 44587 | AO40: 44662 | AS40: 43523 | AX40: 44834 | AZ40: 44707 | BB40: ДС№8 от 01.11.2021 | BE40: 44952 | BG40: ДС№8 от 01.11.2021
D41: 35 | E41: =VLOOKUP($D$7:$D1135,'Свод объектов'!$D$3:$BE1135,3,0) -> #REF! | F41: =VLOOKUP($D$7:$D1135,'Свод объектов'!$D$3:$BE1135,6,0) -> #REF! | G41: =VLOOKUP($D$7:$D1135,'Свод объектов'!$D$3:$BE1135,7,0) -> #REF! | H41: =VLOOKUP($D$7:$D1135,'Свод объектов'!$D$3:$BE1135,4,0) -> #REF! | I41: =VLOOKUP($D$7:$D1135,'Свод объектов'!$D$3:$BE1135,5,0) -> #REF! | J41: =VLOOKUP(D41,'Свод объектов'!$D$3:$L1135,9,0) -> #REF! | K41: FALSE | L41: =VLOOKUP($D$7:$D1135,'Свод объектов'!$D$3:$BE1135,12,0) -> #REF! | M41: =VLOOKUP($D$7:$D1135,'Свод объектов'!$D$3:$BE1135,11,0) -> #REF! | N41: TRUE | O41: TRUE | P41: =VLOOKUP($D$7:$D1135,'Свод объектов'!$D$3:$BE1135,2,0) -> #REF! | T41: 43230 | V41: 43403 | Z41: 43461 | AN41: 44286 | AO41: 44361 | AS41: 43518 | BE41: 44681
D42: 36 | E42: =VLOOKUP($D$7:$D1136,'Свод объектов'!$D$3:$BE1136,3,0) -> #REF! | F42: =VLOOKUP($D$7:$D1136,'Свод объектов'!$D$3:$BE1136,6,0) -> #REF! | G42: =VLOOKUP($D$7:$D1136,'Свод объектов'!$D$3:$BE1136,7,0) -> #REF! | H42: =VLOOKUP($D$7:$D1136,'Свод объектов'!$D$3:$BE1136,4,0) -> #REF! | I42: =VLOOKUP($D$7:$D1136,'Свод объектов'!$D$3:$BE1136,5,0) -> #REF! | J42: =VLOOKUP(D42,'Свод объектов'!$D$3:$L1136,9,0) -> #REF! | K42: FALSE | L42: =VLOOKUP($D$7:$D1136,'Свод объектов'!$D$3:$BE1136,12,0) -> #REF! | M42: =VLOOKUP($D$7:$D1136,'Свод объектов'!$D$3:$BE1136,11,0) -> #REF! | N42: FALSE | O42: FALSE | P42: =VLOOKUP($D$7:$D1136,'Свод объектов'!$D$3:$BE1136,2,0) -> #REF! | T42: 43230 | V42: 43398 | Z42: 43458 | AN42: 44623 | AO42: 44698 | AS42: 43522 | AX42: 44556 | AZ42: 44711 | BB42: ДС№12 от 01.11.2021 | BE42: 44983 | BG42: ДС№12 от 01.11.2021 | BH42: в МФР направлены материалы для продления (Дата окончания РНС)
D43: 37 | E43: =VLOOKUP($D$7:$D1137,'Свод объектов'!$D$3:$BE1137,3,0) -> #REF! | F43: =VLOOKUP($D$7:$D1137,'Свод объектов'!$D$3:$BE1137,6,0) -> #REF! | G43: =VLOOKUP($D$7:$D1137,'Свод объектов'!$D$3:$BE1137,7,0) -> #REF! | H43: =VLOOKUP($D$7:$D1137,'Свод объектов'!$D$3:$BE1137,4,0) -> #REF! | I43: =VLOOKUP($D$7:$D1137,'Свод объектов'!$D$3:$BE1137,5,0) -> #REF! | J43: =VLOOKUP(D43,'Свод объектов'!$D$3:$L1137,9,0) -> #REF! | K43: FALSE | L43: =VLOOKUP($D$7:$D1137,'Свод объектов'!$D$3:$BE1137,12,0) -> #REF! | M43: =VLOOKUP($D$7:$D1137,'Свод объектов'!$D$3:$BE1137,11,0) -> #REF! | N43: TRUE | O43: TRUE | P43: =VLOOKUP($D$7:$D1137,'Свод объектов'!$D$3:$BE1137,2,0) -> #REF! | T43: 43199 | V43: 43388 | Z43: 43446 | AN43: 44411 | AO43: 44484 | AS43: 43524 | AX43: 44558 | AZ43: 44560 | BE43: 44803
D44: 38 | E44: =VLOOKUP($D$7:$D1138,'Свод объектов'!$D$3:$BE1138,3,0) -> #REF! | F44: =VLOOKUP($D$7:$D1138,'Свод объектов'!$D$3:$BE1138,6,0) -> #REF! | G44: =VLOOKUP($D$7:$D1138,'Свод объектов'!$D$3:$BE1138,7,0) -> #REF! | H44: =VLOOKUP($D$7:$D1138,'Свод объектов'!$D$3:$BE1138,4,0) -> #REF! | I44: =VLOOKUP($D$7:$D1138,'Свод объектов'!$D$3:$BE1138,5,0) -> #REF! | J44: =VLOOKUP(D44,'Свод объектов'!$D$3:$L1138,9,0) -> #REF! | K44: FALSE | L44: =VLOOKUP($D$7:$D1138,'Свод объектов'!$D$3:$BE1138,12,0) -> #REF! | M44: =VLOOKUP($D$7:$D1138,'Свод объектов'!$D$3:$BE1138,11,0) -> #REF! | N44: TRUE | O44: FALSE | P44: =VLOOKUP($D$7:$D1138,'Свод объектов'!$D$3:$BE1138,2,0) -> #REF! | T44: 43178 | V44: 43395 | Z44: 43453 | AI44: 44651 | AN44: 44557 | AO44: 44630 | AS44: 43488 | AX44: 44651 | AZ44: 44651 | BB44: 44681 | BE44: 44895 | BG44: 44926
D45: 39 | E45: =VLOOKUP($D$7:$D1139,'Свод объектов'!$D$3:$BE1139,3,0) -> #REF! | F45: =VLOOKUP($D$7:$D1139,'Свод объектов'!$D$3:$BE1139,6,0) -> #REF! | G45: =VLOOKUP($D$7:$D1139,'Свод объектов'!$D$3:$BE1139,7,0) -> #REF! | H45: =VLOOKUP($D$7:$D1139,'Свод объектов'!$D$3:$BE1139,4,0) -> #REF! | I45: =VLOOKUP($D$7:$D1139,'Свод объектов'!$D$3:$BE1139,5,0) -> #REF! | J45: =VLOOKUP(D45,'Свод объектов'!$D$3:$L1139,9,0) -> #REF! | K45: FALSE | L45: =VLOOKUP($D$7:$D1139,'Свод объектов'!$D$3:$BE1139,12,0) -> #REF! | M45: =VLOOKUP($D$7:$D1139,'Свод объектов'!$D$3:$BE1139,11,0) -> #REF! | N45: FALSE | O45: FALSE | P45: =VLOOKUP($D$7:$D1139,'Свод объектов'!$D$3:$BE1139,2,0) -> #REF! | T45: 43290 | V45: 43899 | Z45: 43957 | AI45: 43564 | AJ45: 44985 | AN45: 44803 | AO45: 44864 | AS45: 44041 | AX45: 44985 | AZ45: 44985 | BE45: 45077
D46: 40 | E46: =VLOOKUP($D$7:$D1140,'Свод объектов'!$D$3:$BE1140,3,0) -> #REF! | F46: =VLOOKUP($D$7:$D1140,'Свод объектов'!$D$3:$BE1140,6,0) -> #REF! | G46: =VLOOKUP($D$7:$D1140,'Свод объектов'!$D$3:$BE1140,7,0) -> #REF! | H46: =VLOOKUP($D$7:$D1140,'Свод объектов'!$D$3:$BE1140,4,0) -> #REF! | I46: =VLOOKUP($D$7:$D1140,'Свод объектов'!$D$3:$BE1140,5,0) -> #REF! | J46: =VLOOKUP(D46,'Свод объектов'!$D$3:$L1140,9,0) -> #REF! | K46: FALSE | L46: =VLOOKUP($D$7:$D1140,'Свод объектов'!$D$3:$BE1140,12,0) -> #REF! | M46: =VLOOKUP($D$7:$D1140,'Свод объектов'!$D$3:$BE1140,11,0) -> #REF! | N46: TRUE | O46: FALSE | P46: =VLOOKUP($D$7:$D1140,'Свод объектов'!$D$3:$BE1140,2,0) -> #REF! | T46: 43357 | V46: 43476 | Z46: 43536 | AN46: 44456 | AO46: 44531 | AS46: 43641
D47: 41 | E47: =VLOOKUP($D$7:$D1141,'Свод объектов'!$D$3:$BE1141,3,0) -> #REF! | F47: =VLOOKUP($D$7:$D1141,'Свод объектов'!$D$3:$BE1141,6,0) -> #REF! | G47: =VLOOKUP($D$7:$D1141,'Свод объектов'!$D$3:$BE1141,7,0) -> #REF! | H47: =VLOOKUP($D$7:$D1141,'Свод объектов'!$D$3:$BE1141,4,0) -> #REF! | I47: =VLOOKUP($D$7:$D1141,'Свод объектов'!$D$3:$BE1141,5,0) -> #REF! | J47: =VLOOKUP(D47,'Свод объектов'!$D$3:$L1141,9,0) -> #REF! | K47: FALSE | L47: =VLOOKUP($D$7:$D1141,'Свод объектов'!$D$3:$BE1141,12,0) -> #REF! | M47: =VLOOKUP($D$7:$D1141,'Свод объектов'!$D$3:$BE1141,11,0) -> #REF! | N47: TRUE | O47: TRUE | P47: =VLOOKUP($D$7:$D1141,'Свод объектов'!$D$3:$BE1141,2,0) -> #REF! | T47: 43433 | V47: 43565 | Z47: 43623 | AN47: 44440 | AO47: 44515 | AS47: 43661 | AX47: 44635 | AZ47: 44454 | BB47: 44635 | BE47: 44880
D48: 42 | E48: =VLOOKUP($D$7:$D1142,'Свод объектов'!$D$3:$BE1142,3,0) -> #REF! | F48: =VLOOKUP($D$7:$D1142,'Свод объектов'!$D$3:$BE1142,6,0) -> #REF! | G48: =VLOOKUP($D$7:$D1142,'Свод объектов'!$D$3:$BE1142,7,0) -> #REF! | H48: =VLOOKUP($D$7:$D1142,'Свод объектов'!$D$3:$BE1142,4,0) -> #REF! | I48: =VLOOKUP($D$7:$D1142,'Свод объектов'!$D$3:$BE1142,5,0) -> #REF! | J48: =VLOOKUP(D48,'Свод объектов'!$D$3:$L1142,9,0) -> #REF! | K48: FALSE | L48: =VLOOKUP($D$7:$D1142,'Свод объектов'!$D$3:$BE1142,12,0) -> #REF! | M48: =VLOOKUP($D$7:$D1142,'Свод объектов'!$D$3:$BE1142,11,0) -> #REF! | N48: TRUE | O48: FALSE | P48: =VLOOKUP($D$7:$D1142,'Свод объектов'!$D$3:$BE1142,2,0) -> #REF! | T48: 43437 | V48: 02.11.1899 | AN48: 44161 | AO48: 44236 | AS48: 43455 | BE48: 44620
D49: 43 | E49: =VLOOKUP($D$7:$D1143,'Свод объектов'!$D$3:$BE1143,3,0) -> #REF! | F49: =VLOOKUP($D$7:$D1143,'Свод объектов'!$D$3:$BE1143,6,0) -> #REF! | G49: =VLOOKUP($D$7:$D1143,'Свод объектов'!$D$3:$BE1143,7,0) -> #REF! | H49: =VLOOKUP($D$7:$D1143,'Свод объектов'!$D$3:$BE1143,4,0) -> #REF! | I49: =VLOOKUP($D$7:$D1143,'Свод объектов'!$D$3:$BE1143,5,0) -> #REF! | J49: =VLOOKUP(D49,'Свод объектов'!$D$3:$L1143,9,0) -> #REF! | K49: FALSE | L49: =VLOOKUP($D$7:$D1143,'Свод объектов'!$D$3:$BE1143,12,0) -> #REF! | M49: =VLOOKUP($D$7:$D1143,'Свод объектов'!$D$3:$BE1143,11,0) -> #REF! | N49: TRUE | O49: TRUE | P49: =VLOOKUP($D$7:$D1143,'Свод объектов'!$D$3:$BE1143,2,0) -> #REF! | T49: 43433 | V49: 43600 | Z49: 43658 | AI49: 44519 | AN49: 44410 | AO49: 44483 | AS49: 43727 | AX49: 44561 | BE49: 44758
D50: 44 | E50: =VLOOKUP($D$7:$D1144,'Свод объектов'!$D$3:$BE1144,3,0) -> #REF! | F50: =VLOOKUP($D$7:$D1144,'Свод объектов'!$D$3:$BE1144,6,0) -> #REF! | G50: =VLOOKUP($D$7:$D1144,'Свод объектов'!$D$3:$BE1144,7,0) -> #REF! | H50: =VLOOKUP($D$7:$D1144,'Свод объектов'!$D$3:$BE1144,4,0) -> #REF! | I50: =VLOOKUP($D$7:$D1144,'Свод объектов'!$D$3:$BE1144,5,0) -> #REF! | J50: =VLOOKUP(D50,'Свод объектов'!$D$3:$L1144,9,0) -> #REF! | K50: FALSE | L50: =VLOOKUP($D$7:$D1144,'Свод объектов'!$D$3:$BE1144,12,0) -> #REF! | M50: =VLOOKUP($D$7:$D1144,'Свод объектов'!$D$3:$BE1144,11,0) -> #REF! | N50: TRUE | O50: TRUE | P50: =VLOOKUP($D$7:$D1144,'Свод объектов'!$D$3:$BE1144,2,0) -> #REF! | T50: 43458 | V50: 43601 | Z50: 43661 | AN50: 44435 | AO50: 44510 | AS50: 43732
D51: 45 | E51: =VLOOKUP($D$7:$D1145,'Свод объектов'!$D$3:$BE1145,3,0) -> #REF! | F51: =VLOOKUP($D$7:$D1145,'Свод объектов'!$D$3:$BE1145,6,0) -> #REF! | G51: =VLOOKUP($D$7:$D1145,'Свод объектов'!$D$3:$BE1145,7,0) -> #REF! | H51: =VLOOKUP($D$7:$D1145,'Свод объектов'!$D$3:$BE1145,4,0) -> #REF! | I51: =VLOOKUP($D$7:$D1145,'Свод объектов'!$D$3:$BE1145,5,0) -> #REF! | J51: =VLOOKUP(D51,'Свод объектов'!$D$3:$L1145,9,0) -> #REF! | K51: FALSE | L51: =VLOOKUP($D$7:$D1145,'Свод объектов'!$D$3:$BE1145,12,0) -> #REF! | M51: =VLOOKUP($D$7:$D1145,'Свод объектов'!$D$3:$BE1145,11,0) -> #REF! | N51: FALSE | O51: FALSE | P51: =VLOOKUP($D$7:$D1145,'Свод объектов'!$D$3:$BE1145,2,0) -> #REF! | T51: 43649 | V51: 43766 | Y51: 44593 | Z51: 43824 | AI51: 44701 | AJ51: 44701 | AN51: 44711 | AO51: 44685 | AS51: 43881 | AX51: 44685 | AZ51: 44701 | BE51: 44946
D52: 46 | E52: =VLOOKUP($D$7:$D1146,'Свод объектов'!$D$3:$BE1146,3,0) -> #REF! | F52: =VLOOKUP($D$7:$D1146,'Свод объектов'!$D$3:$BE1146,6,0) -> #REF! | G52: =VLOOKUP($D$7:$D1146,'Свод объектов'!$D$3:$BE1146,7,0) -> #REF! | H52: =VLOOKUP($D$7:$D1146,'Свод объектов'!$D$3:$BE1146,4,0) -> #REF! | I52: =VLOOKUP($D$7:$D1146,'Свод объектов'!$D$3:$BE1146,5,0) -> #REF! | J52: =VLOOKUP(D52,'Свод объектов'!$D$3:$L1146,9,0) -> #REF! | K52: FALSE | L52: =VLOOKUP($D$7:$D1146,'Свод объектов'!$D$3:$BE1146,12,0) -> #REF! | M52: =VLOOKUP($D$7:$D1146,'Свод объектов'!$D$3:$BE1146,11,0) -> #REF! | N52: FALSE | O52: FALSE | P52: =VLOOKUP($D$7:$D1146,'Свод объектов'!$D$3:$BE1146,2,0) -> #REF! | T52: 43668 | V52: 43795 | Z52: 43853 | AI52: 43668 | AJ52: 44683 | AN52: 44676 | AO52: 44721 | AS52: 43893 | AX52: 44623 | AZ52: 44684 | BE52: 44883
D53: 47 | E53: =VLOOKUP($D$7:$D1147,'Свод объектов'!$D$3:$BE1147,3,0) -> #REF! | F53: =VLOOKUP($D$7:$D1147,'Свод объектов'!$D$3:$BE1147,6,0) -> #REF! | G53: =VLOOKUP($D$7:$D1147,'Свод объектов'!$D$3:$BE1147,7,0) -> #REF! | H53: =VLOOKUP($D$7:$D1147,'Свод объектов'!$D$3:$BE1147,4,0) -> #REF! | I53: =VLOOKUP($D$7:$D1147,'Свод объектов'!$D$3:$BE1147,5,0) -> #REF! | J53: =VLOOKUP(D53,'Свод объектов'!$D$3:$L1147,9,0) -> #REF! | K53: FALSE | L53: =VLOOKUP($D$7:$D1147,'Свод объектов'!$D$3:$BE1147,12,0) -> #REF! | M53: =VLOOKUP($D$7:$D1147,'Свод объектов'!$D$3:$BE1147,11,0) -> #REF! | N53: FALSE | O53: FALSE | P53: =VLOOKUP($D$7:$D1147,'Свод объектов'!$D$3:$BE1147,2,0) -> #REF! | T53: 43683 | V53: 43796 | Z53: 43854 | AN53: 44666 | AO53: 44742 | AS53: 43894
D54: 48 | E54: =VLOOKUP($D$7:$D1148,'Свод объектов'!$D$3:$BE1148,3,0) -> #REF! | F54: =VLOOKUP($D$7:$D1148,'Свод объектов'!$D$3:$BE1148,6,0) -> #REF! | G54: =VLOOKUP($D$7:$D1148,'Свод объектов'!$D$3:$BE1148,7,0) -> #REF! | H54: =VLOOKUP($D$7:$D1148,'Свод объектов'!$D$3:$BE1148,4,0) -> #REF! | I54: =VLOOKUP($D$7:$D1148,'Свод объектов'!$D$3:$BE1148,5,0) -> #REF! | J54: =VLOOKUP(D54,'Свод объектов'!$D$3:$L1148,9,0) -> #REF! | K54: FALSE | L54: =VLOOKUP($D$7:$D1148,'Свод объектов'!$D$3:$BE1148,12,0) -> #REF! | M54: =VLOOKUP($D$7:$D1148,'Свод объектов'!$D$3:$BE1148,11,0) -> #REF! | N54: FALSE | O54: FALSE | P54: =VLOOKUP($D$7:$D1148,'Свод объектов'!$D$3:$BE1148,2,0) -> #REF! | T54: 43696 | V54: 44134 | Y54: 44246 | Z54: 44194 | AB54: 19 | AC54: 19 | AH54: ДС 7 | AI54: 44549 | AL54: ДС 7 | AN54: 44805 | AO54: 44866 | AP54: заход по причине необходимости увязки генплана со смежными объектами (МФС-6) и учетом сноса ЦТП | AS54: 44377 | AX54: 44957 | AZ54: 45046 | BE54: 45137
D55: 49 | E55: =VLOOKUP($D$7:$D1149,'Свод объектов'!$D$3:$BE1149,3,0) -> #REF! | F55: =VLOOKUP($D$7:$D1149,'Свод объектов'!$D$3:$BE1149,6,0) -> #REF! | G55: =VLOOKUP($D$7:$D1149,'Свод объектов'!$D$3:$BE1149,7,0) -> #REF! | H55: =VLOOKUP($D$7:$D1149,'Свод объектов'!$D$3:$BE1149,4,0) -> #REF! | I55: =VLOOKUP($D$7:$D1149,'Свод объектов'!$D$3:$BE1149,5,0) -> #REF! | J55: =VLOOKUP(D55,'Свод объектов'!$D$3:$L1149,9,0) -> #REF! | K55: FALSE | L55: =VLOOKUP($D$7:$D1149,'Свод объектов'!$D$3:$BE1149,12,0) -> #REF! | M55: =VLOOKUP($D$7:$D1149,'Свод объектов'!$D$3:$BE1149,11,0) -> #REF! | N55: FALSE | O55: FALSE | P55: =VLOOKUP($D$7:$D1149,'Свод объектов'!$D$3:$BE1149,2,0) -> #REF! | T55: 43749 | V55: 43977 | Y55: 44388 | Z55: 44035 | AB55: 27 | AC55: 27 | AI55: 44885 | AN55: 44762 | AO55: 44803 | AS55: 44070 | AX55: 44892 | AZ55: 44892 | BE55: 45134
D56: 50 | E56: =VLOOKUP($D$7:$D1150,'Свод объектов'!$D$3:$BE1150,3,0) -> #REF! | F56: =VLOOKUP($D$7:$D1150,'Свод объектов'!$D$3:$BE1150,6,0) -> #REF! | G56: =VLOOKUP($D$7:$D1150,'Свод объектов'!$D$3:$BE1150,7,0) -> #REF! | H56: =VLOOKUP($D$7:$D1150,'Свод объектов'!$D$3:$BE1150,4,0) -> #REF! | I56: =VLOOKUP($D$7:$D1150,'Свод объектов'!$D$3:$BE1150,5,0) -> #REF! | J56: =VLOOKUP(D56,'Свод объектов'!$D$3:$L1150,9,0) -> #REF! | K56: FALSE | L56: =VLOOKUP($D$7:$D1150,'Свод объектов'!$D$3:$BE1150,12,0) -> #REF! | M56: =VLOOKUP($D$7:$D1150,'Свод объектов'!$D$3:$BE1150,11,0) -> #REF! | N56: FALSE | O56: FALSE | P56: =VLOOKUP($D$7:$D1150,'Свод объектов'!$D$3:$BE1150,2,0) -> #REF! | T56: 43847 | V56: 44743 | Y56: 44804 | Z56: 44804 | AB56: 38 | AI56: 45107 | AN56: 45917 | AO56: 45992 | AS56: 44818 | AZ56: 46109 | BE56: 46466
